{"text_format":"1","workbook":"xlsx","n_sheets":30,"sheets":["Mapping","Visibility","Dropdowns","AHSC Coverpage","Instructions","Project Overview","Contact List","Max Funds & Unit Mix","STI S&U Budget","TRA S&U Budget","PGM S&U Budget","Dev Sources","AHD Dev Budget","AHD-HRI S&U Budget","Operating","Threshold Requirements","HCD Reserves Calculator","Cash Flow","High-Cost Verification","AHSC Loan Limits","Rent Limits","Developer Fee","Quantitative Policy Scoring","Narrative-Based Policy Scoring","Certification & Legal","Applicant Documents","Upload Checklist","CARB Info","Application Support","Unit Des Table"],"not_rendered":{"charts":0,"images":45,"macros":1,"external_links":8,"defined_names":1950,"comments":19,"pivot_tables":0},"unopened":[],"bounds":{"document_bytes":16777216,"sheet_cells":100000,"rows_first":2000,"rows_last":500,"rows_between":2000,"halvings":0,"cell_chars":16384,"cell_head_chars":4096},"cells_cut":0,"cells_raw":0,"read":"whole","date_system":"1900"}

{"sheet":"Mapping","index":0,"n_rows":6,"n_cols":1442,"rows_kept":6,"cut":false,"hidden":true,"merged":[[0,1375,0,1419],[0,1420,0,1441],[3,1085,3,1087],[0,684,0,1087],[3,1088,3,1090],[3,1227,3,1229],[0,1088,0,1373],[3,1065,3,1070],[3,1071,3,1076],[3,1064,4,1064],[3,1080,3,1083],[3,1036,3,1041],[3,1045,3,1048],[3,1049,3,1054],[3,1055,3,1060],[3,1007,3,1010],[3,1011,3,1016],[3,1017,3,1022],[3,1026,3,1029],[3,1030,3,1035],[3,973,3,978],[3,979,3,984],[3,988,3,991],[3,992,3,997],[3,998,3,1003],[3,941,3,946],[3,950,3,953],[3,954,3,959],[3,960,3,965],[3,969,3,972],[3,912,3,915],[3,916,3,921],[3,922,3,927],[3,931,3,934],[3,935,3,940],[3,878,3,883],[3,884,3,889],[3,893,3,896],[3,897,3,902],[3,903,3,908],[3,846,3,851],[3,855,3,858],[3,859,3,864],[3,865,3,870],[3,874,3,877],[3,817,3,820],[3,821,3,826],[3,827,3,832],[3,836,3,839],[3,840,3,845],[3,783,3,788],[3,789,3,794],[3,798,3,801],[3,802,3,807],[3,808,3,813],[3,751,3,756],[3,760,3,763],[3,764,3,769],[3,770,3,775],[3,779,3,782],[3,722,3,725],[3,726,3,731],[3,732,3,737],[3,741,3,744],[3,745,3,750],[3,688,3,693],[3,694,3,699],[3,703,3,706],[3,707,3,712],[3,713,3,718],[3,678,3,679],[3,680,3,681],[3,682,3,683],[0,326,0,683],[3,684,3,687],[3,668,3,669],[3,670,3,671],[3,672,3,673],[3,674,3,675],[3,676,3,677],[3,606,3,625],[3,626,3,645],[3,646,3,665],[3,666,3,667],[3,506,3,525],[3,526,3,545],[3,546,3,565],[3,566,3,585],[3,586,3,605],[0,0,0,325],[3,346,3,365],[3,366,3,385],[3,386,3,405],[3,406,3,425],[3,426,3,445],[2,133,2,146],[3,140,3,141],[3,147,3,169],[3,229,3,234],[3,235,3,240],[3,241,3,246],[3,247,3,252],[3,253,3,258],[3,259,3,263],[3,264,4,264],[3,265,4,265],[3,307,3,309],[2,295,2,309],[3,319,4,319],[3,320,3,323],[2,216,2,228],[3,218,3,219],[3,220,3,221],[3,466,3,485],[3,486,3,505],[4,80,4,86],[3,64,3,86],[3,10,3,14],[3,15,3,19],[4,27,4,34],[4,35,4,41],[3,20,3,41],[3,42,3,63],[4,49,4,56],[4,57,4,63],[4,72,4,79],[3,87,3,109],[4,95,4,102],[4,103,4,109],[3,110,3,132],[4,118,4,125],[4,126,4,132],[3,134,3,135],[3,133,4,133],[3,136,3,137],[3,138,3,139],[3,326,3,345],[3,222,3,223],[3,224,3,225],[3,226,3,227],[3,228,4,228],[3,446,3,465],[3,266,3,272],[3,273,3,279],[3,280,3,286],[3,287,3,294],[3,295,3,297],[3,298,3,300],[3,301,3,303],[3,304,3,306],[4,155,4,162],[4,163,4,169],[3,170,3,192],[4,178,4,185],[4,186,4,192],[3,193,3,215],[4,201,4,208],[4,209,4,215],[3,216,3,217]]}
["Project Overview",null,null,null,null,null,null,null,null,null,null,null,null,null,null,null,null,null,null,null,null,null,null,null,null,null,null,null,null,null,null,null,null,null,null,null,null,null,null,null,null,null,null,null,null,null,null,null,null,null,null,null,null,null,null,null,null,null,null,null,null,null,null,null,null,null,null,null,null,null,null,null,null,null,null,null,null,null,null,null,null,null,null,null,null,null,null,null,null,null,null,null,null,null,null,null,null,null,null,null,null,null,null,null,null,null,null,null,null,null,null,null,null,null,null,null,null,null,null,null,null,null,null,null,null,null,null,null,null,null,null,null,null,null,null,null,null,null,null,null,null,null,null,null,null,null,null,null,null,null,null,null,null,null,null,null,null,null,null,null,null,null,null,null,null,null,null,null,null,null,null,null,null,null,null,null,null,null,null,null,null,null,null,null,null,null,null,null,null,null,null,null,null,null,null,null,null,null,null,null,null,null,null,null,null,null,null,null,null,null,null,null,null,null,null,null,null,null,null,null,null,null,null,null,null,null,null,null,null,null,null,null,null,null,null,null,null,null,null,null,null,null,null,null,null,null,null,null,null,null,null,null,null,null,null,null,null,null,null,null,null,null,null,null,null,null,null,null,null,null,null,null,null,null,null,null,null,null,null,null,null,null,null,null,null,null,null,null,null,null,null,null,null,null,null,null,null,null,null,null,null,null,null,null,null,null,null,null,null,null,null,null,null,null,null,null,null,null,null,null,null,null,null,null,null,null,"Contact List",null,null,null,null,null,null,null,null,null,null,null,null,null,null,null,null,null,null,null,null,null,null,null,null,null,null,null,null,null,null,null,null,null,null,null,null,null,null,null,null,null,null,null,null,null,null,null,null,null,null,null,null,null,null,null,null,null,null,null,null,null,null,null,null,null,null,null,null,null,null,null,null,null,null,null,null,null,null,null,null,null,null,null,null,null,null,null,null,null,null,null,null,null,null,null,null,null,null,null,null,null,null,null,null,null,null,null,null,null,null,null,null,null,null,null,null,null,null,null,null,null,null,null,null,null,null,null,null,null,null,null,null,null,null,null,null,null,null,null,null,null,null,null,null,null,null,null,null,null,null,null,null,null,null,null,null,null,null,null,null,null,null,null,null,null,null,null,null,null,null,null,null,null,null,null,null,null,null,null,null,null,null,null,null,null,null,null,null,null,null,null,null,null,null,null,null,null,null,null,null,null,null,null,null,null,null,null,null,null,null,null,null,null,null,null,null,null,null,null,null,null,null,null,null,null,null,null,null,null,null,null,null,null,null,null,null,null,null,null,null,null,null,null,null,null,null,null,null,null,null,null,null,null,null,null,null,null,null,null,null,null,null,null,null,null,null,null,null,null,null,null,null,null,null,null,null,null,null,null,null,null,null,null,null,null,null,null,null,null,null,null,null,null,null,null,null,null,null,null,null,null,null,null,null,null,null,null,null,null,null,null,null,null,null,null,null,null,null,null,null,null,null,null,null,null,null,null,null,null,null,null,null,null,null,null,null,null,null,null,null,null,null,null,null,null,null,null,null,null,null,null,null,null,null,null,null,null,"Max Funds & Unit Mix",null,null,null,null,null,null,null,null,null,null,null,null,null,null,null,null,null,null,null,null,null,null,null,null,null,null,null,null,null,null,null,null,null,null,null,null,null,null,null,null,null,null,null,null,null,null,null,null,null,null,null,null,null,null,null,null,null,null,null,null,null,null,null,null,null,null,null,null,null,null,null,null,null,null,null,null,null,null,null,null,null,null,null,null,null,null,null,null,null,null,null,null,null,null,null,null,null,null,null,null,null,null,null,null,null,null,null,null,null,null,null,null,null,null,null,null,null,null,null,null,null,null,null,null,null,null,null,null,null,null,null,null,null,null,null,null,null,null,null,null,null,null,null,null,null,null,null,null,null,null,null,null,null,null,null,null,null,null,null,null,null,null,null,null,null,null,null,null,null,null,null,null,null,null,null,null,null,null,null,null,null,null,null,null,null,null,null,null,null,null,null,null,null,null,null,null,null,null,null,null,null,null,null,null,null,null,null,null,null,null,null,null,null,null,null,null,null,null,null,null,null,null,null,null,null,null,null,null,null,null,null,null,null,null,null,null,null,null,null,null,null,null,null,null,null,null,null,null,null,null,null,null,null,null,null,null,null,null,null,null,null,null,null,null,null,null,null,null,null,null,null,null,null,null,null,null,null,null,null,null,null,null,null,null,null,null,null,null,null,null,null,null,null,null,null,null,null,null,null,null,null,null,null,null,null,null,null,null,null,null,null,null,null,null,null,null,null,null,null,null,null,null,null,null,null,null,null,null,null,null,null,null,null,null,null,null,null,null,null,null,null,null,null,null,null,null,null,null,null,null,null,null,null,null,null,null,null,null,null,null,null,null,null,null,null,null,null,null,null,null,null,null,null,null,null,null,null,null,null,null,null,null,null,null,null,null,null,null,null,null,null,null,null,null,null,null,null,null,null,null,null,null,null,"Dev Sources",null,null,null,null,null,null,null,null,null,null,null,null,null,null,null,null,null,null,null,null,null,null,null,null,null,null,null,null,null,null,null,null,null,null,null,null,null,null,null,null,null,null,null,null,null,null,null,null,null,null,null,null,null,null,null,null,null,null,null,null,null,null,null,null,null,null,null,null,null,null,null,null,null,null,null,null,null,null,null,null,null,null,null,null,null,null,null,null,null,null,null,null,null,null,null,null,null,null,null,null,null,null,null,null,null,null,null,null,null,null,null,null,null,null,null,null,null,null,null,null,null,null,null,null,null,null,null,null,null,null,null,null,null,null,null,null,null,null,null,null,null,null,null,null,null,null,null,null,null,null,null,null,null,null,null,null,null,null,null,null,null,null,null,null,null,null,null,null,null,null,null,null,null,null,null,null,null,null,null,null,null,null,null,null,null,null,null,null,null,null,null,null,null,null,null,null,null,null,null,null,null,null,null,null,null,null,null,null,null,null,null,null,null,null,null,null,null,null,null,null,null,null,null,null,null,null,null,null,null,null,null,null,null,null,null,null,null,null,null,null,null,null,null,null,null,null,null,null,null,null,null,null,null,null,null,null,null,null,null,null,null,null,null,null,null,null,null,null,null,null,null,null,null,null,null,null,null,null,null,null,null,null,null,null,null,"Cashflow","Threshold Requirements",null,null,null,null,null,null,null,null,null,null,null,null,null,null,null,null,null,null,null,null,null,null,null,null,null,null,null,null,null,null,null,null,null,null,null,null,null,null,null,null,null,null,null,null,"Quantitative Policy Scoring"]
[]
[null,null,null,null,null,null,null,null,null,null,null,null,null,null,null,null,null,null,null,null,null,null,null,null,null,null,null,null,null,null,null,null,null,null,null,null,null,null,null,null,null,null,null,null,null,null,null,null,null,null,null,null,null,null,null,null,null,null,null,null,null,null,null,null,null,null,null,null,null,null,null,null,null,null,null,null,null,null,null,null,null,null,null,null,null,null,null,null,null,null,null,null,null,null,null,null,null,null,null,null,null,null,null,null,null,null,null,null,null,null,null,null,null,null,null,null,null,null,null,null,null,null,null,null,null,null,null,null,null,null,null,null,null,"STI Quantity of new or repaired STI facilities funded by AHSC",null,null,null,null,null,null,null,null,null,null,null,null,null,null,null,null,null,null,null,null,null,null,null,null,null,null,null,null,null,null,null,null,null,null,null,null,null,null,null,null,null,null,null,null,null,null,null,null,null,null,null,null,null,null,null,null,null,null,null,null,null,null,null,null,null,null,null,null,null,null,null,null,null,null,null,null,null,null,null,null,null,null,"Quantity of new or repaired TRA facilities funded by AHSC",null,null,null,null,null,null,null,null,null,null,null,null,null,null,null,null,null,null,null,null,null,null,null,null,null,null,null,null,null,null,null,null,null,null,null,null,null,null,null,null,null,null,null,null,null,null,null,null,null,null,null,null,null,null,null,null,null,null,null,null,null,null,null,null,null,null,null,null,null,null,null,null,null,null,null,null,null,null,"Scatter sites"]
[null,null,null,null,null,null,null,null,null,null,"TDC",null,null,null,null,"AHSC Funds Requested",null,null,null,null,"AHD",null,null,null,null,null,null,null,null,null,null,null,null,null,null,null,null,null,null,null,null,null,"HRI",null,null,null,null,null,null,null,null,null,null,null,null,null,null,null,null,null,null,null,null,null,"STI #1",null,null,null,null,null,null,null,null,null,null,null,null,null,null,null,null,null,null,null,null,null,null,"STI #2",null,null,null,null,null,null,null,null,null,null,null,null,null,null,null,null,null,null,null,null,null,null,"STI #3",null,null,null,null,null,null,null,null,null,null,null,null,null,null,null,null,null,null,null,null,null,null,"# of Transit Routes Improved","Crosswalks",null,"ADA Curb Ramps",null,"Overcrossings / Undercrossing",null,"Transit Vehicles",null,null,null,null,null,null,"TRA #1",null,null,null,null,null,null,null,null,null,null,null,null,null,null,null,null,null,null,null,null,null,null,"TRA #2",null,null,null,null,null,null,null,null,null,null,null,null,null,null,null,null,null,null,null,null,null,null,"TRA #3",null,null,null,null,null,null,null,null,null,null,null,null,null,null,null,null,null,null,null,null,null,null,"Bus Bulb-Outs",null,"Street lights",null,"Street trees or plantings ",null,"Bus Shelters",null,"Bicycle Parking At Transit",null,"Bus Stop Benches",null,"Amount of TRA funds along block face(s) that include a Transit Station or Stop","Program (PGM) #1",null,null,null,null,null,"Program (PGM) #2",null,null,null,null,null,"Program (PGM) #3",null,null,null,null,null,"Program (PGM) #4",null,null,null,null,null,"Program (PGM) #5",null,null,null,null,null,"Program (PGM) #6",null,null,null,null,"Program Costs in Project(s) include","Has the Applicant(s) applied, plan to apply, or been awarded other HCD program funds for this proposed Project?","Prior award or potential award #1",null,null,null,null,null,null,"Prior award or potential award #2",null,null,null,null,null,null,"Prior award or potential award #3",null,null,null,null,null,null,"Tax Credit",null,null,null,null,null,null,null,"Scatter site(s) #1",null,null,"Scatter site(s) #2",null,null,"Scatter site(s) #3",null,null,"Scatter site(s) #4",null,null,"Scatter site(s) #5",null,null,null,null,null,null,null,null,null,null,null,"Is Project located in Indian country, or located on a parcel owned by a Tribal Entity in fee or held in trust for the benefit of a Tribal Entity within the state of California?"," Project's priority population benefits",null,null,null,null,null,"Applicant #1",null,null,null,null,null,null,null,null,null,null,null,null,null,null,null,null,null,null,null,"Applicant #2",null,null,null,null,null,null,null,null,null,null,null,null,null,null,null,null,null,null,null,"Applicant #3",null,null,null,null,null,null,null,null,null,null,null,null,null,null,null,null,null,null,null,"Applicant #4",null,null,null,null,null,null,null,null,null,null,null,null,null,null,null,null,null,null,null,"Owner / Borrower Entity",null,null,null,null,null,null,null,null,null,null,null,null,null,null,null,null,null,null,null,"Managing General Partner",null,null,null,null,null,null,null,null,null,null,null,null,null,null,null,null,null,null,null,"Administrative GP #1",null,null,null,null,null,null,null,null,null,null,null,null,null,null,null,null,null,null,null,"Administrative GP #2",null,null,null,null,null,null,null,null,null,null,null,null,null,null,null,null,null,null,null,"Manager of LLC",null,null,null,null,null,null,null,null,null,null,null,null,null,null,null,null,null,null,null,"Transit Agency Partner (applicable to STI and TRA components)",null,null,null,null,null,null,null,null,null,null,null,null,null,null,null,null,null,null,null,"Property Management Agent",null,null,null,null,null,null,null,null,null,null,null,null,null,null,null,null,null,null,null,"Financial Consultant",null,null,null,null,null,null,null,null,null,null,null,null,null,null,null,null,null,null,null,"Lead (primary) Service Provider",null,null,null,null,null,null,null,null,null,null,null,null,null,null,null,null,null,null,null,"Borrower Legal Counsel",null,null,null,null,null,null,null,null,null,null,null,null,null,null,null,null,null,null,null,"General Contractor",null,null,null,null,null,null,null,null,null,null,null,null,null,null,null,null,null,null,null,"Architect",null,null,null,null,null,null,null,null,null,null,null,null,null,null,null,null,null,null,null,{"$f":"'Contact List'!B22","v":"Other (Specify)"},null,null,null,null,null,null,null,null,null,null,null,null,null,null,null,null,null,null,null,1,null,2,null,3,null,1,null,2,null,3,null,1,null,2,null,3,null,"Unit Mix",null,null,null,"RENTAL ONLY",null,null,null,null,null,"HOMEOWNERSHIP OLNY",null,null,null,null,null,null,null,null,"Unit Mix",null,null,null,"RENTAL ONLY",null,null,null,null,null,"HOMEOWNERSHIP OLNY",null,null,null,null,null,null,null,null,"Unit Mix",null,null,null,"RENTAL ONLY",null,null,null,null,null,"HOMEOWNERSHIP OLNY",null,null,null,null,null,null,null,null,"Unit Mix",null,null,null,"RENTAL ONLY",null,null,null,null,null,"HOMEOWNERSHIP OLNY",null,null,null,null,null,null,null,null,"Unit Mix",null,null,null,"RENTAL ONLY",null,null,null,null,null,"HOMEOWNERSHIP OLNY",null,null,null,null,null,null,null,null,"Unit Mix",null,null,null,"RENTAL ONLY",null,null,null,null,null,"HOMEOWNERSHIP OLNY",null,null,null,null,null,null,null,null,"Unit Mix",null,null,null,"RENTAL ONLY",null,null,null,null,null,"HOMEOWNERSHIP OLNY",null,null,null,null,null,null,null,null,"Unit Mix",null,null,null,"RENTAL ONLY",null,null,null,null,null,"HOMEOWNERSHIP OLNY",null,null,null,null,null,null,null,null,"Unit Mix",null,null,null,"RENTAL ONLY",null,null,null,null,null,"HOMEOWNERSHIP OLNY",null,null,null,null,null,null,null,null,"Unit Mix",null,null,null,"RENTAL ONLY",null,null,null,null,null,"HOMEOWNERSHIP OLNY",null,null,null,null,null,null,null,null,"Unit Mix",null,null,null,"RENTAL ONLY",null,null,null,null,null,"HOMEOWNERSHIP OLNY",null,null,null,null,null,null,null,null,"Unit Mix",null,null,null,"RENTAL ONLY",null,null,null,null,null,"HOMEOWNERSHIP OLNY",null,null,null,null,null,null,null,null,"Unit Mix",null,null,null,"RENTAL ONLY",null,null,null,null,null,"HOMEOWNERSHIP OLNY",null,null,null,null,null,null,null,null,"Unit Mix",null,null,null,"RENTAL ONLY",null,null,null,null,null,"HOMEOWNERSHIP OLNY",null,null,null,null,null,null,null,null,"Unit Mix",null,null,null,"RENTAL ONLY",null,null,null,null,null,"HOMEOWNERSHIP OLNY",null,null,null,null,null,null,null,null,"Unit Mix",null,null,null,"RENTAL ONLY",null,null,null,null,null,"HOMEOWNERSHIP OLNY",null,null,null,null,null,null,null,null,"Unit Mix",null,null,null,"RENTAL ONLY",null,null,null,null,null,"HOMEOWNERSHIP OLNY",null,null,null,null,null,null,null,null,"Unit Mix",null,null,null,"RENTAL ONLY",null,null,null,null,null,"HOMEOWNERSHIP OLNY",null,null,null,null,null,null,null,null,"Unit Mix",null,null,null,"RENTAL ONLY",null,null,null,null,null,"HOMEOWNERSHIP OLNY",null,null,null,null,null,null,null,null,"Unit Mix",null,null,null,"RENTAL ONLY",null,null,null,null,null,"HOMEOWNERSHIP OLNY",null,null,null,null,null,null,null,null,"Grand Totals","RENTAL ONLY",null,null,null,null,null,"HOMEOWNERSHIP OLNY",null,null,null,null,null,null,null,null,"Maximum HRI Grant Amount",null,null,null,null,"Maximum AHD Funding Amount",null,null,"Construction Totals",null,null,null,null,null,null,null,null,null,null,null,null,null,null,null,null,null,null,null,null,null,null,null,null,null,null,null,null,null,null,null,null,null,null,null,null,null,null,null,null,null,null,null,null,null,null,null,null,null,null,null,null,null,null,null,null,null,null,null,null,null,null,null,null,null,null,null,null,null,null,null,null,null,null,null,null,null,null,null,null,null,null,null,null,null,null,null,null,null,null,null,null,null,null,null,null,null,null,null,null,null,null,null,null,null,null,null,null,null,null,null,null,null,null,null,null,null,null,null,null,null,null,null,null,null,null,null,null,null,null,null,null,null,null,null,null,null,null,"Permanent Totals",null,null,null,null,null,null,null,null,null,null,null,null,null,null,null,null,null,null,null,null,null,null,null,null,null,null,null,null,null,null,null,null,null,null,null,null,null,null,null,null,null,null,null,null,null,null,null,null,null,null,null,null,null,null,null,null,null,null,null,null,null,null,null,null,null,null,null,null,null,null,null,null,null,null,null,null,null,null,null,null,null,null,null,null,null,null,null,null,null,null,null,null,null,null,null,null,null,null,null,null,null,null,null,null,null,null,null,null,null,null,null,null,null,null,null,null,null,null,null,null,null,null,null,null,null,null,null,null,null,null,null,null,null,null,null,null,null,null,null,null,null,null,null,null,null,null,null,null,null,null,null,"§106 (a)(4) ",null,null,"§106 (a)(6)(A) ",null,null,null,null,null,null,null,null,null,null,null,"§106 (a)(16)",null,null,null,null,null,null,null,"§106 (a)(21)(C)(i)",null,"§106 (a)(21)(C)(i)",null,"§106 (a)(21)(D)",null,null,null,null,null,"§106 (a)(23)(B)(i)",null,"§106 (a)(23)(B)(i)"]
["HCD APP#:","Project Area Type:","Housing Type","Geographic Area","BIPOC?","AHD?","HRI?","STI?","TRA?","PGM?","AHD","HRI","STI","TRA","PGM","AHD","HRI","STI","TRA","PGM","Project Name","Address","City","Zip Code","County","Latitude:","Longitude:","Census Tracts:",null,null,null,null,null,null,null,"APNs",null,null,null,null,null,null,"Project Name","Address","City","Zip Code","County","Latitude:","Longitude:","Census Tracts:",null,null,null,null,null,null,null,"APNs",null,null,null,null,null,null,"Type of Project","Project Name","Address","City","Zip Code","County","Latitude:","Longitude:","Census Tracts:",null,null,null,null,null,null,null,"APNs",null,null,null,null,null,null,"Type of Project","Project Name","Address","City","Zip Code","County","Latitude:","Longitude:","Census Tracts:",null,null,null,null,null,null,null,"APNs",null,null,null,null,null,null,"Type of Project","Project Name","Address","City","Zip Code","County","Latitude:","Longitude:","Census Tracts:",null,null,null,null,null,null,null,"APNs",null,null,null,null,null,null,null,"#","Amount","#","Amount","#","Amount","#","Amount","Transit Operations ","Bikeshare infrastructure & operations","EV Carshare infrastructure & operations ",{"$f":"'Project Overview'!$O$73","v":"Other (Specify)"},{"$f":"'Project Overview'!$AA$73","v":"Other (Specify)"},"primary transit mode","Project Name","Address","City","Zip Code","County","Latitude:","Longitude:","Census Tracts:",null,null,null,null,null,null,null,"APNs",null,null,null,null,null,null,"primary transit mode","Project Name","Address","City","Zip Code","County","Latitude:","Longitude:","Census Tracts:",null,null,null,null,null,null,null,"APNs",null,null,null,null,null,null,"primary transit mode","Project Name","Address","City","Zip Code","County","Latitude:","Longitude:","Census Tracts:",null,null,null,null,null,null,null,"APNs",null,null,null,null,null,null,"#","Amount","#","Amount","#","Amount","#","Amount","#","Amount","#","Amount",null,"Proposed program type","Program Name:","Address:","City:","Zip Code:","County:","Proposed program type","Program Name:","Address:","City:","Zip Code:","County:","Proposed program type","Program Name:","Address:","City:","Zip Code:","County:","Proposed program type","Program Name:","Address:","City:","Zip Code:","County:","Proposed program type","Program Name:","Address:","City:","Zip Code:","County:","Program Name:","Address:","City:","Zip Code:","County:",null,null,"HCD program(s) name(s):","Plan to apply?","Loan amount","Grant amount","Awarded?","Award date or expected Award date?","HCD Contract Number","HCD program(s) name(s):","Plan to apply?","Loan amount","Grant amount","Awarded?","Award date or expected Award date?","HCD Contract Number","HCD program(s) name(s):","Plan to apply?","Loan amount","Grant amount","Awarded?","Award date or expected Award date?","HCD Contract Number","Tax Credit","Federal","Proposed equity investor contribution ($)","Anticipated tax credit factor","State","Proposed equity investor contribution ($)","Anticipated tax credit factor","Is the Project a scattered site housing Project?","Site Address","Developer","Homeownership or Rental","Site Address","Developer","Homeownership or Rental","Site Address","Developer","Homeownership or Rental","Site Address","Developer","Homeownership or Rental","Site Address","Developer","Homeownership or Rental","Project Site Area (Acres)","Units per Acre","Commercial\nSpace?","Number of buildings?","Total building(s) stories?","Number of elevators?","Total Homeownership square Feet?","Total Mixed-use Space (square feet)","Is Project being proposed by a Tribal Entity",null,"Project 10 digit census tract:","Disadvantaged Community:","Disadvantaged and Low-Income Community:","Low-Income Community:","AHD Capital Project type","Mixed Use Development?","Contact Type","Entity Legal Name","Eligible Sponsor Type","Organization Type","Address","City","State","Zip Code","Auth Rep Name","Title","Email","Phone #","Contact Name","Title2","Email2","Phone #2","Contact Address","City2","State2","Zip Code2","Contact Type","Entity Legal Name","Eligible Sponsor Type","Organization Type","Address","City","State","Zip Code","Auth Rep Name","Title","Email","Phone #","Contact Name","Title2","Email2","Phone #2","Contact Address","City2","State2","Zip Code2","Contact Type","Entity Legal Name","Eligible Sponsor Type","Organization Type","Address","City","State","Zip Code","Auth Rep Name","Title","Email","Phone #","Contact Name","Title2","Email2","Phone #2","Contact Address","City2","State2","Zip Code2","Contact Type","Entity Legal Name","Eligible Sponsor Type","Organization Type","Address","City","State","Zip Code","Auth Rep Name","Title","Email","Phone #","Contact Name","Title2","Email2","Phone #2","Contact Address","City2","State2","Zip Code2","Contact Type","Entity Legal Name","Eligible Sponsor Type","Organization Type","Address","City","State","Zip Code","Auth Rep Name","Title","Email","Phone #","Contact Name","Title2","Email2","Phone #2","Contact Address","City2","State2","Zip Code2","Contact Type","Entity Legal Name","Eligible Sponsor Type","Organization Type","Address","City","State","Zip Code","Auth Rep Name","Title","Email","Phone #","Contact Name","Title2","Email2","Phone #2","Contact Address","City2","State2","Zip Code2","Contact Type","Entity Legal Name","Eligible Sponsor Type","Organization Type","Address","City","State","Zip Code","Auth Rep Name","Title","Email","Phone #","Contact Name","Title2","Email2","Phone #2","Contact Address","City2","State2","Zip Code2","Contact Type","Entity Legal Name","Eligible Sponsor Type","Organization Type","Address","City","State","Zip Code","Auth Rep Name","Title","Email","Phone #","Contact Name","Title2","Email2","Phone #2","Contact Address","City2","State2","Zip Code2","Contact Type","Entity Legal Name","Eligible Sponsor Type","Organization Type","Address","City","State","Zip Code","Auth Rep Name","Title","Email","Phone #","Contact Name","Title2","Email2","Phone #2","Contact Address","City2","State2","Zip Code2","Contact Type","Entity Legal Name","Eligible Sponsor Type","Organization Type","Address","City","State","Zip Code","Auth Rep Name","Title","Email","Phone #","Contact Name","Title2","Email2","Phone #2","Contact Address","City2","State2","Zip Code2","Contact Type","Entity Legal Name","Eligible Sponsor Type","Organization Type","Address","City","State","Zip Code","Auth Rep Name","Title","Email","Phone #","Contact Name","Title2","Email2","Phone #2","Contact Address","City2","State2","Zip Code2","Contact Type","Entity Legal Name","Eligible Sponsor Type","Organization Type","Address","City","State","Zip Code","Auth Rep Name","Title","Email","Phone #","Contact Name","Title2","Email2","Phone #2","Contact Address","City2","State2","Zip Code2","Contact Type","Entity Legal Name","Eligible Sponsor Type","Organization Type","Address","City","State","Zip Code","Auth Rep Name","Title","Email","Phone #","Contact Name","Title2","Email2","Phone #2","Contact Address","City2","State2","Zip Code2","Contact Type","Entity Legal Name","Eligible Sponsor Type","Organization Type","Address","City","State","Zip Code","Auth Rep Name","Title","Email","Phone #","Contact Name","Title2","Email2","Phone #2","Contact Address","City2","State2","Zip Code2","Contact Type","Entity Legal Name","Eligible Sponsor Type","Organization Type","Address","City","State","Zip Code","Auth Rep Name","Title","Email","Phone #","Contact Name","Title2","Email2","Phone #2","Contact Address","City2","State2","Zip Code2","Contact Type","Entity Legal Name","Eligible Sponsor Type","Organization Type","Address","City","State","Zip Code","Auth Rep Name","Title","Email","Phone #","Contact Name","Title2","Email2","Phone #2","Contact Address","City2","State2","Zip Code2","Contact Type","Entity Legal Name","Eligible Sponsor Type","Organization Type","Address","City","State","Zip Code","Auth Rep Name","Title","Email","Phone #","Contact Name","Title2","Email2","Phone #2","Contact Address","City2","State2","Zip Code2","Congress person Name(s)","District #","Congress person Name(s)","District #","Congress person Name(s)","District #","State Senator Name(s)","District #","State Senator Name(s)","District #","State Senator Name(s)","District #","State Assembly Member Name(s) ","District #","State Assembly Member Name(s) ","District #","State Assembly Member Name(s) ","District #","# of\nBdrms","Unit Type","% of Area Median Income ","Total Units","Total\nRental\nUnits","Total Rental\nUn-Restricted\nUnits","Total Rental\nRestricted\nUnits","Total\nAffordable\nRental Units","AHSC\nRental\nAssisted\nUnits","Other\nRental\nRestricted","Total\nHomeowner\n(HO) Units","Total (HO)\nUn-Restricted\nUnits","Total (HO)\nRestricted\nUnits","Total\nAffordable\n(HO) Units","AHSC\n(HO)\nAssisted\nUnits","Other\n(HO)\nRestricted\nUnits","Support. Housing\nUnits","Veterans\nUnits","Senior\nUnits","# of\nBdrms","Unit Type","% of Area Median Income ","Total Units","Total\nRental\nUnits","Total Rental\nUn-Restricted\nUnits","Total Rental\nRestricted\nUnits","Total\nAffordable\nRental Units","AHSC\nRental\nAssisted\nUnits","Other\nRental\nRestricted","Total\nHomeowner\n(HO) Units","Total (HO)\nUn-Restricted\nUnits","Total (HO)\nRestricted\nUnits","Total\nAffordable\n(HO) Units","AHSC\n(HO)\nAssisted\nUnits","Other\n(HO)\nRestricted\nUnits","Support. Housing\nUnits","Veterans\nUnits","Senior\nUnits","# of\nBdrms","Unit Type","% of Area Median Income ","Total Units","Total\nRental\nUnits","Total Rental\nUn-Restricted\nUnits","Total Rental\nRestricted\nUnits","Total\nAffordable\nRental Units","AHSC\nRental\nAssisted\nUnits","Other\nRental\nRestricted","Total\nHomeowner\n(HO) Units","Total (HO)\nUn-Restricted\nUnits","Total (HO)\nRestricted\nUnits","Total\nAffordable\n(HO) Units","AHSC\n(HO)\nAssisted\nUnits","Other\n(HO)\nRestricted\nUnits","Support. Housing\nUnits","Veterans\nUnits","Senior\nUnits","# of\nBdrms","Unit Type","% of Area Median Income ","Total Units","Total\nRental\nUnits","Total Rental\nUn-Restricted\nUnits","Total Rental\nRestricted\nUnits","Total\nAffordable\nRental Units","AHSC\nRental\nAssisted\nUnits","Other\nRental\nRestricted","Total\nHomeowner\n(HO) Units","Total (HO)\nUn-Restricted\nUnits","Total (HO)\nRestricted\nUnits","Total\nAffordable\n(HO) Units","AHSC\n(HO)\nAssisted\nUnits","Other\n(HO)\nRestricted\nUnits","Support. Housing\nUnits","Veterans\nUnits","Senior\nUnits","# of\nBdrms","Unit Type","% of Area Median Income ","Total Units","Total\nRental\nUnits","Total Rental\nUn-Restricted\nUnits","Total Rental\nRestricted\nUnits","Total\nAffordable\nRental Units","AHSC\nRental\nAssisted\nUnits","Other\nRental\nRestricted","Total\nHomeowner\n(HO) Units","Total (HO)\nUn-Restricted\nUnits","Total (HO)\nRestricted\nUnits","Total\nAffordable\n(HO) Units","AHSC\n(HO)\nAssisted\nUnits","Other\n(HO)\nRestricted\nUnits","Support. Housing\nUnits","Veterans\nUnits","Senior\nUnits","# of\nBdrms","Unit Type","% of Area Median Income ","Total Units","Total\nRental\nUnits","Total Rental\nUn-Restricted\nUnits","Total Rental\nRestricted\nUnits","Total\nAffordable\nRental Units","AHSC\nRental\nAssisted\nUnits","Other\nRental\nRestricted","Total\nHomeowner\n(HO) Units","Total (HO)\nUn-Restricted\nUnits","Total (HO)\nRestricted\nUnits","Total\nAffordable\n(HO) Units","AHSC\n(HO)\nAssisted\nUnits","Other\n(HO)\nRestricted\nUnits","Support. Housing\nUnits","Veterans\nUnits","Senior\nUnits","# of\nBdrms","Unit Type","% of Area Median Income ","Total Units","Total\nRental\nUnits","Total Rental\nUn-Restricted\nUnits","Total Rental\nRestricted\nUnits","Total\nAffordable\nRental Units","AHSC\nRental\nAssisted\nUnits","Other\nRental\nRestricted","Total\nHomeowner\n(HO) Units","Total (HO)\nUn-Restricted\nUnits","Total (HO)\nRestricted\nUnits","Total\nAffordable\n(HO) Units","AHSC\n(HO)\nAssisted\nUnits","Other\n(HO)\nRestricted\nUnits","Support. Housing\nUnits","Veterans\nUnits","Senior\nUnits","# of\nBdrms","Unit Type","% of Area Median Income ","Total Units","Total\nRental\nUnits","Total Rental\nUn-Restricted\nUnits","Total Rental\nRestricted\nUnits","Total\nAffordable\nRental Units","AHSC\nRental\nAssisted\nUnits","Other\nRental\nRestricted","Total\nHomeowner\n(HO) Units","Total (HO)\nUn-Restricted\nUnits","Total (HO)\nRestricted\nUnits","Total\nAffordable\n(HO) Units","AHSC\n(HO)\nAssisted\nUnits","Other\n(HO)\nRestricted\nUnits","Support. Housing\nUnits","Veterans\nUnits","Senior\nUnits","# of\nBdrms","Unit Type","% of Area Median Income ","Total Units","Total\nRental\nUnits","Total Rental\nUn-Restricted\nUnits","Total Rental\nRestricted\nUnits","Total\nAffordable\nRental Units","AHSC\nRental\nAssisted\nUnits","Other\nRental\nRestricted","Total\nHomeowner\n(HO) Units","Total (HO)\nUn-Restricted\nUnits","Total (HO)\nRestricted\nUnits","Total\nAffordable\n(HO) Units","AHSC\n(HO)\nAssisted\nUnits","Other\n(HO)\nRestricted\nUnits","Support. Housing\nUnits","Veterans\nUnits","Senior\nUnits","# of\nBdrms","Unit Type","% of Area Median Income ","Total Units","Total\nRental\nUnits","Total Rental\nUn-Restricted\nUnits","Total Rental\nRestricted\nUnits","Total\nAffordable\nRental Units","AHSC\nRental\nAssisted\nUnits","Other\nRental\nRestricted","Total\nHomeowner\n(HO) Units","Total (HO)\nUn-Restricted\nUnits","Total (HO)\nRestricted\nUnits","Total\nAffordable\n(HO) Units","AHSC\n(HO)\nAssisted\nUnits","Other\n(HO)\nRestricted\nUnits","Support. Housing\nUnits","Veterans\nUnits","Senior\nUnits","# of\nBdrms","Unit Type","% of Area Median Income ","Total Units","Total\nRental\nUnits","Total Rental\nUn-Restricted\nUnits","Total Rental\nRestricted\nUnits","Total\nAffordable\nRental Units","AHSC\nRental\nAssisted\nUnits","Other\nRental\nRestricted","Total\nHomeowner\n(HO) Units","Total (HO)\nUn-Restricted\nUnits","Total (HO)\nRestricted\nUnits","Total\nAffordable\n(HO) Units","AHSC\n(HO)\nAssisted\nUnits","Other\n(HO)\nRestricted\nUnits","Support. Housing\nUnits","Veterans\nUnits","Senior\nUnits","# of\nBdrms","Unit Type","% of Area Median Income ","Total Units","Total\nRental\nUnits","Total Rental\nUn-Restricted\nUnits","Total Rental\nRestricted\nUnits","Total\nAffordable\nRental Units","AHSC\nRental\nAssisted\nUnits","Other\nRental\nRestricted","Total\nHomeowner\n(HO) Units","Total (HO)\nUn-Restricted\nUnits","Total (HO)\nRestricted\nUnits","Total\nAffordable\n(HO) Units","AHSC\n(HO)\nAssisted\nUnits","Other\n(HO)\nRestricted\nUnits","Support. Housing\nUnits","Veterans\nUnits","Senior\nUnits","# of\nBdrms","Unit Type","% of Area Median Income ","Total Units","Total\nRental\nUnits","Total Rental\nUn-Restricted\nUnits","Total Rental\nRestricted\nUnits","Total\nAffordable\nRental Units","AHSC\nRental\nAssisted\nUnits","Other\nRental\nRestricted","Total\nHomeowner\n(HO) Units","Total (HO)\nUn-Restricted\nUnits","Total (HO)\nRestricted\nUnits","Total\nAffordable\n(HO) Units","AHSC\n(HO)\nAssisted\nUnits","Other\n(HO)\nRestricted\nUnits","Support. Housing\nUnits","Veterans\nUnits","Senior\nUnits","# of\nBdrms","Unit Type","% of Area Median Income ","Total Units","Total\nRental\nUnits","Total Rental\nUn-Restricted\nUnits","Total Rental\nRestricted\nUnits","Total\nAffordable\nRental Units","AHSC\nRental\nAssisted\nUnits","Other\nRental\nRestricted","Total\nHomeowner\n(HO) Units","Total (HO)\nUn-Restricted\nUnits","Total (HO)\nRestricted\nUnits","Total\nAffordable\n(HO) Units","AHSC\n(HO)\nAssisted\nUnits","Other\n(HO)\nRestricted\nUnits","Support. Housing\nUnits","Veterans\nUnits","Senior\nUnits","# of\nBdrms","Unit Type","% of Area Median Income ","Total Units","Total\nRental\nUnits","Total Rental\nUn-Restricted\nUnits","Total Rental\nRestricted\nUnits","Total\nAffordable\nRental Units","AHSC\nRental\nAssisted\nUnits","Other\nRental\nRestricted","Total\nHomeowner\n(HO) Units","Total (HO)\nUn-Restricted\nUnits","Total (HO)\nRestricted\nUnits","Total\nAffordable\n(HO) Units","AHSC\n(HO)\nAssisted\nUnits","Other\n(HO)\nRestricted\nUnits","Support. Housing\nUnits","Veterans\nUnits","Senior\nUnits","# of\nBdrms","Unit Type","% of Area Median Income ","Total Units","Total\nRental\nUnits","Total Rental\nUn-Restricted\nUnits","Total Rental\nRestricted\nUnits","Total\nAffordable\nRental Units","AHSC\nRental\nAssisted\nUnits","Other\nRental\nRestricted","Total\nHomeowner\n(HO) Units","Total (HO)\nUn-Restricted\nUnits","Total (HO)\nRestricted\nUnits","Total\nAffordable\n(HO) Units","AHSC\n(HO)\nAssisted\nUnits","Other\n(HO)\nRestricted\nUnits","Support. Housing\nUnits","Veterans\nUnits","Senior\nUnits","# of\nBdrms","Unit Type","% of Area Median Income ","Total Units","Total\nRental\nUnits","Total Rental\nUn-Restricted\nUnits","Total Rental\nRestricted\nUnits","Total\nAffordable\nRental Units","AHSC\nRental\nAssisted\nUnits","Other\nRental\nRestricted","Total\nHomeowner\n(HO) Units","Total (HO)\nUn-Restricted\nUnits","Total (HO)\nRestricted\nUnits","Total\nAffordable\n(HO) Units","AHSC\n(HO)\nAssisted\nUnits","Other\n(HO)\nRestricted\nUnits","Support. Housing\nUnits","Veterans\nUnits","Senior\nUnits","# of\nBdrms","Unit Type","% of Area Median Income ","Total Units","Total\nRental\nUnits","Total Rental\nUn-Restricted\nUnits","Total Rental\nRestricted\nUnits","Total\nAffordable\nRental Units","AHSC\nRental\nAssisted\nUnits","Other\nRental\nRestricted","Total\nHomeowner\n(HO) Units","Total (HO)\nUn-Restricted\nUnits","Total (HO)\nRestricted\nUnits","Total\nAffordable\n(HO) Units","AHSC\n(HO)\nAssisted\nUnits","Other\n(HO)\nRestricted\nUnits","Support. Housing\nUnits","Veterans\nUnits","Senior\nUnits","# of\nBdrms","Unit Type","% of Area Median Income ","Total Units","Total\nRental\nUnits","Total Rental\nUn-Restricted\nUnits","Total Rental\nRestricted\nUnits","Total\nAffordable\nRental Units","AHSC\nRental\nAssisted\nUnits","Other\nRental\nRestricted","Total\nHomeowner\n(HO) Units","Total (HO)\nUn-Restricted\nUnits","Total (HO)\nRestricted\nUnits","Total\nAffordable\n(HO) Units","AHSC\n(HO)\nAssisted\nUnits","Other\n(HO)\nRestricted\nUnits","Support. Housing\nUnits","Veterans\nUnits","Senior\nUnits","# of\nBdrms","Unit Type","% of Area Median Income ","Total Units","Total\nRental\nUnits","Total Rental\nUn-Restricted\nUnits","Total Rental\nRestricted\nUnits","Total\nAffordable\nRental Units","AHSC\nRental\nAssisted\nUnits","Other\nRental\nRestricted","Total\nHomeowner\n(HO) Units","Total (HO)\nUn-Restricted\nUnits","Total (HO)\nRestricted\nUnits","Total\nAffordable\n(HO) Units","AHSC\n(HO)\nAssisted\nUnits","Other\n(HO)\nRestricted\nUnits","Support. Housing\nUnits","Veterans\nUnits","Senior\nUnits",null,"Total\nRental\nUnits","Total Rental\nUn-Restricted\nUnits","Total Rental\nRestricted\nUnits","Total\nAffordable\nRental Units","AHSC\nRental\nAssisted\nUnits","Other\nRental\nRestricted","Total\nHomeowner\n(HO) Units","Total (HO)\nUn-Restricted\nUnits","Total (HO)\nRestricted\nUnits","Total\nAffordable\n(HO) Units","AHSC\n(HO)\nAssisted\nUnits","Other\n(HO)\nRestricted\nUnits","Support. Housing\nUnits","Veterans\nUnits","Senior\nUnits",{"$f":"'Max Funds & Unit Mix'!$B$30","v":"0 Unrestricted redidential units @ $35,000 Per unit"},{"$f":"'Max Funds & Unit Mix'!$G$30","v":"0 restricted residential units @ $50,000 per unit "},"HRI Requested","Max HRI Grant","Maximum Homeownership Funding Amount","Unrestricted Manager Funding Amount","AHD Funds Requested","Max allowable AHD Loan","Residential Amount","Commercial Amount","Total","Committed?","AHD vs HRI","Source Name (lien priority order)","Source Type","Lien No.","Residential Amount","Commercial Amount","Total Amount","Committed?","AHD vs HRI","Source Name (lien priority order)","Source Type","Lien No.","Residential Amount","Commercial Amount","Total Amount","Committed?","AHD vs HRI","Source Name (lien priority order)","Source Type","Lien No.","Residential Amount","Commercial Amount","Total Amount","Committed?","AHD vs HRI","Source Name (lien priority order)","Source Type","Lien No.","Residential Amount","Commercial Amount","Total Amount","Committed?","AHD vs HRI","Source Name (lien priority order)","Source Type","Lien No.","Residential Amount","Commercial Amount","Total Amount","Committed?","AHD vs HRI","Source Name (lien priority order)","Source Type","Lien No.","Residential Amount","Commercial Amount","Total Amount","Committed?","AHD vs HRI","Source Name (lien priority order)","Source Type","Lien No.","Residential Amount","Commercial Amount","Total Amount","Committed?","AHD vs HRI","Source Name (lien priority order)","Source Type","Lien No.","Residential Amount","Commercial Amount","Total Amount","Committed?","AHD vs HRI","Source Name (lien priority order)","Source Type","Lien No.","Residential Amount","Commercial Amount","Total Amount","Committed?","AHD vs HRI","Source Name (lien priority order)","Source Type","Lien No.","Residential Amount","Commercial Amount","Total Amount","Committed?","AHD vs HRI","Source Name (lien priority order)","Source Type","Lien No.","Residential Amount","Commercial Amount","Total Amount","Committed?","AHD vs HRI","Source Name (lien priority order)","Source Type","Lien No.","Residential Amount","Commercial Amount","Total Amount","Committed?","AHD vs HRI","Source Name (lien priority order)","Source Type","Lien No.","Residential Amount","Commercial Amount","Total Amount","Committed?","AHD vs HRI","Source Name (lien priority order)","Source Type","Lien No.","Residential Amount","Commercial Amount","Total Amount","Committed?","AHD vs HRI","Source Name (lien priority order)","Source Type","Lien No.","Residential Amount","Commercial Amount","Total Amount","Committed?","AHD vs HRI","Source Name (lien priority order)","Source Type","Lien No.","Residential Amount","Commercial Amount","Total Amount","Committed?","AHD vs HRI","Source Name (lien priority order)","Source Type","Lien No.","Residential Amount","Commercial Amount","Total Amount","Residential Amount","Commercial Amount","Total Amount","Committed?","AHD vs HRI","Source Name (lien priority order)","Source Type","Lien No.","Residential Amount","Commercial Amount","Total Amount","Committed?","AHD vs HRI","Source Name (lien priority order)","Source Type","Lien No.","Residential Amount","Commercial Amount","Total Amount","Committed?","AHD vs HRI","Source Name (lien priority order)","Source Type","Lien No.","Residential Amount","Commercial Amount","Total Amount","Committed?","AHD vs HRI","Source Name (lien priority order)","Source Type","Lien No.","Residential Amount","Commercial Amount","Total Amount","Committed?","AHD vs HRI","Source Name (lien priority order)","Source Type","Lien No.","Residential Amount","Commercial Amount","Total Amount","Committed?","AHD vs HRI","Source Name (lien priority order)","Source Type","Lien No.","Residential Amount","Commercial Amount","Total Amount","Committed?","AHD vs HRI","Source Name (lien priority order)","Source Type","Lien No.","Residential Amount","Commercial Amount","Total Amount","Committed?","AHD vs HRI","Source Name (lien priority order)","Source Type","Lien No.","Residential Amount","Commercial Amount","Total Amount","Committed?","AHD vs HRI","Source Name (lien priority order)","Source Type","Lien No.","Residential Amount","Commercial Amount","Total Amount","Committed?","AHD vs HRI","Source Name (lien priority order)","Source Type","Lien No.","Residential Amount","Commercial Amount","Total Amount","Committed?","AHD vs HRI","Source Name (lien priority order)","Source Type","Lien No.","Residential Amount","Commercial Amount","Total Amount","Committed?","AHD vs HRI","Source Name (lien priority order)","Source Type","Lien No.","Residential Amount","Commercial Amount","Total Amount","Committed?","AHD vs HRI","Source Name (lien priority order)","Source Type","Lien No.","Residential Amount","Commercial Amount","Total Amount","Committed?","AHD vs HRI","Source Name (lien priority order)","Source Type","Lien No.","Residential Amount","Commercial Amount","Total Amount","Committed?","AHD vs HRI","Source Name (lien priority order)","Source Type","Lien No.","Residential Amount","Commercial Amount","Total Amount","Committed?","AHD vs HRI","Source Name (lien priority order)","Source Type","Lien No.","Residential Amount","Commercial Amount","Total Amount","Committed?","AHD vs HRI","Source Name (lien priority order)","Source Type","Lien No.","Residential Amount","Commercial Amount","Total Amount","Committed?","AHD vs HRI","Source Name (lien priority order)","Source Type","Lien No.","Residential Amount","Commercial Amount","Total Amount","Debt Service Coverage Ratio (DSCR) Year 1","§106 (a)(1) ","§106 (a)(2) ","§106 (a)(3) ","§106 (a)(4) ","Is there at least one pass per restricted unit?","§106 (a)(5) ","§106 (a)(6)(A) ","Meets threshold requirement?","§106 (a)(6)(B) ","§106 (a)(7)","§106 (a)(8)","§106 (a)(9)","§106 (a)(10)","§106 (a)(11)","§106 (a)(12)","§106 (a)(13)","§106 (a)(14)","§106 (a)(15)","§106 (a)(16)","trigger State Relocation?","§106 (a)(17)","§106 (a)(18)","§106 (a)(19)","§106 (a)(20)","§106 (a)(21)(A)","§106 (a)(21)(B)","§106 (a)(21)(C)(i)","Project meets requirement?","§106 (a)(21)(C)(i)","Project meets requirement?","§106 (a)(21)(D)","Project meets requirement?","§106 (a)(21)(E)","§106 (a)(21)(F)","§106 (a)(22)","§106 (a)(23)(A)","§106 (a)(23)(B)(i)","Project meets requirement?","§106 (a)(23)(B)(i)","Project meets requirement?","§106 (a)(24)(A)","§106 (a)(25)","§106 (a)(26)","§106 (a)(27)","§106 (a)(28)(C)","Total Quantitative Self Score","§107 (a)","§107 (a)(1)","§107 (a)(2)","§107 (a)(3)","§107 (a)(4)","§107 (a)(5)","§107 (b)","§107 (c)","§107 (c)(1)","§107 (c)(2)","§107 (c)(3)","§107 (d)","§107 (e)","§107 (f)","§107 (g)","§107 (h)","§107 (i)","§107 (i)(1)(A)","§107 (i)(1)(B)","§107 (i)(2)","§107 (j)"]
[{"$f":"'Project Overview'!$E$4","v":0},{"$f":"vmProjectAreaType","v":0},{"$f":"vmHousingType","v":0},{"$f":"'Project Overview'!$AB$6","v":""},{"$f":"'Project Overview'!$AL$8","v":0},{"$f":"vmAHD","v":0},{"$f":"vmHRI","v":0},{"$f":"vmSTI","v":0},{"$f":"vmTRA","v":0},{"$f":"vmPGM","v":0},{"$f":"'Project Overview'!$Y$11","v":0},{"$f":"'Project Overview'!$Y$12","v":0},{"$f":"'Project Overview'!$Y$13","v":0},{"$f":"'Project Overview'!$Y$14","v":0},{"$f":"'Project Overview'!$Y$15","v":0},{"$f":"'Project Overview'!$AC$11","v":0},{"$f":"'Project Overview'!$AC$12","v":0},{"$f":"'Project Overview'!$AC$13","v":0},{"$f":"'Project Overview'!$AC$14","v":0},{"$f":"'Project Overview'!$AC$15","v":0},{"$f":"ProjectName","v":0},{"$f":"'Project Overview'!$W$27","v":0},{"$f":"'Project Overview'!$D$28","v":0},{"$f":"'Project Overview'!$M$28","v":0},{"$f":"County","v":0},{"$f":"'Project Overview'!$AC$28","v":0},{"$f":"'Project Overview'!$AJ$28","v":0},{"$f":"'Project Overview'!$F$29","v":0},{"$f":"'Project Overview'!$J$29","v":0},{"$f":"'Project Overview'!$N$29","v":0},{"$f":"'Project Overview'!$R$29","v":0},{"$f":"'Project Overview'!$V$29","v":0},{"$f":"'Project Overview'!$Z$29","v":0},{"$f":"'Project Overview'!$AD$29","v":0},{"$f":"'Project Overview'!$AH$29","v":0},{"$f":"'Project Overview'!$D$30","v":0},{"$f":"'Project Overview'!$I$30","v":0},{"$f":"'Project Overview'!$N$30","v":0},{"$f":"'Project Overview'!$S$30","v":0},{"$f":"'Project Overview'!$X$30","v":0},{"$f":"'Project Overview'!$AC$30","v":0},{"$f":"'Project Overview'!$AH$30","v":0},{"$f":"'Project Overview'!$F$36","v":0},{"$f":"'Project Overview'!$W$36","v":0},{"$f":"'Project Overview'!$D$37","v":0},{"$f":"'Project Overview'!$M$37","v":0},{"$f":"County2","v":0},{"$f":"'Project Overview'!$AC$37","v":0},{"$f":"'Project Overview'!$AJ$37","v":0},{"$f":"'Project Overview'!$F$38","v":0},{"$f":"'Project Overview'!$J$38","v":0},{"$f":"'Project Overview'!$N$38","v":0},{"$f":"'Project Overview'!$R$38","v":0},{"$f":"'Project Overview'!$V$38","v":0},{"$f":"'Project Overview'!$Z$38","v":0},{"$f":"'Project Overview'!$AD$38","v":0},{"$f":"'Project Overview'!AH38","v":0},{"$f":"'Project Overview'!$D$39","v":0},{"$f":"'Project Overview'!$I$39","v":0},{"$f":"'Project Overview'!$N$39","v":0},{"$f":"'Project Overview'!$S$39","v":0},{"$f":"'Project Overview'!$X$39","v":0},{"$f":"'Project Overview'!$AC$39","v":0},{"$f":"'Project Overview'!$AH$39","v":0},{"$f":"'Project Overview'!$K$45","v":0},{"$f":"'Project Overview'!$F$47","v":0},{"$f":"'Project Overview'!$W$47","v":0},{"$f":"'Project Overview'!$D$48","v":0},{"$f":"'Project Overview'!$M$48","v":0},{"$f":"'Project Overview'!$T$48","v":0},{"$f":"'Project Overview'!$AC$48","v":0},{"$f":"'Project Overview'!$AJ$48","v":0},{"$f":"'Project Overview'!#REF!","v":{"$error":"#REF!"}},{"$f":"'Project Overview'!#REF!","v":{"$error":"#REF!"}},{"$f":"'Project Overview'!#REF!","v":{"$error":"#REF!"}},{"$f":"'Project Overview'!#REF!","v":{"$error":"#REF!"}},{"$f":"'Project Overview'!#REF!","v":{"$error":"#REF!"}},{"$f":"'Project Overview'!#REF!","v":{"$error":"#REF!"}},{"$f":"'Project Overview'!#REF!","v":{"$error":"#REF!"}},{"$f":"'Project Overview'!#REF!","v":{"$error":"#REF!"}},{"$f":"'Project Overview'!#REF!","v":{"$error":"#REF!"}},{"$f":"'Project Overview'!#REF!","v":{"$error":"#REF!"}},{"$f":"'Project Overview'!#REF!","v":{"$error":"#REF!"}},{"$f":"'Project Overview'!#REF!","v":{"$error":"#REF!"}},{"$f":"'Project Overview'!#REF!","v":{"$error":"#REF!"}},{"$f":"'Project Overview'!#REF!","v":{"$error":"#REF!"}},{"$f":"'Project Overview'!#REF!","v":{"$error":"#REF!"}},{"$f":"'Project Overview'!$F$54","v":0},{"$f":"'Project Overview'!$F$55","v":0},{"$f":"'Project Overview'!$W$55","v":0},{"$f":"'Project Overview'!$D$56","v":0},{"$f":"'Project Overview'!$M$56","v":0},{"$f":"'Project Overview'!$T$56","v":0},{"$f":"'Project Overview'!$AC$56","v":0},{"$f":"'Project Overview'!$AJ$56","v":0},{"$f":"'Project Overview'!#REF!","v":{"$error":"#REF!"}},{"$f":"'Project Overview'!#REF!","v":{"$error":"#REF!"}},{"$f":"'Project Overview'!#REF!","v":{"$error":"#REF!"}},{"$f":"'Project Overview'!#REF!","v":{"$error":"#REF!"}},{"$f":"'Project Overview'!#REF!","v":{"$error":"#REF!"}},{"$f":"'Project Overview'!#REF!","v":{"$error":"#REF!"}},{"$f":"'Project Overview'!#REF!","v":{"$error":"#REF!"}},{"$f":"'Project Overview'!#REF!","v":{"$error":"#REF!"}},{"$f":"'Project Overview'!#REF!","v":{"$error":"#REF!"}},{"$f":"'Project Overview'!#REF!","v":{"$error":"#REF!"}},{"$f":"'Project Overview'!#REF!","v":{"$error":"#REF!"}},{"$f":"'Project Overview'!#REF!","v":{"$error":"#REF!"}},{"$f":"'Project Overview'!#REF!","v":{"$error":"#REF!"}},{"$f":"'Project Overview'!#REF!","v":{"$error":"#REF!"}},{"$f":"'Project Overview'!#REF!","v":{"$error":"#REF!"}},{"$f":"'Project Overview'!$F$62","v":0},{"$f":"'Project Overview'!$F$63","v":0},{"$f":"'Project Overview'!$W$63","v":0},{"$f":"'Project Overview'!$D$64","v":0},{"$f":"'Project Overview'!$M$64","v":0},{"$f":"'Project Overview'!$T$64","v":0},{"$f":"'Project Overview'!$AC$64","v":0},{"$f":"'Project Overview'!$AJ$64","v":0},{"$f":"'Project Overview'!#REF!","v":{"$error":"#REF!"}},{"$f":"'Project Overview'!#REF!","v":{"$error":"#REF!"}},{"$f":"'Project Overview'!#REF!","v":{"$error":"#REF!"}},{"$f":"'Project Overview'!#REF!","v":{"$error":"#REF!"}},{"$f":"'Project Overview'!#REF!","v":{"$error":"#REF!"}},{"$f":"'Project Overview'!#REF!","v":{"$error":"#REF!"}},{"$f":"'Project Overview'!#REF!","v":{"$error":"#REF!"}},{"$f":"'Project Overview'!#REF!","v":{"$error":"#REF!"}},{"$f":"'Project Overview'!#REF!","v":{"$error":"#REF!"}},{"$f":"'Project Overview'!#REF!","v":{"$error":"#REF!"}},{"$f":"'Project Overview'!#REF!","v":{"$error":"#REF!"}},{"$f":"'Project Overview'!#REF!","v":{"$error":"#REF!"}},{"$f":"'Project Overview'!#REF!","v":{"$error":"#REF!"}},{"$f":"'Project Overview'!#REF!","v":{"$error":"#REF!"}},{"$f":"'Project Overview'!#REF!","v":{"$error":"#REF!"}},{"$f":"'Project Overview'!$I$69","v":0},{"$f":"'Project Overview'!$O$69","v":0},{"$f":"'Project Overview'!$P$69","v":0},{"$f":"'Project Overview'!$X$69","v":0},{"$f":"'Project Overview'!$Y$69","v":0},{"$f":"'Project Overview'!$AJ$69","v":0},{"$f":"'Project Overview'!$AK$69","v":0},{"$f":"'Project Overview'!$F$71","v":0},{"$f":"'Project Overview'!$G$71","v":0},{"$f":"'Project Overview'!$O$71","v":0},{"$f":"'Project Overview'!$AA$71","v":0},{"$f":"'Project Overview'!$K$73","v":0},{"$f":"'Project Overview'!$W$73","v":0},{"$f":"'Project Overview'!$AI$73","v":0},{"$f":"'Project Overview'!$S$77","v":0},{"$f":"'Project Overview'!$F$87","v":0},{"$f":"'Project Overview'!$W$79","v":0},{"$f":"'Project Overview'!$D$80","v":0},{"$f":"'Project Overview'!$M$80","v":0},{"$f":"'Project Overview'!$T$80","v":0},{"$f":"'Project Overview'!$AC$80","v":0},{"$f":"'Project Overview'!$AJ$80","v":0},{"$f":"'Project Overview'!#REF!","v":{"$error":"#REF!"}},{"$f":"'Project Overview'!#REF!","v":{"$error":"#REF!"}},{"$f":"'Project Overview'!#REF!","v":{"$error":"#REF!"}},{"$f":"'Project Overview'!#REF!","v":{"$error":"#REF!"}},{"$f":"'Project Overview'!#REF!","v":{"$error":"#REF!"}},{"$f":"'Project Overview'!#REF!","v":{"$error":"#REF!"}},{"$f":"'Project Overview'!#REF!","v":{"$error":"#REF!"}},{"$f":"'Project Overview'!#REF!","v":{"$error":"#REF!"}},{"$f":"'Project Overview'!#REF!","v":{"$error":"#REF!"}},{"$f":"'Project Overview'!#REF!","v":{"$error":"#REF!"}},{"$f":"'Project Overview'!#REF!","v":{"$error":"#REF!"}},{"$f":"'Project Overview'!#REF!","v":{"$error":"#REF!"}},{"$f":"'Project Overview'!#REF!","v":{"$error":"#REF!"}},{"$f":"'Project Overview'!#REF!","v":{"$error":"#REF!"}},{"$f":"'Project Overview'!#REF!","v":{"$error":"#REF!"}},{"$f":"'Project Overview'!$N$86","v":0},{"$f":"'Project Overview'!F87","v":0},{"$f":"'Project Overview'!$W$87","v":0},{"$f":"'Project Overview'!$D$88","v":0},{"$f":"'Project Overview'!$M$88","v":0},{"$f":"'Project Overview'!$T$88","v":0},{"$f":"'Project Overview'!$AC$88","v":0},{"$f":"'Project Overview'!$AJ$88","v":0},{"$f":"'Project Overview'!#REF!","v":{"$error":"#REF!"}},{"$f":"'Project Overview'!#REF!","v":{"$error":"#REF!"}},{"$f":"'Project Overview'!#REF!","v":{"$error":"#REF!"}},{"$f":"'Project Overview'!#REF!","v":{"$error":"#REF!"}},{"$f":"'Project Overview'!#REF!","v":{"$error":"#REF!"}},{"$f":"'Project Overview'!#REF!","v":{"$error":"#REF!"}},{"$f":"'Project Overview'!#REF!","v":{"$error":"#REF!"}},{"$f":"'Project Overview'!#REF!","v":{"$error":"#REF!"}},{"$f":"'Project Overview'!#REF!","v":{"$error":"#REF!"}},{"$f":"'Project Overview'!#REF!","v":{"$error":"#REF!"}},{"$f":"'Project Overview'!#REF!","v":{"$error":"#REF!"}},{"$f":"'Project Overview'!#REF!","v":{"$error":"#REF!"}},{"$f":"'Project Overview'!#REF!","v":{"$error":"#REF!"}},{"$f":"'Project Overview'!#REF!","v":{"$error":"#REF!"}},{"$f":"'Project Overview'!#REF!","v":{"$error":"#REF!"}},{"$f":"'Project Overview'!$N$94","v":0},{"$f":"'Project Overview'!$F$95","v":0},{"$f":"'Project Overview'!$W$95","v":0},{"$f":"'Project Overview'!$D$96","v":0},{"$f":"'Project Overview'!$M$96","v":0},{"$f":"'Project Overview'!$T$96","v":0},{"$f":"'Project Overview'!$AC$96","v":0},{"$f":"'Project Overview'!$AJ$96","v":0},{"$f":"'Project Overview'!#REF!","v":{"$error":"#REF!"}},{"$f":"'Project Overview'!#REF!","v":{"$error":"#REF!"}},{"$f":"'Project Overview'!#REF!","v":{"$error":"#REF!"}},{"$f":"'Project Overview'!#REF!","v":{"$error":"#REF!"}},{"$f":"'Project Overview'!#REF!","v":{"$error":"#REF!"}},{"$f":"'Project Overview'!#REF!","v":{"$error":"#REF!"}},{"$f":"'Project Overview'!#REF!","v":{"$error":"#REF!"}},{"$f":"'Project Overview'!#REF!","v":{"$error":"#REF!"}},{"$f":"'Project Overview'!#REF!","v":{"$error":"#REF!"}},{"$f":"'Project Overview'!#REF!","v":{"$error":"#REF!"}},{"$f":"'Project Overview'!#REF!","v":{"$error":"#REF!"}},{"$f":"'Project Overview'!#REF!","v":{"$error":"#REF!"}},{"$f":"'Project Overview'!#REF!","v":{"$error":"#REF!"}},{"$f":"'Project Overview'!#REF!","v":{"$error":"#REF!"}},{"$f":"'Project Overview'!#REF!","v":{"$error":"#REF!"}},{"$f":"'Project Overview'!$F$101","v":0},{"$f":"'Project Overview'!$G$101","v":0},{"$f":"'Project Overview'!$O$101","v":0},{"$f":"'Project Overview'!$P$101","v":0},{"$f":"'Project Overview'!$Z$101","v":0},{"$f":"'Project Overview'!$AA$101","v":0},{"$f":"'Project Overview'!$AI$101","v":0},{"$f":"'Project Overview'!$AJ$101","v":0},{"$f":"'Project Overview'!$H$103","v":0},{"$f":"'Project Overview'!$I$103","v":0},{"$f":"'Project Overview'!$R$103","v":0},{"$f":"'Project Overview'!$S$103","v":0},{"$f":"'Project Overview'!$R$105","v":0},{"$f":"'Project Overview'!$AG$110","v":0},{"$f":"'Project Overview'!$F$109","v":0},{"$f":"'Project Overview'!$W$109","v":0},{"$f":"'Project Overview'!$D$110","v":0},{"$f":"'Project Overview'!$M$110","v":0},{"$f":"'Project Overview'!$T$110","v":0},{"$f":"'Project Overview'!$AG$124","v":0},{"$f":"'Project Overview'!$F$123","v":0},{"$f":"'Project Overview'!$W$123","v":0},{"$f":"'Project Overview'!$D$124","v":0},{"$f":"'Project Overview'!$M$124","v":0},{"$f":"'Project Overview'!$T$124","v":0},{"$f":"'Project Overview'!$AG$138","v":0},{"$f":"'Project Overview'!$F$137","v":0},{"$f":"'Project Overview'!$W$137","v":0},{"$f":"'Project Overview'!$D$138","v":0},{"$f":"'Project Overview'!$M$138","v":0},{"$f":"'Project Overview'!$T$138","v":0},{"$f":"'Project Overview'!$AG$152","v":0},{"$f":"'Project Overview'!$F$151","v":0},{"$f":"'Project Overview'!$W$151","v":0},{"$f":"'Project Overview'!$D$152","v":0},{"$f":"'Project Overview'!$M$152","v":0},{"$f":"'Project Overview'!$T$152","v":0},{"$f":"'Project Overview'!$AG$166","v":0},{"$f":"'Project Overview'!$F$165","v":0},{"$f":"'Project Overview'!$W$165","v":0},{"$f":"'Project Overview'!$D$166","v":0},{"$f":"'Project Overview'!$M$166","v":0},{"$f":"'Project Overview'!$T$166","v":0},{"$f":"'Project Overview'!$F$179","v":0},{"$f":"'Project Overview'!$W$179","v":0},{"$f":"'Project Overview'!$D$180","v":0},{"$f":"'Project Overview'!$M$180","v":0},{"$f":"'Project Overview'!$T$180","v":0},{"$f":"'Project Overview'!$J$190","v":0},{"$f":"vmOtherHCD","v":0},{"$f":"'Project Overview'!$B$197","v":0},{"$f":"'Project Overview'!$P$197","v":0},{"$f":"'Project Overview'!$R$197","v":0},{"$f":"'Project Overview'!$W$197","v":0},{"$f":"'Project Overview'!$AA$197","v":0},{"$f":"'Project Overview'!$AD$197","v":0},{"$f":"'Project Overview'!$AJ$197","v":0},{"$f":"'Project Overview'!$B$198","v":0},{"$f":"'Project Overview'!$P$198","v":0},{"$f":"'Project Overview'!$R$198","v":0},{"$f":"'Project Overview'!$W$198","v":0},{"$f":"'Project Overview'!$AA$198","v":0},{"$f":"'Project Overview'!$AD$198","v":0},{"$f":"'Project Overview'!$AJ$198","v":0},{"$f":"'Project Overview'!$B$199","v":0},{"$f":"'Project Overview'!$P$199","v":0},{"$f":"'Project Overview'!$R$199","v":0},{"$f":"'Project Overview'!$W$199","v":0},{"$f":"'Project Overview'!$AA$199","v":0},{"$f":"'Project Overview'!$AD$199","v":0},{"$f":"'Project Overview'!$AJ$199","v":0},{"$f":"Taxcredit","v":0},{"$f":"'Project Overview'!$E$202","v":0},{"$f":"'Project Overview'!T202","v":0},{"$f":"'Project Overview'!$AF$202","v":0},{"$f":"'Project Overview'!$E$203","v":0},{"$f":"'Project Overview'!$T$203","v":0},{"$f":"'Project Overview'!$AF$203","v":0},{"$f":"vmScatteredSite","v":0},{"$f":"'Project Overview'!$B$210","v":0},{"$f":"'Project Overview'!$T$210","v":0},{"$f":"'Project Overview'!AE210","v":0},{"$f":"'Project Overview'!$B$211","v":0},{"$f":"'Project Overview'!$T$211","v":0},{"$f":"'Project Overview'!$AE$211","v":0},{"$f":"'Project Overview'!$B$212","v":0},{"$f":"'Project Overview'!$T$212","v":0},{"$f":"'Project Overview'!$AE$212","v":0},{"$f":"'Project Overview'!$B$213","v":0},{"$f":"'Project Overview'!$T$213","v":0},{"$f":"'Project Overview'!$AE$213","v":0},{"$f":"'Project Overview'!$B$214","v":0},{"$f":"'Project Overview'!$T$214","v":0},{"$f":"'Project Overview'!$AE$214","v":0},{"$f":"'Project Overview'!$H$216","v":0},{"$f":"'Project Overview'!$L$216","v":0},{"$f":"'Project Overview'!$AG$216","v":0},{"$f":"'Project Overview'!$G$220","v":0},{"$f":"'Project Overview'!$P$220","v":0},{"$f":"'Project Overview'!$W$220","v":0},{"$f":"'Project Overview'!$AG$220","v":0},{"$f":"'Project Overview'!$J$222","v":0},{"$f":"vmTribalEntity","v":0},{"$f":"vmIndianCountry","v":0},{"$f":"'Project Overview'!$I$343","v":0},{"$f":"'Project Overview'!$R$343","v":0},{"$f":"'Project Overview'!$AD$343","v":0},{"$f":"'Project Overview'!$Z$343","v":0},{"$f":"vmAHDCP","v":0},{"$f":"'Project Overview'!$AL$378","v":0},{"$f":"'Contact List'!$B$5","v":"Applicant #1"},{"$f":"'Contact List'!$C$5","v":""},{"$f":"'Contact List'!$D$5","v":""},{"$f":"'Contact List'!$E$5","v":""},{"$f":"'Contact List'!$F$5","v":0},{"$f":"'Contact List'!$G$5","v":0},{"$f":"'Contact List'!$H$5","v":0},{"$f":"'Contact List'!$I$5","v":0},{"$f":"'Contact List'!$J$5","v":0},{"$f":"'Contact List'!$K$5","v":0},{"$f":"'Contact List'!$L$5","v":0},{"$f":"'Contact List'!$M$5","v":0},{"$f":"'Contact List'!$N$5","v":0},{"$f":"'Contact List'!$O$5","v":0},{"$f":"'Contact List'!$P$5","v":0},{"$f":"'Contact List'!$Q$5","v":0},{"$f":"'Contact List'!$R$5","v":0},{"$f":"'Contact List'!$S$5","v":0},{"$f":"'Contact List'!$T$5","v":0},{"$f":"'Contact List'!$U$5","v":0},{"$f":"'Contact List'!B6","v":"Applicant #2"},{"$f":"'Contact List'!C6","v":""},{"$f":"'Contact List'!D6","v":""},{"$f":"'Contact List'!E6","v":""},{"$f":"'Contact List'!F6","v":0},{"$f":"'Contact List'!G6","v":0},{"$f":"'Contact List'!H6","v":0},{"$f":"'Contact List'!I6","v":0},{"$f":"'Contact List'!J6","v":0},{"$f":"'Contact List'!K6","v":0},{"$f":"'Contact List'!L6","v":0},{"$f":"'Contact List'!M6","v":0},{"$f":"'Contact List'!N6","v":0},{"$f":"'Contact List'!O6","v":0},{"$f":"'Contact List'!P6","v":0},{"$f":"'Contact List'!Q6","v":0},{"$f":"'Contact List'!R6","v":0},{"$f":"'Contact List'!S6","v":0},{"$f":"'Contact List'!T6","v":0},{"$f":"'Contact List'!U6","v":0},{"$f":"'Contact List'!B7","v":"Applicant #3"},{"$f":"'Contact List'!C7","v":""},{"$f":"'Contact List'!D7","v":""},{"$f":"'Contact List'!E7","v":""},{"$f":"'Contact List'!F7","v":0},{"$f":"'Contact List'!G7","v":0},{"$f":"'Contact List'!H7","v":0},{"$f":"'Contact List'!I7","v":0},{"$f":"'Contact List'!J7","v":0},{"$f":"'Contact List'!K7","v":0},{"$f":"'Contact List'!L7","v":0},{"$f":"'Contact List'!M7","v":0},{"$f":"'Contact List'!N7","v":0},{"$f":"'Contact List'!O7","v":0},{"$f":"'Contact List'!P7","v":0},{"$f":"'Contact List'!Q7","v":0},{"$f":"'Contact List'!R7","v":0},{"$f":"'Contact List'!S7","v":0},{"$f":"'Contact List'!T7","v":0},{"$f":"'Contact List'!U7","v":0},{"$f":"'Contact List'!B8","v":"Applicant #4"},{"$f":"'Contact List'!C8","v":""},{"$f":"'Contact List'!D8","v":""},{"$f":"'Contact List'!E8","v":""},{"$f":"'Contact List'!F8","v":0},{"$f":"'Contact List'!G8","v":0},{"$f":"'Contact List'!H8","v":0},{"$f":"'Contact List'!I8","v":0},{"$f":"'Contact List'!J8","v":0},{"$f":"'Contact List'!K8","v":0},{"$f":"'Contact List'!L8","v":0},{"$f":"'Contact List'!M8","v":0},{"$f":"'Contact List'!N8","v":0},{"$f":"'Contact List'!O8","v":0},{"$f":"'Contact List'!P8","v":0},{"$f":"'Contact List'!Q8","v":0},{"$f":"'Contact List'!R8","v":0},{"$f":"'Contact List'!S8","v":0},{"$f":"'Contact List'!T8","v":0},{"$f":"'Contact List'!U8","v":0},{"$f":"'Contact List'!B9","v":"Owner / Borrower Entity"},{"$f":"'Contact List'!C9","v":""},{"$f":"'Contact List'!D9","v":0},{"$f":"'Contact List'!E9","v":0},{"$f":"'Contact List'!F9","v":0},{"$f":"'Contact List'!G9","v":0},{"$f":"'Contact List'!H9","v":0},{"$f":"'Contact List'!I9","v":0},{"$f":"'Contact List'!J9","v":0},{"$f":"'Contact List'!K9","v":0},{"$f":"'Contact List'!L9","v":0},{"$f":"'Contact List'!M9","v":0},{"$f":"'Contact List'!N9","v":0},{"$f":"'Contact List'!O9","v":0},{"$f":"'Contact List'!P9","v":0},{"$f":"'Contact List'!Q9","v":0},{"$f":"'Contact List'!R9","v":0},{"$f":"'Contact List'!S9","v":0},{"$f":"'Contact List'!T9","v":0},{"$f":"'Contact List'!U9","v":0},{"$f":"'Contact List'!B10","v":"Managing General Partner"},{"$f":"'Contact List'!C10","v":""},{"$f":"'Contact List'!D10","v":0},{"$f":"'Contact List'!E10","v":0},{"$f":"'Contact List'!F10","v":0},{"$f":"'Contact List'!G10","v":0},{"$f":"'Contact List'!H10","v":0},{"$f":"'Contact List'!I10","v":0},{"$f":"'Contact List'!J10","v":0},{"$f":"'Contact List'!K10","v":0},{"$f":"'Contact List'!L10","v":0},{"$f":"'Contact List'!M10","v":0},{"$f":"'Contact List'!N10","v":0},{"$f":"'Contact List'!O10","v":0},{"$f":"'Contact List'!P10","v":0},{"$f":"'Contact List'!Q10","v":0},{"$f":"'Contact List'!R10","v":0},{"$f":"'Contact List'!S10","v":0},{"$f":"'Contact List'!T10","v":0},{"$f":"'Contact List'!U10","v":0},{"$f":"'Contact List'!B11","v":"Administrative GP #1"},{"$f":"'Contact List'!C11","v":""},{"$f":"'Contact List'!D11","v":0},{"$f":"'Contact List'!E11","v":0},{"$f":"'Contact List'!F11","v":0},{"$f":"'Contact List'!G11","v":0},{"$f":"'Contact List'!H11","v":0},{"$f":"'Contact List'!I11","v":0},{"$f":"'Contact List'!J11","v":0},{"$f":"'Contact List'!K11","v":0},{"$f":"'Contact List'!L11","v":0},{"$f":"'Contact List'!M11","v":0},{"$f":"'Contact List'!N11","v":0},{"$f":"'Contact List'!O11","v":0},{"$f":"'Contact List'!P11","v":0},{"$f":"'Contact List'!Q11","v":0},{"$f":"'Contact List'!R11","v":0},{"$f":"'Contact List'!S11","v":0},{"$f":"'Contact List'!T11","v":0},{"$f":"'Contact List'!U11","v":0},{"$f":"'Contact List'!B12","v":"Administrative GP #2"},{"$f":"'Contact List'!C12","v":""},{"$f":"'Contact List'!D12","v":0},{"$f":"'Contact List'!E12","v":0},{"$f":"'Contact List'!F12","v":0},{"$f":"'Contact List'!G12","v":0},{"$f":"'Contact List'!H12","v":0},{"$f":"'Contact List'!I12","v":0},{"$f":"'Contact List'!J12","v":0},{"$f":"'Contact List'!K12","v":0},{"$f":"'Contact List'!L12","v":0},{"$f":"'Contact List'!M12","v":0},{"$f":"'Contact List'!N12","v":0},{"$f":"'Contact List'!O12","v":0},{"$f":"'Contact List'!P12","v":0},{"$f":"'Contact List'!Q12","v":0},{"$f":"'Contact List'!R12","v":0},{"$f":"'Contact List'!S12","v":0},{"$f":"'Contact List'!T12","v":0},{"$f":"'Contact List'!U12","v":0},{"$f":"'Contact List'!B13","v":"Manager of LLC"},{"$f":"'Contact List'!C13","v":""},{"$f":"'Contact List'!D13","v":0},{"$f":"'Contact List'!E13","v":0},{"$f":"'Contact List'!F13","v":0},{"$f":"'Contact List'!G13","v":0},{"$f":"'Contact List'!H13","v":0},{"$f":"'Contact List'!I13","v":0},{"$f":"'Contact List'!J13","v":0},{"$f":"'Contact List'!K13","v":0},{"$f":"'Contact List'!L13","v":0},{"$f":"'Contact List'!M13","v":0},{"$f":"'Contact List'!N13","v":0},{"$f":"'Contact List'!O13","v":0},{"$f":"'Contact List'!P13","v":0},{"$f":"'Contact List'!Q13","v":0},{"$f":"'Contact List'!R13","v":0},{"$f":"'Contact List'!S13","v":0},{"$f":"'Contact List'!T13","v":0},{"$f":"'Contact List'!U13","v":0},{"$f":"'Contact List'!B14","v":"Transportation Infrastructure Partner for STI"},{"$f":"'Contact List'!C14","v":0},{"$f":"'Contact List'!D14","v":0},{"$f":"'Contact List'!E14","v":0},{"$f":"'Contact List'!F14","v":0},{"$f":"'Contact List'!G14","v":0},{"$f":"'Contact List'!H14","v":0},{"$f":"'Contact List'!I14","v":0},{"$f":"'Contact List'!J14","v":0},{"$f":"'Contact List'!K14","v":0},{"$f":"'Contact List'!L14","v":0},{"$f":"'Contact List'!M14","v":0},{"$f":"'Contact List'!N14","v":0},{"$f":"'Contact List'!O14","v":0},{"$f":"'Contact List'!P14","v":0},{"$f":"'Contact List'!Q14","v":0},{"$f":"'Contact List'!R14","v":0},{"$f":"'Contact List'!S14","v":0},{"$f":"'Contact List'!T14","v":0},{"$f":"'Contact List'!U14","v":0},{"$f":"'Contact List'!B16","v":"Property Management Agent"},{"$f":"'Contact List'!C16","v":0},{"$f":"'Contact List'!D16","v":0},{"$f":"'Contact List'!E16","v":0},{"$f":"'Contact List'!F16","v":0},{"$f":"'Contact List'!G16","v":0},{"$f":"'Contact List'!H16","v":0},{"$f":"'Contact List'!I16","v":0},{"$f":"'Contact List'!J16","v":0},{"$f":"'Contact List'!K16","v":0},{"$f":"'Contact List'!L16","v":0},{"$f":"'Contact List'!M16","v":0},{"$f":"'Contact List'!N16","v":0},{"$f":"'Contact List'!O16","v":0},{"$f":"'Contact List'!P16","v":0},{"$f":"'Contact List'!Q16","v":0},{"$f":"'Contact List'!R16","v":0},{"$f":"'Contact List'!S16","v":0},{"$f":"'Contact List'!T16","v":0},{"$f":"'Contact List'!U16","v":0},{"$f":"'Contact List'!B17","v":"Financial Consultant"},{"$f":"'Contact List'!C17","v":0},{"$f":"'Contact List'!D17","v":0},{"$f":"'Contact List'!E17","v":0},{"$f":"'Contact List'!F17","v":0},{"$f":"'Contact List'!G17","v":0},{"$f":"'Contact List'!H17","v":0},{"$f":"'Contact List'!I17","v":0},{"$f":"'Contact List'!J17","v":0},{"$f":"'Contact List'!K17","v":0},{"$f":"'Contact List'!L17","v":0},{"$f":"'Contact List'!M17","v":0},{"$f":"'Contact List'!N17","v":0},{"$f":"'Contact List'!O17","v":0},{"$f":"'Contact List'!P17","v":0},{"$f":"'Contact List'!Q17","v":0},{"$f":"'Contact List'!R17","v":0},{"$f":"'Contact List'!S17","v":0},{"$f":"'Contact List'!T17","v":0},{"$f":"'Contact List'!U17","v":0},{"$f":"'Contact List'!B18","v":"Lead (primary) Service Provider"},{"$f":"'Contact List'!C18","v":0},{"$f":"'Contact List'!D18","v":0},{"$f":"'Contact List'!E18","v":0},{"$f":"'Contact List'!F18","v":0},{"$f":"'Contact List'!G18","v":0},{"$f":"'Contact List'!H18","v":0},{"$f":"'Contact List'!I18","v":0},{"$f":"'Contact List'!J18","v":0},{"$f":"'Contact List'!K18","v":0},{"$f":"'Contact List'!L18","v":0},{"$f":"'Contact List'!M18","v":0},{"$f":"'Contact List'!N18","v":0},{"$f":"'Contact List'!O18","v":0},{"$f":"'Contact List'!P18","v":0},{"$f":"'Contact List'!Q18","v":0},{"$f":"'Contact List'!R18","v":0},{"$f":"'Contact List'!S18","v":0},{"$f":"'Contact List'!T18","v":0},{"$f":"'Contact List'!U18","v":0},{"$f":"'Contact List'!B19","v":"Borrower Legal Counsel"},{"$f":"'Contact List'!C19","v":0},{"$f":"'Contact List'!D19","v":0},{"$f":"'Contact List'!E19","v":0},{"$f":"'Contact List'!F19","v":0},{"$f":"'Contact List'!G19","v":0},{"$f":"'Contact List'!H19","v":0},{"$f":"'Contact List'!I19","v":0},{"$f":"'Contact List'!J19","v":0},{"$f":"'Contact List'!K19","v":0},{"$f":"'Contact List'!L19","v":0},{"$f":"'Contact List'!M19","v":0},{"$f":"'Contact List'!N19","v":0},{"$f":"'Contact List'!O19","v":0},{"$f":"'Contact List'!P19","v":0},{"$f":"'Contact List'!Q19","v":0},{"$f":"'Contact List'!R19","v":0},{"$f":"'Contact List'!S19","v":0},{"$f":"'Contact List'!T19","v":0},{"$f":"'Contact List'!U19","v":0},{"$f":"'Contact List'!B20","v":"General Contractor"},{"$f":"'Contact List'!C20","v":0},{"$f":"'Contact List'!D20","v":0},{"$f":"'Contact List'!E20","v":0},{"$f":"'Contact List'!F20","v":0},{"$f":"'Contact List'!G20","v":0},{"$f":"'Contact List'!H20","v":0},{"$f":"'Contact List'!I20","v":0},{"$f":"'Contact List'!J20","v":0},{"$f":"'Contact List'!K20","v":0},{"$f":"'Contact List'!L20","v":0},{"$f":"'Contact List'!M20","v":0},{"$f":"'Contact List'!N20","v":0},{"$f":"'Contact List'!O20","v":0},{"$f":"'Contact List'!P20","v":0},{"$f":"'Contact List'!Q20","v":0},{"$f":"'Contact List'!R20","v":0},{"$f":"'Contact List'!S20","v":0},{"$f":"'Contact List'!T20","v":0},{"$f":"'Contact List'!U20","v":0},{"$f":"'Contact List'!B21","v":"Architect"},{"$f":"'Contact List'!C21","v":0},{"$f":"'Contact List'!D21","v":0},{"$f":"'Contact List'!E21","v":0},{"$f":"'Contact List'!F21","v":0},{"$f":"'Contact List'!G21","v":0},{"$f":"'Contact List'!H21","v":0},{"$f":"'Contact List'!I21","v":0},{"$f":"'Contact List'!J21","v":0},{"$f":"'Contact List'!K21","v":0},{"$f":"'Contact List'!L21","v":0},{"$f":"'Contact List'!M21","v":0},{"$f":"'Contact List'!N21","v":0},{"$f":"'Contact List'!O21","v":0},{"$f":"'Contact List'!P21","v":0},{"$f":"'Contact List'!Q21","v":0},{"$f":"'Contact List'!R21","v":0},{"$f":"'Contact List'!S21","v":0},{"$f":"'Contact List'!T21","v":0},{"$f":"'Contact List'!U21","v":0},{"$f":"'Contact List'!B22","v":"Other (Specify)"},{"$f":"'Contact List'!C22","v":0},{"$f":"'Contact List'!D22","v":0},{"$f":"'Contact List'!E22","v":0},{"$f":"'Contact List'!F22","v":0},{"$f":"'Contact List'!G22","v":0},{"$f":"'Contact List'!H22","v":0},{"$f":"'Contact List'!I22","v":0},{"$f":"'Contact List'!J22","v":0},{"$f":"'Contact List'!K22","v":0},{"$f":"'Contact List'!L22","v":0},{"$f":"'Contact List'!M22","v":0},{"$f":"'Contact List'!N22","v":0},{"$f":"'Contact List'!O22","v":0},{"$f":"'Contact List'!P22","v":0},{"$f":"'Contact List'!Q22","v":0},{"$f":"'Contact List'!R22","v":0},{"$f":"'Contact List'!S22","v":0},{"$f":"'Contact List'!T22","v":0},{"$f":"'Contact List'!U22","v":0},{"$f":"'Contact List'!$B$28","v":0},{"$f":"'Contact List'!$C$28","v":0},{"$f":"'Contact List'!$B$29","v":0},{"$f":"'Contact List'!$C$29","v":0},{"$f":"'Contact List'!$B$30","v":0},{"$f":"'Contact List'!$C$30","v":0},{"$f":"'Contact List'!$D$28","v":0},{"$f":"'Contact List'!$E$28","v":0},{"$f":"'Contact List'!$D$29","v":0},{"$f":"'Contact List'!$E$29","v":0},{"$f":"'Contact List'!$D$30","v":0},{"$f":"'Contact List'!$E$30","v":0},{"$f":"'Contact List'!$F$28","v":0},{"$f":"'Contact List'!$G$28","v":0},{"$f":"'Contact List'!$F$29","v":0},{"$f":"'Contact List'!$G$29","v":0},{"$f":"'Contact List'!$F$30","v":0},{"$f":"'Contact List'!$G$30","v":0},{"$f":"'Max Funds & Unit Mix'!$B$7","v":0},{"$f":"'Max Funds & Unit Mix'!$C$7","v":0},{"$f":"'Max Funds & Unit Mix'!$D$7","v":0},{"$f":"'Max Funds & Unit Mix'!$E$7","v":0},{"$f":"'Max Funds & Unit Mix'!$F$7","v":""},{"$f":"'Max Funds & Unit Mix'!$G$7","v":0},{"$f":"'Max Funds & Unit Mix'!$H$7","v":0},{"$f":"'Max Funds & Unit Mix'!$I$7","v":0},{"$f":"'Max Funds & Unit Mix'!$J$7","v":0},{"$f":"'Max Funds & Unit Mix'!$K$7","v":0},{"$f":"'Max Funds & Unit Mix'!$L$7","v":""},{"$f":"'Max Funds & Unit Mix'!$M$7","v":0},{"$f":"'Max Funds & Unit Mix'!$N$7","v":0},{"$f":"'Max Funds & Unit Mix'!$O$7","v":0},{"$f":"'Max Funds & Unit Mix'!$P$7","v":0},{"$f":"'Max Funds & Unit Mix'!$Q$7","v":0},{"$f":"'Max Funds & Unit Mix'!$R$7","v":0},{"$f":"'Max Funds & Unit Mix'!$S$7","v":0},{"$f":"'Max Funds & Unit Mix'!$T$7","v":0},{"$f":"'Max Funds & Unit Mix'!$B$8","v":0},{"$f":"'Max Funds & Unit Mix'!$C$8","v":0},{"$f":"'Max Funds & Unit Mix'!$D$8","v":0},{"$f":"'Max Funds & Unit Mix'!$E$8","v":0},{"$f":"'Max Funds & Unit Mix'!$F$8","v":""},{"$f":"'Max Funds & Unit Mix'!$G$8","v":0},{"$f":"'Max Funds & Unit Mix'!$H$8","v":0},{"$f":"'Max Funds & Unit Mix'!$I$8","v":0},{"$f":"'Max Funds & Unit Mix'!$J$8","v":0},{"$f":"'Max Funds & Unit Mix'!$K$8","v":0},{"$f":"'Max Funds & Unit Mix'!$L$8","v":""},{"$f":"'Max Funds & Unit Mix'!$M$8","v":0},{"$f":"'Max Funds & Unit Mix'!$N$8","v":0},{"$f":"'Max Funds & Unit Mix'!$O$8","v":0},{"$f":"'Max Funds & Unit Mix'!$P$8","v":0},{"$f":"'Max Funds & Unit Mix'!$Q$8","v":0},{"$f":"'Max Funds & Unit Mix'!$R$8","v":0},{"$f":"'Max Funds & Unit Mix'!$S$8","v":0},{"$f":"'Max Funds & Unit Mix'!$T$8","v":0},{"$f":"'Max Funds & Unit Mix'!$B$9","v":0},{"$f":"'Max Funds & Unit Mix'!$C$9","v":0},{"$f":"'Max Funds & Unit Mix'!$D$9","v":0},{"$f":"'Max Funds & Unit Mix'!$E$9","v":0},{"$f":"'Max Funds & Unit Mix'!$F$9","v":""},{"$f":"'Max Funds & Unit Mix'!$G$9","v":0},{"$f":"'Max Funds & Unit Mix'!$H$9","v":0},{"$f":"'Max Funds & Unit Mix'!$I$9","v":0},{"$f":"'Max Funds & Unit Mix'!$J$9","v":0},{"$f":"'Max Funds & Unit Mix'!$K$9","v":0},{"$f":"'Max Funds & Unit Mix'!$L$9","v":""},{"$f":"'Max Funds & Unit Mix'!$M$9","v":0},{"$f":"'Max Funds & Unit Mix'!$N$9","v":0},{"$f":"'Max Funds & Unit Mix'!$O$9","v":0},{"$f":"'Max Funds & Unit Mix'!$P$9","v":0},{"$f":"'Max Funds & Unit Mix'!$Q$9","v":0},{"$f":"'Max Funds & Unit Mix'!$R$9","v":0},{"$f":"'Max Funds & Unit Mix'!$S$9","v":0},{"$f":"'Max Funds & Unit Mix'!$T$9","v":0},{"$f":"'Max Funds & Unit Mix'!$B$10","v":0},{"$f":"'Max Funds & Unit Mix'!$C$10","v":0},{"$f":"'Max Funds & Unit Mix'!$D$10","v":0},{"$f":"'Max Funds & Unit Mix'!$E$10","v":0},{"$f":"'Max Funds & Unit Mix'!$F$10","v":""},{"$f":"'Max Funds & Unit Mix'!$G$10","v":0},{"$f":"'Max Funds & Unit Mix'!$H$10","v":0},{"$f":"'Max Funds & Unit Mix'!$I$10","v":0},{"$f":"'Max Funds & Unit Mix'!$J$10","v":0},{"$f":"'Max Funds & Unit Mix'!$K$10","v":0},{"$f":"'Max Funds & Unit Mix'!$L$10","v":""},{"$f":"'Max Funds & Unit Mix'!$M$10","v":0},{"$f":"'Max Funds & Unit Mix'!$N$10","v":0},{"$f":"'Max Funds & Unit Mix'!$O$10","v":0},{"$f":"'Max Funds & Unit Mix'!$P$10","v":0},{"$f":"'Max Funds & Unit Mix'!$Q$10","v":0},{"$f":"'Max Funds & Unit Mix'!$R$10","v":0},{"$f":"'Max Funds & Unit Mix'!$S$10","v":0},{"$f":"'Max Funds & Unit Mix'!$T$10","v":0},{"$f":"'Max Funds & Unit Mix'!$B$11","v":0},{"$f":"'Max Funds & Unit Mix'!$C$11","v":0},{"$f":"'Max Funds & Unit Mix'!$D$11","v":0},{"$f":"'Max Funds & Unit Mix'!$E$11","v":0},{"$f":"'Max Funds & Unit Mix'!$F$11","v":""},{"$f":"'Max Funds & Unit Mix'!$G$11","v":0},{"$f":"'Max Funds & Unit Mix'!$H$11","v":0},{"$f":"'Max Funds & Unit Mix'!$I$11","v":0},{"$f":"'Max Funds & Unit Mix'!$J$11","v":0},{"$f":"'Max Funds & Unit Mix'!$K$11","v":0},{"$f":"'Max Funds & Unit Mix'!$L$11","v":""},{"$f":"'Max Funds & Unit Mix'!$M$11","v":0},{"$f":"'Max Funds & Unit Mix'!$N$11","v":0},{"$f":"'Max Funds & Unit Mix'!$O$11","v":0},{"$f":"'Max Funds & Unit Mix'!$P$11","v":0},{"$f":"'Max Funds & Unit Mix'!$Q$11","v":0},{"$f":"'Max Funds & Unit Mix'!$R$11","v":0},{"$f":"'Max Funds & Unit Mix'!$S$11","v":0},{"$f":"'Max Funds & Unit Mix'!$T$11","v":0},{"$f":"'Max Funds & Unit Mix'!$B$12","v":0},{"$f":"'Max Funds & Unit Mix'!$C$12","v":0},{"$f":"'Max Funds & Unit Mix'!$D$12","v":0},{"$f":"'Max Funds & Unit Mix'!$E$12","v":0},{"$f":"'Max Funds & Unit Mix'!$F$12","v":""},{"$f":"'Max Funds & Unit Mix'!$G$12","v":0},{"$f":"'Max Funds & Unit Mix'!$H$12","v":0},{"$f":"'Max Funds & Unit Mix'!$I$12","v":0},{"$f":"'Max Funds & Unit Mix'!$J$12","v":0},{"$f":"'Max Funds & Unit Mix'!$K$12","v":0},{"$f":"'Max Funds & Unit Mix'!$L$12","v":""},{"$f":"'Max Funds & Unit Mix'!$M$12","v":0},{"$f":"'Max Funds & Unit Mix'!$N$12","v":0},{"$f":"'Max Funds & Unit Mix'!$O$12","v":0},{"$f":"'Max Funds & Unit Mix'!$P$12","v":0},{"$f":"'Max Funds & Unit Mix'!$Q$12","v":0},{"$f":"'Max Funds & Unit Mix'!$R$12","v":0},{"$f":"'Max Funds & Unit Mix'!$S$12","v":0},{"$f":"'Max Funds & Unit Mix'!$T$12","v":0},{"$f":"'Max Funds & Unit Mix'!$B$13","v":0},{"$f":"'Max Funds & Unit Mix'!$C$13","v":0},{"$f":"'Max Funds & Unit Mix'!$D$13","v":0},{"$f":"'Max Funds & Unit Mix'!$E$13","v":0},{"$f":"'Max Funds & Unit Mix'!$F$13","v":""},{"$f":"'Max Funds & Unit Mix'!$G$13","v":0},{"$f":"'Max Funds & Unit Mix'!$H$13","v":0},{"$f":"'Max Funds & Unit Mix'!$I$13","v":0},{"$f":"'Max Funds & Unit Mix'!$J$13","v":0},{"$f":"'Max Funds & Unit Mix'!$K$13","v":0},{"$f":"'Max Funds & Unit Mix'!$L$13","v":""},{"$f":"'Max Funds & Unit Mix'!$M$13","v":0},{"$f":"'Max Funds & Unit Mix'!$N$13","v":0},{"$f":"'Max Funds & Unit Mix'!$O$13","v":0},{"$f":"'Max Funds & Unit Mix'!$P$13","v":0},{"$f":"'Max Funds & Unit Mix'!$Q$13","v":0},{"$f":"'Max Funds & Unit Mix'!$R$13","v":0},{"$f":"'Max Funds & Unit Mix'!$S$13","v":0},{"$f":"'Max Funds & Unit Mix'!$T$13","v":0},{"$f":"'Max Funds & Unit Mix'!$B$14","v":0},{"$f":"'Max Funds & Unit Mix'!$C$14","v":0},{"$f":"'Max Funds & Unit Mix'!$D$14","v":0},{"$f":"'Max Funds & Unit Mix'!$E$14","v":0},{"$f":"'Max Funds & Unit Mix'!$F$14","v":""},{"$f":"'Max Funds & Unit Mix'!$G$14","v":0},{"$f":"'Max Funds & Unit Mix'!$H$14","v":0},{"$f":"'Max Funds & Unit Mix'!$I$14","v":0},{"$f":"'Max Funds & Unit Mix'!$J$14","v":0},{"$f":"'Max Funds & Unit Mix'!$K$14","v":0},{"$f":"'Max Funds & Unit Mix'!$L$14","v":""},{"$f":"'Max Funds & Unit Mix'!$M$14","v":0},{"$f":"'Max Funds & Unit Mix'!$N$14","v":0},{"$f":"'Max Funds & Unit Mix'!$O$14","v":0},{"$f":"'Max Funds & Unit Mix'!$P$14","v":0},{"$f":"'Max Funds & Unit Mix'!$Q$14","v":0},{"$f":"'Max Funds & Unit Mix'!$R$14","v":0},{"$f":"'Max Funds & Unit Mix'!$S$14","v":0},{"$f":"'Max Funds & Unit Mix'!$T$14","v":0},{"$f":"'Max Funds & Unit Mix'!$B$15","v":0},{"$f":"'Max Funds & Unit Mix'!$C$15","v":0},{"$f":"'Max Funds & Unit Mix'!$D$15","v":0},{"$f":"'Max Funds & Unit Mix'!$E$15","v":0},{"$f":"'Max Funds & Unit Mix'!$F$15","v":""},{"$f":"'Max Funds & Unit Mix'!$G$15","v":0},{"$f":"'Max Funds & Unit Mix'!$H$15","v":0},{"$f":"'Max Funds & Unit Mix'!$I$15","v":0},{"$f":"'Max Funds & Unit Mix'!$J$15","v":0},{"$f":"'Max Funds & Unit Mix'!$K$15","v":0},{"$f":"'Max Funds & Unit Mix'!$L$15","v":""},{"$f":"'Max Funds & Unit Mix'!$M$15","v":0},{"$f":"'Max Funds & Unit Mix'!$N$15","v":0},{"$f":"'Max Funds & Unit Mix'!$O$15","v":0},{"$f":"'Max Funds & Unit Mix'!$P$15","v":0},{"$f":"'Max Funds & Unit Mix'!$Q$15","v":0},{"$f":"'Max Funds & Unit Mix'!$R$15","v":0},{"$f":"'Max Funds & Unit Mix'!$S$15","v":0},{"$f":"'Max Funds & Unit Mix'!$T$15","v":0},{"$f":"'Max Funds & Unit Mix'!$B$16","v":0},{"$f":"'Max Funds & Unit Mix'!$C$16","v":0},{"$f":"'Max Funds & Unit Mix'!$D$16","v":0},{"$f":"'Max Funds & Unit Mix'!$E$16","v":0},{"$f":"'Max Funds & Unit Mix'!$F$16","v":""},{"$f":"'Max Funds & Unit Mix'!$G$16","v":0},{"$f":"'Max Funds & Unit Mix'!$H$16","v":0},{"$f":"'Max Funds & Unit Mix'!$I$16","v":0},{"$f":"'Max Funds & Unit Mix'!$J$16","v":0},{"$f":"'Max Funds & Unit Mix'!$K$16","v":0},{"$f":"'Max Funds & Unit Mix'!$L$16","v":""},{"$f":"'Max Funds & Unit Mix'!$M$16","v":0},{"$f":"'Max Funds & Unit Mix'!$N$16","v":0},{"$f":"'Max Funds & Unit Mix'!$O$16","v":0},{"$f":"'Max Funds & Unit Mix'!$P$16","v":0},{"$f":"'Max Funds & Unit Mix'!$Q$16","v":0},{"$f":"'Max Funds & Unit Mix'!$R$16","v":0},{"$f":"'Max Funds & Unit Mix'!$S$16","v":0},{"$f":"'Max Funds & Unit Mix'!$T$16","v":0},{"$f":"'Max Funds & Unit Mix'!$B$17","v":0},{"$f":"'Max Funds & Unit Mix'!$C$17","v":0},{"$f":"'Max Funds & Unit Mix'!$D$17","v":0},{"$f":"'Max Funds & Unit Mix'!$E$17","v":0},{"$f":"'Max Funds & Unit Mix'!$F$17","v":""},{"$f":"'Max Funds & Unit Mix'!$G$17","v":0},{"$f":"'Max Funds & Unit Mix'!$H$17","v":0},{"$f":"'Max Funds & Unit Mix'!$I$17","v":0},{"$f":"'Max Funds & Unit Mix'!$J$17","v":0},{"$f":"'Max Funds & Unit Mix'!$K$17","v":0},{"$f":"'Max Funds & Unit Mix'!$L$17","v":""},{"$f":"'Max Funds & Unit Mix'!$M$17","v":0},{"$f":"'Max Funds & Unit Mix'!$N$17","v":0},{"$f":"'Max Funds & Unit Mix'!$O$17","v":0},{"$f":"'Max Funds & Unit Mix'!$P$17","v":0},{"$f":"'Max Funds & Unit Mix'!$Q$17","v":0},{"$f":"'Max Funds & Unit Mix'!$R$17","v":0},{"$f":"'Max Funds & Unit Mix'!$S$17","v":0},{"$f":"'Max Funds & Unit Mix'!$T$17","v":0},{"$f":"'Max Funds & Unit Mix'!$B$18","v":0},{"$f":"'Max Funds & Unit Mix'!$C$18","v":0},{"$f":"'Max Funds & Unit Mix'!$D$18","v":0},{"$f":"'Max Funds & Unit Mix'!$E$18","v":0},{"$f":"'Max Funds & Unit Mix'!$F$18","v":""},{"$f":"'Max Funds & Unit Mix'!$G$18","v":0},{"$f":"'Max Funds & Unit Mix'!$H$18","v":0},{"$f":"'Max Funds & Unit Mix'!$I$18","v":0},{"$f":"'Max Funds & Unit Mix'!$J$18","v":0},{"$f":"'Max Funds & Unit Mix'!$K$18","v":0},{"$f":"'Max Funds & Unit Mix'!$L$18","v":""},{"$f":"'Max Funds & Unit Mix'!$M$18","v":0},{"$f":"'Max Funds & Unit Mix'!$N$18","v":0},{"$f":"'Max Funds & Unit Mix'!$O$18","v":0},{"$f":"'Max Funds & Unit Mix'!$P$18","v":0},{"$f":"'Max Funds & Unit Mix'!$Q$18","v":0},{"$f":"'Max Funds & Unit Mix'!$R$18","v":0},{"$f":"'Max Funds & Unit Mix'!$S$18","v":0},{"$f":"'Max Funds & Unit Mix'!$T$18","v":0},{"$f":"'Max Funds & Unit Mix'!$B$19","v":0},{"$f":"'Max Funds & Unit Mix'!$C$19","v":0},{"$f":"'Max Funds & Unit Mix'!$D$19","v":0},{"$f":"'Max Funds & Unit Mix'!$E$19","v":0},{"$f":"'Max Funds & Unit Mix'!$F$19","v":""},{"$f":"'Max Funds & Unit Mix'!$G$19","v":0},{"$f":"'Max Funds & Unit Mix'!$H$19","v":0},{"$f":"'Max Funds & Unit Mix'!$I$19","v":0},{"$f":"'Max Funds & Unit Mix'!$J$19","v":0},{"$f":"'Max Funds & Unit Mix'!$K$19","v":0},{"$f":"'Max Funds & Unit Mix'!$L$19","v":""},{"$f":"'Max Funds & Unit Mix'!$M$19","v":0},{"$f":"'Max Funds & Unit Mix'!$N$19","v":0},{"$f":"'Max Funds & Unit Mix'!$O$19","v":0},{"$f":"'Max Funds & Unit Mix'!$P$19","v":0},{"$f":"'Max Funds & Unit Mix'!$Q$19","v":0},{"$f":"'Max Funds & Unit Mix'!$R$19","v":0},{"$f":"'Max Funds & Unit Mix'!$S$19","v":0},{"$f":"'Max Funds & Unit Mix'!$T$19","v":0},{"$f":"'Max Funds & Unit Mix'!$B$20","v":0},{"$f":"'Max Funds & Unit Mix'!$C$20","v":0},{"$f":"'Max Funds & Unit Mix'!$D$20","v":0},{"$f":"'Max Funds & Unit Mix'!$E$20","v":0},{"$f":"'Max Funds & Unit Mix'!$F$20","v":""},{"$f":"'Max Funds & Unit Mix'!$G$20","v":0},{"$f":"'Max Funds & Unit Mix'!$H$20","v":0},{"$f":"'Max Funds & Unit Mix'!$I$20","v":0},{"$f":"'Max Funds & Unit Mix'!$J$20","v":0},{"$f":"'Max Funds & Unit Mix'!$K$20","v":0},{"$f":"'Max Funds & Unit Mix'!$L$20","v":""},{"$f":"'Max Funds & Unit Mix'!$M$20","v":0},{"$f":"'Max Funds & Unit Mix'!$N$20","v":0},{"$f":"'Max Funds & Unit Mix'!$O$20","v":0},{"$f":"'Max Funds & Unit Mix'!$P$20","v":0},{"$f":"'Max Funds & Unit Mix'!$Q$20","v":0},{"$f":"'Max Funds & Unit Mix'!$R$20","v":0},{"$f":"'Max Funds & Unit Mix'!$S$20","v":0},{"$f":"'Max Funds & Unit Mix'!$T$20","v":0},{"$f":"'Max Funds & Unit Mix'!$B$21","v":0},{"$f":"'Max Funds & Unit Mix'!$C$21","v":0},{"$f":"'Max Funds & Unit Mix'!$D$21","v":0},{"$f":"'Max Funds & Unit Mix'!$E$21","v":0},{"$f":"'Max Funds & Unit Mix'!$F$21","v":""},{"$f":"'Max Funds & Unit Mix'!$G$21","v":0},{"$f":"'Max Funds & Unit Mix'!$H$21","v":0},{"$f":"'Max Funds & Unit Mix'!$I$21","v":0},{"$f":"'Max Funds & Unit Mix'!$J$21","v":0},{"$f":"'Max Funds & Unit Mix'!$K$21","v":0},{"$f":"'Max Funds & Unit Mix'!$L$21","v":""},{"$f":"'Max Funds & Unit Mix'!$M$21","v":0},{"$f":"'Max Funds & Unit Mix'!$N$21","v":0},{"$f":"'Max Funds & Unit Mix'!$O$21","v":0},{"$f":"'Max Funds & Unit Mix'!$P$21","v":0},{"$f":"'Max Funds & Unit Mix'!$Q$21","v":0},{"$f":"'Max Funds & Unit Mix'!$R$21","v":0},{"$f":"'Max Funds & Unit Mix'!$S$21","v":0},{"$f":"'Max Funds & Unit Mix'!$T$21","v":0},{"$f":"'Max Funds & Unit Mix'!$B$22","v":0},{"$f":"'Max Funds & Unit Mix'!$C$22","v":0},{"$f":"'Max Funds & Unit Mix'!$D$22","v":0},{"$f":"'Max Funds & Unit Mix'!$E$22","v":0},{"$f":"'Max Funds & Unit Mix'!$F$22","v":""},{"$f":"'Max Funds & Unit Mix'!$G$22","v":0},{"$f":"'Max Funds & Unit Mix'!$H$22","v":0},{"$f":"'Max Funds & Unit Mix'!$I$22","v":0},{"$f":"'Max Funds & Unit Mix'!$J$22","v":0},{"$f":"'Max Funds & Unit Mix'!$K$22","v":0},{"$f":"'Max Funds & Unit Mix'!$L$22","v":""},{"$f":"'Max Funds & Unit Mix'!$M$22","v":0},{"$f":"'Max Funds & Unit Mix'!$N$22","v":0},{"$f":"'Max Funds & Unit Mix'!$O$22","v":0},{"$f":"'Max Funds & Unit Mix'!$P$22","v":0},{"$f":"'Max Funds & Unit Mix'!$Q$22","v":0},{"$f":"'Max Funds & Unit Mix'!$R$22","v":0},{"$f":"'Max Funds & Unit Mix'!$S$22","v":0},{"$f":"'Max Funds & Unit Mix'!$T$22","v":0},{"$f":"'Max Funds & Unit Mix'!$B$23","v":0},{"$f":"'Max Funds & Unit Mix'!$C$23","v":0},{"$f":"'Max Funds & Unit Mix'!$D$23","v":0},{"$f":"'Max Funds & Unit Mix'!$E$23","v":0},{"$f":"'Max Funds & Unit Mix'!$F$23","v":""},{"$f":"'Max Funds & Unit Mix'!$G$23","v":0},{"$f":"'Max Funds & Unit Mix'!$H$23","v":0},{"$f":"'Max Funds & Unit Mix'!$I$23","v":0},{"$f":"'Max Funds & Unit Mix'!$J$23","v":0},{"$f":"'Max Funds & Unit Mix'!$K$23","v":0},{"$f":"'Max Funds & Unit Mix'!$L$23","v":""},{"$f":"'Max Funds & Unit Mix'!$M$23","v":0},{"$f":"'Max Funds & Unit Mix'!$N$23","v":0},{"$f":"'Max Funds & Unit Mix'!$O$23","v":0},{"$f":"'Max Funds & Unit Mix'!$P$23","v":0},{"$f":"'Max Funds & Unit Mix'!$Q$23","v":0},{"$f":"'Max Funds & Unit Mix'!$R$23","v":0},{"$f":"'Max Funds & Unit Mix'!$S$23","v":0},{"$f":"'Max Funds & Unit Mix'!$T$23","v":0},{"$f":"'Max Funds & Unit Mix'!$B$24","v":0},{"$f":"'Max Funds & Unit Mix'!$C$24","v":0},{"$f":"'Max Funds & Unit Mix'!$D$24","v":0},{"$f":"'Max Funds & Unit Mix'!$E$24","v":0},{"$f":"'Max Funds & Unit Mix'!$F$24","v":""},{"$f":"'Max Funds & Unit Mix'!$G$24","v":0},{"$f":"'Max Funds & Unit Mix'!$H$24","v":0},{"$f":"'Max Funds & Unit Mix'!$I$24","v":0},{"$f":"'Max Funds & Unit Mix'!$J$24","v":0},{"$f":"'Max Funds & Unit Mix'!$K$24","v":0},{"$f":"'Max Funds & Unit Mix'!$L$24","v":""},{"$f":"'Max Funds & Unit Mix'!$M$24","v":0},{"$f":"'Max Funds & Unit Mix'!$N$24","v":0},{"$f":"'Max Funds & Unit Mix'!$O$24","v":0},{"$f":"'Max Funds & Unit Mix'!$P$24","v":0},{"$f":"'Max Funds & Unit Mix'!$Q$24","v":0},{"$f":"'Max Funds & Unit Mix'!$R$24","v":0},{"$f":"'Max Funds & Unit Mix'!$S$24","v":0},{"$f":"'Max Funds & Unit Mix'!$T$24","v":0},{"$f":"'Max Funds & Unit Mix'!$B$25","v":0},{"$f":"'Max Funds & Unit Mix'!$C$25","v":0},{"$f":"'Max Funds & Unit Mix'!$D$25","v":0},{"$f":"'Max Funds & Unit Mix'!$E$25","v":0},{"$f":"'Max Funds & Unit Mix'!$F$25","v":""},{"$f":"'Max Funds & Unit Mix'!$G$25","v":0},{"$f":"'Max Funds & Unit Mix'!$H$25","v":0},{"$f":"'Max Funds & Unit Mix'!$I$25","v":0},{"$f":"'Max Funds & Unit Mix'!$J$25","v":0},{"$f":"'Max Funds & Unit Mix'!$K$25","v":0},{"$f":"'Max Funds & Unit Mix'!$L$25","v":""},{"$f":"'Max Funds & Unit Mix'!$M$25","v":0},{"$f":"'Max Funds & Unit Mix'!$N$25","v":0},{"$f":"'Max Funds & Unit Mix'!$O$25","v":0},{"$f":"'Max Funds & Unit Mix'!$P$25","v":0},{"$f":"'Max Funds & Unit Mix'!$Q$25","v":0},{"$f":"'Max Funds & Unit Mix'!$R$25","v":0},{"$f":"'Max Funds & Unit Mix'!$S$25","v":0},{"$f":"'Max Funds & Unit Mix'!$T$25","v":0},{"$f":"'Max Funds & Unit Mix'!$B$26","v":0},{"$f":"'Max Funds & Unit Mix'!$C$26","v":0},{"$f":"'Max Funds & Unit Mix'!$D$26","v":0},{"$f":"'Max Funds & Unit Mix'!$E$26","v":0},{"$f":"'Max Funds & Unit Mix'!$F$26","v":""},{"$f":"'Max Funds & Unit Mix'!$G$26","v":0},{"$f":"'Max Funds & Unit Mix'!$H$26","v":0},{"$f":"'Max Funds & Unit Mix'!$I$26","v":0},{"$f":"'Max Funds & Unit Mix'!$J$26","v":0},{"$f":"'Max Funds & Unit Mix'!$K$26","v":0},{"$f":"'Max Funds & Unit Mix'!$L$26","v":""},{"$f":"'Max Funds & Unit Mix'!$M$26","v":0},{"$f":"'Max Funds & Unit Mix'!$N$26","v":0},{"$f":"'Max Funds & Unit Mix'!$O$26","v":0},{"$f":"'Max Funds & Unit Mix'!$P$26","v":0},{"$f":"'Max Funds & Unit Mix'!$Q$26","v":0},{"$f":"'Max Funds & Unit Mix'!$R$26","v":0},{"$f":"'Max Funds & Unit Mix'!$S$26","v":0},{"$f":"'Max Funds & Unit Mix'!$T$26","v":0},{"$f":"TotalUnits","v":0},{"$f":"'Max Funds & Unit Mix'!F27","v":0},{"$f":"'Max Funds & Unit Mix'!G27","v":0},{"$f":"'Max Funds & Unit Mix'!H27","v":0},{"$f":"'Max Funds & Unit Mix'!I27","v":0},{"$f":"'Max Funds & Unit Mix'!J27","v":0},{"$f":"'Max Funds & Unit Mix'!K27","v":0},{"$f":"'Max Funds & Unit Mix'!L27","v":0},{"$f":"'Max Funds & Unit Mix'!M27","v":0},{"$f":"'Max Funds & Unit Mix'!N27","v":0},{"$f":"'Max Funds & Unit Mix'!O27","v":0},{"$f":"'Max Funds & Unit Mix'!P27","v":0},{"$f":"'Max Funds & Unit Mix'!Q27","v":0},{"$f":"'Max Funds & Unit Mix'!R27","v":0},{"$f":"'Max Funds & Unit Mix'!S27","v":0},{"$f":"'Max Funds & Unit Mix'!T27","v":0},{"$f":"'Max Funds & Unit Mix'!$E$30","v":0},{"$f":"'Max Funds & Unit Mix'!$I$30","v":0},{"$f":"'Max Funds & Unit Mix'!$L$30","v":0},{"$f":"'Max Funds & Unit Mix'!$O$30","v":0},{"$f":"'Max Funds & Unit Mix'!$G$32","v":false},{"$f":"'Max Funds & Unit Mix'!$F$53","v":0},{"$f":"'Max Funds & Unit Mix'!$K$53","v":0},{"$f":"'Max Funds & Unit Mix'!$P$53","v":false},{"$f":"'Dev Sources'!$H$2","v":0},{"$f":"'Dev Sources'!$I$2","v":0},{"$f":"'Dev Sources'!$J$2","v":0},{"$f":"'Dev Sources'!$C$5","v":"No"},{"$f":"'Dev Sources'!$D$5","v":"HRI"},{"$f":"'Dev Sources'!$E$5","v":"AHSC HRI Grant"},{"$f":"'Dev Sources'!$F$5","v":"State-HCD"},{"$f":"'Dev Sources'!$G$5","v":0},{"$f":"'Dev Sources'!$H$5","v":0},{"$f":"'Dev Sources'!$I$5","v":0},{"$f":"'Dev Sources'!$J$5","v":0},{"$f":"'Dev Sources'!$C$6","v":0},{"$f":"'Dev Sources'!$D$6","v":0},{"$f":"'Dev Sources'!$E$6","v":0},{"$f":"'Dev Sources'!$F$6","v":0},{"$f":"'Dev Sources'!$G$6","v":0},{"$f":"'Dev Sources'!$H$6","v":0},{"$f":"'Dev Sources'!$I$6","v":0},{"$f":"'Dev Sources'!$J$6","v":0},{"$f":"'Dev Sources'!$C$7","v":0},{"$f":"'Dev Sources'!$D$7","v":0},{"$f":"'Dev Sources'!$E$7","v":0},{"$f":"'Dev Sources'!$F$7","v":0},{"$f":"'Dev Sources'!$G$7","v":0},{"$f":"'Dev Sources'!$H$7","v":0},{"$f":"'Dev Sources'!$I$7","v":0},{"$f":"'Dev Sources'!$J$7","v":0},{"$f":"'Dev Sources'!$C$8","v":0},{"$f":"'Dev Sources'!$D$8","v":0},{"$f":"'Dev Sources'!$E$8","v":0},{"$f":"'Dev Sources'!$F$8","v":0},{"$f":"'Dev Sources'!$G$8","v":0},{"$f":"'Dev Sources'!$H$8","v":0},{"$f":"'Dev Sources'!$I$8","v":0},{"$f":"'Dev Sources'!$J$8","v":0},{"$f":"'Dev Sources'!$C$9","v":0},{"$f":"'Dev Sources'!$D$9","v":0},{"$f":"'Dev Sources'!$E$9","v":0},{"$f":"'Dev Sources'!$F$9","v":0},{"$f":"'Dev Sources'!$G$9","v":0},{"$f":"'Dev Sources'!$H$9","v":0},{"$f":"'Dev Sources'!$I$9","v":0},{"$f":"'Dev Sources'!$J$9","v":0},{"$f":"'Dev Sources'!$C$10","v":0},{"$f":"'Dev Sources'!$D$10","v":0},{"$f":"'Dev Sources'!$E$10","v":0},{"$f":"'Dev Sources'!$F$10","v":0},{"$f":"'Dev Sources'!$G$10","v":0},{"$f":"'Dev Sources'!$H$10","v":0},{"$f":"'Dev Sources'!$I$10","v":0},{"$f":"'Dev Sources'!$J$10","v":0},{"$f":"'Dev Sources'!$C$11","v":0},{"$f":"'Dev Sources'!$D$11","v":0},{"$f":"'Dev Sources'!$E$11","v":0},{"$f":"'Dev Sources'!$F$11","v":0},{"$f":"'Dev Sources'!$G$11","v":0},{"$f":"'Dev Sources'!$H$11","v":0},{"$f":"'Dev Sources'!$I$11","v":0},{"$f":"'Dev Sources'!$J$11","v":0},{"$f":"'Dev Sources'!$C$12","v":0},{"$f":"'Dev Sources'!$D$12","v":0},{"$f":"'Dev Sources'!$E$12","v":0},{"$f":"'Dev Sources'!$F$12","v":0},{"$f":"'Dev Sources'!$G$12","v":0},{"$f":"'Dev Sources'!$H$12","v":0},{"$f":"'Dev Sources'!$I$12","v":0},{"$f":"'Dev Sources'!$J$12","v":0},{"$f":"'Dev Sources'!$C$13","v":0},{"$f":"'Dev Sources'!$D$13","v":0},{"$f":"'Dev Sources'!$E$13","v":0},{"$f":"'Dev Sources'!$F$13","v":0},{"$f":"'Dev Sources'!$G$13","v":0},{"$f":"'Dev Sources'!$H$13","v":0},{"$f":"'Dev Sources'!$I$13","v":0},{"$f":"'Dev Sources'!$J$13","v":0},{"$f":"'Dev Sources'!$C$14","v":0},{"$f":"'Dev Sources'!$D$14","v":0},{"$f":"'Dev Sources'!$E$14","v":0},{"$f":"'Dev Sources'!$F$14","v":0},{"$f":"'Dev Sources'!$G$14","v":0},{"$f":"'Dev Sources'!$H$14","v":0},{"$f":"'Dev Sources'!$I$14","v":0},{"$f":"'Dev Sources'!$J$14","v":0},{"$f":"'Dev Sources'!$C$15","v":0},{"$f":"'Dev Sources'!$D$15","v":0},{"$f":"'Dev Sources'!$E$15","v":0},{"$f":"'Dev Sources'!$F$15","v":0},{"$f":"'Dev Sources'!$G$15","v":0},{"$f":"'Dev Sources'!$H$15","v":0},{"$f":"'Dev Sources'!$I$15","v":0},{"$f":"'Dev Sources'!$J$15","v":0},{"$f":"'Dev Sources'!$C$16","v":0},{"$f":"'Dev Sources'!$D$16","v":0},{"$f":"'Dev Sources'!$E$16","v":0},{"$f":"'Dev Sources'!$F$16","v":0},{"$f":"'Dev Sources'!$G$16","v":0},{"$f":"'Dev Sources'!$H$16","v":0},{"$f":"'Dev Sources'!$I$16","v":0},{"$f":"'Dev Sources'!$J$16","v":0},{"$f":"'Dev Sources'!$C$17","v":0},{"$f":"'Dev Sources'!$D$17","v":0},{"$f":"'Dev Sources'!$E$17","v":"Deferred Developer Fees"},{"$f":"'Dev Sources'!$F$17","v":0},{"$f":"'Dev Sources'!$G$17","v":0},{"$f":"'Dev Sources'!$H$17","v":0},{"$f":"'Dev Sources'!$I$17","v":0},{"$f":"'Dev Sources'!$J$17","v":0},{"$f":"'Dev Sources'!$C$18","v":"Yes"},{"$f":"'Dev Sources'!$D$18","v":"AHD"},{"$f":"'Dev Sources'!$E$18","v":"Other Deferred Costs"},{"$f":"'Dev Sources'!$F$18","v":0},{"$f":"'Dev Sources'!$G$18","v":0},{"$f":"'Dev Sources'!$H$18","v":0},{"$f":"'Dev Sources'!$I$18","v":0},{"$f":"'Dev Sources'!$J$18","v":0},{"$f":"'Dev Sources'!$C$19","v":0},{"$f":"'Dev Sources'!$D$19","v":0},{"$f":"'Dev Sources'!$E$19","v":"Developer Fee Contribution"},{"$f":"'Dev Sources'!$F$19","v":0},{"$f":"'Dev Sources'!$G$19","v":0},{"$f":"'Dev Sources'!$H$19","v":0},{"$f":"'Dev Sources'!$I$19","v":0},{"$f":"'Dev Sources'!$J$19","v":0},{"$f":"'Dev Sources'!$C$20","v":0},{"$f":"'Dev Sources'!$D$20","v":0},{"$f":"'Dev Sources'!$E$20","v":"GP Equity"},{"$f":"'Dev Sources'!$F$20","v":0},{"$f":"'Dev Sources'!$G$20","v":0},{"$f":"'Dev Sources'!$H$20","v":0},{"$f":"'Dev Sources'!$I$20","v":0},{"$f":"'Dev Sources'!$J$20","v":0},{"$f":"'Dev Sources'!$C$21","v":"Yes"},{"$f":"'Dev Sources'!$D$21","v":"AHD"},{"$f":"'Dev Sources'!$E$21","v":"Gross Tax Credit Equity"},{"$f":"'Dev Sources'!$F$21","v":0},{"$f":"'Dev Sources'!$G$21","v":0},{"$f":"'Dev Sources'!$H$21","v":0},{"$f":"'Dev Sources'!$I$21","v":0},{"$f":"'Dev Sources'!$J$21","v":0},{"$f":"'Dev Sources'!$H$3","v":0},{"$f":"'Dev Sources'!$I$3","v":0},{"$f":"'Dev Sources'!$J$3","v":0},{"$f":"'Dev Sources'!$C$23","v":"No"},{"$f":"'Dev Sources'!$D$23","v":"HRI"},{"$f":"'Dev Sources'!$E$23","v":"AHSC HRI Grant"},{"$f":"'Dev Sources'!$F$23","v":"State-HCD"},{"$f":"'Dev Sources'!$G$23","v":0},{"$f":"'Dev Sources'!$H$23","v":0},{"$f":"'Dev Sources'!$I$23","v":0},{"$f":"'Dev Sources'!$J$23","v":0},{"$f":"'Dev Sources'!$C$24","v":"No"},{"$f":"'Dev Sources'!$D$24","v":"AHD"},{"$f":"'Dev Sources'!$E$24","v":"AHSC AHD Funding"},{"$f":"'Dev Sources'!$F$24","v":"State-HCD"},{"$f":"'Dev Sources'!$G$24","v":0},{"$f":"'Dev Sources'!$H$24","v":0},{"$f":"'Dev Sources'!$I$24","v":0},{"$f":"'Dev Sources'!$J$24","v":0},{"$f":"'Dev Sources'!$C$25","v":0},{"$f":"'Dev Sources'!$D$25","v":0},{"$f":"'Dev Sources'!$E$25","v":"Tax-Exempt Bond Loan"},{"$f":"'Dev Sources'!$F$25","v":0},{"$f":"'Dev Sources'!$G$25","v":0},{"$f":"'Dev Sources'!$H$25","v":0},{"$f":"'Dev Sources'!$I$25","v":0},{"$f":"'Dev Sources'!$J$25","v":0},{"$f":"'Dev Sources'!$C$26","v":0},{"$f":"'Dev Sources'!$D$26","v":0},{"$f":"'Dev Sources'!$E$26","v":0},{"$f":"'Dev Sources'!$F$26","v":0},{"$f":"'Dev Sources'!$G$26","v":0},{"$f":"'Dev Sources'!$H$26","v":0},{"$f":"'Dev Sources'!$I$26","v":0},{"$f":"'Dev Sources'!$J$26","v":0},{"$f":"'Dev Sources'!$C$27","v":0},{"$f":"'Dev Sources'!$D$27","v":0},{"$f":"'Dev Sources'!$E$27","v":0},{"$f":"'Dev Sources'!$F$27","v":0},{"$f":"'Dev Sources'!$G$27","v":0},{"$f":"'Dev Sources'!$H$27","v":0},{"$f":"'Dev Sources'!$I$27","v":0},{"$f":"'Dev Sources'!$J$27","v":0},{"$f":"'Dev Sources'!$C$28","v":0},{"$f":"'Dev Sources'!$D$28","v":0},{"$f":"'Dev Sources'!$E$28","v":0},{"$f":"'Dev Sources'!$F$28","v":0},{"$f":"'Dev Sources'!$G$28","v":0},{"$f":"'Dev Sources'!$H$28","v":0},{"$f":"'Dev Sources'!$I$28","v":0},{"$f":"'Dev Sources'!$J$28","v":0},{"$f":"'Dev Sources'!$C$29","v":0},{"$f":"'Dev Sources'!$D$29","v":0},{"$f":"'Dev Sources'!$E$29","v":0},{"$f":"'Dev Sources'!$F$29","v":0},{"$f":"'Dev Sources'!$G$29","v":0},{"$f":"'Dev Sources'!$H$29","v":0},{"$f":"'Dev Sources'!$I$29","v":0},{"$f":"'Dev Sources'!$J$29","v":0},{"$f":"'Dev Sources'!$C$30","v":0},{"$f":"'Dev Sources'!$D$30","v":0},{"$f":"'Dev Sources'!$E$30","v":0},{"$f":"'Dev Sources'!$F$30","v":0},{"$f":"'Dev Sources'!$G$30","v":0},{"$f":"'Dev Sources'!$H$30","v":0},{"$f":"'Dev Sources'!$I$30","v":0},{"$f":"'Dev Sources'!$J$30","v":0},{"$f":"'Dev Sources'!$C$31","v":0},{"$f":"'Dev Sources'!$D$31","v":0},{"$f":"'Dev Sources'!$E$31","v":0},{"$f":"'Dev Sources'!$F$31","v":0},{"$f":"'Dev Sources'!$G$31","v":0},{"$f":"'Dev Sources'!$H$31","v":0},{"$f":"'Dev Sources'!$I$31","v":0},{"$f":"'Dev Sources'!$J$31","v":0},{"$f":"'Dev Sources'!$C$32","v":0},{"$f":"'Dev Sources'!$D$32","v":0},{"$f":"'Dev Sources'!$E$32","v":0},{"$f":"'Dev Sources'!$F$32","v":0},{"$f":"'Dev Sources'!$G$32","v":0},{"$f":"'Dev Sources'!$H$32","v":0},{"$f":"'Dev Sources'!$I$32","v":0},{"$f":"'Dev Sources'!$J$32","v":0},{"$f":"'Dev Sources'!$C$33","v":0},{"$f":"'Dev Sources'!$D$33","v":0},{"$f":"'Dev Sources'!$E$33","v":0},{"$f":"'Dev Sources'!$F$33","v":0},{"$f":"'Dev Sources'!$G$33","v":0},{"$f":"'Dev Sources'!$H$33","v":0},{"$f":"'Dev Sources'!$I$33","v":0},{"$f":"'Dev Sources'!$J$33","v":0},{"$f":"'Dev Sources'!$C$34","v":0},{"$f":"'Dev Sources'!$D$34","v":0},{"$f":"'Dev Sources'!$E$34","v":0},{"$f":"'Dev Sources'!$F$34","v":0},{"$f":"'Dev Sources'!$G$34","v":0},{"$f":"'Dev Sources'!$H$34","v":0},{"$f":"'Dev Sources'!$I$34","v":0},{"$f":"'Dev Sources'!$J$34","v":0},{"$f":"'Dev Sources'!$C$35","v":0},{"$f":"'Dev Sources'!$D$35","v":0},{"$f":"'Dev Sources'!$E$35","v":0},{"$f":"'Dev Sources'!$F$35","v":0},{"$f":"'Dev Sources'!$G$35","v":0},{"$f":"'Dev Sources'!$H$35","v":0},{"$f":"'Dev Sources'!$I$35","v":0},{"$f":"'Dev Sources'!$J$35","v":0},{"$f":"'Dev Sources'!$C$36","v":0},{"$f":"'Dev Sources'!$D$36","v":0},{"$f":"'Dev Sources'!$E$36","v":0},{"$f":"'Dev Sources'!$F$36","v":0},{"$f":"'Dev Sources'!$G$36","v":0},{"$f":"'Dev Sources'!$H$36","v":0},{"$f":"'Dev Sources'!$I$36","v":0},{"$f":"'Dev Sources'!$J$36","v":0},{"$f":"'Dev Sources'!$C$37","v":0},{"$f":"'Dev Sources'!$D$37","v":0},{"$f":"'Dev Sources'!$E$37","v":"Deferred Developer Fees"},{"$f":"'Dev Sources'!$F$37","v":0},{"$f":"'Dev Sources'!$G$37","v":0},{"$f":"'Dev Sources'!$H$37","v":0},{"$f":"'Dev Sources'!$I$37","v":0},{"$f":"'Dev Sources'!$J$37","v":0},{"$f":"'Dev Sources'!$C$38","v":0},{"$f":"'Dev Sources'!$D$38","v":0},{"$f":"'Dev Sources'!$E$38","v":"Developer Fee Contribution"},{"$f":"'Dev Sources'!$F$38","v":0},{"$f":"'Dev Sources'!$G$38","v":0},{"$f":"'Dev Sources'!$H$38","v":0},{"$f":"'Dev Sources'!$I$38","v":0},{"$f":"'Dev Sources'!$J$38","v":0},{"$f":"'Dev Sources'!$C$39","v":0},{"$f":"'Dev Sources'!$D$39","v":0},{"$f":"'Dev Sources'!$E$39","v":"GP Equity"},{"$f":"'Dev Sources'!$F$39","v":0},{"$f":"'Dev Sources'!$G$39","v":0},{"$f":"'Dev Sources'!$H$39","v":0},{"$f":"'Dev Sources'!$I$39","v":0},{"$f":"'Dev Sources'!$J$39","v":0},{"$f":"'Dev Sources'!$C$40","v":"Yes"},{"$f":"'Dev Sources'!$D$40","v":"AHD"},{"$f":"'Dev Sources'!$E$40","v":"Gross Tax Credit Equity"},{"$f":"'Dev Sources'!$F$40","v":0},{"$f":"'Dev Sources'!$G$40","v":0},{"$f":"'Dev Sources'!$H$40","v":0},{"$f":"'Dev Sources'!$I$40","v":0},{"$f":"'Dev Sources'!$J$40","v":0},{"$f":"'Cash Flow'!$D$61","v":0},{"$f":"'Threshold Requirements'!#REF!","v":{"$error":"#REF!"}},{"$f":"vmMPO","v":0},{"$f":"'Threshold Requirements'!$AL$10","v":0},{"$f":"vmTP","v":0},{"$f":"'Threshold Requirements'!$Y$144","v":true},{"$f":"vmSFH","v":0},{"$f":"'Threshold Requirements'!$AL$148","v":0},{"$f":"'Threshold Requirements'!$AK$150","v":false},{"$f":"'Threshold Requirements'!$AL$151","v":0},{"$f":"'Threshold Requirements'!$AL$12","v":0},{"$f":"vmLApprovals","v":0},{"$f":"'Threshold Requirements'!$AL$153","v":0},{"$f":"'Threshold Requirements'!$AL$156","v":0},{"$f":"'Threshold Requirements'!$AL$199","v":0},{"$f":"'Threshold Requirements'!$AL$244","v":0},{"$f":"'Threshold Requirements'!$AL$83","v":0},{"$f":"'Threshold Requirements'!$AL$87","v":0},{"$f":"'Threshold Requirements'!$AL$351","v":0},{"$f":"'Threshold Requirements'!$AL$91","v":0},{"$f":"vmRelocation","v":0},{"$f":"'Threshold Requirements'!$AL$353","v":0},{"$f":"vmHEAPR","v":{"$error":"#NAME?"}},{"$f":"'Threshold Requirements'!$AL$375","v":0},{"$f":"'Threshold Requirements'!$AL$101","v":0},{"$f":"'Threshold Requirements'!$AL$378","v":0},{"$f":"'Threshold Requirements'!$AL$379","v":0},{"$f":"vmDemolition1","v":0},{"$f":"'Threshold Requirements'!$AL$383","v":""},{"$f":"vmDemolition2","v":0},{"$f":"'Threshold Requirements'!$AL$385","v":""},{"$f":"vmDemolition3","v":0},{"$f":"'Threshold Requirements'!$AL$389","v":""},{"$f":"'Threshold Requirements'!$AL$392","v":0},{"$f":"vmHRIApproval","v":0},{"$f":"vmElectricPowered","v":0},{"$f":"vmSTIApproval","v":0},{"$f":"vmDemolition4","v":0},{"$f":"'Threshold Requirements'!$AL$132","v":""},{"$f":"vmDemolition5","v":0},{"$f":"'Threshold Requirements'!$AL$135","v":""},{"$f":"'Threshold Requirements'!$AL$399","v":0},{"$f":"'Threshold Requirements'!$AL$401","v":0},{"$f":"'Threshold Requirements'!$AL$403","v":0},{"$f":"'Threshold Requirements'!$AL$406","v":0},{"$f":"'Threshold Requirements'!#REF!","v":{"$error":"#REF!"}},{"$f":"'Quantitative Policy Scoring'!$AL$5","v":0},{"$f":"'Quantitative Policy Scoring'!$AL$7","v":0},{"$f":"'Quantitative Policy Scoring'!$AL$9","v":0},{"$f":"'Quantitative Policy Scoring'!$AL$23","v":0},{"$f":"'Quantitative Policy Scoring'!$AL$27","v":0},{"$f":"'Quantitative Policy Scoring'!$AL$39","v":0},{"$f":"'Quantitative Policy Scoring'!$AL$46","v":0},{"$f":"'Quantitative Policy Scoring'!$AL$55","v":0},{"$f":"'Quantitative Policy Scoring'!$AL$62","v":0},{"$f":"'Quantitative Policy Scoring'!$AL$68","v":0},{"$f":"'Quantitative Policy Scoring'!$AL$71","v":0},{"$f":"'Quantitative Policy Scoring'!$AL$73","v":0},{"$f":"'Quantitative Policy Scoring'!$AL$98","v":0},{"$f":"'Quantitative Policy Scoring'!$AL$112","v":0},{"$f":"'Quantitative Policy Scoring'!$AL$117","v":0},{"$f":"'Quantitative Policy Scoring'!$AL$122","v":0},{"$f":"'Quantitative Policy Scoring'!$AL$139","v":0},{"$f":"'Quantitative Policy Scoring'!$AL$155","v":0},{"$f":"'Quantitative Policy Scoring'!$AL$159","v":0},{"$f":"'Quantitative Policy Scoring'!$AL$164","v":0},{"$f":"'Quantitative Policy Scoring'!$AL$170","v":0},{"$f":"'Quantitative Policy Scoring'!$AL$175","v":0}]

{"sheet":"Visibility","index":1,"n_rows":193,"n_cols":11,"rows_kept":193,"cut":false,"hidden":true,"merged":[[1,8,2,9],[2,2,2,3],[2,4,2,5]]}
[]
[null,null,null,null,null,null,null,null,"Hide Based on Characteristic"]
[null,"ComponentVisibility","Hide Row(s)",null,"Hide Colum(s)",null,null,null,null,null,"IsPrograms"]
[null,"SheetName","StartRow","EndRow","StartCol","EndCol","Visible","Description","Force True","Force False","Program True"]
[null,"Max Funds & Unit Mix",null,null,null,null,{"$f":"OR(ComponentVisibility[[#This Row],[Force True]],AND(ComponentVisibility[[#This Row],[Program True]],NOT(ComponentVisibility[[#This Row],[Force False]])))","v":false},"Visible sheet if true",{"$f":"IF(OR(vmAHD=\"Yes\",vmHRI=\"Yes\"),TRUE,FALSE)","v":false},null,false]
[null,"Max Funds & Unit Mix",{"$f":"ROW('AHD-HRI S&U Budget'!A29)","v":29},{"$f":"ROW('AHD-HRI S&U Budget'!A31)","v":31},null,null,{"$f":"OR(ComponentVisibility[[#This Row],[Force True]],AND(ComponentVisibility[[#This Row],[Program True]],NOT(ComponentVisibility[[#This Row],[Force False]])))","v":false},"Visible row(s) if true",{"$f":"IF(vmHRI=\"Yes\",TRUE,FALSE)","v":false},null,false]
[null,"Max Funds & Unit Mix",{"$f":"ROW('AHD-HRI S&U Budget'!A32)","v":32},{"$f":"ROW('AHD-HRI S&U Budget'!A47)","v":47},null,null,{"$f":"OR(ComponentVisibility[[#This Row],[Force True]],AND(ComponentVisibility[[#This Row],[Program True]],NOT(ComponentVisibility[[#This Row],[Force False]])))","v":false},"Visible row(s) if true",{"$f":"IF(vmHousingType=\"Homeownership\",TRUE,IF(vmHousingType=\"Both\",TRUE,FALSE))","v":false},null,false]
[null,"Max Funds & Unit Mix",{"$f":"ROW('AHD-HRI S&U Budget'!A48)","v":48},{"$f":"ROW('AHD-HRI S&U Budget'!A51)","v":51},null,null,{"$f":"OR(ComponentVisibility[[#This Row],[Force True]],AND(ComponentVisibility[[#This Row],[Program True]],NOT(ComponentVisibility[[#This Row],[Force False]])))","v":false},"Visible row(s) if true",{"$f":"IF(vmOtherHCD=\"Yes\",TRUE,FALSE)","v":false},null,false]
[null,"Max Funds & Unit Mix",{"$f":"ROW('AHD-HRI S&U Budget'!A52)","v":52},{"$f":"ROW('AHD-HRI S&U Budget'!A78)","v":78},null,null,{"$f":"OR(ComponentVisibility[[#This Row],[Force True]],AND(ComponentVisibility[[#This Row],[Program True]],NOT(ComponentVisibility[[#This Row],[Force False]])))","v":false},"Visible row(s) if true",{"$f":"IF(vmHousingType=\"Homeownership\",FALSE,IF(vmAHD=\"Yes\",TRUE,FALSE))","v":false},null,false]
[null,"Max Funds & Unit Mix",null,null,{"$f":"COLUMN('Max Funds & Unit Mix'!W1)","v":23},{"$f":"COLUMN('Max Funds & Unit Mix'!AY1)","v":51},{"$f":"OR(ComponentVisibility[[#This Row],[Force True]],AND(ComponentVisibility[[#This Row],[Program True]],NOT(ComponentVisibility[[#This Row],[Force False]])))","v":false},"Visible column(s) if true",{"$f":"IF(vmHousingType=\"Homeownership\",FALSE,IF(vmAHD=\"Yes\",TRUE,FALSE))","v":false},null,false]
[null,"Dev Sources",null,null,null,null,{"$f":"OR(ComponentVisibility[[#This Row],[Force True]],AND(ComponentVisibility[[#This Row],[Program True]],NOT(ComponentVisibility[[#This Row],[Force False]])))","v":false},"Visible sheet if true",false,null,false]
[null,"AHD Dev Budget",null,null,null,null,{"$f":"OR(ComponentVisibility[[#This Row],[Force True]],AND(ComponentVisibility[[#This Row],[Program True]],NOT(ComponentVisibility[[#This Row],[Force False]])))","v":false},"Visible sheet if true",false,null,false]
[null,"AHD-HRI S&U Budget",null,null,null,null,{"$f":"OR(ComponentVisibility[[#This Row],[Force True]],AND(ComponentVisibility[[#This Row],[Program True]],NOT(ComponentVisibility[[#This Row],[Force False]])))","v":false},"Visible sheet if true",false,null,false]
[null,"AHD-HRI S&U Budget",{"$f":"ROW('AHD-HRI S&U Budget'!A132)","v":132},{"$f":"ROW('AHD-HRI S&U Budget'!A236)","v":236},null,null,{"$f":"OR(ComponentVisibility[[#This Row],[Force True]],AND(ComponentVisibility[[#This Row],[Program True]],NOT(ComponentVisibility[[#This Row],[Force False]])))","v":false},"Visible row(s) if true",{"$f":"IF(vmHRI=\"Yes\",TRUE,FALSE)","v":false},null,false]
[null,"AHD-HRI S&U Budget",{"$f":"ROW('AHD-HRI S&U Budget'!A237)","v":237},{"$f":"ROW('AHD-HRI S&U Budget'!A237)","v":237},null,null,{"$f":"OR(ComponentVisibility[[#This Row],[Force True]],AND(ComponentVisibility[[#This Row],[Program True]],NOT(ComponentVisibility[[#This Row],[Force False]])))","v":false},"Visible row(s) if true",{"$f":"IF(vmHRI=\"Yes\",TRUE,FALSE)","v":false},null,false]
[null,"AHD-HRI S&U Budget",null,null,{"$f":"COLUMN('AHD-HRI S&U Budget'!D1)","v":4},{"$f":"COLUMN('AHD-HRI S&U Budget'!D1)","v":4},{"$f":"OR(ComponentVisibility[[#This Row],[Force True]],AND(ComponentVisibility[[#This Row],[Program True]],NOT(ComponentVisibility[[#This Row],[Force False]])))","v":false},"Visible column(s) if true",{"$f":"IF(vmHRI=\"Yes\",TRUE,FALSE)","v":false},null,false]
[null,"High-Cost Verification",null,null,null,null,{"$f":"OR(ComponentVisibility[[#This Row],[Force True]],AND(ComponentVisibility[[#This Row],[Program True]],NOT(ComponentVisibility[[#This Row],[Force False]])))","v":false},"Visible sheet if true",false,null,false]
[null,"Developer Fee",null,null,null,null,{"$f":"OR(ComponentVisibility[[#This Row],[Force True]],AND(ComponentVisibility[[#This Row],[Program True]],NOT(ComponentVisibility[[#This Row],[Force False]])))","v":false},"Visible sheet if true",false,null,false]
[null,"Operating",null,null,null,null,{"$f":"OR(ComponentVisibility[[#This Row],[Force True]],AND(ComponentVisibility[[#This Row],[Program True]],NOT(ComponentVisibility[[#This Row],[Force False]])))","v":false},"Visible sheet if true",false,null,false]
[null,"Cash Flow",null,null,null,null,{"$f":"OR(ComponentVisibility[[#This Row],[Force True]],AND(ComponentVisibility[[#This Row],[Program True]],NOT(ComponentVisibility[[#This Row],[Force False]])))","v":false},"Visible sheet if true",false,null,false]
[null,"STI S&U Budget",null,null,null,null,{"$f":"OR(ComponentVisibility[[#This Row],[Force True]],AND(ComponentVisibility[[#This Row],[Program True]],NOT(ComponentVisibility[[#This Row],[Force False]])))","v":false},"Visible sheet if true",{"$f":"IF(vmSTI=\"Yes\",TRUE,FALSE)","v":false},null,false]
[null,"STI S&U Budget",{"$f":"ROW('STI S&U Budget'!A8)","v":8},{"$f":"ROW('STI S&U Budget'!A74)","v":74},null,null,{"$f":"OR(ComponentVisibility[[#This Row],[Force True]],AND(ComponentVisibility[[#This Row],[Program True]],NOT(ComponentVisibility[[#This Row],[Force False]])))","v":false},"Visible sheet if true",{"$f":"IF(vmSTI=\"Yes\",TRUE,FALSE)","v":false},null,false]
[null,"STI S&U Budget",{"$f":"ROW('STI S&U Budget'!A75)","v":75},{"$f":"ROW('STI S&U Budget'!A141)","v":141},null,null,{"$f":"OR(ComponentVisibility[[#This Row],[Force True]],AND(ComponentVisibility[[#This Row],[Program True]],NOT(ComponentVisibility[[#This Row],[Force False]])))","v":false},"Visible sheet if true",{"$f":"IF(vmSTI2=\"Yes\",TRUE,FALSE)","v":false},null,false]
[null,"STI S&U Budget",{"$f":"ROW('STI S&U Budget'!A142)","v":142},{"$f":"ROW('STI S&U Budget'!A208)","v":208},null,null,{"$f":"OR(ComponentVisibility[[#This Row],[Force True]],AND(ComponentVisibility[[#This Row],[Program True]],NOT(ComponentVisibility[[#This Row],[Force False]])))","v":false},"Visible sheet if true",{"$f":"IF(vmSTI3=\"Yes\",TRUE,FALSE)","v":false},null,false]
[null,"TRA S&U Budget",null,null,null,null,{"$f":"OR(ComponentVisibility[[#This Row],[Force True]],AND(ComponentVisibility[[#This Row],[Program True]],NOT(ComponentVisibility[[#This Row],[Force False]])))","v":false},"Visible sheet if true",{"$f":"IF(vmTRA=\"Yes\",TRUE,FALSE)","v":false},null,false]
[null,"TRA S&U Budget",{"$f":"ROW('TRA S&U Budget'!A8)","v":8},{"$f":"ROW('TRA S&U Budget'!A82)","v":82},null,null,{"$f":"OR(ComponentVisibility[[#This Row],[Force True]],AND(ComponentVisibility[[#This Row],[Program True]],NOT(ComponentVisibility[[#This Row],[Force False]])))","v":false},"Visible row(s) if true",{"$f":"IF(vmTRA=\"Yes\",TRUE,FALSE)","v":false},null,false]
[null,"TRA S&U Budget",{"$f":"ROW('TRA S&U Budget'!A83)","v":83},{"$f":"ROW('TRA S&U Budget'!A157)","v":157},null,null,{"$f":"OR(ComponentVisibility[[#This Row],[Force True]],AND(ComponentVisibility[[#This Row],[Program True]],NOT(ComponentVisibility[[#This Row],[Force False]])))","v":false},"Visible row(s) if true",{"$f":"IF(vmTRA2=\"Yes\",TRUE,FALSE)","v":false},null,false]
[null,"TRA S&U Budget",{"$f":"ROW('TRA S&U Budget'!A158)","v":158},{"$f":"ROW('TRA S&U Budget'!A232)","v":232},null,null,{"$f":"OR(ComponentVisibility[[#This Row],[Force True]],AND(ComponentVisibility[[#This Row],[Program True]],NOT(ComponentVisibility[[#This Row],[Force False]])))","v":false},"Visible row(s) if true",{"$f":"IF(vmTRA3=\"Yes\",TRUE,FALSE)","v":false},null,false]
[null,"PGM S&U Budget",null,null,null,null,{"$f":"OR(ComponentVisibility[[#This Row],[Force True]],AND(ComponentVisibility[[#This Row],[Program True]],NOT(ComponentVisibility[[#This Row],[Force False]])))","v":false},"Visible sheet if true",{"$f":"IF(vmPGM=\"Yes\",TRUE,FALSE)","v":false},null,false]
[null,"PGM S&U Budget",{"$f":"ROW('PGM S&U Budget'!A8)","v":8},{"$f":"ROW('PGM S&U Budget'!A34)","v":34},null,null,{"$f":"OR(ComponentVisibility[[#This Row],[Force True]],AND(ComponentVisibility[[#This Row],[Program True]],NOT(ComponentVisibility[[#This Row],[Force False]])))","v":false},"Visible row(s) if true",{"$f":"IF(vmPGM=\"Yes\",TRUE,FALSE)","v":false},null,false]
[null,"PGM S&U Budget",{"$f":"ROW('PGM S&U Budget'!A35)","v":35},{"$f":"ROW('PGM S&U Budget'!A61)","v":61},null,null,{"$f":"OR(ComponentVisibility[[#This Row],[Force True]],AND(ComponentVisibility[[#This Row],[Program True]],NOT(ComponentVisibility[[#This Row],[Force False]])))","v":false},"Visible row(s) if true",{"$f":"IF(vmPGM2=\"Yes\",TRUE,FALSE)","v":false},null,false]
[null,"PGM S&U Budget",{"$f":"ROW('PGM S&U Budget'!A62)","v":62},{"$f":"ROW('PGM S&U Budget'!A88)","v":88},null,null,{"$f":"OR(ComponentVisibility[[#This Row],[Force True]],AND(ComponentVisibility[[#This Row],[Program True]],NOT(ComponentVisibility[[#This Row],[Force False]])))","v":false},"Visible row(s) if true",{"$f":"IF(vmPGM3=\"Yes\",TRUE,FALSE)","v":false},null,false]
[null,"PGM S&U Budget",{"$f":"ROW('PGM S&U Budget'!A89)","v":89},{"$f":"ROW('PGM S&U Budget'!A115)","v":115},null,null,{"$f":"OR(ComponentVisibility[[#This Row],[Force True]],AND(ComponentVisibility[[#This Row],[Program True]],NOT(ComponentVisibility[[#This Row],[Force False]])))","v":false},"Visible row(s) if true",{"$f":"IF(vmPGM4=\"Yes\",TRUE,FALSE)","v":false},null,false]
[null,"PGM S&U Budget",{"$f":"ROW('PGM S&U Budget'!A116)","v":116},{"$f":"ROW('PGM S&U Budget'!A142)","v":142},null,null,{"$f":"OR(ComponentVisibility[[#This Row],[Force True]],AND(ComponentVisibility[[#This Row],[Program True]],NOT(ComponentVisibility[[#This Row],[Force False]])))","v":false},"Visible row(s) if true",{"$f":"IF(vmPGM5=\"Yes\",TRUE,FALSE)","v":false},null,false]
[null,"PGM S&U Budget",{"$f":"ROW('PGM S&U Budget'!A143)","v":143},{"$f":"ROW('PGM S&U Budget'!A168)","v":168},null,null,{"$f":"OR(ComponentVisibility[[#This Row],[Force True]],AND(ComponentVisibility[[#This Row],[Program True]],NOT(ComponentVisibility[[#This Row],[Force False]])))","v":false},"Visible row(s) if true",{"$f":"IF(vmPGM6=\"Yes\",TRUE,FALSE)","v":false},null,false]
[null,"Project Overview",{"$f":"ROW('Project Overview'!A21)","v":21},{"$f":"ROW('Project Overview'!A21)","v":21},null,null,{"$f":"OR(ComponentVisibility[[#This Row],[Force True]],AND(ComponentVisibility[[#This Row],[Program True]],NOT(ComponentVisibility[[#This Row],[Force False]])))","v":false},"Visible row(s) if true",{"$f":"IF(vmPAward=\"Yes\",TRUE,FALSE)","v":false},null,false]
[null,"Project Overview",{"$f":"ROW('Project Overview'!A25)","v":25},{"$f":"ROW('Project Overview'!A33)","v":33},null,null,{"$f":"OR(ComponentVisibility[[#This Row],[Force True]],AND(ComponentVisibility[[#This Row],[Program True]],NOT(ComponentVisibility[[#This Row],[Force False]])))","v":false},"Visible row(s) if true",{"$f":"IF(vmAHD=\"Yes\",TRUE,FALSE)","v":false},null,false]
[null,"Project Overview",{"$f":"ROW('Project Overview'!A34)","v":34},{"$f":"ROW('Project Overview'!A42)","v":42},null,null,{"$f":"OR(ComponentVisibility[[#This Row],[Force True]],AND(ComponentVisibility[[#This Row],[Program True]],NOT(ComponentVisibility[[#This Row],[Force False]])))","v":false},"Visible row(s) if true",{"$f":"IF(vmHRI=\"Yes\",TRUE,FALSE)","v":false},null,false]
[null,"Project Overview",{"$f":"ROW('Project Overview'!A43)","v":43},{"$f":"ROW('Project Overview'!A74)","v":74},null,null,{"$f":"OR(ComponentVisibility[[#This Row],[Force True]],AND(ComponentVisibility[[#This Row],[Program True]],NOT(ComponentVisibility[[#This Row],[Force False]])))","v":false},"Visible row(s) if true",{"$f":"IF(vmSTI=\"Yes\",TRUE,FALSE)","v":false},null,false]
[null,"Project Overview",{"$f":"ROW('Project Overview'!A53)","v":53},{"$f":"ROW('Project Overview'!A58)","v":58},null,null,{"$f":"OR(ComponentVisibility[[#This Row],[Force True]],AND(ComponentVisibility[[#This Row],[Program True]],NOT(ComponentVisibility[[#This Row],[Force False]])))","v":false},"Visible row(s) if true",{"$f":"IF(vmSTI2=\"Yes\",TRUE,FALSE)","v":false},null,false]
[null,"Project Overview",{"$f":"ROW('Project Overview'!A61)","v":61},{"$f":"ROW('Project Overview'!A66)","v":66},null,null,{"$f":"OR(ComponentVisibility[[#This Row],[Force True]],AND(ComponentVisibility[[#This Row],[Program True]],NOT(ComponentVisibility[[#This Row],[Force False]])))","v":false},"Visible row(s) if true",{"$f":"IF(vmSTI3=\"Yes\",TRUE,FALSE)","v":false},null,false]
[null,"Project Overview",{"$f":"ROW('Project Overview'!A75)","v":75},{"$f":"ROW('Project Overview'!A106)","v":106},null,null,{"$f":"OR(ComponentVisibility[[#This Row],[Force True]],AND(ComponentVisibility[[#This Row],[Program True]],NOT(ComponentVisibility[[#This Row],[Force False]])))","v":false},"Visible row(s) if true",{"$f":"IF(vmTRA=\"Yes\",TRUE,FALSE)","v":false},null,false]
[null,"Project Overview",{"$f":"ROW('Project Overview'!A85)","v":85},{"$f":"ROW('Project Overview'!A90)","v":90},null,null,{"$f":"OR(ComponentVisibility[[#This Row],[Force True]],AND(ComponentVisibility[[#This Row],[Program True]],NOT(ComponentVisibility[[#This Row],[Force False]])))","v":false},"Visible row(s) if true",{"$f":"IF(vmTRA2=\"Yes\",TRUE,FALSE)","v":false},null,false]
[null,"Project Overview",{"$f":"ROW('Project Overview'!A93)","v":93},{"$f":"ROW('Project Overview'!A98)","v":98},null,null,{"$f":"OR(ComponentVisibility[[#This Row],[Force True]],AND(ComponentVisibility[[#This Row],[Program True]],NOT(ComponentVisibility[[#This Row],[Force False]])))","v":false},"Visible row(s) if true",{"$f":"IF(vmTRA3=\"Yes\",TRUE,FALSE)","v":false},null,false]
[null,"Project Overview",{"$f":"ROW('Project Overview'!A107)","v":107},{"$f":"ROW('Project Overview'!A191)","v":191},null,null,{"$f":"OR(ComponentVisibility[[#This Row],[Force True]],AND(ComponentVisibility[[#This Row],[Program True]],NOT(ComponentVisibility[[#This Row],[Force False]])))","v":false},"Visible row(s) if true",{"$f":"IF(vmPGM=\"Yes\",TRUE,FALSE)","v":false},null,false]
[null,"Project Overview",{"$f":"ROW('Project Overview'!A123)","v":123},{"$f":"ROW('Project Overview'!A134)","v":134},null,null,{"$f":"OR(ComponentVisibility[[#This Row],[Force True]],AND(ComponentVisibility[[#This Row],[Program True]],NOT(ComponentVisibility[[#This Row],[Force False]])))","v":false},"Visible row(s) if true",{"$f":"IF(vmPGM2=\"Yes\",TRUE,FALSE)","v":false},null,false]
[null,"Project Overview",{"$f":"ROW('Project Overview'!A137)","v":137},{"$f":"ROW('Project Overview'!A148)","v":148},null,null,{"$f":"OR(ComponentVisibility[[#This Row],[Force True]],AND(ComponentVisibility[[#This Row],[Program True]],NOT(ComponentVisibility[[#This Row],[Force False]])))","v":false},"Visible row(s) if true",{"$f":"IF(vmPGM3=\"Yes\",TRUE,FALSE)","v":false},null,false]
[null,"Project Overview",{"$f":"ROW('Project Overview'!A151)","v":151},{"$f":"ROW('Project Overview'!A162)","v":162},null,null,{"$f":"OR(ComponentVisibility[[#This Row],[Force True]],AND(ComponentVisibility[[#This Row],[Program True]],NOT(ComponentVisibility[[#This Row],[Force False]])))","v":false},"Visible row(s) if true",{"$f":"IF(vmPGM4=\"Yes\",TRUE,FALSE)","v":false},null,false]
[null,"Project Overview",{"$f":"ROW('Project Overview'!A165)","v":165},{"$f":"ROW('Project Overview'!A176)","v":176},null,null,{"$f":"OR(ComponentVisibility[[#This Row],[Force True]],AND(ComponentVisibility[[#This Row],[Program True]],NOT(ComponentVisibility[[#This Row],[Force False]])))","v":false},"Visible row(s) if true",{"$f":"IF(vmPGM5=\"Yes\",TRUE,FALSE)","v":false},null,false]
[null,"Project Overview",{"$f":"ROW('Project Overview'!A179)","v":179},{"$f":"ROW('Project Overview'!A190)","v":190},null,null,{"$f":"OR(ComponentVisibility[[#This Row],[Force True]],AND(ComponentVisibility[[#This Row],[Program True]],NOT(ComponentVisibility[[#This Row],[Force False]])))","v":false},"Visible row(s) if true",{"$f":"IF(vmPGM6=\"Yes\",TRUE,FALSE)","v":false},null,false]
[null,"Project Overview",{"$f":"ROW('Project Overview'!A193)","v":193},{"$f":"ROW('Project Overview'!A199)","v":199},null,null,{"$f":"OR(ComponentVisibility[[#This Row],[Force True]],AND(ComponentVisibility[[#This Row],[Program True]],NOT(ComponentVisibility[[#This Row],[Force False]])))","v":false},"Visible row(s) if true",{"$f":"IF(vmOtherHCD=\"Yes\",TRUE,FALSE)","v":false},null,false]
[null,"Project Overview",{"$f":"ROW('Project Overview'!A202)","v":202},{"$f":"ROW('Project Overview'!A204)","v":204},null,null,{"$f":"OR(ComponentVisibility[[#This Row],[Force True]],AND(ComponentVisibility[[#This Row],[Program True]],NOT(ComponentVisibility[[#This Row],[Force False]])))","v":false},"Visible row(s) if true",{"$f":"IF(OR(Taxcredit=4%,Taxcredit=9%),TRUE,FALSE)","v":false},null,false]
[null,"Project Overview",{"$f":"ROW('Project Overview'!A205)","v":205},{"$f":"ROW('Project Overview'!A205)","v":205},null,null,{"$f":"OR(ComponentVisibility[[#This Row],[Force True]],AND(ComponentVisibility[[#This Row],[Program True]],NOT(ComponentVisibility[[#This Row],[Force False]])))","v":false},"Visible row(s) if true",{"$f":"IF(vmTaxResev=\"Yes\",TRUE,FALSE)","v":false},null,false]
[null,"Project Overview",{"$f":"ROW('Project Overview'!A208)","v":208},{"$f":"ROW('Project Overview'!A214)","v":214},null,null,{"$f":"OR(ComponentVisibility[[#This Row],[Force True]],AND(ComponentVisibility[[#This Row],[Program True]],NOT(ComponentVisibility[[#This Row],[Force False]])))","v":false},"Visible row(s) if true",{"$f":"IF(vmScatteredSite=\"Yes\",TRUE,FALSE)","v":false},null,false]
[null,"Project Overview",{"$f":"ROW('Project Overview'!A218)","v":218},{"$f":"ROW('Project Overview'!A219)","v":219},null,null,{"$f":"OR(ComponentVisibility[[#This Row],[Force True]],AND(ComponentVisibility[[#This Row],[Program True]],NOT(ComponentVisibility[[#This Row],[Force False]])))","v":false},"Visible row(s) if true",{"$f":"IF(vmANYDemo=\"Yes\",TRUE,FALSE)","v":false},null,false]
[null,"Project Overview",{"$f":"ROW('Project Overview'!A233)","v":233},{"$f":"ROW('Project Overview'!A233)","v":233},null,null,{"$f":"OR(ComponentVisibility[[#This Row],[Force True]],AND(ComponentVisibility[[#This Row],[Program True]],NOT(ComponentVisibility[[#This Row],[Force False]])))","v":false},"Visible row(s) if true",{"$f":"vmSTITRA=\"No\"","v":false},null,false]
[null,"Project Overview",{"$f":"ROW('Project Overview'!A237)","v":237},{"$f":"ROW('Project Overview'!A239)","v":239},null,null,{"$f":"OR(ComponentVisibility[[#This Row],[Force True]],AND(ComponentVisibility[[#This Row],[Program True]],NOT(ComponentVisibility[[#This Row],[Force False]])))","v":false},"Visible row(s) if true",{"$f":"IF(vmTribalEntity=\"Yes\",TRUE,FALSE)","v":false},null,false]
[null,"Project Overview",{"$f":"ROW('Project Overview'!A240)","v":240},{"$f":"ROW('Project Overview'!A240)","v":240},null,null,{"$f":"OR(ComponentVisibility[[#This Row],[Force True]],AND(ComponentVisibility[[#This Row],[Program True]],NOT(ComponentVisibility[[#This Row],[Force False]])))","v":false},"Visible row(s) if true",{"$f":"IF(vmIndianCountry=\"Indian Country\",TRUE,FALSE)","v":false},null,false]
[null,"Project Overview",{"$f":"ROW('Project Overview'!A241)","v":241},{"$f":"ROW('Project Overview'!A241)","v":241},null,null,{"$f":"OR(ComponentVisibility[[#This Row],[Force True]],AND(ComponentVisibility[[#This Row],[Program True]],NOT(ComponentVisibility[[#This Row],[Force False]])))","v":false},"Visible row(s) if true",{"$f":"IF(OR(vmIndianCountry=\"Fee land\",vmIndianCountry=\"Trust Land\"),TRUE,FALSE)","v":false},null,false]
[null,"Project Overview",{"$f":"ROW('Project Overview'!A248)","v":248},{"$f":"ROW('Project Overview'!A248)","v":248},null,null,{"$f":"OR(ComponentVisibility[[#This Row],[Force True]],AND(ComponentVisibility[[#This Row],[Program True]],NOT(ComponentVisibility[[#This Row],[Force False]])))","v":false},"Visible row(s) if true",{"$f":"IF(OR(vmJointApplicant=\"Yes\",vmJointApplicant=\"\"),FALSE,TRUE)","v":false},null,false]
[null,"Project Overview",{"$f":"ROW('Project Overview'!A266)","v":266},{"$f":"ROW('Project Overview'!A274)","v":274},null,null,{"$f":"OR(ComponentVisibility[[#This Row],[Force True]],AND(ComponentVisibility[[#This Row],[Program True]],NOT(ComponentVisibility[[#This Row],[Force False]])))","v":false},"Visible row(s) if true",{"$f":"IF(OR(vmApplicant2=\"\",vmApplicant2=\"N/A\"),FALSE,TRUE)","v":false},null,false]
[null,"Project Overview",{"$f":"ROW('Project Overview'!A277)","v":277},{"$f":"ROW('Project Overview'!A285)","v":285},null,null,{"$f":"OR(ComponentVisibility[[#This Row],[Force True]],AND(ComponentVisibility[[#This Row],[Program True]],NOT(ComponentVisibility[[#This Row],[Force False]])))","v":false},"Visible row(s) if true",{"$f":"IF(OR(vmApplicant3=\"\",vmApplicant3=\"N/A\"),FALSE,TRUE)","v":false},null,false]
[null,"Project Overview",{"$f":"ROW('Project Overview'!A288)","v":288},{"$f":"ROW('Project Overview'!A296)","v":296},null,null,{"$f":"OR(ComponentVisibility[[#This Row],[Force True]],AND(ComponentVisibility[[#This Row],[Program True]],NOT(ComponentVisibility[[#This Row],[Force False]])))","v":false},"Visible row(s) if true",{"$f":"IF(OR(vmApplicant4=\"\",vmApplicant4=\"N/A\"),FALSE,TRUE)","v":false},null,false]
[null,"Project Overview",{"$f":"ROW('Project Overview'!A362)","v":362},{"$f":"ROW('Project Overview'!A364)","v":364},null,null,{"$f":"OR(ComponentVisibility[[#This Row],[Force True]],AND(ComponentVisibility[[#This Row],[Program True]],NOT(ComponentVisibility[[#This Row],[Force False]])))","v":false},"Visible row(s) if true",{"$f":"IF(vmProjectAreaType=\"Rural Innovation Project Area (RIPA)\",TRUE,FALSE)","v":false},null,false]
[null,"Project Overview",{"$f":"ROW('Project Overview'!A308)","v":308},{"$f":"ROW('Project Overview'!A313)","v":313},null,null,{"$f":"OR(ComponentVisibility[[#This Row],[Force True]],AND(ComponentVisibility[[#This Row],[Program True]],NOT(ComponentVisibility[[#This Row],[Force False]])))","v":false},"Visible row(s) if true",{"$f":"IF(OR(vmMGP=\"\",vmMGP=\"N/A\"),FALSE,TRUE)","v":false},null,false]
[null,"Project Overview",{"$f":"ROW('Project Overview'!A316)","v":316},{"$f":"ROW('Project Overview'!A321)","v":321},null,null,{"$f":"OR(ComponentVisibility[[#This Row],[Force True]],AND(ComponentVisibility[[#This Row],[Program True]],NOT(ComponentVisibility[[#This Row],[Force False]])))","v":false},"Visible row(s) if true",{"$f":"IF(OR(vmAGP1=\"\",vmAGP1=\"N/A\"),FALSE,TRUE)","v":false},null,false]
[null,"Project Overview",{"$f":"ROW('Project Overview'!A324)","v":324},{"$f":"ROW('Project Overview'!A329)","v":329},null,null,{"$f":"OR(ComponentVisibility[[#This Row],[Force True]],AND(ComponentVisibility[[#This Row],[Program True]],NOT(ComponentVisibility[[#This Row],[Force False]])))","v":false},"Visible row(s) if true",{"$f":"IF(OR(vmAGP2=\"\",vmAGP2=\"N/A\"),FALSE,TRUE)","v":false},null,false]
[null,"Project Overview",{"$f":"ROW('Project Overview'!A332)","v":332},{"$f":"ROW('Project Overview'!A337)","v":337},null,null,{"$f":"OR(ComponentVisibility[[#This Row],[Force True]],AND(ComponentVisibility[[#This Row],[Program True]],NOT(ComponentVisibility[[#This Row],[Force False]])))","v":false},"Visible row(s) if true",{"$f":"IF(OR(vmMLLC=\"\",vmMLLC=\"N/A\"),FALSE,TRUE)","v":false},null,false]
[null,"Project Overview",{"$f":"ROW('Project Overview'!A360)","v":360},{"$f":"ROW('Project Overview'!A360)","v":360},null,null,{"$f":"OR(ComponentVisibility[[#This Row],[Force True]],AND(ComponentVisibility[[#This Row],[Program True]],NOT(ComponentVisibility[[#This Row],[Force False]])))","v":false},"Visible row(s) if true",{"$f":"IF(vmProjectAreaType=\"Transit Oriented Development (TOD)\",TRUE,FALSE)","v":false},null,false]
[null,"Project Overview",{"$f":"ROW('Project Overview'!A361)","v":361},{"$f":"ROW('Project Overview'!A361)","v":361},null,null,{"$f":"OR(ComponentVisibility[[#This Row],[Force True]],AND(ComponentVisibility[[#This Row],[Program True]],NOT(ComponentVisibility[[#This Row],[Force False]])))","v":false},"Visible row(s) if true",{"$f":"IF(vmProjectAreaType=\"Integrated Connectivity Project (ICP)\",TRUE,FALSE)","v":false},null,false]
[null,"Project Overview",{"$f":"ROW('Project Overview'!A372)","v":372},{"$f":"ROW('Project Overview'!A488)","v":488},null,null,{"$f":"OR(ComponentVisibility[[#This Row],[Force True]],AND(ComponentVisibility[[#This Row],[Program True]],NOT(ComponentVisibility[[#This Row],[Force False]])))","v":false},"Visible row(s) if true",{"$f":"IF(vmAHD=\"Yes\",TRUE,FALSE)","v":false},null,false]
[null,"Project Overview",{"$f":"ROW('Project Overview'!A379)","v":379},{"$f":"ROW('Project Overview'!A379)","v":379},null,null,{"$f":"OR(ComponentVisibility[[#This Row],[Force True]],AND(ComponentVisibility[[#This Row],[Program True]],NOT(ComponentVisibility[[#This Row],[Force False]])))","v":false},"Visible row(s) if true",{"$f":"IF(vmAHDCP='Project Overview'!$AO$376,TRUE,IF(vmAHDCP2='Project Overview'!$AO$376,TRUE,IF(vmAHDCP3='Project Overview'!$AO$376,TRUE,FALSE)))","v":false},null,false]
[null,"Project Overview",{"$f":"ROW('Project Overview'!A383)","v":383},{"$f":"ROW('Project Overview'!A383)","v":383},null,null,{"$f":"OR(ComponentVisibility[[#This Row],[Force True]],AND(ComponentVisibility[[#This Row],[Program True]],NOT(ComponentVisibility[[#This Row],[Force False]])))","v":false},"Visible row(s) if true",{"$f":"IF(vmTSS=\"Yes\",TRUE,FALSE)","v":false},null,false]
[null,"Project Overview",{"$f":"ROW('Project Overview'!A386)","v":386},{"$f":"ROW('Project Overview'!A386)","v":386},null,null,{"$f":"OR(ComponentVisibility[[#This Row],[Force True]],AND(ComponentVisibility[[#This Row],[Program True]],NOT(ComponentVisibility[[#This Row],[Force False]])))","v":false},"Visible row(s) if true",{"$f":"IF(vmHousingType=\"Rental\",TRUE,FALSE)","v":false},null,false]
[null,"Project Overview",{"$f":"ROW('Project Overview'!A387)","v":387},{"$f":"ROW('Project Overview'!A387)","v":387},null,null,{"$f":"OR(ComponentVisibility[[#This Row],[Force True]],AND(ComponentVisibility[[#This Row],[Program True]],NOT(ComponentVisibility[[#This Row],[Force False]])))","v":false},"Visible row(s) if true",{"$f":"IF(vmHousingType=\"Homeownership\",TRUE,FALSE)","v":false},null,false]
[null,"Project Overview",{"$f":"ROW('Project Overview'!A388)","v":388},{"$f":"ROW('Project Overview'!A389)","v":389},null,null,{"$f":"OR(ComponentVisibility[[#This Row],[Force True]],AND(ComponentVisibility[[#This Row],[Program True]],NOT(ComponentVisibility[[#This Row],[Force False]])))","v":true},"Visible row(s) if true",{"$f":"IF(vmHousingType=\"Homeownership\",FALSE,TRUE)","v":true},null,false]
[null,"Project Overview",{"$f":"ROW('Project Overview'!A407)","v":407},{"$f":"ROW('Project Overview'!A407)","v":407},null,null,{"$f":"OR(ComponentVisibility[[#This Row],[Force True]],AND(ComponentVisibility[[#This Row],[Program True]],NOT(ComponentVisibility[[#This Row],[Force False]])))","v":false},"Visible row(s) if true",{"$f":"vmMixUse=\"Yes\"","v":false},null,false]
[null,"Project Overview",{"$f":"ROW('Project Overview'!A408)","v":408},{"$f":"ROW('Project Overview'!A408)","v":408},null,null,{"$f":"OR(ComponentVisibility[[#This Row],[Force True]],AND(ComponentVisibility[[#This Row],[Program True]],NOT(ComponentVisibility[[#This Row],[Force False]])))","v":false},"Visible row(s) if true",{"$f":"'Project Overview'!$AN$376","v":false},null,false]
[null,"Project Overview",{"$f":"ROW('Project Overview'!A437)","v":437},{"$f":"ROW('Project Overview'!A455)","v":455},null,null,{"$f":"OR(ComponentVisibility[[#This Row],[Force True]],AND(ComponentVisibility[[#This Row],[Program True]],NOT(ComponentVisibility[[#This Row],[Force False]])))","v":false},"Visible row(s) if true",{"$f":"IF(vmHRI=\"Yes\",TRUE,FALSE)","v":false},null,false]
[null,"Project Overview",{"$f":"ROW('Project Overview'!A440)","v":440},{"$f":"ROW('Project Overview'!A440)","v":440},null,null,{"$f":"OR(ComponentVisibility[[#This Row],[Force True]],AND(ComponentVisibility[[#This Row],[Program True]],NOT(ComponentVisibility[[#This Row],[Force False]])))","v":false},"Visible row(s) if true",{"$f":"IF(vmCPCondition=\"Yes\",TRUE,FALSE)","v":false},null,false]
[null,"Project Overview",{"$f":"ROW('Project Overview'!A454)","v":454},{"$f":"ROW('Project Overview'!A454)","v":454},null,null,{"$f":"OR(ComponentVisibility[[#This Row],[Force True]],AND(ComponentVisibility[[#This Row],[Program True]],NOT(ComponentVisibility[[#This Row],[Force False]])))","v":false},"Visible row(s) if true",{"$f":"IF(vmBArrays=\"Yes\",TRUE,FALSE)","v":false},null,false]
[null,"Project Overview",{"$f":"ROW('Project Overview'!A456)","v":456},{"$f":"ROW('Project Overview'!A469)","v":469},null,null,{"$f":"OR(ComponentVisibility[[#This Row],[Force True]],AND(ComponentVisibility[[#This Row],[Program True]],NOT(ComponentVisibility[[#This Row],[Force False]])))","v":false},"Visible row(s) if true",{"$f":"IF(vmSTI=\"Yes\",TRUE,FALSE)","v":false},null,false]
[null,"Project Overview",{"$f":"ROW('Project Overview'!A468)","v":468},{"$f":"ROW('Project Overview'!A468)","v":468},null,null,{"$f":"OR(ComponentVisibility[[#This Row],[Force True]],AND(ComponentVisibility[[#This Row],[Program True]],NOT(ComponentVisibility[[#This Row],[Force False]])))","v":false},"Visible row(s) if true",{"$f":"IF(vmSTIcondition=\"Yes\",TRUE,FALSE)","v":false},null,false]
[null,"Project Overview",{"$f":"ROW('Project Overview'!A470)","v":470},{"$f":"ROW('Project Overview'!A481)","v":481},null,null,{"$f":"OR(ComponentVisibility[[#This Row],[Force True]],AND(ComponentVisibility[[#This Row],[Program True]],NOT(ComponentVisibility[[#This Row],[Force False]])))","v":false},"Visible row(s) if true",{"$f":"IF(vmTRA=\"Yes\",TRUE,FALSE)","v":false},null,false]
[null,"Project Overview",{"$f":"ROW('Project Overview'!A480)","v":480},{"$f":"ROW('Project Overview'!A480)","v":480},null,null,{"$f":"OR(ComponentVisibility[[#This Row],[Force True]],AND(ComponentVisibility[[#This Row],[Program True]],NOT(ComponentVisibility[[#This Row],[Force False]])))","v":false},"Visible row(s) if true",{"$f":"IF(vmTRAcondition=\"Yes\",TRUE,FALSE)","v":false},null,false]
[null,"Project Overview",{"$f":"ROW('Project Overview'!A482)","v":482},{"$f":"ROW('Project Overview'!A488)","v":488},null,null,{"$f":"OR(ComponentVisibility[[#This Row],[Force True]],AND(ComponentVisibility[[#This Row],[Program True]],NOT(ComponentVisibility[[#This Row],[Force False]])))","v":false},"Visible row(s) if true",{"$f":"IF(vmPGM=\"Yes\",TRUE,FALSE)","v":false},null,false]
[null,"Project Overview",{"$f":"ROW('Project Overview'!A503)","v":503},{"$f":"ROW('Project Overview'!A508)","v":508},null,null,{"$f":"OR(ComponentVisibility[[#This Row],[Force True]],AND(ComponentVisibility[[#This Row],[Program True]],NOT(ComponentVisibility[[#This Row],[Force False]])))","v":false},"Visible row(s) if true",{"$f":"IF(vmHRI=\"Yes\",TRUE,FALSE)","v":false},null,false]
[null,"Project Overview",{"$f":"ROW('Project Overview'!A509)","v":509},{"$f":"ROW('Project Overview'!A520)","v":520},null,null,{"$f":"OR(ComponentVisibility[[#This Row],[Force True]],AND(ComponentVisibility[[#This Row],[Program True]],NOT(ComponentVisibility[[#This Row],[Force False]])))","v":false},"Visible row(s) if true",{"$f":"IF(OR(vmHousingType=\"Homeownership\",vmHousingType=\"Both\"),TRUE,FALSE)","v":false},null,false]
[null,"Project Overview",{"$f":"ROW('Project Overview'!A635)","v":635},{"$f":"ROW('Project Overview'!A648)","v":648},null,null,{"$f":"OR(ComponentVisibility[[#This Row],[Force True]],AND(ComponentVisibility[[#This Row],[Program True]],NOT(ComponentVisibility[[#This Row],[Force False]])))","v":false},"Visible row(s) if true",{"$f":"IF(vmHRI=\"Yes\",TRUE,IF(vmAHD=\"Yes\",TRUE,FALSE))","v":false},null,false]
[null,"Project Overview",{"$f":"ROW('Project Overview'!A649)","v":649},{"$f":"ROW('Project Overview'!A659)","v":659},null,null,{"$f":"OR(ComponentVisibility[[#This Row],[Force True]],AND(ComponentVisibility[[#This Row],[Program True]],NOT(ComponentVisibility[[#This Row],[Force False]])))","v":false},"Visible row(s) if true",{"$f":"IF(vmSTI=\"Yes\",TRUE,FALSE)","v":false},null,false]
[null,"Project Overview",{"$f":"ROW('Project Overview'!A660)","v":660},{"$f":"ROW('Project Overview'!A670)","v":670},null,null,{"$f":"OR(ComponentVisibility[[#This Row],[Force True]],AND(ComponentVisibility[[#This Row],[Program True]],NOT(ComponentVisibility[[#This Row],[Force False]])))","v":false},"Visible row(s) if true",{"$f":"IF(vmTRA=\"Yes\",TRUE,FALSE)","v":false},null,false]
[null,"Project Overview",{"$f":"ROW('Project Overview'!A671)","v":671},{"$f":"ROW('Project Overview'!A680)","v":680},null,null,{"$f":"OR(ComponentVisibility[[#This Row],[Force True]],AND(ComponentVisibility[[#This Row],[Program True]],NOT(ComponentVisibility[[#This Row],[Force False]])))","v":false},"Visible row(s) if true",{"$f":"vmPGM=\"Yes\"","v":false},null,false]
[null,"Contact List",{"$f":"ROW('Contact List'!A6)","v":6},{"$f":"ROW('Contact List'!A6)","v":6},null,null,{"$f":"OR(ComponentVisibility[[#This Row],[Force True]],AND(ComponentVisibility[[#This Row],[Program True]],NOT(ComponentVisibility[[#This Row],[Force False]])))","v":false},"Visible row(s) if true",{"$f":"IF(OR(vmApplicant2=\"\",vmApplicant2=\"N/A\"),FALSE,TRUE)","v":false},null,false]
[null,"Contact List",{"$f":"ROW('Contact List'!A7)","v":7},{"$f":"ROW('Contact List'!A7)","v":7},null,null,{"$f":"OR(ComponentVisibility[[#This Row],[Force True]],AND(ComponentVisibility[[#This Row],[Program True]],NOT(ComponentVisibility[[#This Row],[Force False]])))","v":false},"Visible row(s) if true",{"$f":"IF(OR(vmApplicant3=\"\",vmApplicant3=\"N/A\"),FALSE,TRUE)","v":false},null,false]
[null,"Contact List",{"$f":"ROW('Contact List'!A8)","v":8},{"$f":"ROW('Contact List'!A8)","v":8},null,null,{"$f":"OR(ComponentVisibility[[#This Row],[Force True]],AND(ComponentVisibility[[#This Row],[Program True]],NOT(ComponentVisibility[[#This Row],[Force False]])))","v":false},"Visible row(s) if true",{"$f":"IF(OR(vmApplicant4=\"\",vmApplicant4=\"N/A\"),FALSE,TRUE)","v":false},null,false]
[null,"Contact List",{"$f":"ROW('Contact List'!A10)","v":10},{"$f":"ROW('Contact List'!A10)","v":10},null,null,{"$f":"OR(ComponentVisibility[[#This Row],[Force True]],AND(ComponentVisibility[[#This Row],[Program True]],NOT(ComponentVisibility[[#This Row],[Force False]])))","v":false},"Visible row(s) if true",{"$f":"IF(OR(vmMGP=\"\",vmMGP=\"N/A\"),FALSE,TRUE)","v":false},null,false]
[null,"Contact List",{"$f":"ROW('Contact List'!A11)","v":11},{"$f":"ROW('Contact List'!A11)","v":11},null,null,{"$f":"OR(ComponentVisibility[[#This Row],[Force True]],AND(ComponentVisibility[[#This Row],[Program True]],NOT(ComponentVisibility[[#This Row],[Force False]])))","v":false},"Visible row(s) if true",{"$f":"IF(OR(vmAGP1=\"\",vmAGP1=\"N/A\"),FALSE,TRUE)","v":false},null,false]
[null,"Contact List",{"$f":"ROW('Contact List'!A12)","v":12},{"$f":"ROW('Contact List'!A12)","v":12},null,null,{"$f":"OR(ComponentVisibility[[#This Row],[Force True]],AND(ComponentVisibility[[#This Row],[Program True]],NOT(ComponentVisibility[[#This Row],[Force False]])))","v":false},"Visible row(s) if true",{"$f":"IF(OR(vmAGP2=\"\",vmAGP2=\"N/A\"),FALSE,TRUE)","v":false},null,false]
[null,"Contact List",{"$f":"ROW('Contact List'!A13)","v":13},{"$f":"ROW('Contact List'!A13)","v":13},null,null,{"$f":"OR(ComponentVisibility[[#This Row],[Force True]],AND(ComponentVisibility[[#This Row],[Program True]],NOT(ComponentVisibility[[#This Row],[Force False]])))","v":false},"Visible row(s) if true",{"$f":"IF(OR(vmMLLC=\"\",vmMLLC=\"N/A\"),FALSE,TRUE)","v":false},null,false]
[null,"HCD Reserves Calculator",{"$f":"ROW('HCD Reserves Calculator'!A38)","v":38},{"$f":"ROW('HCD Reserves Calculator'!A57)","v":57},null,null,{"$f":"OR(ComponentVisibility[[#This Row],[Force True]],AND(ComponentVisibility[[#This Row],[Program True]],NOT(ComponentVisibility[[#This Row],[Force False]])))","v":false},"Visible row(s) if true",{"$f":"IF(vmTRPF=\"Yes\",TRUE,FALSE)","v":false},null,false]
[null,"Max Funds & Unit Mix",{"$f":"ROW('Max Funds & Unit Mix'!A50)","v":50},{"$f":"ROW('Max Funds & Unit Mix'!A50)","v":50},null,null,{"$f":"OR(ComponentVisibility[[#This Row],[Force True]],AND(ComponentVisibility[[#This Row],[Program True]],NOT(ComponentVisibility[[#This Row],[Force False]])))","v":false},"Visible row(s) if true",{"$f":"vmPrevAward=\"Yes\"","v":false},null,false]
[null,"Threshold Requirements",{"$f":"ROW('Threshold Requirements'!A8)","v":8},{"$f":"ROW('Threshold Requirements'!A8)","v":8},null,null,{"$f":"OR(ComponentVisibility[[#This Row],[Force True]],AND(ComponentVisibility[[#This Row],[Program True]],NOT(ComponentVisibility[[#This Row],[Force False]])))","v":false},"Visible row(s) if true",{"$f":"IF(vmMPO=\"Yes\",TRUE,FALSE)","v":false},null,false]
[null,"Threshold Requirements",{"$f":"ROW('Threshold Requirements'!A13)","v":13},{"$f":"ROW('Threshold Requirements'!A13)","v":13},null,null,{"$f":"OR(ComponentVisibility[[#This Row],[Force True]],AND(ComponentVisibility[[#This Row],[Program True]],NOT(ComponentVisibility[[#This Row],[Force False]])))","v":false},"Visible row(s) if true",{"$f":"IF(OR(vmSTI=\"Yes\",vmTRA=\"Yes\"),TRUE,FALSE)","v":false},null,false]
[null,"Threshold Requirements",{"$f":"ROW('Threshold Requirements'!A16)","v":16},{"$f":"ROW('Threshold Requirements'!A25)","v":25},null,null,{"$f":"OR(ComponentVisibility[[#This Row],[Force True]],AND(ComponentVisibility[[#This Row],[Program True]],NOT(ComponentVisibility[[#This Row],[Force False]])))","v":false},"Visible row(s) if true",{"$f":"IF(vmAHD=\"Yes\",TRUE,FALSE)","v":false},null,false]
[null,"Threshold Requirements",{"$f":"ROW('Threshold Requirements'!A24)","v":24},{"$f":"ROW('Threshold Requirements'!A24)","v":24},null,null,{"$f":"OR(ComponentVisibility[[#This Row],[Force True]],AND(ComponentVisibility[[#This Row],[Program True]],NOT(ComponentVisibility[[#This Row],[Force False]])))","v":false},"Visible row(s) if true",{"$f":"IF(vmNEPA=\"Yes\",TRUE,FALSE)","v":false},null,false]
[null,"Threshold Requirements",{"$f":"ROW('Threshold Requirements'!A26)","v":26},{"$f":"ROW('Threshold Requirements'!A35)","v":35},null,null,{"$f":"OR(ComponentVisibility[[#This Row],[Force True]],AND(ComponentVisibility[[#This Row],[Program True]],NOT(ComponentVisibility[[#This Row],[Force False]])))","v":false},"Visible row(s) if true",{"$f":"IF(vmHRI=\"Yes\",TRUE,FALSE)","v":false},null,false]
[null,"Threshold Requirements",{"$f":"ROW('Threshold Requirements'!A34)","v":34},{"$f":"ROW('Threshold Requirements'!A34)","v":34},null,null,{"$f":"OR(ComponentVisibility[[#This Row],[Force True]],AND(ComponentVisibility[[#This Row],[Program True]],NOT(ComponentVisibility[[#This Row],[Force False]])))","v":false},"Visible row(s) if true",{"$f":"IF(vmHRINepa=\"Yes\",TRUE,FALSE)","v":false},null,false]
[null,"Threshold Requirements",{"$f":"ROW('Threshold Requirements'!A36)","v":36},{"$f":"ROW('Threshold Requirements'!A43)","v":43},null,null,{"$f":"OR(ComponentVisibility[[#This Row],[Force True]],AND(ComponentVisibility[[#This Row],[Program True]],NOT(ComponentVisibility[[#This Row],[Force False]])))","v":false},"Visible row(s) if true",{"$f":"IF(vmSTI=\"Yes\",TRUE,FALSE)","v":false},null,false]
[null,"Threshold Requirements",{"$f":"ROW('Threshold Requirements'!A42)","v":42},{"$f":"ROW('Threshold Requirements'!A42)","v":42},null,null,{"$f":"OR(ComponentVisibility[[#This Row],[Force True]],AND(ComponentVisibility[[#This Row],[Program True]],NOT(ComponentVisibility[[#This Row],[Force False]])))","v":false},"Visible row(s) if true",{"$f":"IF(vmSTINepa=\"Yes\",TRUE,FALSE)","v":false},null,false]
[null,"Threshold Requirements",{"$f":"ROW('Threshold Requirements'!A43)","v":43},{"$f":"ROW('Threshold Requirements'!A50)","v":50},null,null,{"$f":"OR(ComponentVisibility[[#This Row],[Force True]],AND(ComponentVisibility[[#This Row],[Program True]],NOT(ComponentVisibility[[#This Row],[Force False]])))","v":false},"Visible row(s) if true",{"$f":"IF(vmTRA=\"Yes\",TRUE,FALSE)","v":false},null,false]
[null,"Threshold Requirements",{"$f":"ROW('Threshold Requirements'!A50)","v":50},{"$f":"ROW('Threshold Requirements'!A50)","v":50},null,null,{"$f":"OR(ComponentVisibility[[#This Row],[Force True]],AND(ComponentVisibility[[#This Row],[Program True]],NOT(ComponentVisibility[[#This Row],[Force False]])))","v":false},"Visible row(s) if true",{"$f":"IF(vmTRANepa=\"Yes\",TRUE,FALSE)","v":false},null,false]
[null,"Threshold Requirements",{"$f":"ROW('Threshold Requirements'!A55)","v":55},{"$f":"ROW('Threshold Requirements'!A61)","v":61},null,null,{"$f":"OR(ComponentVisibility[[#This Row],[Force True]],AND(ComponentVisibility[[#This Row],[Program True]],NOT(ComponentVisibility[[#This Row],[Force False]])))","v":false},"Visible row(s) if true",{"$f":"IF(vmAHD=\"Yes\",TRUE,FALSE)","v":false},null,false]
[null,"Threshold Requirements",{"$f":"ROW('Threshold Requirements'!A62)","v":62},{"$f":"ROW('Threshold Requirements'!A68)","v":68},null,null,{"$f":"OR(ComponentVisibility[[#This Row],[Force True]],AND(ComponentVisibility[[#This Row],[Program True]],NOT(ComponentVisibility[[#This Row],[Force False]])))","v":false},"Visible row(s) if true",{"$f":"IF(vmHRI=\"Yes\",TRUE,FALSE)","v":false},null,false]
[null,"Threshold Requirements",{"$f":"ROW('Threshold Requirements'!A69)","v":69},{"$f":"ROW('Threshold Requirements'!A75)","v":75},null,null,{"$f":"OR(ComponentVisibility[[#This Row],[Force True]],AND(ComponentVisibility[[#This Row],[Program True]],NOT(ComponentVisibility[[#This Row],[Force False]])))","v":false},"Visible row(s) if true",{"$f":"IF(vmSTI=\"Yes\",TRUE,FALSE)","v":false},null,false]
[null,"Threshold Requirements",{"$f":"ROW('Threshold Requirements'!A76)","v":76},{"$f":"ROW('Threshold Requirements'!A81)","v":81},null,null,{"$f":"OR(ComponentVisibility[[#This Row],[Force True]],AND(ComponentVisibility[[#This Row],[Program True]],NOT(ComponentVisibility[[#This Row],[Force False]])))","v":false},"Visible row(s) if true",{"$f":"IF(vmTRA=\"Yes\",TRUE,FALSE)","v":false},null,false]
[null,"Threshold Requirements",{"$f":"ROW('Threshold Requirements'!A85)","v":85},{"$f":"ROW('Threshold Requirements'!A85)","v":85},null,null,{"$f":"OR(ComponentVisibility[[#This Row],[Force True]],AND(ComponentVisibility[[#This Row],[Program True]],NOT(ComponentVisibility[[#This Row],[Force False]])))","v":false},"Visible row(s) if true",{"$f":"vmCAFP=\"Yes\"","v":false},null,false]
[null,"Threshold Requirements",{"$f":"ROW('Threshold Requirements'!A89)","v":89},{"$f":"ROW('Threshold Requirements'!A89)","v":89},null,null,{"$f":"OR(ComponentVisibility[[#This Row],[Force True]],AND(ComponentVisibility[[#This Row],[Program True]],NOT(ComponentVisibility[[#This Row],[Force False]])))","v":false},"Visible row(s) if true",{"$f":"vmDemolition=\"Yes\"","v":false},null,false]
[null,"Threshold Requirements",{"$f":"ROW('Threshold Requirements'!A93)","v":93},{"$f":"ROW('Threshold Requirements'!A94)","v":94},null,null,{"$f":"OR(ComponentVisibility[[#This Row],[Force True]],AND(ComponentVisibility[[#This Row],[Program True]],NOT(ComponentVisibility[[#This Row],[Force False]])))","v":false},"Visible row(s) if true",{"$f":"IF(vmRelocation=\"Yes\",TRUE,FALSE)","v":false},null,false]
[null,"Threshold Requirements",{"$f":"ROW('Threshold Requirements'!A95)","v":95},{"$f":"ROW('Threshold Requirements'!A96)","v":96},null,null,{"$f":"OR(ComponentVisibility[[#This Row],[Force True]],AND(ComponentVisibility[[#This Row],[Program True]],NOT(ComponentVisibility[[#This Row],[Force False]])))","v":false},"Visible row(s) if true",{"$f":"IF(vmRelocation=\"No\",TRUE,FALSE)","v":false},null,false]
[null,"Threshold Requirements",{"$f":"ROW('Threshold Requirements'!A98)","v":98},{"$f":"ROW('Threshold Requirements'!A100)","v":100},null,null,{"$f":"OR(ComponentVisibility[[#This Row],[Force True]],AND(ComponentVisibility[[#This Row],[Program True]],NOT(ComponentVisibility[[#This Row],[Force False]])))","v":false},"Visible row(s) if true",{"$f":"IF(OR(vmSponsorType=\"Locality\",vmSponsorType2=\"Locality\",vmSponsorType3=\"Locality\",vmSponsorType4=\"Locality\"),TRUE,FALSE)","v":false},null,false]
[null,"Threshold Requirements",{"$f":"ROW('Threshold Requirements'!A104)","v":104},{"$f":"ROW('Threshold Requirements'!A108)","v":108},null,null,{"$f":"OR(ComponentVisibility[[#This Row],[Force True]],AND(ComponentVisibility[[#This Row],[Program True]],NOT(ComponentVisibility[[#This Row],[Force False]])))","v":false},"Visible row(s) if true",{"$f":"IF(vmAHD=\"Yes\",TRUE,FALSE)","v":false},null,false]
[null,"Threshold Requirements",{"$f":"ROW('Threshold Requirements'!A106)","v":106},{"$f":"ROW('Threshold Requirements'!A106)","v":106},null,null,{"$f":"OR(ComponentVisibility[[#This Row],[Force True]],AND(ComponentVisibility[[#This Row],[Program True]],NOT(ComponentVisibility[[#This Row],[Force False]])))","v":false},"Visible row(s) if true",{"$f":"IF(vmAHDAgriculture=\"Yes\",TRUE,FALSE)","v":false},null,false]
[null,"Threshold Requirements",{"$f":"ROW('Threshold Requirements'!A107)","v":107},{"$f":"ROW('Threshold Requirements'!A107)","v":107},null,null,{"$f":"OR(ComponentVisibility[[#This Row],[Force True]],AND(ComponentVisibility[[#This Row],[Program True]],NOT(ComponentVisibility[[#This Row],[Force False]])))","v":false},"Visible row(s) if true",{"$f":"IF(vmAHDAgriculture=\"No\",TRUE,FALSE)","v":false},null,false]
[null,"Threshold Requirements",{"$f":"ROW('Threshold Requirements'!A109)","v":109},{"$f":"ROW('Threshold Requirements'!A113)","v":113},null,null,{"$f":"OR(ComponentVisibility[[#This Row],[Force True]],AND(ComponentVisibility[[#This Row],[Program True]],NOT(ComponentVisibility[[#This Row],[Force False]])))","v":false},"Visible row(s) if true",{"$f":"IF(vmHRI=\"Yes\",TRUE,FALSE)","v":false},null,false]
[null,"Threshold Requirements",{"$f":"ROW('Threshold Requirements'!A111)","v":111},{"$f":"ROW('Threshold Requirements'!A111)","v":111},null,null,{"$f":"OR(ComponentVisibility[[#This Row],[Force True]],AND(ComponentVisibility[[#This Row],[Program True]],NOT(ComponentVisibility[[#This Row],[Force False]])))","v":false},"Visible row(s) if true",{"$f":"IF(vmHRIAgriculture=\"Yes\",TRUE,FALSE)","v":false},null,false]
[null,"Threshold Requirements",{"$f":"ROW('Threshold Requirements'!A112)","v":112},{"$f":"ROW('Threshold Requirements'!A112)","v":112},null,null,{"$f":"OR(ComponentVisibility[[#This Row],[Force True]],AND(ComponentVisibility[[#This Row],[Program True]],NOT(ComponentVisibility[[#This Row],[Force False]])))","v":false},"Visible row(s) if true",{"$f":"IF(vmHRIAgriculture=\"No\",TRUE,FALSE)","v":false},null,false]
[null,"Threshold Requirements",{"$f":"ROW('Threshold Requirements'!A114)","v":114},{"$f":"ROW('Threshold Requirements'!A118)","v":118},null,null,{"$f":"OR(ComponentVisibility[[#This Row],[Force True]],AND(ComponentVisibility[[#This Row],[Program True]],NOT(ComponentVisibility[[#This Row],[Force False]])))","v":false},"Visible row(s) if true",{"$f":"IF(vmSTI=\"Yes\",TRUE,FALSE)","v":false},null,false]
[null,"Threshold Requirements",{"$f":"ROW('Threshold Requirements'!A116)","v":116},{"$f":"ROW('Threshold Requirements'!A116)","v":116},null,null,{"$f":"OR(ComponentVisibility[[#This Row],[Force True]],AND(ComponentVisibility[[#This Row],[Program True]],NOT(ComponentVisibility[[#This Row],[Force False]])))","v":false},"Visible row(s) if true",{"$f":"IF(vmSTIAgriculture=\"Yes\",TRUE,FALSE)","v":false},null,false]
[null,"Threshold Requirements",{"$f":"ROW('Threshold Requirements'!A117)","v":117},{"$f":"ROW('Threshold Requirements'!A117)","v":117},null,null,{"$f":"OR(ComponentVisibility[[#This Row],[Force True]],AND(ComponentVisibility[[#This Row],[Program True]],NOT(ComponentVisibility[[#This Row],[Force False]])))","v":false},"Visible row(s) if true",{"$f":"IF(vmSTIAgriculture=\"No\",TRUE,FALSE)","v":false},null,false]
[null,"Threshold Requirements",{"$f":"ROW('Threshold Requirements'!A119)","v":119},{"$f":"ROW('Threshold Requirements'!A123)","v":123},null,null,{"$f":"OR(ComponentVisibility[[#This Row],[Force True]],AND(ComponentVisibility[[#This Row],[Program True]],NOT(ComponentVisibility[[#This Row],[Force False]])))","v":false},"Visible row(s) if true",{"$f":"IF(vmTRA=\"Yes\",TRUE,FALSE)","v":false},null,false]
[null,"Threshold Requirements",{"$f":"ROW('Threshold Requirements'!A121)","v":121},{"$f":"ROW('Threshold Requirements'!A121)","v":121},null,null,{"$f":"OR(ComponentVisibility[[#This Row],[Force True]],AND(ComponentVisibility[[#This Row],[Program True]],NOT(ComponentVisibility[[#This Row],[Force False]])))","v":false},"Visible row(s) if true",{"$f":"IF(vmTRAAgriculture=\"Yes\",TRUE,FALSE)","v":false},null,false]
[null,"Threshold Requirements",{"$f":"ROW('Threshold Requirements'!A122)","v":122},{"$f":"ROW('Threshold Requirements'!A122)","v":122},null,null,{"$f":"OR(ComponentVisibility[[#This Row],[Force True]],AND(ComponentVisibility[[#This Row],[Program True]],NOT(ComponentVisibility[[#This Row],[Force False]])))","v":false},"Visible row(s) if true",{"$f":"IF(vmTRAAgriculture=\"No\",TRUE,FALSE)","v":false},null,false]
[null,"Threshold Requirements",{"$f":"ROW('Threshold Requirements'!A124)","v":124},{"$f":"ROW('Threshold Requirements'!A126)","v":126},null,null,{"$f":"OR(ComponentVisibility[[#This Row],[Force True]],AND(ComponentVisibility[[#This Row],[Program True]],NOT(ComponentVisibility[[#This Row],[Force False]])))","v":false},"Visible row(s) if true",{"$f":"IF(OR(vmSTI=\"Yes\",vmTRA=\"Yes\"),TRUE,FALSE)","v":false},null,false]
[null,"Threshold Requirements",{"$f":"ROW('Threshold Requirements'!A127)","v":127},{"$f":"ROW('Threshold Requirements'!A127)","v":127},null,null,{"$f":"OR(ComponentVisibility[[#This Row],[Force True]],AND(ComponentVisibility[[#This Row],[Program True]],NOT(ComponentVisibility[[#This Row],[Force False]])))","v":false},"Visible row(s) if true",{"$f":"IF(vmSTIApproval=\"Yes\",TRUE,FALSE)","v":false},null,false]
[null,"Threshold Requirements",{"$f":"ROW('Threshold Requirements'!A129)","v":129},{"$f":"ROW('Threshold Requirements'!A137)","v":137},null,null,{"$f":"OR(ComponentVisibility[[#This Row],[Force True]],AND(ComponentVisibility[[#This Row],[Program True]],NOT(ComponentVisibility[[#This Row],[Force False]])))","v":false},"Visible row(s) if true",{"$f":"IF(vmSTI=\"Yes\",TRUE,IF(vmTRA=\"Yes\",TRUE,FALSE))","v":false},null,false]
[null,"Threshold Requirements",{"$f":"ROW('Threshold Requirements'!A132)","v":132},{"$f":"ROW('Threshold Requirements'!A133)","v":133},null,null,{"$f":"OR(ComponentVisibility[[#This Row],[Force True]],AND(ComponentVisibility[[#This Row],[Program True]],NOT(ComponentVisibility[[#This Row],[Force False]])))","v":false},"Visible row(s) if true",{"$f":"IF(vmDemolition4=\"Yes\",TRUE,FALSE)","v":false},null,false]
[null,"Threshold Requirements",{"$f":"ROW('Threshold Requirements'!A135)","v":135},{"$f":"ROW('Threshold Requirements'!A136)","v":136},null,null,{"$f":"OR(ComponentVisibility[[#This Row],[Force True]],AND(ComponentVisibility[[#This Row],[Program True]],NOT(ComponentVisibility[[#This Row],[Force False]])))","v":false},"Visible row(s) if true",{"$f":"IF(vmDemolition5=\"Yes\",TRUE,FALSE)","v":false},null,false]
[null,"Threshold Requirements",{"$f":"ROW('Threshold Requirements'!A143)","v":143},{"$f":"ROW('Threshold Requirements'!A145)","v":145},null,null,{"$f":"OR(ComponentVisibility[[#This Row],[Force True]],AND(ComponentVisibility[[#This Row],[Program True]],NOT(ComponentVisibility[[#This Row],[Force False]])))","v":false},"Visible row(s) if true",{"$f":"IF(vmTP=\"Yes\",TRUE,FALSE)","v":false},null,false]
[null,"Threshold Requirements",{"$f":"ROW('Threshold Requirements'!A157)","v":157},{"$f":"ROW('Threshold Requirements'!A157)","v":157},null,null,{"$f":"OR(ComponentVisibility[[#This Row],[Force True]],AND(ComponentVisibility[[#This Row],[Program True]],NOT(ComponentVisibility[[#This Row],[Force False]])))","v":false},"Visible row(s) if true",{"$f":"IF(vmMarketS=\"Yes\",TRUE,FALSE)","v":false},null,false]
[null,"Threshold Requirements",{"$f":"ROW('Threshold Requirements'!A159)","v":159},{"$f":"ROW('Threshold Requirements'!A162)","v":162},null,null,{"$f":"OR(ComponentVisibility[[#This Row],[Force True]],AND(ComponentVisibility[[#This Row],[Program True]],NOT(ComponentVisibility[[#This Row],[Force False]])))","v":false},"Visible row(s) if true",{"$f":"IF(vmAHD=\"Yes\",TRUE,IF(vmHRI=\"Yes\",TRUE,FALSE))","v":false},null,false]
[null,"Threshold Requirements",{"$f":"ROW('Threshold Requirements'!A163)","v":163},{"$f":"ROW('Threshold Requirements'!A174)","v":174},null,null,{"$f":"OR(ComponentVisibility[[#This Row],[Force True]],AND(ComponentVisibility[[#This Row],[Program True]],NOT(ComponentVisibility[[#This Row],[Force False]])))","v":false},"Visible row(s) if true",{"$f":"IF(vmSTI=\"Yes\",TRUE,FALSE)","v":false},null,false]
[null,"Threshold Requirements",{"$f":"ROW('Threshold Requirements'!A175)","v":175},{"$f":"ROW('Threshold Requirements'!A186)","v":186},null,null,{"$f":"OR(ComponentVisibility[[#This Row],[Force True]],AND(ComponentVisibility[[#This Row],[Program True]],NOT(ComponentVisibility[[#This Row],[Force False]])))","v":false},"Visible row(s) if true",{"$f":"IF(vmTRA=\"Yes\",TRUE,FALSE)","v":false},null,false]
[null,"Threshold Requirements",{"$f":"ROW('Threshold Requirements'!A187)","v":187},{"$f":"ROW('Threshold Requirements'!A198)","v":198},null,null,{"$f":"OR(ComponentVisibility[[#This Row],[Force True]],AND(ComponentVisibility[[#This Row],[Program True]],NOT(ComponentVisibility[[#This Row],[Force False]])))","v":false},"Visible row(s) if true",{"$f":"IF(vmPGM=\"Yes\",TRUE,FALSE)","v":false},null,false]
[null,"Threshold Requirements",{"$f":"ROW('Threshold Requirements'!A203)","v":203},{"$f":"ROW('Threshold Requirements'!A205)","v":205},null,null,{"$f":"OR(ComponentVisibility[[#This Row],[Force True]],AND(ComponentVisibility[[#This Row],[Program True]],NOT(ComponentVisibility[[#This Row],[Force False]])))","v":false},"Visible row(s) if true",{"$f":"IF(vmIndianCountry=\"Indian Country\",TRUE,FALSE)","v":false},null,false]
[null,"Threshold Requirements",{"$f":"ROW('Threshold Requirements'!A207)","v":207},{"$f":"ROW('Threshold Requirements'!A216)","v":216},null,null,{"$f":"OR(ComponentVisibility[[#This Row],[Force True]],AND(ComponentVisibility[[#This Row],[Program True]],NOT(ComponentVisibility[[#This Row],[Force False]])))","v":false},"Visible row(s) if true",{"$f":"IF(vmAHD=\"Yes\",TRUE,FALSE)","v":false},null,false]
[null,"Threshold Requirements",{"$f":"ROW('Threshold Requirements'!A210)","v":210},{"$f":"ROW('Threshold Requirements'!A211)","v":211},null,null,{"$f":"OR(ComponentVisibility[[#This Row],[Force True]],AND(ComponentVisibility[[#This Row],[Program True]],NOT(ComponentVisibility[[#This Row],[Force False]])))","v":false},"Visible row(s) if true",{"$f":"IF(vmAHDGL=\"Yes\",TRUE,FALSE)","v":false},null,false]
[null,"Threshold Requirements",{"$f":"ROW('Threshold Requirements'!A217)","v":217},{"$f":"ROW('Threshold Requirements'!A225)","v":225},null,null,{"$f":"OR(ComponentVisibility[[#This Row],[Force True]],AND(ComponentVisibility[[#This Row],[Program True]],NOT(ComponentVisibility[[#This Row],[Force False]])))","v":false},"Visible row(s) if true",{"$f":"IF(vmHRI=\"Yes\",TRUE,FALSE)","v":false},null,false]
[null,"Threshold Requirements",{"$f":"ROW('Threshold Requirements'!A220)","v":220},{"$f":"ROW('Threshold Requirements'!A221)","v":221},null,null,{"$f":"OR(ComponentVisibility[[#This Row],[Force True]],AND(ComponentVisibility[[#This Row],[Program True]],NOT(ComponentVisibility[[#This Row],[Force False]])))","v":false},"Visible row(s) if true",{"$f":"IF(vmHRIGL=\"Yes\",TRUE,FALSE)","v":false},null,false]
[null,"Threshold Requirements",{"$f":"ROW('Threshold Requirements'!A226)","v":226},{"$f":"ROW('Threshold Requirements'!A234)","v":234},null,null,{"$f":"OR(ComponentVisibility[[#This Row],[Force True]],AND(ComponentVisibility[[#This Row],[Program True]],NOT(ComponentVisibility[[#This Row],[Force False]])))","v":false},"Visible row(s) if true",{"$f":"IF(vmSTI=\"Yes\",TRUE,FALSE)","v":false},null,false]
[null,"Threshold Requirements",{"$f":"ROW('Threshold Requirements'!A229)","v":229},{"$f":"ROW('Threshold Requirements'!A230)","v":230},null,null,{"$f":"OR(ComponentVisibility[[#This Row],[Force True]],AND(ComponentVisibility[[#This Row],[Program True]],NOT(ComponentVisibility[[#This Row],[Force False]])))","v":false},"Visible row(s) if true",{"$f":"IF(vmSTIGL=\"Yes\",TRUE,FALSE)","v":false},null,false]
[null,"Threshold Requirements",{"$f":"ROW('Threshold Requirements'!A235)","v":235},{"$f":"ROW('Threshold Requirements'!A243)","v":243},null,null,{"$f":"OR(ComponentVisibility[[#This Row],[Force True]],AND(ComponentVisibility[[#This Row],[Program True]],NOT(ComponentVisibility[[#This Row],[Force False]])))","v":false},"Visible row(s) if true",{"$f":"IF(vmTRA=\"Yes\",TRUE,FALSE)","v":false},null,false]
[null,"Threshold Requirements",{"$f":"ROW('Threshold Requirements'!A238)","v":238},{"$f":"ROW('Threshold Requirements'!A239)","v":239},null,null,{"$f":"OR(ComponentVisibility[[#This Row],[Force True]],AND(ComponentVisibility[[#This Row],[Program True]],NOT(ComponentVisibility[[#This Row],[Force False]])))","v":false},"Visible row(s) if true",{"$f":"IF(vmTRAGL=\"Yes\",TRUE,FALSE)","v":false},null,false]
[null,"Threshold Requirements",{"$f":"ROW('Threshold Requirements'!A253)","v":253},{"$f":"ROW('Threshold Requirements'!A266)","v":266},null,null,{"$f":"OR(ComponentVisibility[[#This Row],[Force True]],AND(ComponentVisibility[[#This Row],[Program True]],NOT(ComponentVisibility[[#This Row],[Force False]])))","v":false},"Visible row(s) if true",{"$f":"IF(vmAHD=\"Yes\",TRUE,FALSE)","v":false},null,false]
[null,"Threshold Requirements",{"$f":"ROW('Threshold Requirements'!A281)","v":281},{"$f":"ROW('Threshold Requirements'!A281)","v":281},null,null,{"$f":"OR(ComponentVisibility[[#This Row],[Force True]],AND(ComponentVisibility[[#This Row],[Program True]],NOT(ComponentVisibility[[#This Row],[Force False]])))","v":false},"Visible row(s) if true",{"$f":"IF(vmSTI=\"Yes\",TRUE,IF(vmTRA=\"Yes\",TRUE,FALSE))","v":false},null,false]
[null,"Threshold Requirements",{"$f":"ROW('Threshold Requirements'!A267)","v":267},{"$f":"ROW('Threshold Requirements'!A280)","v":280},null,null,{"$f":"OR(ComponentVisibility[[#This Row],[Force True]],AND(ComponentVisibility[[#This Row],[Program True]],NOT(ComponentVisibility[[#This Row],[Force False]])))","v":false},"Visible row(s) if true",{"$f":"IF(vmHRI=\"Yes\",TRUE,FALSE)","v":false},null,false]
[null,"Threshold Requirements",{"$f":"ROW('Threshold Requirements'!A283)","v":283},{"$f":"ROW('Threshold Requirements'!A316)","v":316},null,null,{"$f":"OR(ComponentVisibility[[#This Row],[Force True]],AND(ComponentVisibility[[#This Row],[Program True]],NOT(ComponentVisibility[[#This Row],[Force False]])))","v":false},"Visible row(s) if true",{"$f":"IF(vmSTI=\"Yes\",TRUE,FALSE)","v":false},null,false]
[null,"Threshold Requirements",{"$f":"ROW('Threshold Requirements'!A293)","v":293},{"$f":"ROW('Threshold Requirements'!A303)","v":303},null,null,{"$f":"OR(ComponentVisibility[[#This Row],[Force True]],AND(ComponentVisibility[[#This Row],[Program True]],NOT(ComponentVisibility[[#This Row],[Force False]])))","v":false},"Visible row(s) if true",{"$f":"IF(vmSTI2=\"Yes\",TRUE,FALSE)","v":false},null,false]
[null,"Threshold Requirements",{"$f":"ROW('Threshold Requirements'!A304)","v":304},{"$f":"ROW('Threshold Requirements'!A314)","v":314},null,null,{"$f":"OR(ComponentVisibility[[#This Row],[Force True]],AND(ComponentVisibility[[#This Row],[Program True]],NOT(ComponentVisibility[[#This Row],[Force False]])))","v":false},"Visible row(s) if true",{"$f":"IF(vmSTI3=\"Yes\",TRUE,FALSE)","v":false},null,false]
[null,"Threshold Requirements",{"$f":"ROW('Threshold Requirements'!A317)","v":317},{"$f":"ROW('Threshold Requirements'!A349)","v":349},null,null,{"$f":"OR(ComponentVisibility[[#This Row],[Force True]],AND(ComponentVisibility[[#This Row],[Program True]],NOT(ComponentVisibility[[#This Row],[Force False]])))","v":false},"Visible row(s) if true",{"$f":"IF(vmTRA=\"Yes\",TRUE,FALSE)","v":false},null,false]
[null,"Threshold Requirements",{"$f":"ROW('Threshold Requirements'!A327)","v":327},{"$f":"ROW('Threshold Requirements'!A337)","v":337},null,null,{"$f":"OR(ComponentVisibility[[#This Row],[Force True]],AND(ComponentVisibility[[#This Row],[Program True]],NOT(ComponentVisibility[[#This Row],[Force False]])))","v":false},"Visible row(s) if true",{"$f":"IF(vmTRA2=\"Yes\",TRUE,FALSE)","v":false},null,false]
[null,"Threshold Requirements",{"$f":"ROW('Threshold Requirements'!A338)","v":338},{"$f":"ROW('Threshold Requirements'!A348)","v":348},null,null,{"$f":"OR(ComponentVisibility[[#This Row],[Force True]],AND(ComponentVisibility[[#This Row],[Program True]],NOT(ComponentVisibility[[#This Row],[Force False]])))","v":false},"Visible row(s) if true",{"$f":"IF(vmTRA3=\"Yes\",TRUE,FALSE)","v":false},null,false]
[null,"Threshold Requirements",{"$f":"ROW('Threshold Requirements'!A357)","v":357},{"$f":"ROW('Threshold Requirements'!A358)","v":358},null,null,{"$f":"OR(ComponentVisibility[[#This Row],[Force True]],AND(ComponentVisibility[[#This Row],[Program True]],NOT(ComponentVisibility[[#This Row],[Force False]])))","v":false},"Visible row(s) if true",{"$f":"IF(vmHousingElement=\"Yes\",TRUE,FALSE)","v":false},null,false]
[null,"Threshold Requirements",{"$f":"ROW('Threshold Requirements'!A359)","v":359},{"$f":"ROW('Threshold Requirements'!A360)","v":360},null,null,{"$f":"OR(ComponentVisibility[[#This Row],[Force True]],AND(ComponentVisibility[[#This Row],[Program True]],NOT(ComponentVisibility[[#This Row],[Force False]])))","v":false},"Visible row(s) if true",{"$f":"IF(vmHousingElement=\"No\",TRUE,FALSE)","v":false},null,false]
[null,"Threshold Requirements",{"$f":"ROW('Threshold Requirements'!A361)","v":361},{"$f":"ROW('Threshold Requirements'!A361)","v":361},null,null,{"$f":"OR(ComponentVisibility[[#This Row],[Force True]],AND(ComponentVisibility[[#This Row],[Program True]],NOT(ComponentVisibility[[#This Row],[Force False]])))","v":false},"Visible row(s) if true",{"$f":"IF(vmHETA1=\"Yes\",TRUE,IF(vmHETA2=\"Yes\",TRUE,FALSE))","v":false},null,false]
[null,"Threshold Requirements",{"$f":"ROW('Threshold Requirements'!A365)","v":365},{"$f":"ROW('Threshold Requirements'!A365)","v":365},null,null,{"$f":"OR(ComponentVisibility[[#This Row],[Force True]],AND(ComponentVisibility[[#This Row],[Program True]],NOT(ComponentVisibility[[#This Row],[Force False]])))","v":false},"Visible row(s) if true",{"$f":"IF(vmElectricPowered=\"Yes\",TRUE,FALSE)","v":false},null,false]
[null,"Threshold Requirements",{"$f":"ROW('Threshold Requirements'!A369)","v":369},{"$f":"ROW('Threshold Requirements'!A369)","v":369},null,null,{"$f":"OR(ComponentVisibility[[#This Row],[Force True]],AND(ComponentVisibility[[#This Row],[Program True]],NOT(ComponentVisibility[[#This Row],[Force False]])))","v":false},"Visible row(s) if true",{"$f":"vmHSB=\"No\"","v":false},null,false]
[null,"Threshold Requirements",{"$f":"ROW('Threshold Requirements'!A373)","v":373},{"$f":"ROW('Threshold Requirements'!A373)","v":373},null,null,{"$f":"OR(ComponentVisibility[[#This Row],[Force True]],AND(ComponentVisibility[[#This Row],[Program True]],NOT(ComponentVisibility[[#This Row],[Force False]])))","v":false},"Visible row(s) if true",{"$f":"IF(vmSFH=\"Yes\",TRUE,FALSE)","v":false},null,false]
[null,"Threshold Requirements",{"$f":"ROW('Threshold Requirements'!A378)","v":378},{"$f":"ROW('Threshold Requirements'!A378)","v":378},null,null,{"$f":"OR(ComponentVisibility[[#This Row],[Force True]],AND(ComponentVisibility[[#This Row],[Program True]],NOT(ComponentVisibility[[#This Row],[Force False]])))","v":false},"Visible row(s) if true",{"$f":"IF(vmAHD=\"Yes\",TRUE,FALSE)","v":false},null,false]
[null,"Threshold Requirements",{"$f":"ROW('Threshold Requirements'!A383)","v":383},{"$f":"ROW('Threshold Requirements'!A383)","v":383},null,null,{"$f":"OR(ComponentVisibility[[#This Row],[Force True]],AND(ComponentVisibility[[#This Row],[Program True]],NOT(ComponentVisibility[[#This Row],[Force False]])))","v":false},"Visible row(s) if true",{"$f":"IF(vmDemolition1=\"Yes\",TRUE,FALSE)","v":false},null,false]
[null,"Threshold Requirements",{"$f":"ROW('Threshold Requirements'!A385)","v":385},{"$f":"ROW('Threshold Requirements'!A386)","v":386},null,null,{"$f":"OR(ComponentVisibility[[#This Row],[Force True]],AND(ComponentVisibility[[#This Row],[Program True]],NOT(ComponentVisibility[[#This Row],[Force False]])))","v":false},"Visible row(s) if true",{"$f":"IF(vmDemolition2=\"Yes\",TRUE,FALSE)","v":false},null,false]
[null,"Threshold Requirements",{"$f":"ROW('Threshold Requirements'!A389)","v":389},{"$f":"ROW('Threshold Requirements'!A390)","v":390},null,null,{"$f":"OR(ComponentVisibility[[#This Row],[Force True]],AND(ComponentVisibility[[#This Row],[Program True]],NOT(ComponentVisibility[[#This Row],[Force False]])))","v":false},"Visible row(s) if true",{"$f":"IF(vmDemolition3=\"Yes\",TRUE,FALSE)","v":false},null,false]
[null,"Threshold Requirements",{"$f":"ROW('Threshold Requirements'!A394)","v":394},{"$f":"ROW('Threshold Requirements'!A395)","v":395},null,null,{"$f":"OR(ComponentVisibility[[#This Row],[Force True]],AND(ComponentVisibility[[#This Row],[Program True]],NOT(ComponentVisibility[[#This Row],[Force False]])))","v":false},"Visible row(s) if true",{"$f":"IF(vmHRI=\"Yes\",TRUE,FALSE)","v":false},null,false]
[null,"Threshold Requirements",{"$f":"ROW('Threshold Requirements'!A396)","v":396},{"$f":"ROW('Threshold Requirements'!A396)","v":396},null,null,{"$f":"OR(ComponentVisibility[[#This Row],[Force True]],AND(ComponentVisibility[[#This Row],[Program True]],NOT(ComponentVisibility[[#This Row],[Force False]])))","v":false},"Visible row(s) if true",{"$f":"IF(vmHRIApproval=\"Yes\",TRUE,FALSE)","v":false},null,false]
[null,"High-Cost Verification",{"$f":"ROW('High-Cost Verification'!A23)","v":23},{"$f":"ROW('High-Cost Verification'!A40)","v":40},null,null,{"$f":"OR(ComponentVisibility[[#This Row],[Force True]],AND(ComponentVisibility[[#This Row],[Program True]],NOT(ComponentVisibility[[#This Row],[Force False]])))","v":false},"Visible row(s) if true",{"$f":"IF(vmHighE=\"Yes\",TRUE,FALSE)","v":false},null,false]
[null,"Developer Fee",{"$f":"ROW('Developer Fee'!A14)","v":14},{"$f":"ROW('Developer Fee'!A61)","v":61},null,null,{"$f":"OR(ComponentVisibility[[#This Row],[Force True]],AND(ComponentVisibility[[#This Row],[Program True]],NOT(ComponentVisibility[[#This Row],[Force False]])))","v":true},"Visible row(s) if true",{"$f":"vmDF=\"\"","v":true},null,false]
[null,"Developer Fee",{"$f":"ROW('Developer Fee'!A35)","v":35},{"$f":"ROW('Developer Fee'!A61)","v":61},null,null,{"$f":"OR(ComponentVisibility[[#This Row],[Force True]],AND(ComponentVisibility[[#This Row],[Program True]],NOT(ComponentVisibility[[#This Row],[Force False]])))","v":false},"Visible row(s) if true",{"$f":"vmDF=\"No Tax Credits\"","v":false},null,false]
[null,"Developer Fee",{"$f":"ROW('Developer Fee'!A14)","v":14},{"$f":"ROW('Developer Fee'!A33)","v":33},null,null,{"$f":"OR(ComponentVisibility[[#This Row],[Force True]],AND(ComponentVisibility[[#This Row],[Program True]],NOT(ComponentVisibility[[#This Row],[Force False]])))","v":false},"Visible row(s) if true",{"$f":"OR(vmDF=\"4% Credits New Construction\",vmDF=\"4% Credits Rehabilitation\",vmDF=\"4% Credits Acq. Rehabilitation\",vmDF=\"4% Credits Adaptive Reuse\")","v":false},null,false]
[null,"Developer Fee",{"$f":"ROW('Developer Fee'!A14)","v":14},{"$f":"ROW('Developer Fee'!A20)","v":20},null,null,{"$f":"OR(ComponentVisibility[[#This Row],[Force True]],AND(ComponentVisibility[[#This Row],[Program True]],NOT(ComponentVisibility[[#This Row],[Force False]])))","v":false},"Visible row(s) if true",{"$f":"IF(OR(vmDF=\"9% Credits New Construction\",vmDF=\"9% Credits Rehabilitation\",vmDF=\"9% Credits Acq. Rehabilitation\",vmDF=\"9% Credits Adaptive Reuse\"),TRUE,IF($I$177=TRUE,TRUE,FALSE))","v":false},null,false]
[null,"Certification & Legal",{"$f":"ROW('Certification & Legal'!A37)","v":37},{"$f":"ROW('Certification & Legal'!A38)","v":38},null,null,{"$f":"OR(ComponentVisibility[[#This Row],[Force True]],AND(ComponentVisibility[[#This Row],[Program True]],NOT(ComponentVisibility[[#This Row],[Force False]])))","v":false},"Visible row(s) if true",{"$f":"IF(OR('Certification & Legal'!$AL$24=\"Yes\",'Certification & Legal'!$AL$25=\"Yes\",'Certification & Legal'!$AL$26=\"Yes\",'Certification & Legal'!$AL$27=\"Yes\",'Certification & Legal'!$AL$28=\"Yes\",'Certification & Legal'!$AL$30=\"Yes\",'Certification & Legal'!$AL$31=\"Yes\",'Certification & Legal'!$AL$32=\"Yes\",'Certification & Legal'!$AL$33=\"Yes\",'Certification & Legal'!$AL$34=\"Yes\",'Certification & Legal'!$AL$35=\"Yes\",'Certification & Legal'!$AL$36=\"Yes\"),TRUE,FALSE)","v":false},null,false]
[null,"Quantitative Policy Scoring",{"$f":"ROW('Quantitative Policy Scoring'!A24)","v":24},{"$f":"ROW('Quantitative Policy Scoring'!A25)","v":25},null,null,{"$f":"OR(ComponentVisibility[[#This Row],[Force True]],AND(ComponentVisibility[[#This Row],[Program True]],NOT(ComponentVisibility[[#This Row],[Force False]])))","v":false},"Visible row(s) if true",{"$f":"IF(vmLINK=\"Yes\",TRUE,FALSE)","v":false},null,false]
[null,"Quantitative Policy Scoring",{"$f":"ROW('Quantitative Policy Scoring'!A53)","v":53},{"$f":"ROW('Quantitative Policy Scoring'!A53)","v":53},null,null,{"$f":"OR(ComponentVisibility[[#This Row],[Force True]],AND(ComponentVisibility[[#This Row],[Program True]],NOT(ComponentVisibility[[#This Row],[Force False]])))","v":false},"Visible row(s) if true",{"$f":"IF(OR('Quantitative Policy Scoring'!$AK$47=\"Yes\",'Quantitative Policy Scoring'!$AK$48=\"Yes\",'Quantitative Policy Scoring'!$AK$49=\"Yes\",'Quantitative Policy Scoring'!$AK$50=\"Yes\",'Quantitative Policy Scoring'!$AK$51=\"Yes\",'Quantitative Policy Scoring'!$AK$52=\"Yes\"),TRUE,FALSE)","v":false},null,false]
[null,"Quantitative Policy Scoring",{"$f":"ROW('Quantitative Policy Scoring'!A64)","v":64},{"$f":"ROW('Quantitative Policy Scoring'!A69)","v":69},null,null,{"$f":"OR(ComponentVisibility[[#This Row],[Force True]],AND(ComponentVisibility[[#This Row],[Program True]],NOT(ComponentVisibility[[#This Row],[Force False]])))","v":false},"Visible row(s) if true",{"$f":"IF(vmSTI=\"Yes\",TRUE,FALSE)","v":false},null,false]
[null,"Quantitative Policy Scoring",{"$f":"ROW('Quantitative Policy Scoring'!A70)","v":70},{"$f":"ROW('Quantitative Policy Scoring'!A72)","v":72},null,null,{"$f":"OR(ComponentVisibility[[#This Row],[Force True]],AND(ComponentVisibility[[#This Row],[Program True]],NOT(ComponentVisibility[[#This Row],[Force False]])))","v":false},"Visible row(s) if true",{"$f":"IF(vmTRA=\"Yes\",TRUE,FALSE)","v":false},null,false]
[null,"Quantitative Policy Scoring",{"$f":"ROW('Quantitative Policy Scoring'!A80)","v":80},{"$f":"ROW('Quantitative Policy Scoring'!A81)","v":81},null,null,{"$f":"OR(ComponentVisibility[[#This Row],[Force True]],AND(ComponentVisibility[[#This Row],[Program True]],NOT(ComponentVisibility[[#This Row],[Force False]])))","v":false},"Visible row(s) if true",{"$f":"IF(vmCIC=\"Yes\",TRUE,FALSE)","v":false},null,false]
[null,"Quantitative Policy Scoring",{"$f":"ROW('Quantitative Policy Scoring'!A88)","v":88},{"$f":"ROW('Quantitative Policy Scoring'!A95)","v":95},null,null,{"$f":"OR(ComponentVisibility[[#This Row],[Force True]],AND(ComponentVisibility[[#This Row],[Program True]],NOT(ComponentVisibility[[#This Row],[Force False]])))","v":false},"Visible row(s) if true",{"$f":"vmSPL=\"Yes\"","v":false},null,false]
[null,"Quantitative Policy Scoring",{"$f":"ROW('Quantitative Policy Scoring'!A96)","v":96},{"$f":"ROW('Quantitative Policy Scoring'!A96)","v":96},null,null,{"$f":"OR(ComponentVisibility[[#This Row],[Force True]],AND(ComponentVisibility[[#This Row],[Program True]],NOT(ComponentVisibility[[#This Row],[Force False]])))","v":false},"Visible row(s) if true",{"$f":"IF(vmHSRS=\"Yes\",TRUE,IF(vmCIC=\"Yes\",TRUE,IF(vmUPOL=\"Yes\",TRUE,IF(vmSPL=\"Yes\",TRUE,FALSE))))","v":false},null,false]
[null,"Quantitative Policy Scoring",{"$f":"ROW('Quantitative Policy Scoring'!A136)","v":136},{"$f":"ROW('Quantitative Policy Scoring'!A137)","v":137},null,null,{"$f":"OR(ComponentVisibility[[#This Row],[Force True]],AND(ComponentVisibility[[#This Row],[Program True]],NOT(ComponentVisibility[[#This Row],[Force False]])))","v":false},"Visible row(s) if true",{"$f":"IF(OR('Quantitative Policy Scoring'!$AK$126=\"Yes\",'Quantitative Policy Scoring'!$AK$127=\"Yes\",'Quantitative Policy Scoring'!$AK$128=\"Yes\",'Quantitative Policy Scoring'!$AK$129=\"Yes\",'Quantitative Policy Scoring'!$AK$130=\"Yes\",'Quantitative Policy Scoring'!$AK$131=\"Yes\",'Quantitative Policy Scoring'!$AK$132=\"Yes\",'Quantitative Policy Scoring'!$AK$133=\"Yes\",'Quantitative Policy Scoring'!$AK$134=\"Yes\",'Quantitative Policy Scoring'!$AK$135=\"Yes\"),TRUE,FALSE)","v":false},null,false]
[null,"Quantitative Policy Scoring",{"$f":"ROW('Quantitative Policy Scoring'!A144)","v":144},{"$f":"ROW('Quantitative Policy Scoring'!A144)","v":144},null,null,{"$f":"OR(ComponentVisibility[[#This Row],[Force True]],AND(ComponentVisibility[[#This Row],[Program True]],NOT(ComponentVisibility[[#This Row],[Force False]])))","v":false},"Visible row(s) if true",{"$f":"IF(vmWS=\"Yes\",TRUE,FALSE)","v":false},null,false]
[null,"Quantitative Policy Scoring",{"$f":"ROW('Quantitative Policy Scoring'!A147)","v":147},{"$f":"ROW('Quantitative Policy Scoring'!A147)","v":147},null,null,{"$f":"OR(ComponentVisibility[[#This Row],[Force True]],AND(ComponentVisibility[[#This Row],[Program True]],NOT(ComponentVisibility[[#This Row],[Force False]])))","v":false},"Visible row(s) if true",{"$f":"IF(vmSW=\"Yes\",TRUE,FALSE)","v":false},null,false]
[null,"Quantitative Policy Scoring",{"$f":"ROW('Quantitative Policy Scoring'!A150)","v":150},{"$f":"ROW('Quantitative Policy Scoring'!A150)","v":150},null,null,{"$f":"OR(ComponentVisibility[[#This Row],[Force True]],AND(ComponentVisibility[[#This Row],[Program True]],NOT(ComponentVisibility[[#This Row],[Force False]])))","v":false},"Visible row(s) if true",{"$f":"IF(vmCWA=\"Yes\",TRUE,FALSE)","v":false},null,false]
[null,"Quantitative Policy Scoring",{"$f":"ROW('Quantitative Policy Scoring'!A153)","v":153},{"$f":"ROW('Quantitative Policy Scoring'!A153)","v":153},null,null,{"$f":"OR(ComponentVisibility[[#This Row],[Force True]],AND(ComponentVisibility[[#This Row],[Program True]],NOT(ComponentVisibility[[#This Row],[Force False]])))","v":false},"Visible row(s) if true",{"$f":"IF(vmLHO=\"Yes\",TRUE,FALSE)","v":false},null,false]
[null,"Quantitative Policy Scoring",{"$f":"ROW('Quantitative Policy Scoring'!A167)","v":167},{"$f":"ROW('Quantitative Policy Scoring'!A173)","v":173},null,null,{"$f":"OR(ComponentVisibility[[#This Row],[Force True]],AND(ComponentVisibility[[#This Row],[Program True]],NOT(ComponentVisibility[[#This Row],[Force False]])))","v":false},"Visible row(s) if true",{"$f":"IF(OR(vmHousingType=\"Homeownership\",vmHousingType=\"Both\"),TRUE,FALSE)","v":false},null,false]
[null,"Quantitative Policy Scoring",{"$f":"ROW('Quantitative Policy Scoring'!A184)","v":184},{"$f":"ROW('Quantitative Policy Scoring'!A186)","v":186},null,null,{"$f":"OR(ComponentVisibility[[#This Row],[Force True]],AND(ComponentVisibility[[#This Row],[Program True]],NOT(ComponentVisibility[[#This Row],[Force False]])))","v":false},"Visible row(s) if true",{"$f":"IF(OR(vmPPW=\"(A)\",vmPPW=\"(B)\",vmPPW=\"(C)\",vmPPW=\"(D)\"),TRUE,FALSE)","v":false},null,false]

{"sheet":"Dropdowns","index":2,"n_rows":68,"n_cols":19,"rows_kept":68,"cut":false,"hidden":true,"merged":[]}
["Alameda","none","More than 2,000 feet","none",null,"none","None","Fixed for Term","Interest Only","Fully Amortized","New Bus Service (local bus)","Congestion Management Agency","none","single story","Incorporation of greenscaped pedestrian and bicycle trail systems","Non-MPO area","Majority of the project is located within the boundaries of a disadvantaged community census tract","Host community meetings, workshops, outreach efforts, or public meetings as part of planning process to engage local residents and community groups for input on community or household needs, and provide documentation showing how the received input was considered in the selection of projects that address those needs","A majority (>50%) of the project is within one or more AB 1550 communities and reduces vehicle miles travelled (e.g., through affordable housing development and improved sustainable transportation infrastructure), and the project is designed to avoid displacement of residents from these communities"]
["Alpine","Reduce vehicular speed or volume near bicycle users","1,000 to 1,999 feet","Reduce vehicular speed or volume near pedestrians",null,"Project units where two out of three of the major energy appliances (cook stoves, space heating, water heating) will be electric. Projects will be wired to be electric ready (having 240 volts outlets near each gas appliance).","Transformative Climate Communities (TCC)","Fixed with Reset","Deferred","Amortized with Call","New Bus Service (long distance commuter)","Developer","Active Transportation Programs ","town-house","Urban street canopy","Association of Monterey Bay Area Governments (AMBAG)","Majority of the project is located within the boundaries of a low-income community census tract","Look at the individual factors in CalEnviroScreen 3.02 that are most impacting an identified disadvantaged or low-income community (i.e., factors that score above the 75th percentile), and select a project that reduces the impacts of one of those factors","Project preserves the supply of affordable housing that is at-risk of conversion to market rate (e.g., through acquisition and substantial rehabilitation) for residents of AB 1550 communities and low-income households"]
["Amador","Improve sight distance and visibility","Less than 1,000 feet","Improve sight distance and visibility",null,"Project will be powered entirely through electricity with no connections to natural gas infrastructure.","Sustainable Agricultural Lands Conservation (SALC)","Fixed, then Variable","None","Residual Receipts","New Train Service","Facilites District","Transit Ridership Programs","mid-rise buildings","Green alleys","Butte County Association of Governments (BCAG)","Low-income households or low-income communities outside of, but within 1/2 mile (buffer) of, disadvantaged communities","Receive documentation of support from local community-based organizations and/or residents (e.g., letters, emails) and select a project with documented broad community support","Project includes recruitment, agreements, policies or other approaches that are consistent with federal and state law and result in at least 25 percent of project work hours performed by residents of an AB 1550 community, or by residents of low-income households"]
["Butte","Eliminate potential conflict points",null,"Eliminate potential conflict points",null,null,"Health and Equity Program (HEP)","Variable","Other","Deferred","New Ferry Service","Joint Powers Authority (JPA)","Criteria Air Pollutant Programs","high-rise buildings","Drought tolerant and native species landscaping and landscape restoration","Fresno Council of Governments (FresnoCOG)","Project provides jobs or job training to residents of low-income households","Refer to the list of common needs for disadvantaged communities in CARB’s Funding Guidelines Table 2-2 (and attached herein for reference) and select a project that addresses a listed need","Project includes recruitment, agreements, policies or other approaches that are consistent with federal and state law and result in at least 10 percent of project work hours performed by residents of an AB 1550 community, or by residents of low-income households, participating in job training programs which lead to industry-recognized credentials or certifications"]
["Calaveras","Improve compliance with traffic laws",null,"Improve compliance with traffic laws",null,null,"Community Assistance for Climate Equity Program (CACE)","Other",null,"Interest Only","Vanpool","Local Transportation Commission","Workforce Development Programs",null,"Green roofing","Kern Council of Governments (KCOG)"]
["Colusa","Address other barriers that may have existed",null,"Address other barriers that may have existed",null,null,"Community Resilience Centers",null,null,"Fixed to Float","Shuttle","Locality","Car Share Programs",null,"Community gardens","Kings County Association of Governments (KCAG)"]
["Contra Costa",null,null,null,null,null,"Climate Change Research Program",null,null,"MHP-Partial Interest Only","Capital Improvements","Program Operator",null,null,"Natural infrastructure","Madera County Transportation Commission (Madera CTC)"]
["Del Norte",null,null,null,null,null,null,null,null,null,"Bicycle Paths Class 1","Public Housing Authority",null,null,"Stormwater features into public open spaces","Merced County Association of Governments (MCAG)"]
["El Dorado",null,null,null,null,null,null,null,null,null,"Bicycle Lanes Class 2","Redevelopment Successory Agency",null,null,"Enhancement/expansion of neighborhood parks and community space","Metropolitan Transportation Commission (MTC)"]
["Fresno",null,null,null,null,null,null,null,null,null,"Bikeway Class 4","Regional Transportation Planning Agency (RTPA)",null,null,"Greening of public lands & structures (may include riparian habitat for water capture/wildlife)","Sacramento Area Council of Governments (SACOG)"]
["Glenn",null,"Alameda","San Francisco Bay Area",null,null,null,null,"Fixed for Term",null,"Bike Share","School District",null,null,"Green streets and alleyways","San Diego Association of Governments (SANDAG)"]
["Humboldt",null,"Alpine","North State & Sierras",null,null,null,null,"Fixed with Reset",null,"Pedestrian Facilities","Transit Agency or Transit Operator","Active Transportation encouragement and safety",null,"Non-motorized urban trails (safe routes between residences, workplaces, commercial and schools)","San Joaquin Council of Governments (SJCOG)"]
["Imperial",null,"Amador","North State & Sierras",null,null,null,null,"Fixed, then Variable",null,null,"Tribal Entity","AHD resident support",null,"Urban heat island mitigation and energy conservation efforts","San Luis Obispo Council of Governments (SLOCOG)"]
["Inyo",null,"Butte","North State & Sierras","Residential_Construction","Non_Residential_Construction",null,null,"Variable",null,null,"University or Community College District","Anti-displacement activities",null,null,"Santa Barbara County Association of Governments (SBCAG)"]
["Kern",null,"Calaveras","North State & Sierras","none","CalGreen Tier 2",null,null,"Other",null,null,null,"Air pollution exposure reduction program",null,null,"Shasta County Regional Transportation Planning Agency (SCRTPA)"]
["Kings",null,"Colusa","North State & Sierras","CalGreen Tier 2","LEED Gold",null,null,"None",null,null,null,"Internet Service",null,null,"Southern California Association of Governments (SCAG)"]
["Lake",null,"Contra Costa","San Francisco Bay Area","LEED Gold",null,null,null,null,null,null,null,"Low-income ZEV car sharing",null,null,"Stanislaus Council of Governments (StanCOG)"]
["Lassen",null,"Del Norte","North State & Sierras","Green Point Rated New Construction: Gold",null,null,null,null,null,null,null,"Tenant Legal Counseling",null,null,"Tahoe Metropolitan Planning Organization (TMPO)"]
["Los Angeles",null,"El Dorado","Sacramento Area","Green Point Rated Rehab: Whole Building",null,null,null,null,null,null,null,"Transit Passes",null,null,"Tulare County Association of Governments (TCAG)"]
["Madera",null,"Fresno","San Joaquin Valley","ENERGY STAR Certified Home",null,null,null,null,null,"Federal",null,"Workforce Development"]
["Marin",null,"Glenn","North State & Sierras","Living Future Challenge - Living Building",null,null,null,null,null,"4% tax credits"]
["Mariposa",null,"Humboldt","North State & Sierras",null,null,null,null,null,null,"9% tax credits"]
["Mendocino",null,"Imperial","Inland Southern California",null,null,null,null,null,null,"Local"]
["Merced",null,"Inyo","North State & Sierras",null,null,null,null,null,null,"Local Fee Waiver"]
["Modoc",null,"Kern","San Joaquin Valley",null,null,null,null,null,null,"Local Land Donation"]
["Mono",null,"Kings","San Joaquin Valley",{"$f":"INDIRECT(E14)","v":"none"},null,null,null,null,null,"Other"]
["Monterey",null,"Lake","North State & Sierras","CalGreen Tier 2",null,null,null,null,null,"Private"]
["Napa",null,"Lassen","North State & Sierras","LEED Gold",null,null,null,null,null,"State-General"]
["Nevada",null,"Los Angeles","Coastal Southern California","Green Point Rated New Construction: Gold",null,null,null,null,null,"State-GGRF"]
["Orange",null,"Madera","San Joaquin Valley","Green Point Rated Rehab: Whole Building",null,null,null,null,null,"State-HCD"]
["Placer",null,"Marin","San Francisco Bay Area","ENERGY STAR Certified Home"]
["Plumas",null,"Mariposa","North State & Sierras","Living Future Challenge - Living Building"]
["Riverside",null,"Mendocino","North State & Sierras"]
["Sacramento",null,"Merced","San Joaquin Valley"]
["San Benito",null,"Modoc","North State & Sierras"]
["San Bernardino",null,"Mono","North State & Sierras"]
["San Diego",null,"Monterey","Central Coast"]
["San Francisco",null,"Napa","San Francisco Bay Area"]
["San Joaquin",null,"Nevada","North State & Sierras"]
["San Luis Obispo",null,"Orange","Coastal Southern California"]
["San Mateo",null,"Placer","Sacramento Area"]
["Santa Barbara",null,"Plumas","North State & Sierras"]
["Santa Clara",null,"Riverside","Inland Southern California"]
["Santa Cruz",null,"Sacramento","Sacramento Area"]
["Shasta",null,"San Benito","Central Coast"]
["Sierra",null,"San Bernardino","Inland Southern California"]
["Siskiyou",null,"San Diego","San Diego Area"]
["Solano",null,"San Francisco","San Francisco Bay Area"]
["Sonoma",null,"San Joaquin","San Joaquin Valley"]
["Stanislaus",null,"San Luis Obispo","Central Coast"]
["Sutter",null,"San Mateo","San Francisco Bay Area"]
["Tehama",null,"Santa Barbara","Central Coast"]
["Trinity",null,"Santa Clara","San Francisco Bay Area"]
["Tulare",null,"Santa Cruz","Central Coast"]
["Tuolumne",null,"Shasta","North State & Sierras"]
["Ventura",null,"Sierra","North State & Sierras"]
["Yolo",null,"Siskiyou","North State & Sierras"]
["Yuba",null,"Solano","San Francisco Bay Area"]
[null,null,"Sonoma","San Francisco Bay Area"]
[null,null,"Stanislaus","San Joaquin Valley"]
[null,null,"Sutter","Sacramento Area"]
[null,null,"Tehama","North State & Sierras"]
[null,null,"Trinity","North State & Sierras"]
[null,null,"Tulare","San Joaquin Valley"]
[null,null,"Tuolumne","North State & Sierras"]
[null,null,"Ventura","Central Coast"]
[null,null,"Yolo","Sacramento Area"]
[null,null,"Yuba","Sacramento Area"]

{"sheet":"AHSC Coverpage","index":3,"n_rows":42,"n_cols":3,"rows_kept":42,"cut":false,"hidden":false,"merged":[[1,1,1,8],[4,1,4,8],[5,1,5,8],[40,1,40,9],[8,1,8,8],[30,1,30,8],[37,1,37,8],[21,1,21,8],[22,1,22,8],[33,1,33,8],[35,1,35,8],[25,1,25,8],[24,1,24,8],[34,1,34,8],[31,1,31,8],[26,1,26,8],[36,1,36,8],[29,1,29,8],[28,1,28,8],[2,1,2,8]]}
[]
[null,"Affordable Housing and Sustainable Communities Program (AHSC)"]
[null,"NOFA Round 8 (January 19, 2024)\n\nFunding Application"]
[]
[]
[]
[]
[]
[]
[]
[]
[]
[]
[]
[]
[]
[]
[]
[]
[]
[]
[null,"State of California"]
[null,"Gavin Newsom, Governor "]
[]
[null,"Business, Consumer Services and Housing Agency"]
[null,"Tomiquia Moss, Secretary"]
[null,"https://www.bcsh.ca.gov/"]
[]
[null,"California Strategic Growth Council"]
[null,"Lynn von Koch-Liebert, Executive Director"]
[null,"ahsc@sgc.ca.gov"]
[null,"https://sgc.ca.gov"]
[]
[null,"Department of Housing and Community Development (HCD)"]
[null,"Gustavo Velasquez, Director"]
[null,"2020 West El Camino Avenue, Suite 150, Sacramento, CA 95833"]
[null,"AHSC@hcd.ca.gov"]
[null,"https://www.hcd.ca.gov"]
[]
[]
[null,"End of Document"]
[null,"V1","2024-01-19"]

{"sheet":"Instructions","index":4,"n_rows":21,"n_cols":31,"rows_kept":21,"cut":false,"hidden":false,"merged":[[1,1,1,38],[3,1,3,38],[7,1,7,38],[8,1,8,23],[8,24,8,38],[4,4,4,38],[9,1,9,38],[10,1,10,38],[13,1,13,38],[14,1,14,4],[14,5,14,38],[11,1,11,29],[11,30,11,38],[12,1,12,37],[18,1,18,38],[20,1,20,38],[15,1,15,4],[15,5,15,38],[16,1,16,4],[16,5,16,38],[17,1,17,4],[17,5,17,38]]}
[]
[null,"Instructions"]
[]
[null,"When opening this file, a yellow banner at the top may appear with a button that says, \"Enable Editing\", and/or \"Enable Macros\". It is essential that you click this box(es) so that the macros are enabled. Enabling macros is necessary for full workbook/application functionality.\n\nWARNING: Partial functionality of this application/workbook WILL BE LOST when using Apple Mac Computers. The Department highly recommends using PC Computers and Microsoft Office 2013 or newer to complete the application."]
[null,null,null,null,"Microsoft has recently added blocking of macros by default, if this happens when you open the application, please follow the instructions in the Word document added as an icon to the right (double-click to open)."]
[]
[]
[null,"Application materials must be submitted electronically via HCD portal system. Requirements for uploading the Application Workbook and required supporting "]
[null,"documentation, including naming conventions, are described in the application instructions available at  ",null,null,null,null,null,null,null,null,null,null,null,null,null,null,null,null,null,null,null,null,null,null,"https://www.hcd.ca.gov/grants-and-funding/programs-active/affordable-housing-and-sustainable-communities"]
[null,"AHSC Round 8 applications will be accepted as set forth in the NOFA."]
[null,"Application must be on the Department’s forms and cannot be altered or modified by the Sponsor/Applicant. Excel Application must be in Excel format, not a PDF document. "]
[null,"If the Sponsor/Applicant discover any errors within application, use the Application Support tab and email the entire workbook to",null,null,null,null,null,null,null,null,null,null,null,null,null,null,null,null,null,null,null,null,null,null,null,null,null,null,null,null,"AppSupport@hcd.ca.gov"]
[null,"It is recommended that Applicant(s) start from left to right and top to bottom for a better understanding and functionality of this application."]
[null,"Additional instructions and guidance are given throughout the Application in \"red\" text and in cell comments. Cell Notes/Comments are very important to read as some of these will provide directions for completing your application."]
[null,"\"Yellow\" cells ",null,null,null,"are for Applicant input. It is very important that you answer ALL yellow cells, failure to provide all information may disqualify your application from consideration or may negatively impact your point score."]
[null,"\"Orange\" cells",null,null,null,"are required attachments. Failure to provide the required attachments and documentation may disqualify your application from consideration or may negatively impact your point score. Electronically attached files must use the naming convention in the Application."]
[null,"\"Blue\" cells",null,null,null,"are self-score points awarded in the \"Scoring\" worksheet. These are automated calculations based on the inputs provided by the Sponsor/Applicant. "]
[null,"\"Red\" cells",null,null,null,"indicate the Applicant(s) has failed to meet a requirement of the program, threshold, scoring, upload, or certification."]
[null,"Disclosure of Application: Information provided in the application will become a public record available for review by the public, pursuant to the California Public Records Act (Government Code Sections 6250-6276.48). As such, any materials provided are subject to disclosure to any person making a request under this Act. The Department cautions Applicants to use discretion in providing information not specifically requested, including but not limited to, bank account numbers, social security numbers, personal phone numbers, and home addresses. By providing this information to the Department, the Applicant is waiving any claim of confidentiality and consents to the disclosure of submitted material upon request."]
[]
[null,"End of Document"]

{"sheet":"Project Overview","index":5,"n_rows":682,"n_cols":41,"rows_kept":682,"cut":false,"hidden":false,"merged":[[496,1,496,38],[504,5,504,10],[504,11,504,12],[504,16,504,21],[504,22,504,23],[417,5,417,36],[398,29,398,31],[382,14,382,15],[373,5,373,36],[374,5,374,9],[364,4,364,11],[364,12,364,31],[395,30,395,31],[395,20,395,29],[504,35,504,36],[483,5,483,36],[485,4,485,36],[486,4,486,34],[486,35,486,36],[488,3,488,36],[489,4,489,36],[490,4,490,36],[491,4,491,36],[492,4,492,36],[493,4,493,36],[494,4,494,36],[503,5,503,36],[479,32,479,36],[439,1,439,3],[403,6,403,9],[403,10,403,11],[403,12,403,14],[671,36,671,38],[672,36,672,38],[673,36,673,38],[674,36,674,38],[675,36,675,38],[676,36,676,38],[677,36,677,38],[678,36,678,38],[679,36,679,38],[670,1,670,35],[671,1,671,35],[672,1,672,35],[673,1,673,35],[674,1,674,35],[675,1,675,35],[676,1,676,35],[677,1,677,35],[678,1,678,35],[679,1,679,35],[670,36,670,38],[403,20,403,28],[434,4,434,35],[432,4,432,29],[434,36,434,37],[399,20,399,28],[399,29,399,31],[428,37,428,38],[433,4,433,36],[455,3,455,36],[456,4,456,36],[456,37,456,38],[438,37,438,38],[439,37,439,38],[445,4,445,36],[446,4,446,24],[447,4,447,36],[450,4,450,18],[440,4,440,36],[427,3,427,36],[428,4,428,36],[429,4,429,36],[453,1,453,3],[453,4,453,11],[453,12,453,31],[453,32,453,36],[479,37,479,38],[502,4,502,36],[504,13,504,15],[504,24,504,26],[396,15,396,18],[396,20,396,28],[396,29,396,31],[419,5,419,36],[421,4,421,36],[413,4,413,36],[289,12,289,31],[423,4,423,36],[54,5,54,18],[63,12,63,15],[63,16,63,18],[72,26,72,33],[72,34,72,36],[425,37,425,38],[388,5,388,27],[94,22,94,38],[363,5,363,15],[411,5,411,12],[411,13,411,14],[272,37,272,38],[273,37,273,38],[268,37,268,38],[283,37,283,38],[284,37,284,38],[294,4,294,11],[294,12,294,31],[414,5,414,36],[399,15,399,18],[65,1,65,38],[72,22,72,24],[303,4,303,11],[303,12,303,31],[303,32,303,36],[220,22,220,24],[219,24,219,31],[219,32,219,34],[220,26,220,35],[109,12,109,15],[124,1,124,25],[95,3,95,8],[95,9,95,11],[95,19,95,25],[298,4,298,11],[298,12,298,31],[286,1,286,4],[195,26,195,28],[195,29,195,34],[222,1,222,38],[223,1,223,3],[224,37,224,38],[223,4,223,11],[195,35,195,38],[294,1,294,3],[303,1,303,3],[298,1,298,3],[262,4,262,11],[272,12,272,31],[272,32,272,36],[273,1,273,3],[273,4,273,11],[16,32,16,33],[16,34,16,38],[70,1,70,4],[38,33,38,37],[54,22,54,38],[74,1,74,38],[68,24,68,26],[68,19,68,22],[78,20,78,21],[78,22,78,38],[79,1,79,2],[79,3,79,8],[79,9,79,11],[79,12,79,15],[18,20,18,38],[17,34,17,38],[47,19,47,25],[47,26,47,27],[17,32,17,33],[27,28,27,31],[35,5,35,18],[35,20,35,21],[27,19,27,25],[28,9,28,12],[47,28,47,31],[47,3,47,8],[55,16,55,18],[55,19,55,25],[55,26,55,27],[79,19,79,25],[79,26,79,27],[76,1,76,4],[51,5,51,6],[54,1,54,4],[9,1,9,12],[106,1,106,38],[29,3,29,7],[28,5,28,8],[29,28,29,32],[29,33,29,37],[216,10,216,15],[216,16,216,17],[211,30,211,38],[83,1,83,4],[83,5,83,6],[37,5,37,8],[40,1,40,38],[42,1,42,38],[63,32,63,34],[63,1,63,2],[63,3,63,8],[63,9,63,11],[8,22,9,23],[10,22,10,23],[11,22,11,23],[12,22,12,23],[16,20,16,23],[16,24,16,27],[16,28,16,31],[13,22,13,23],[14,22,14,23],[17,24,17,27],[10,24,10,27],[11,24,11,27],[12,24,12,27],[13,24,13,27],[55,3,55,8],[108,1,108,4],[108,5,108,18],[108,20,108,21],[108,22,108,38],[37,9,37,12],[37,13,37,16],[37,17,37,20],[37,21,37,24],[37,25,37,28],[37,29,37,32],[37,33,37,36],[38,1,38,2],[38,3,38,7],[62,1,62,4],[62,5,62,18],[62,20,62,21],[62,22,62,38],[47,16,47,18],[47,12,47,15],[55,9,55,11],[55,12,55,15],[55,28,55,31],[55,32,55,34],[48,1,48,38],[49,1,49,38],[51,1,51,4],[95,26,95,27],[95,28,95,31],[95,32,95,34],[10,28,10,31],[11,28,11,31],[12,28,12,31],[13,28,13,31],[14,28,14,31],[8,32,9,33],[8,34,9,38],[15,34,15,38],[12,34,12,38],[13,34,13,38],[14,34,14,38],[14,32,14,33],[10,34,11,38],[15,32,15,33],[12,32,12,33],[10,32,10,33],[11,32,11,33],[13,32,13,33],[617,33,617,35],[612,30,612,32],[612,33,612,35],[613,1,613,5],[610,33,610,35],[611,1,611,5],[613,6,613,10],[613,12,613,16],[613,18,613,20],[613,21,613,23],[613,24,613,26],[604,28,604,30],[604,31,604,34],[604,35,604,38],[605,1,605,9],[605,10,605,13],[605,15,605,34],[610,18,610,20],[610,21,610,23],[610,24,610,26],[610,27,610,29],[610,30,610,32],[612,12,612,16],[612,18,612,20],[612,21,612,23],[612,24,612,26],[612,27,612,29],[612,6,612,10],[611,6,611,10],[611,12,611,16],[611,18,611,20],[611,21,611,23],[622,1,622,3],[622,4,622,5],[622,6,622,8],[622,9,622,30],[622,31,622,34],[614,21,614,23],[614,24,614,26],[614,27,614,29],[614,30,614,32],[614,33,614,35],[615,1,615,5],[615,6,615,10],[615,12,615,16],[615,18,615,20],[615,21,615,23],[615,24,615,26],[615,27,615,29],[615,30,615,32],[615,33,615,35],[619,27,619,29],[619,30,619,32],[619,33,619,35],[619,18,619,20],[619,21,619,23],[619,24,619,26],[614,1,614,5],[614,6,614,10],[614,12,614,16],[614,18,614,20],[617,24,617,26],[617,27,617,29],[617,30,617,32],[623,26,623,38],[616,1,616,5],[616,6,616,10],[616,12,616,16],[616,18,616,20],[616,21,616,23],[616,24,616,26],[616,27,616,29],[616,30,616,32],[616,33,616,35],[617,1,617,5],[617,6,617,10],[617,12,617,16],[617,18,617,20],[617,21,617,23],[625,1,625,38],[626,1,626,3],[626,4,626,12],[626,13,626,30],[626,31,626,36],[624,1,624,38],[626,37,626,38],[618,1,618,5],[618,6,618,10],[618,12,618,16],[618,18,618,20],[618,21,618,23],[618,24,618,26],[618,27,618,29],[618,30,618,32],[618,33,618,35],[619,1,619,17],[623,1,623,3],[623,4,623,5],[623,6,623,13],[622,35,622,38],[621,1,621,38],[605,35,605,38],[623,14,623,15],[623,16,623,17],[623,18,623,19],[623,20,623,23],[623,24,623,25],[613,27,613,29],[613,30,613,32],[613,33,613,35],[606,1,606,38],[607,1,607,38],[608,6,608,10],[608,12,609,16],[608,18,608,35],[608,36,619,38],[609,1,609,5],[609,6,609,10],[609,18,609,20],[609,21,609,23],[609,24,609,26],[609,27,609,29],[609,30,609,32],[609,33,609,35],[610,1,610,5],[610,6,610,10],[610,12,610,16],[612,1,612,5],[611,24,611,26],[611,27,611,29],[611,30,611,32],[611,33,611,35],[603,1,603,9],[603,10,603,13],[603,15,603,23],[603,24,603,27],[603,28,603,30],[603,31,603,34],[603,35,603,38],[604,1,604,9],[604,10,604,13],[604,15,604,23],[604,24,604,27],[600,1,600,9],[600,10,600,13],[600,15,600,23],[600,24,600,38],[601,1,601,9],[601,10,601,13],[601,15,601,23],[601,24,601,27],[601,28,601,30],[601,31,601,34],[601,35,601,38],[602,1,602,13],[602,15,602,23],[602,24,602,27],[602,28,602,30],[602,31,602,34],[602,35,602,38],[597,15,597,23],[597,24,597,27],[597,28,597,30],[597,31,597,34],[597,35,597,38],[598,1,598,13],[598,15,598,23],[598,24,598,27],[598,28,598,30],[598,31,598,34],[598,35,598,38],[599,1,599,9],[599,10,599,13],[599,15,599,23],[599,24,599,27],[599,28,599,30],[599,31,599,34],[599,35,599,38],[585,1,585,6],[585,7,585,9],[587,1,587,38],[588,1,588,6],[588,7,588,9],[588,11,588,17],[588,18,588,20],[588,22,588,25],[588,26,588,28],[590,1,590,38],[591,1,591,38],[592,1,592,38],[593,1,593,38],[594,1,594,13],[594,14,605,14],[594,15,594,38],[595,1,595,9],[595,10,595,13],[595,15,595,23],[595,24,595,27],[595,28,595,30],[595,31,595,34],[595,35,595,38],[596,1,596,9],[596,10,596,13],[596,15,596,23],[596,24,596,27],[596,28,596,30],[596,31,596,34],[596,35,596,38],[597,1,597,9],[597,10,597,13],[576,1,576,7],[576,8,576,9],[578,1,578,38],[579,1,579,6],[579,7,579,8],[579,10,579,14],[579,15,579,16],[579,18,579,22],[579,23,579,24],[579,26,579,34],[579,35,579,36],[580,1,580,8],[580,9,580,10],[582,1,582,38],[583,15,583,24],[584,1,584,5],[584,6,584,8],[584,10,584,11],[584,12,584,14],[584,16,584,19],[584,20,584,22],[584,24,584,27],[584,28,584,30],[584,32,584,35],[584,36,584,38],[570,1,570,5],[570,6,570,8],[570,10,570,14],[570,15,570,17],[570,19,570,22],[570,23,570,25],[570,27,570,32],[570,33,570,35],[571,1,571,7],[571,8,571,10],[573,1,573,38],[574,1,574,38],[575,1,575,7],[575,8,575,9],[575,11,575,16],[575,17,575,18],[575,20,575,25],[575,26,575,27],[575,29,575,34],[575,35,575,36],[566,1,566,4],[566,5,566,7],[566,8,566,11],[566,12,566,14],[566,15,566,19],[566,20,566,22],[566,23,566,26],[566,27,566,29],[566,30,566,35],[566,36,566,38],[567,1,567,7],[567,8,567,10],[569,1,569,5],[569,6,569,8],[569,10,569,14],[569,15,569,17],[569,19,569,22],[569,23,569,25],[569,27,569,32],[569,33,569,35],[555,1,555,38],[556,1,556,2],[556,3,556,7],[556,9,556,10],[556,11,556,15],[556,17,556,18],[556,19,556,23],[556,25,556,26],[556,27,556,31],[558,1,558,38],[559,1,559,38],[561,1,561,7],[561,8,561,38],[562,1,562,38],[563,1,563,38],[564,1,564,38],[565,1,565,6],[560,1,560,38],[553,1,553,2],[553,3,553,9],[553,11,553,12],[553,13,553,19],[553,21,553,22],[553,23,553,29],[553,31,553,32],[553,33,553,38],[550,20,553,20],[550,21,550,22],[550,23,550,29],[550,30,553,30],[550,31,550,32],[550,33,550,38],[551,1,551,2],[551,3,551,9],[551,11,551,12],[551,13,551,19],[550,1,550,2],[550,3,550,9],[550,10,553,10],[550,11,550,12],[550,13,550,19],[552,1,552,2],[552,3,552,9],[552,11,552,12],[551,21,551,22],[551,23,551,29],[551,31,551,32],[551,33,551,38],[552,13,552,19],[552,21,552,22],[552,23,552,29],[552,31,552,32],[552,33,552,38],[537,1,537,38],[538,1,538,38],[532,1,532,7],[532,8,532,9],[532,10,532,11],[530,24,530,25],[530,26,530,28],[529,8,529,9],[534,18,534,19],[534,1,534,7],[534,8,534,9],[534,10,534,11],[529,24,529,25],[531,36,531,38],[535,1,535,7],[532,12,532,13],[532,14,532,15],[532,16,532,17],[532,18,532,19],[532,21,532,23],[532,24,532,25],[532,26,532,28],[532,29,532,32],[532,33,532,35],[532,36,532,38],[533,1,533,7],[533,8,533,9],[548,31,548,32],[545,1,545,2],[544,25,544,26],[544,27,544,31],[544,35,544,38],[545,11,545,15],[545,17,545,18],[545,19,545,23],[545,25,545,26],[545,27,545,31],[545,33,545,34],[545,35,545,38],[545,3,545,7],[545,9,545,10],[542,16,545,16],[542,17,542,18],[542,19,542,23],[542,24,545,24],[542,25,542,26],[542,27,542,31],[542,32,545,32],[542,33,542,34],[542,35,542,38],[543,9,543,10],[543,17,543,18],[543,19,543,23],[644,35,644,36],[640,1,640,34],[643,1,643,34],[644,37,644,38],[634,1,634,34],[543,25,543,26],[543,27,543,31],[543,33,543,34],[543,35,543,38],[544,1,544,2],[645,1,645,34],[645,35,645,36],[645,37,645,38],[646,1,646,34],[646,35,646,36],[646,37,646,38],[640,35,640,36],[640,37,640,38],[641,1,641,34],[641,35,641,36],[641,37,641,38],[547,1,547,38],[548,1,548,3],[548,4,548,5],[548,6,548,7],[548,10,548,13],[548,14,548,15],[548,16,548,17],[631,1,631,38],[632,1,632,38],[633,1,633,38],[628,1,628,38],[662,36,662,38],[663,36,663,38],[664,36,664,38],[660,1,660,35],[661,1,661,35],[662,1,662,35],[636,1,636,34],[636,35,636,36],[636,37,636,38],[637,1,637,34],[637,35,637,36],[637,37,637,38],[638,1,638,34],[638,35,638,36],[638,37,638,38],[639,1,639,34],[639,35,639,36],[639,37,639,38],[648,1,648,35],[648,36,648,38],[642,1,642,34],[642,35,642,36],[642,37,642,38],[643,35,643,36],[643,37,643,38],[649,1,649,35],[649,36,649,38],[650,1,650,35],[650,36,650,38],[651,1,651,35],[651,36,651,38],[644,1,644,34],[634,35,634,36],[634,37,634,38],[548,19,548,21],[548,22,548,23],[504,37,504,38],[504,28,504,34],[665,36,665,38],[666,36,666,38],[667,36,667,38],[668,36,668,38],[665,1,665,35],[666,1,666,35],[667,1,667,35],[668,1,668,35],[652,1,652,35],[652,36,652,38],[653,1,653,35],[653,36,653,38],[654,1,654,35],[654,36,654,38],[655,1,655,35],[655,36,655,38],[656,1,656,35],[656,36,656,38],[657,1,657,35],[657,36,657,38],[663,1,663,35],[664,1,664,35],[659,36,659,38],[659,1,659,35],[660,36,660,38],[661,36,661,38],[544,33,544,34],[635,1,635,34],[635,35,635,36],[635,37,635,38],[513,13,513,14],[513,15,513,16],[513,17,513,18],[513,19,513,20],[513,21,513,22],[535,8,535,9],[535,10,535,11],[535,12,535,13],[535,14,535,15],[535,16,535,17],[535,18,535,19],[528,21,528,23],[528,24,528,25],[528,26,528,28],[528,29,528,32],[528,33,528,35],[528,36,528,38],[529,1,529,7],[522,9,522,11],[522,12,522,14],[522,15,522,17],[524,9,524,11],[523,32,523,34],[523,35,523,38],[524,4,524,6],[526,8,526,13],[522,4,522,6],[522,7,522,8],[478,37,478,38],[488,37,488,38],[482,37,482,38],[483,37,483,38],[479,1,479,3],[629,1,629,36],[629,37,629,38],[540,1,540,38],[541,1,541,38],[542,1,542,2],[542,3,542,7],[542,8,545,8],[548,24,548,25],[548,27,548,28],[548,29,548,30],[543,1,543,2],[542,9,542,10],[542,11,542,15],[543,3,543,7],[524,7,524,8],[544,3,544,7],[544,9,544,10],[543,11,543,15],[544,11,544,15],[544,17,544,18],[544,19,544,23],[524,1,524,3],[527,8,527,9],[530,1,530,7],[530,8,530,9],[530,10,530,11],[530,12,530,13],[499,4,499,36],[499,37,499,38],[500,4,500,36],[500,37,500,38],[501,4,501,36],[501,37,501,38],[517,5,517,36],[518,5,518,36],[514,6,514,36],[515,6,515,10],[515,11,515,12],[515,13,515,14],[515,15,515,16],[515,17,515,18],[515,19,515,20],[515,21,515,22],[515,23,515,24],[516,6,516,10],[516,11,516,12],[516,13,516,14],[513,23,513,24],[516,15,516,16],[502,37,502,38],[508,4,508,36],[512,15,512,16],[512,17,512,18],[512,19,512,20],[512,21,512,22],[513,11,513,12],[482,4,482,36],[438,4,438,36],[441,4,441,36],[442,30,442,31],[479,4,479,11],[479,12,479,31],[477,37,477,38],[523,4,523,6],[516,17,516,18],[516,19,516,20],[516,21,516,22],[516,23,516,24],[505,5,505,36],[506,5,506,36],[507,5,507,36],[476,28,476,29],[466,37,466,38],[467,37,467,38],[467,4,467,11],[467,12,467,31],[467,32,467,36],[448,37,448,38],[450,19,450,20],[469,3,469,36],[462,28,462,29],[463,37,463,38],[462,4,462,27],[523,7,523,8],[523,9,523,11],[523,12,523,14],[498,3,498,36],[478,4,478,36],[474,37,474,38],[460,37,460,38],[449,4,449,36],[452,37,452,38],[464,37,464,38],[465,37,465,38],[470,4,470,36],[470,37,470,38],[471,4,471,36],[472,24,472,25],[472,4,472,23],[405,6,405,28],[406,6,406,36],[407,6,407,36],[411,29,411,33],[411,17,411,25],[439,4,439,11],[439,12,439,31],[439,32,439,36],[466,4,466,36],[461,4,461,36],[408,4,408,11],[408,12,408,31],[411,26,411,27],[467,1,467,3],[464,4,464,36],[465,4,465,36],[474,4,474,36],[408,32,408,36],[405,29,405,30],[442,4,442,29],[458,26,458,27],[436,3,436,36],[475,4,475,36],[476,4,476,27],[443,4,443,36],[444,4,444,35],[451,4,451,36],[452,4,452,36],[446,25,446,26],[477,4,477,36],[418,5,418,36],[410,5,410,36],[425,4,425,36],[444,36,444,37],[432,30,432,31],[473,4,473,36],[448,4,448,36],[416,37,416,38],[430,4,430,16],[431,4,431,36],[453,37,453,38],[421,37,421,38],[423,37,423,38],[463,4,463,36],[437,4,437,36],[408,37,408,38],[393,6,393,36],[395,17,395,18],[239,32,239,36],[240,32,240,36],[223,12,223,31],[224,12,224,31],[247,1,247,3],[247,4,247,11],[326,12,326,31],[326,32,326,36],[326,37,326,38],[346,3,346,36],[398,6,398,14],[291,1,291,3],[397,20,397,31],[378,5,378,36],[380,5,380,36],[381,5,381,29],[382,5,382,13],[384,5,384,36],[385,5,385,29],[386,5,386,29],[387,5,387,36],[399,6,399,14],[334,12,334,31],[342,19,342,24],[371,4,371,36],[372,5,372,36],[404,6,404,36],[287,22,287,25],[403,15,403,18],[7,37,7,38],[68,1,68,7],[287,1,287,6],[230,6,230,36],[38,8,38,12],[38,13,38,17],[38,18,38,22],[38,23,38,27],[38,28,38,32],[63,19,63,25],[63,26,63,27],[63,28,63,31],[109,16,109,18],[109,19,109,25],[88,1,88,38],[89,1,89,38],[68,15,68,17],[52,1,52,2],[60,1,60,2],[72,10,72,12],[72,14,72,21],[96,1,96,38],[95,12,95,15],[95,16,95,18],[56,1,56,38],[57,1,57,38],[59,1,59,4],[59,5,59,6],[257,1,257,3],[139,1,139,38],[195,22,195,25],[212,19,212,29],[5,23,5,26],[137,1,137,2],[137,3,137,8],[137,9,137,11],[137,12,137,15],[137,16,137,18],[137,19,137,25],[123,1,123,2],[123,3,123,8],[123,9,123,11],[123,12,123,15],[123,16,123,18],[123,19,123,25],[109,1,109,2],[109,3,109,8],[109,9,109,11],[17,28,17,31],[8,24,9,27],[15,24,15,27],[15,28,15,31],[17,20,17,23],[27,1,27,2],[27,9,27,11]],"merged_total":1974,"flags":["merged_cut"]}
[]
[null,"Project Overview",null,null,null,null,null,null,null,null,null,null,null,null,null,null,null,null,null,null,null,null,null,null,null,null,null,null,null,null,null,null,null,null,null,null,{"$f":"'AHSC Coverpage'!$B$42","v":"V1"},{"$f":"'AHSC Coverpage'!$C$42","v":"2024-01-19"}]
[]
[null,"HCD APP#:"]
[]
[null,"Project Area Type",null,null,null,null,null,null,null,null,null,null,null,null,"Housing Type",null,null,null,null,null,null,null,null,"Geographic Area",null,null,null,{"$f":"IFERROR(IF(vmAHD=\"Yes\",VLOOKUP(County,Dropdowns!$C$11:$D$68,2,FALSE),VLOOKUP(County2,Dropdowns!$C$11:$D$68,2,FALSE)),\"\")","v":""},null,null,null,null,null,null,null,null,null,null,null,{"$f":"vmProjectAreaType=AO6","v":false},"Transit Oriented Development (TOD)"]
[null,null,null,null,null,null,null,null,null,null,null,null,null,null,null,null,null,null,null,null,null,null,null,null,null,null,null,null,null,null,null,null,null,null,null,null,null,null,null,{"$f":"vmProjectAreaType=AO7","v":false},"Rural Innovation Project Area (RIPA)"]
[null,"“Optional Answer\" will not affect application review or ranking. Applicant(s) or Joint Venture Entity meets CDLAC Definition of BIPOC Organization? per CDLAC 523(f)(1)(B), TCAC 10327(c)(2)(E)?",null,null,null,null,null,null,null,null,null,null,null,null,null,null,null,null,null,null,null,null,null,null,null,null,null,null,null,null,null,null,null,null,null,null,null,null,null,{"$f":"vmProjectAreaType=AO8","v":false},"Integrated Connectivity Project (ICP)"]
[null,null,null,null,null,null,null,null,null,null,null,null,null,null,null,null,null,null,null,null,null,null,"Project / Program",null,"TDC",null,null,null,"AHSC Funds Requested",null,null,null,"%",null,"Total Non-AHSC Funding Commitments"]
[null,"Select Yes to all that apply"]
[null,"Affordable Housing Development (AHD)",null,null,null,null,null,null,null,null,null,null,null,null,null,null,null,null,null,null,null,null,"AHD",null,{"$f":"'AHD-HRI S&U Budget'!$V$130+'AHD-HRI S&U Budget'!$X$130","v":0},null,null,null,{"$f":"'AHD-HRI S&U Budget'!$E$130","v":0},null,null,null,{"$f":"IF(AC$11=0,0,AC$11/AC$18)","v":0},null,{"$f":"SUMIF('Dev Sources'!C25:C40,\"Yes\",'Dev Sources'!J25:J40)","v":0}]
[null,"Housing Related Infrastructure (HRI)",null,null,null,null,null,null,null,null,null,null,null,null,null,null,null,null,null,null,null,null,"HRI",null,{"$f":"'AHD-HRI S&U Budget'!$V$237","v":0},null,null,null,{"$f":"'AHD-HRI S&U Budget'!$D$237","v":0},null,null,null,{"$f":"IF(AC$12=0,0,AC$12/AC$18)","v":0}]
[null,"Sustainable Transportation Infrastructure (STI)",null,null,null,null,null,null,null,null,null,null,null,null,null,null,null,null,null,null,null,null,"STI",null,{"$f":"'STI S&U Budget'!$H$219","v":0},null,null,null,{"$f":"'STI S&U Budget'!$D$219","v":0},null,null,null,{"$f":"IF($AC$13=0,0,$AC$13/AC18)","v":0},null,{"$f":"'Threshold Requirements'!$M$170","v":0},null,null,null,null,null,{"$f":"SUM($AC$13,$AC$14)","v":0}]
[null,"Transportation-Related Amenities (TRA)",null,null,null,null,null,null,null,null,null,null,null,null,null,null,null,null,null,null,null,null,"TRA",null,{"$f":"'TRA S&U Budget'!$H$244","v":0},null,null,null,{"$f":"'TRA S&U Budget'!$D$244","v":0},null,null,null,{"$f":"IF($AC$14=0,0,$AC$14/AC18)","v":0},null,{"$f":"'Threshold Requirements'!$M$182","v":0}]
[null,"Program Costs (PGM)",null,null,null,null,null,null,null,null,null,null,null,null,null,null,null,null,null,null,null,null,"PGM",null,{"$f":"'PGM S&U Budget'!$H$174","v":0},null,null,null,{"$f":"'PGM S&U Budget'!$D$174","v":0},null,null,null,{"$f":"IF($AC$15=0,0,$AC$15/AC18)","v":0},null,{"$f":"'Threshold Requirements'!$M$194","v":0},null,null,null,null,null,{"$f":"$AC$16","v":0}]
[null,{"$f":"IF(AND(OR(vmAHD=\"Yes\",vmHRI=\"Yes\"),OR(vmSTI=\"Yes\",vmTRA=\"Yes\",vmPGM=\"Yes\")),\"\",\"Projects must have at least one of these components: AHD and/or HRI, and\none or more of these components: STI, TRA, PGM.\")","v":"Projects must have at least one of these components: AHD and/or HRI, and\none or more of these components: STI, TRA, PGM."},null,null,null,null,null,null,null,null,null,null,null,null,null,null,null,null,null,null,"AHD & HRI Total",null,null,null,{"$f":"SUM($Y$11:$AB$12)","v":0},null,null,null,{"$f":"SUM($AC$11:$AF$12)","v":0},null,null,null,{"$f":"IF(AC$16=0,0,AC$16/AC$18)","v":0},null,{"$f":"SUM($AI$11)","v":0},null,null,null,null,{"$f":"IF(SUM($AC$16,$AC$18)=0,0,$AC$16/$AC$18)","v":0},35000000]
[null,null,null,null,null,null,null,null,null,null,null,null,null,null,null,null,null,null,null,null,"STI & TRA Total",null,null,null,{"$f":"SUM($Y$13,$Y$14)","v":0},null,null,null,{"$f":"SUM($AC$13,$AC$14)","v":0},null,null,null,{"$f":"IF(AC$17=0,0,AC$17/AC$18)","v":0},null,{"$f":"SUM(AI13,AI14)","v":0}]
[null,null,null,null,null,null,null,null,null,null,null,null,null,null,null,null,null,null,null,null,"Grand Total",null,null,null,{"$f":"SUM($Y$13:$AB$16)","v":0},null,null,null,{"$f":"SUM($AC$13:$AF$16)","v":0},null,null,null,{"$f":"IF($AC$18=0,0,$AC$18/$AC$18)","v":0},null,{"$f":"SUM($AI$13:$AM$16)","v":0}]
[]
[null,"Was Project awarded funds in prior AHSC rounds?"]
[null,"Which round of AHSC was it awarded?"]
[null,"Is Project a phase of a previously awarded project?"]
[null,"Select Metropolitan Planning Org. or \"non-MPO area\""]
[]
[null,"Affordable Housing Development (AHD)"]
[]
[null,"Project Name:",null,null,null,null,null,null,null,null,null,null,null,null,null,null,null,null,null,null,"Address:"]
[null,"City:",null,null,null,null,null,null,null,"Zip Code:",null,null,null,null,null,null,"County:",null,null,null,null,null,null,null,null,null,"Latitude:",null,null,null,null,null,"Longitude:"]
[null,"Census Tracts:"]
[null,"APNs"]
[null,"Description (include: descriptive information such as on-site resident or community amenities, climate adaptive features, and resources in the immediate vicinity)"]
[]
[]
[null,"Housing Related Infrastructure (HRI)"]
[]
[null,"Project Name:",null,null,null,null,null,null,null,null,null,null,null,null,null,null,null,null,null,null,"Address:"]
[null,"City:",null,null,null,null,null,null,null,"Zip Code:",null,null,null,null,null,null,"County:",null,null,null,null,null,null,null,null,null,"Latitude:",null,null,null,null,null,"Longitude:"]
[null,"Census Tracts:"]
[null,"APNs"]
[null,"Description (include: descriptive information such as on-site resident or community amenities, climate adaptive features, and resources in the immediate vicinity)"]
[]
[]
[null,"Sustainable Transportation Infrastructure (STI)"]
[]
[null,"STI Project #1",null,null,null,null,"Type of Project"]
[]
[null,"Project Name:",null,null,null,null,null,null,null,null,null,null,null,null,null,null,null,null,null,null,"Address:"]
[null,"City:",null,null,null,null,null,null,null,"Zip Code:",null,null,null,null,null,null,"County:",null,null,null,null,null,null,null,null,null,"Latitude:",null,null,null,null,null,"Longitude:"]
[null,"Description (include: the general location and description of each STI improvement and note if sidewalks are new or replaced. Please include other descriptive information such as key gaps closed and connections established.)"]
[]
[]
[null,"STI Project #2?"]
[]
[null,"Type of Project"]
[null,"Project Name:",null,null,null,null,null,null,null,null,null,null,null,null,null,null,null,null,null,null,"Address:"]
[null,"City:",null,null,null,null,null,null,null,"Zip Code:",null,null,null,null,null,null,"County:",null,null,null,null,null,null,null,null,null,"Latitude:",null,null,null,null,null,"Longitude:"]
[null,"Description (include: the general location and description of each STI improvement and note if sidewalks are new or replaced. Please include other descriptive information such as key gaps closed and connections established.)"]
[]
[]
[null,"STI Project #3?"]
[]
[null,"Type of Project"]
[null,"Project Name:",null,null,null,null,null,null,null,null,null,null,null,null,null,null,null,null,null,null,"Address:"]
[null,"City:",null,null,null,null,null,null,null,"Zip Code:",null,null,null,null,null,null,"County:",null,null,null,null,null,null,null,null,null,"Latitude:",null,null,null,null,null,"Longitude:"]
[null,"Description (include: the general location and description of each STI improvement and note if sidewalks are new or replaced. Please include other descriptive information such as key gaps closed and connections established.)"]
[]
[]
[null,"Quantity of new or repaired STI facilities funded by AHSC"]
[null,"# of Transit Routes Improved",null,null,null,null,null,null,null,null,null,"Crosswalks",null,null,null,null,null,null,null,"ADA Curb Ramps",null,null,null,null,null,null,null,null,"Overcrossings / Undercrossing"]
[]
[null,"Transit Vehicles",null,null,null,null,null,null,null,null,"Transit Operations ",null,null,null,null,null,null,null,"Bikeshare infrastructure & operations"]
[]
[null,"EV Carshare infrastructure & operations ",null,null,null,null,null,null,null,null,null,null,null,null,"Other (Specify)",null,null,null,null,null,null,null,null,null,null,null,"Other (Specify)"]
[]
[null,"Transportation-Related Amenities (TRA)"]
[]
[null,"TRA Project #1",null,null,null,null,"Select the primary transit mode supported by this TRA"]
[]
[null,"Project Name:",null,null,null,null,null,null,null,null,null,null,null,null,null,null,null,null,null,null,"Address:"]
[null,"City:",null,null,null,null,null,null,null,"Zip Code:",null,null,null,null,null,null,"County:",null,null,null,null,null,null,null,null,null,"Latitude:",null,null,null,null,null,"Longitude:"]
[null,"Description (include the general location and description of each TRA improvement) If components of this TRA project will be along the block face(s) that include a transit station or stop, indicate which components."]
[]
[]
[null,"TRA Project #2?"]
[]
[null,"Select the primary transit mode supported by this TRA"]
[null,"Project Name:",null,null,null,null,null,null,null,null,null,null,null,null,null,null,null,null,null,null,"Address:"]
[null,"City:",null,null,null,null,null,null,null,"Zip Code:",null,null,null,null,null,null,"County:",null,null,null,null,null,null,null,null,null,"Latitude:",null,null,null,null,null,"Longitude:"]
[null,"Description (include the general location and description of each TRA improvement) If components of this TRA project will be along the block face(s) that include a transit station or stop, indicate which components."]
[]
[]
[null,"TRA Project #3?"]
[]
[null,"Select the primary transit mode supported by this TRA"]
[null,"Project Name:",null,null,null,null,null,null,null,null,null,null,null,null,null,null,null,null,null,null,"Address:"]
[null,"City:",null,null,null,null,null,null,null,"Zip Code:",null,null,null,null,null,null,"County:",null,null,null,null,null,null,null,null,null,"Latitude:",null,null,null,null,null,"Longitude:"]
[null,"Description (include the general location and description of each TRA improvement) If components of this TRA project will be along the block face(s) that include a transit station or stop, indicate which components."]
[]
[]
[null,"Quantity of new or repaired TRA facilities funded by AHSC"]
[null,"Bus Bulb-Outs",null,null,null,null,null,null,null,null,"Street lights",null,null,null,null,null,null,null,null,"Street trees or plantings ",null,null,null,null,null,null,null,null,null,null,"Bus Shelters"]
[]
[null,"Bicycle Parking At Transit",null,null,null,null,null,null,null,null,null,null,"Bus Stop Benches"]
[]
[null,"Amount of TRA funds along block face(s) that include a Transit Station or Stop"]
[]
[null,"Program Costs (PGM)"]
[]
[null,"Program Name:",null,null,null,null,null,null,null,null,null,null,null,null,null,null,null,null,null,null,"Address:"]
[null,"City:",null,null,null,null,null,null,null,"Zip Code:",null,null,null,null,null,null,"County:",null,null,null,null,null,null,null,null,null,null,"Proposed program type"]
[null,"Program Description"]
[]
[null,"Who are the targeted users for the Program"]
[]
[null,"What is the issue or need that the Program is attempting to address, and how will it successfully address this issue or need?"]
[]
[null,"Describe additional design challenges and development costs incurred to meet the requirements of the Program."]
[]
[]
[null,"Program Costs in Project include"]
[]
[null,"PGM #2?"]
[null,"Program Name:",null,null,null,null,null,null,null,null,null,null,null,null,null,null,null,null,null,null,"Address:"]
[null,"City:",null,null,null,null,null,null,null,"Zip Code:",null,null,null,null,null,null,"County:",null,null,null,null,null,null,null,null,null,null,"Proposed program type"]
[null,"Program Description"]
[]
[null,"Who are the targeted users for the Program"]
[]
[null,"What is the issue or need that the Program is attempting to address, and how will it successfully address this issue or need?"]
[]
[null,"Describe additional design challenges and development costs incurred to meet the requirements of the Program."]
[]
[]
[null,"Program Costs in Project include"]
[]
[null,"PGM #3?"]
[null,"Program Name:",null,null,null,null,null,null,null,null,null,null,null,null,null,null,null,null,null,null,"Address:"]
[null,"City:",null,null,null,null,null,null,null,"Zip Code:",null,null,null,null,null,null,"County:",null,null,null,null,null,null,null,null,null,null,"Proposed program type"]
[null,"Program Description"]
[]
[null,"Who are the targeted users for the Program"]
[]
[null,"What is the issue or need that the Program is attempting to address, and how will it successfully address this issue or need?"]
[]
[null,"Describe additional design challenges and development costs incurred to meet the requirements of the Program."]
[]
[]
[null,"Program Costs in Project include"]
[]
[null,"PGM #4?"]
[null,"Program Name:",null,null,null,null,null,null,null,null,null,null,null,null,null,null,null,null,null,null,"Address:"]
[null,"City:",null,null,null,null,null,null,null,"Zip Code:",null,null,null,null,null,null,"County:",null,null,null,null,null,null,null,null,null,null,"Proposed program type"]
[null,"Program Description"]
[]
[null,"Who are the targeted users for the Program"]
[]
[null,"What is the issue or need that the Program is attempting to address, and how will it successfully address this issue or need?"]
[]
[null,"Describe additional design challenges and development costs incurred to meet the requirements of the Program."]
[]
[]
[null,"Program Costs in Project include"]
[]
[null,"PGM #5?"]
[null,"Program Name:",null,null,null,null,null,null,null,null,null,null,null,null,null,null,null,null,null,null,"Address:"]
[null,"City:",null,null,null,null,null,null,null,"Zip Code:",null,null,null,null,null,null,"County:",null,null,null,null,null,null,null,null,null,null,"Proposed program type"]
[null,"Program Description"]
[]
[null,"Who are the targeted users for the Program"]
[]
[null,"What is the issue or need that the Program is attempting to address, and how will it successfully address this issue or need?"]
[]
[null,"Describe additional design challenges and development costs incurred to meet the requirements of the Program."]
[]
[]
[null,"Program Costs in Project include"]
[]
[null,"PGM #6?",null,null,null,null,null,"Use this \"PGM #6\" only for \"OTHER\" if your proposed program does not fall withing the program types listed in guidelines."]
[null,"Program Name:",null,null,null,null,null,null,null,null,null,null,null,null,null,null,null,null,null,null,"Address:"]
[null,"City:",null,null,null,null,null,null,null,"Zip Code:",null,null,null,null,null,null,"County:"]
[null,"Program Description"]
[]
[null,"Who are the targeted users for the Program"]
[]
[null,"What is the issue or need that the Program is attempting to address, and how will it successfully address this issue or need?"]
[]
[null,"Describe additional design challenges and development costs incurred to meet the requirements of the Program."]
[]
[]
[null,"Program Costs in Project include"]
[]
[null,"Has the Applicant(s) applied, plan to apply, or been awarded other HCD program funds for this proposed Project?"]
[null,"If applicable, provide other Project name(s) for which this Project has applied for HCD funds in the past."]
[]
[null,"Negative points may be assessed if applicant fails to disclose all past awards, simultaneous applications, and known future applications."]
[null,"HCD program(s) name(s):",null,null,null,null,null,null,null,null,null,null,null,null,"21-06","Plan to apply?",null,"Loan amount",null,null,null,null,"Grant amount",null,null,null,"Awarded?",null,null,"Award date or expected Award date?",null,null,null,null,null,"HCD Contract Number"]
[]
[]
[]
[]
[null,"Utilizing Tax Credits?"]
[null,"Federal",null,null,null,null,"Proposed equity investor contribution ($)",null,null,null,null,null,null,null,null,null,null,null,null,null,null,null,null,"Anticipated tax credit factor"]
[null,"State",null,null,null,null,"Proposed equity investor contribution ($)",null,null,null,null,null,null,null,null,null,null,null,null,null,null,null,null,"Anticipated tax credit factor"]
[null,{"$f":"IF(Taxcredit=4%,\"Timeframe for applying for 4%Tax Credits\",IF(Taxcredit=9%,\"Timeframe for applying for 9%Tax Credits\",\"\"))","v":""},null,null,null,null,null,null,null,null,null,null,"Proposed month",null,null,null,null,null,null,null,null,"Proposed year",null,null,null,null,null,null,"Tax Credit Reservation Awarded?"]
[null,"File Name:",null,null,{"$f":"'Upload Checklist'!$B$9","v":"02. Tax Credit Reservation Letter"},null,null,null,null,null,null,{"$f":"'Upload Checklist'!$C$9","v":"If the Project has already received a tax credit reservation, upload documentation."},null,null,null,null,null,null,null,null,null,null,null,null,null,null,null,null,null,null,null,null,"Uploaded to HCD?"]
[]
[null,"Is the Project a scattered site housing Project?  UMR §8303(b)"]
[null,"If yes, will the proposed Project meet the UMR §8303(b) requirements? "]
[null,"Site Address",null,null,null,null,null,null,null,null,null,null,null,null,null,null,null,null,null,"Developer",null,null,null,null,null,null,null,null,null,null,"Homeownership or Rental"]
[]
[]
[]
[]
[]
[null,"Total Units",null,null,null,"LIHTC\nUnits",null,"Project Site Area",null,null,null,"Units per Acre",null,null,null,null,"Age Restrictions",null,null,null,null,"Special Facility\nType",null,null,null,"Tenure Type",null,null,null,"Rental Subsidy?",null,null,"Commercial\nSpace?",null,null,"Relocation\nRequired?"]
[null,{"$f":"'Max Funds & Unit Mix'!$E$27","v":0},null,null,null,null,null,null,null,"Acres",null,{"$f":"IFERROR(IF($B$216>0,$B$216/$H$216,0),0)","v":0},null,"Per Acre"]
[null,"Operating Subsidy?",null,null,null,null,null,null,null,null,"HUD 811 Project?",null,null,null,null,null,null,null,"Any type of demolition required?"]
[null,"Describe any demolition to be completed (including any structures, parking lots, signage, or billboards to be demolished)."]
[]
[null,"Number of buildings?",null,null,null,null,null,null,null,"Total building(s) stories?",null,null,null,null,null,null,null,"Number of elevators?",null,null,null,null,null,null,"Total Homeownership square Feet?"]
[null,"Total Commercial square feet?",null,null,null,null,null,null,null,null,null,null,null,"Total Residential Rental square feet?",null,null,null,null,null,null,null,null,null,null,null,null,"Total Residential Non-rental square feet?"]
[null,"Total Mixed-use Space (square feet)"]
[null,"For Operating Subsidies: Provide evidence of commitment status (e.g., letters of intent, commitment letters, grant awards or subsidy contracts). If commitments are not available, provide other documentation such as a reservation or third-party letter stating the following: total subsidy and estimated first year allocation, date or expected date of award, and term (in years).\nFor Project-Based Rental Assistance: Projects having or proposing project-based rental assistance must provide documentation of current contract Rents. A fully executed subsidy contract shall be required prior loan closing. Projects having or proposing project-based rental assistance shall fund a Transition Reserve in accordance with MHP §7312(f)(2)."]
[null,"File Name::",null,null,{"$f":"'Upload Checklist'!$B$10","v":"03. Operating Subsidy Commitment"},null,null,null,null,null,null,null,{"$f":"'Upload Checklist'!$C$10","v":"Documentation evidencing commitment of Operating Subsidies including source, term (in years), total subsidy amount, and estimated first year allocation."},null,null,null,null,null,null,null,null,null,null,null,null,null,null,null,null,null,null,null,"Uploaded to HCD?"]
[null,"File Name::",null,null,{"$f":"'Upload Checklist'!$B$11","v":"04. Current Contract Rents"},null,null,null,null,null,null,null,{"$f":"'Upload Checklist'!$C$11","v":"Projects proposing project-based rental assistance: Provide documentation of current contract rents for HAP, Shelter Plus or other source, as applicable."},null,null,null,null,null,null,null,null,null,null,null,null,null,null,null,null,null,null,null,"Uploaded to HCD?"]
[]
[null,"§105 Eligible Applicants"]
[null,null,"(a)","Applicant(s) acknowledges and understand the requirement of \"Eligible Applicants\""]
[null,null,null,"(1)","Eligible applicant entities shall include any of the following:"]
[null,null,null,null,"(A)","A Locality, public housing authority, redevelopment successor agency, transit agency or transit operator, Regional Transportation Planning Agency (RTPA), local Transportation Commission, Congestion Management Agency, Joint Powers Authority (JPA), school district, facilities district, University or Community College District."]
[null,null,null,null,null,"(i)","For STI or TRA components only, an applicant may provide an executed agreement with a specific Locality or transportation agency non-applicant for the completion of the STI or TRA components of the AHSC Project for which funding is sought."]
[null,null,null,null,null,null,"Will the Application include the Locality or transportation agency responsible for the STI or TRA components as a joint application? "]
[null,"File Name:",null,null,{"$f":"'Upload Checklist'!$B$12","v":"05. 'STI-TRA Agreement"},null,null,null,null,null,null,null,{"$f":"'Upload Checklist'!$C$12","v":"Provide an executed agreement with the Locality or transportation agency for the completion of the STI or TRA components."},null,null,null,null,null,null,null,null,null,null,null,null,null,null,null,null,null,null,null,"Uploaded to HCD?"]
[null,null,null,null,"(B)","A Developer or Program Operator."]
[null,null,null,null,"(C)","A Tribal Entity whose Project meets requirements listed in detail in Appendix B."]
[null,null,null,null,null,"Is Project being proposed by a Tribal Entity and meets requirements listed in detail in Appendix B? "]
[null,null,null,null,null,"Applicant(s) acknowledges that if awarded, The applicant meets the conditions of award funding to the extent applicable, and subject to any modifications or waivers as provided for by AB1010 (2019) (HSC §50406, subdivision (p)) that shall be set forth in a Standard Agreement. It is noted that these same conditions do not need to be satisfied initially to engage in the competitive award process: Please read \"Appendix B. Tribal Eligibility (a), (b)(1-6)."]
[null,null,null,null,null,"Is Project located in Indian country, or located on a parcel owned by a Tribal Entity in fee or held in trust for the benefit of a Tribal Entity within the state of California?"]
[null,"File Name::",null,null,{"$f":"'Upload Checklist'!$B$13","v":"06. Tribal Entity Waiver"},null,null,null,null,null,null,null,{"$f":"'Upload Checklist'!$C$13","v":"Modifications or waivers as provided for in HSC §50406, subdivision (p) (Assembly Bill 1010 (Chapter 660, Statutes of 2019)"},null,null,null,null,null,null,null,null,null,null,null,null,null,null,null,null,null,null,null,"Uploaded to HCD?"]
[null,"File Name::",null,null,{"$f":"'Upload Checklist'!$B$14","v":"07. Indian Country Verification"},null,null,null,null,null,null,null,{"$f":"'Upload Checklist'!$C$14","v":"Documentation verifying land is located in Indian Country as defined by 18 USC 1151."},null,null,null,null,null,null,null,null,null,null,null,null,null,null,null,null,null,null,null,"Uploaded to HCD?"]
[null,"File Name::",null,null,{"$f":"'Upload Checklist'!$B$15","v":"08. Fee or Trust Land Verification"},null,null,null,null,null,null,null,{"$f":"'Upload Checklist'!$C$15","v":"Documentation verifying land is located on Fee or Trust Land."},null,null,null,null,null,null,null,null,null,null,null,null,null,null,null,null,null,null,null,"Uploaded to HCD?"]
[null,null,null,"(2)","A special purpose entity formed and controlled by the Developer, and which will serve as the ultimate borrower of AHSC loan funds, is not an eligible Applicant. A special purpose entity ultimate borrower meeting the requirements of UMR §8313.2 may be listed on the AHSC Program application in the appropriate, designated fields for listing such a borrower entity."]
[null,null,null,null,"(A)","Single purpose entities not meeting the requirements of a special purpose entity pursuant to UMR §8313.2, whether serving as an intermediate entity within the ultimate borrower structure or not, are not Eligible Applicants. Such single purpose entities will not be included as a separate party on any AHSC Program legal documents, including but not limited to, Standard Agreements, nor are they eligible to be Recipients or payees of AHSC Program funds."]
[]
[null,null,null,"(3)","Where a Public Agency has a real property interest in the proposed Project, the application must include the Public Agency as a joint Applicant or otherwise include a commitment to enter into a contractual agreement to develop the Project, if it is awarded."]
[null,null,null,null,"Will a Public Agency have a real property interest in the proposed Project?"]
[null,null,null,null,"Will the Application include the Public Agency as a joint applicant?"]
[null,"File Name:",null,null,{"$f":"'Upload Checklist'!$B$16","v":"09. Public Agency Commitment"},null,null,null,null,null,null,null,{"$f":"'Upload Checklist'!$C$16","v":"For Projects where the Public Agency is not a joint Applicant: Provide a commitment to enter into a contractural agreement to develop the Project."},null,null,null,null,null,null,null,null,null,null,null,null,null,null,null,null,null,null,null,"Uploaded to HCD?"]
[]
[null,null,null,"(4)","All eligible Applicants appearing on the application for the Project will be held jointly and severally liable for the completion of the Project and as such, will each sign all Standard Agreements to the award of AHSC funds."]
[null,null,null,null,"(A)","A Recipient of Department funds must remain liable for performing all requirements of the award of funds as set forth in the Standard Agreement. Where there are multiple Recipients, all such Recipients must remain jointly and severally liable to the Department for that performance. Notwithstanding the foregoing, Recipients may indemnify each other by entering into agreements with one another as to individual Capital Projects. In no event will any such agreement alter, amend, or revoke each individual Recipient’s obligations to the Department, including the joint and several liability."]
[]
[null,"“Developer” means the entity that the Department and the Council rely upon for experience, Site Control, and capacity, and which controls:\n1) Rental AHD during development through occupancy;\n2) HRI and homeownership AHD during development through completion; \n3) STI during development through operation; or\n4) TRA during development through operation."]
[null,"Applicant #1",null,null,null,"Entity name"]
[null,"Eligible applicant type",null,null,null,null,null,null,null,null,null,null,null,null,null,null,null,null,null,null,null,null,"Organization type"]
[null,"File Name:",null,null,{"$f":"'Upload Checklist'!$B$18","v":"10. App1 Cert & Legal Disclosure"},null,null,null,null,null,null,null,{"$f":"'Upload Checklist'!$C$18","v":"Reference: Applicant Certification Worksheet."},null,null,null,null,null,null,null,null,null,null,null,null,null,null,null,null,null,null,null,"Uploaded to HCD?"]
[null,"File Name:",null,null,{"$f":"'Upload Checklist'!$B$19","v":"10. App1 OrgDoc1, OrgDoc2, etc."},null,null,null,null,null,null,null,{"$f":"'Upload Checklist'!$C$19","v":"Reference: Entity Org Docs Worksheet."},null,null,null,null,null,null,null,null,null,null,null,null,null,null,null,null,null,null,null,"Uploaded to HCD?"]
[null,"File Name:",null,null,{"$f":"'Upload Checklist'!$B$20","v":"10. App1 Org Chart"},null,null,null,null,null,null,null,{"$f":"'Upload Checklist'!$C$20","v":"Applicant Organization Chart."},null,null,null,null,null,null,null,null,null,null,null,null,null,null,null,null,null,null,null,"Uploaded to HCD?"]
[null,"File Name:",null,null,{"$f":"'Upload Checklist'!$B$21","v":"10. App1 Signature Block"},null,null,null,null,null,null,null,{"$f":"'Upload Checklist'!$C$21","v":"Signature Block - upload in Microsoft Word Document."},null,null,null,null,null,null,null,null,null,null,null,null,null,null,null,null,null,null,null,"Uploaded to HCD?"]
[null,"File Name:",null,null,{"$f":"'Upload Checklist'!$B$22","v":"10. App1 Cert of Good Standing "},null,null,null,null,null,null,null,{"$f":"'Upload Checklist'!$C$22","v":"Dated 30 days or less from the application due date."},null,null,null,null,null,null,null,null,null,null,null,null,null,null,null,null,null,null,null,"Uploaded to HCD?"]
[null,"File Name:",null,null,{"$f":"'Upload Checklist'!$B$23","v":"10. App1 Tax-Exempt Status"},null,null,null,null,null,null,null,{"$f":"'Upload Checklist'!$C$23","v":"Evidence of tax-exempt status from IRS and FTB for Corporations (Non-Profits Only)."},null,null,null,null,null,null,null,null,null,null,null,null,null,null,null,null,null,null,null,"Uploaded to HCD?"]
[null,"File Name:",null,null,{"$f":"'Upload Checklist'!$B$24","v":"10. App1 Payee Data Record"},null,null,null,null,null,null,null,{"$f":"'Upload Checklist'!$C$24","v":"Completed Payee Data Record."},null,null,null,null,null,null,null,null,null,null,null,null,null,null,null,null,null,null,null,"Uploaded to HCD?"]
[null,"File Name:",null,null,{"$f":"'Upload Checklist'!$B$25","v":"10. App1 TIN Form"},null,null,null,null,null,null,null,{"$f":"'Upload Checklist'!$C$25","v":"Completed Government TIN form."},null,null,null,null,null,null,null,null,null,null,null,null,null,null,null,null,null,null,null,"Uploaded to HCD?"]
[]
[null,"Applicant #2",null,null,null,"Entity name"]
[null,"Eligible applicant type",null,null,null,null,null,null,null,null,null,null,null,null,null,null,null,null,null,null,null,null,"Organization type"]
[null,"File Name:",null,null,{"$f":"'Upload Checklist'!$B$27","v":"11. App2 Cert & Legal Disclosure"},null,null,null,null,null,null,null,{"$f":"'Upload Checklist'!$C$27","v":"Reference: Applicant Certification Worksheet."},null,null,null,null,null,null,null,null,null,null,null,null,null,null,null,null,null,null,null,"Uploaded to HCD?"]
[null,"File Name:",null,null,{"$f":"'Upload Checklist'!$B$28","v":"11. App2 OrgDoc1, OrgDoc2, etc."},null,null,null,null,null,null,null,{"$f":"'Upload Checklist'!$C$28","v":"Reference: Entity Org Docs Worksheet."},null,null,null,null,null,null,null,null,null,null,null,null,null,null,null,null,null,null,null,"Uploaded to HCD?"]
[null,"File Name:",null,null,{"$f":"'Upload Checklist'!$B$29","v":"11. App2 Org Chart"},null,null,null,null,null,null,null,{"$f":"'Upload Checklist'!$C$29","v":"Applicant Organization Chart."},null,null,null,null,null,null,null,null,null,null,null,null,null,null,null,null,null,null,null,"Uploaded to HCD?"]
[null,"File Name:",null,null,{"$f":"'Upload Checklist'!$B$30","v":"11. App2 Signature Block"},null,null,null,null,null,null,null,{"$f":"'Upload Checklist'!$C$30","v":"Signature Block - upload in Microsoft Word Document."},null,null,null,null,null,null,null,null,null,null,null,null,null,null,null,null,null,null,null,"Uploaded to HCD?"]
[null,"File Name:",null,null,{"$f":"'Upload Checklist'!$B$31","v":"11. App2 Cert of Good Standing "},null,null,null,null,null,null,null,{"$f":"'Upload Checklist'!$C$31","v":"Dated 30 days or less from the application due date."},null,null,null,null,null,null,null,null,null,null,null,null,null,null,null,null,null,null,null,"Uploaded to HCD?"]
[null,"File Name:",null,null,{"$f":"'Upload Checklist'!$B$32","v":"11. App2 Tax-Exempt Status"},null,null,null,null,null,null,null,{"$f":"'Upload Checklist'!$C$32","v":"Evidence of tax-exempt status from IRS and FTB for Corporations (Non-Profits Only)."},null,null,null,null,null,null,null,null,null,null,null,null,null,null,null,null,null,null,null,"Uploaded to HCD?"]
[null,"File Name:",null,null,{"$f":"'Upload Checklist'!$B$33","v":"11. App2 Payee Data Record"},null,null,null,null,null,null,null,{"$f":"'Upload Checklist'!$C$33","v":"Completed Payee Data Record."},null,null,null,null,null,null,null,null,null,null,null,null,null,null,null,null,null,null,null,"Uploaded to HCD?"]
[null,"File Name:",null,null,{"$f":"'Upload Checklist'!$B$34","v":"11. App2 TIN Form"},null,null,null,null,null,null,null,{"$f":"'Upload Checklist'!$C$34","v":"Completed Government TIN form."},null,null,null,null,null,null,null,null,null,null,null,null,null,null,null,null,null,null,null,"Uploaded to HCD?"]
[]
[null,"Applicant #3",null,null,null,"Entity name"]
[null,"Eligible applicant type",null,null,null,null,null,null,null,null,null,null,null,null,null,null,null,null,null,null,null,null,"Organization type"]
[null,"File Name:",null,null,{"$f":"'Upload Checklist'!$B$36","v":"12. App3 Cert & Legal Disclosure"},null,null,null,null,null,null,null,{"$f":"'Upload Checklist'!$C$36","v":"Reference: Applicant Certification Worksheet."},null,null,null,null,null,null,null,null,null,null,null,null,null,null,null,null,null,null,null,"Uploaded to HCD?"]
[null,"File Name:",null,null,{"$f":"'Upload Checklist'!$B$37","v":"12. App3 OrgDoc1, OrgDoc2, etc."},null,null,null,null,null,null,null,{"$f":"'Upload Checklist'!$C$37","v":"Reference: Entity Org Docs Worksheet."},null,null,null,null,null,null,null,null,null,null,null,null,null,null,null,null,null,null,null,"Uploaded to HCD?"]
[null,"File Name:",null,null,{"$f":"'Upload Checklist'!$B$38","v":"12. App3 Org Chart"},null,null,null,null,null,null,null,{"$f":"'Upload Checklist'!$C$38","v":"Applicant Organization Chart."},null,null,null,null,null,null,null,null,null,null,null,null,null,null,null,null,null,null,null,"Uploaded to HCD?"]
[null,"File Name:",null,null,{"$f":"'Upload Checklist'!$B$39","v":"12. App3 Signature Block"},null,null,null,null,null,null,null,{"$f":"'Upload Checklist'!$C$39","v":"Signature Block - upload in Microsoft Word Document."},null,null,null,null,null,null,null,null,null,null,null,null,null,null,null,null,null,null,null,"Uploaded to HCD?"]
[null,"File Name:",null,null,{"$f":"'Upload Checklist'!$B$40","v":"12. App3 Cert of Good Standing "},null,null,null,null,null,null,null,{"$f":"'Upload Checklist'!$C$40","v":"Dated 30 days or less from the application due date."},null,null,null,null,null,null,null,null,null,null,null,null,null,null,null,null,null,null,null,"Uploaded to HCD?"]
[null,"File Name:",null,null,{"$f":"'Upload Checklist'!$B$41","v":"12. App3 Tax-Exempt Status"},null,null,null,null,null,null,null,{"$f":"'Upload Checklist'!$C$41","v":"Evidence of tax-exempt status from IRS and FTB for Corporations (Non-Profits Only)."},null,null,null,null,null,null,null,null,null,null,null,null,null,null,null,null,null,null,null,"Uploaded to HCD?"]
[null,"File Name:",null,null,{"$f":"'Upload Checklist'!$B$42","v":"12. App3 Payee Data Record"},null,null,null,null,null,null,null,{"$f":"'Upload Checklist'!$C$42","v":"Completed Payee Data Record."},null,null,null,null,null,null,null,null,null,null,null,null,null,null,null,null,null,null,null,"Uploaded to HCD?"]
[null,"File Name:",null,null,{"$f":"'Upload Checklist'!$B$43","v":"12. App3 TIN Form"},null,null,null,null,null,null,null,{"$f":"'Upload Checklist'!$C$43","v":"Completed Government TIN form."},null,null,null,null,null,null,null,null,null,null,null,null,null,null,null,null,null,null,null,"Uploaded to HCD?"]
[]
[null,"Applicant #4",null,null,null,"Entity name"]
[null,"Eligible applicant type",null,null,null,null,null,null,null,null,null,null,null,null,null,null,null,null,null,null,null,null,"Organization type"]
[null,"File Name:",null,null,{"$f":"'Upload Checklist'!$B$45","v":"13. App4 Cert & Legal Disclosure"},null,null,null,null,null,null,null,{"$f":"'Upload Checklist'!$C$45","v":"Reference: Applicant Certification Worksheet."},null,null,null,null,null,null,null,null,null,null,null,null,null,null,null,null,null,null,null,"Uploaded to HCD?"]
[null,"File Name:",null,null,{"$f":"'Upload Checklist'!$B$46","v":"13. App4 OrgDoc1, OrgDoc2, etc."},null,null,null,null,null,null,null,{"$f":"'Upload Checklist'!$C$46","v":"Reference: Entity Org Docs Worksheet."},null,null,null,null,null,null,null,null,null,null,null,null,null,null,null,null,null,null,null,"Uploaded to HCD?"]
[null,"File Name:",null,null,{"$f":"'Upload Checklist'!$B$47","v":"13. App4 Org Chart"},null,null,null,null,null,null,null,{"$f":"'Upload Checklist'!$C$47","v":"Applicant Organization Chart."},null,null,null,null,null,null,null,null,null,null,null,null,null,null,null,null,null,null,null,"Uploaded to HCD?"]
[null,"File Name:",null,null,{"$f":"'Upload Checklist'!$B$48","v":"13. App4 Signature Block"},null,null,null,null,null,null,null,{"$f":"'Upload Checklist'!$C$48","v":"Signature Block - upload in Microsoft Word Document."},null,null,null,null,null,null,null,null,null,null,null,null,null,null,null,null,null,null,null,"Uploaded to HCD?"]
[null,"File Name:",null,null,{"$f":"'Upload Checklist'!$B$49","v":"13. App4 Cert of Good Standing "},null,null,null,null,null,null,null,{"$f":"'Upload Checklist'!$C$49","v":"Dated 30 days or less from the application due date."},null,null,null,null,null,null,null,null,null,null,null,null,null,null,null,null,null,null,null,"Uploaded to HCD?"]
[null,"File Name:",null,null,{"$f":"'Upload Checklist'!$B$50","v":"13. App4 Tax-Exempt Status"},null,null,null,null,null,null,null,{"$f":"'Upload Checklist'!$C$50","v":"Evidence of tax-exempt status from IRS and FTB for Corporations (Non-Profits Only)."},null,null,null,null,null,null,null,null,null,null,null,null,null,null,null,null,null,null,null,"Uploaded to HCD?"]
[null,"File Name:",null,null,{"$f":"'Upload Checklist'!$B$51","v":"13. App4 Payee Data Record"},null,null,null,null,null,null,null,{"$f":"'Upload Checklist'!$C$51","v":"Completed Payee Data Record."},null,null,null,null,null,null,null,null,null,null,null,null,null,null,null,null,null,null,null,"Uploaded to HCD?"]
[null,"File Name:",null,null,{"$f":"'Upload Checklist'!$B$52","v":"13. App4 TIN Form"},null,null,null,null,null,null,null,{"$f":"'Upload Checklist'!$C$52","v":"Completed Government TIN form."},null,null,null,null,null,null,null,null,null,null,null,null,null,null,null,null,null,null,null,"Uploaded to HCD?"]
[]
[null,"Owner/Borrower",null,null,null,"Entity name"]
[null,"File Name:",null,null,{"$f":"'Upload Checklist'!$B$54","v":"14. Owner Cert & Legal Disclosure"},null,null,null,null,null,null,null,{"$f":"'Upload Checklist'!$C$54","v":"Reference: Applicant Certification Worksheet."},null,null,null,null,null,null,null,null,null,null,null,null,null,null,null,null,null,null,null,"Uploaded to HCD?"]
[null,"File Name:",null,null,{"$f":"'Upload Checklist'!$B$55","v":"14. Owner OrgDoc1, OrgDoc2, etc."},null,null,null,null,null,null,null,{"$f":"'Upload Checklist'!$C$55","v":"Reference: Entity Org Docs Worksheet."},null,null,null,null,null,null,null,null,null,null,null,null,null,null,null,null,null,null,null,"Uploaded to HCD?"]
[null,"File Name:",null,null,{"$f":"'Upload Checklist'!$B$56","v":"14. Owner Org Chart"},null,null,null,null,null,null,null,{"$f":"'Upload Checklist'!$C$64","v":"MGP Organization Chart."},null,null,null,null,null,null,null,null,null,null,null,null,null,null,null,null,null,null,null,"Uploaded to HCD?"]
[null,"File Name:",null,null,{"$f":"'Upload Checklist'!$B$57","v":"14. Owner Signature Block"},null,null,null,null,null,null,null,{"$f":"'Upload Checklist'!$C$65","v":"Signature Block - upload in Microsoft Word Document."},null,null,null,null,null,null,null,null,null,null,null,null,null,null,null,null,null,null,null,"Uploaded to HCD?"]
[null,"File Name:",null,null,{"$f":"'Upload Checklist'!$B$58","v":"14. Owner Cert of Good Standing "},null,null,null,null,null,null,null,{"$f":"'Upload Checklist'!$C$66","v":"Dated 30 days or less from the application due date."},null,null,null,null,null,null,null,null,null,null,null,null,null,null,null,null,null,null,null,"Uploaded to HCD?"]
[null,"File Name:",null,null,{"$f":"'Upload Checklist'!$B$59","v":"14. Owner Payee Data Record"},null,null,null,null,null,null,null,{"$f":"'Upload Checklist'!$C$59","v":"Completed Payee Data Record."},null,null,null,null,null,null,null,null,null,null,null,null,null,null,null,null,null,null,null,"Uploaded to HCD?"]
[null,"File Name:",null,null,{"$f":"'Upload Checklist'!$B$60","v":"14. Owner Tax-Exempt Status"},null,null,null,null,null,null,null,{"$f":"'Upload Checklist'!$C$67","v":"Evidence of tax-exempt status from IRS and FTB for Corporations (Non-Profits Only)."},null,null,null,null,null,null,null,null,null,null,null,null,null,null,null,null,null,null,null,"Uploaded to HCD?"]
[]
[null,"Managing General Partner",null,null,null,null,null,null,"Entity name"]
[null,"File Name:",null,null,{"$f":"'Upload Checklist'!$B$62","v":"15. MGP Cert & Legal"},null,null,null,null,null,null,null,{"$f":"'Upload Checklist'!$C$62","v":"Reference: Applicant Certification Worksheet."},null,null,null,null,null,null,null,null,null,null,null,null,null,null,null,null,null,null,null,"Uploaded to HCD?"]
[null,"File Name:",null,null,{"$f":"'Upload Checklist'!$B$63","v":"15. MGP OrgDoc1, OrgDoc2, etc."},null,null,null,null,null,null,null,{"$f":"'Upload Checklist'!$C$63","v":"Reference: Entity Org Docs Worksheet."},null,null,null,null,null,null,null,null,null,null,null,null,null,null,null,null,null,null,null,"Uploaded to HCD?"]
[null,"File Name:",null,null,{"$f":"'Upload Checklist'!$B$64","v":"15. MGP Org Chart"},null,null,null,null,null,null,null,{"$f":"'Upload Checklist'!$C$64","v":"MGP Organization Chart."},null,null,null,null,null,null,null,null,null,null,null,null,null,null,null,null,null,null,null,"Uploaded to HCD?"]
[null,"File Name:",null,null,{"$f":"'Upload Checklist'!$B$65","v":"15. MGP Signature Block"},null,null,null,null,null,null,null,{"$f":"'Upload Checklist'!$C$65","v":"Signature Block - upload in Microsoft Word Document."},null,null,null,null,null,null,null,null,null,null,null,null,null,null,null,null,null,null,null,"Uploaded to HCD?"]
[null,"File Name:",null,null,{"$f":"'Upload Checklist'!$B$66","v":"15. MGP Cert of Good Standing"},null,null,null,null,null,null,null,{"$f":"'Upload Checklist'!$C$66","v":"Dated 30 days or less from the application due date."},null,null,null,null,null,null,null,null,null,null,null,null,null,null,null,null,null,null,null,"Uploaded to HCD?"]
[null,"File Name:",null,null,{"$f":"'Upload Checklist'!$B$67","v":"15. MGP Tax-Exempt Status"},null,null,null,null,null,null,null,{"$f":"'Upload Checklist'!$C$67","v":"Evidence of tax-exempt status from IRS and FTB for Corporations (Non-Profits Only)."},null,null,null,null,null,null,null,null,null,null,null,null,null,null,null,null,null,null,null,"Uploaded to HCD?"]
[]
[null,"Administrative General Partner #1",null,null,null,null,null,null,null,"Entity name"]
[null,"File Name:",null,null,{"$f":"'Upload Checklist'!$B$69","v":"16. AGP1 Cert & Legal"},null,null,null,null,null,null,null,{"$f":"'Upload Checklist'!$C$69","v":"Reference: Applicant Certification Worksheet."},null,null,null,null,null,null,null,null,null,null,null,null,null,null,null,null,null,null,null,"Uploaded to HCD?"]
[null,"File Name:",null,null,{"$f":"'Upload Checklist'!$B$70","v":"16. AGP1 OrgDoc1, OrgDoc2, etc."},null,null,null,null,null,null,null,{"$f":"'Upload Checklist'!$C$70","v":"Reference: Entity Org Docs Worksheet."},null,null,null,null,null,null,null,null,null,null,null,null,null,null,null,null,null,null,null,"Uploaded to HCD?"]
[null,"File Name:",null,null,{"$f":"'Upload Checklist'!$B$71","v":"16. AGP1 Org Chart"},null,null,null,null,null,null,null,{"$f":"'Upload Checklist'!$C$71","v":"AGP Organization Chart."},null,null,null,null,null,null,null,null,null,null,null,null,null,null,null,null,null,null,null,"Uploaded to HCD?"]
[null,"File Name:",null,null,{"$f":"'Upload Checklist'!$B$72","v":"16. AGP1 Signature Block"},null,null,null,null,null,null,null,{"$f":"'Upload Checklist'!$C$72","v":"Signature Block - upload in Microsoft Word Document."},null,null,null,null,null,null,null,null,null,null,null,null,null,null,null,null,null,null,null,"Uploaded to HCD?"]
[null,"File Name:",null,null,{"$f":"'Upload Checklist'!$B$73","v":"16. AGP1 Cert of Good Standing"},null,null,null,null,null,null,null,{"$f":"'Upload Checklist'!$C$73","v":"Dated 30 days or less from the application due date."},null,null,null,null,null,null,null,null,null,null,null,null,null,null,null,null,null,null,null,"Uploaded to HCD?"]
[null,"File Name:",null,null,{"$f":"'Upload Checklist'!$B$74","v":"16. AGP1 Tax-Exempt Status"},null,null,null,null,null,null,null,{"$f":"'Upload Checklist'!$C$74","v":"Evidence of tax-exempt status from IRS and FTB for Corporations (Non-Profits Only)."},null,null,null,null,null,null,null,null,null,null,null,null,null,null,null,null,null,null,null,"Uploaded to HCD?"]
[]
[null,"Administrative General Partner #2",null,null,null,null,null,null,null,"Entity name"]
[null,"File Name:",null,null,{"$f":"'Upload Checklist'!$B$76","v":"17. AGP2 Cert & Legal"},null,null,null,null,null,null,null,{"$f":"'Upload Checklist'!$C$76","v":"Reference: Applicant Certification Worksheet."},null,null,null,null,null,null,null,null,null,null,null,null,null,null,null,null,null,null,null,"Uploaded to HCD?"]
[null,"File Name:",null,null,{"$f":"'Upload Checklist'!$B$77","v":"17. AGP2 OrgDoc1, OrgDoc2, etc."},null,null,null,null,null,null,null,{"$f":"'Upload Checklist'!$C$77","v":"Reference: Entity Org Docs Worksheet."},null,null,null,null,null,null,null,null,null,null,null,null,null,null,null,null,null,null,null,"Uploaded to HCD?"]
[null,"File Name:",null,null,{"$f":"'Upload Checklist'!$B$78","v":"17. AGP2 Org Chart"},null,null,null,null,null,null,null,{"$f":"'Upload Checklist'!$C$78","v":"AGP Organization Chart."},null,null,null,null,null,null,null,null,null,null,null,null,null,null,null,null,null,null,null,"Uploaded to HCD?"]
[null,"File Name:",null,null,{"$f":"'Upload Checklist'!$B$79","v":"17. AGP2 Signature Block"},null,null,null,null,null,null,null,{"$f":"'Upload Checklist'!$C$79","v":"Signature Block - upload in Microsoft Word Document."},null,null,null,null,null,null,null,null,null,null,null,null,null,null,null,null,null,null,null,"Uploaded to HCD?"]
[null,"File Name:",null,null,{"$f":"'Upload Checklist'!$B$80","v":"17. AGP2 Cert of Good Standing"},null,null,null,null,null,null,null,{"$f":"'Upload Checklist'!$C$80","v":"Dated 30 days or less from the application due date."},null,null,null,null,null,null,null,null,null,null,null,null,null,null,null,null,null,null,null,"Uploaded to HCD?"]
[null,"File Name:",null,null,{"$f":"'Upload Checklist'!$B$81","v":"17. AGP2 Tax-Exempt Status"},null,null,null,null,null,null,null,{"$f":"'Upload Checklist'!$C$81","v":"Evidence of tax-exempt status from IRS and FTB for Corporations (Non-Profits Only)."},null,null,null,null,null,null,null,null,null,null,null,null,null,null,null,null,null,null,null,"Uploaded to HCD?"]
[]
[null,"Manager of LLC",null,null,null,"Entity name"]
[null,"File Name:",null,null,{"$f":"'Upload Checklist'!$B$83","v":"18. MLLC Cert & Legal"},null,null,null,null,null,null,null,{"$f":"'Upload Checklist'!$C$83","v":"Reference: Applicant Certification Worksheet."},null,null,null,null,null,null,null,null,null,null,null,null,null,null,null,null,null,null,null,"Uploaded to HCD?"]
[null,"File Name:",null,null,{"$f":"'Upload Checklist'!$B$84","v":"18. MLLC OrgDoc1, OrgDoc2, etc."},null,null,null,null,null,null,null,{"$f":"'Upload Checklist'!$C$84","v":"Reference: Entity Org Docs Worksheet."},null,null,null,null,null,null,null,null,null,null,null,null,null,null,null,null,null,null,null,"Uploaded to HCD?"]
[null,"File Name:",null,null,{"$f":"'Upload Checklist'!$B$85","v":"18. MLLC Org Chart"},null,null,null,null,null,null,null,{"$f":"'Upload Checklist'!$C$85","v":"Manager of LLC Organization Chart."},null,null,null,null,null,null,null,null,null,null,null,null,null,null,null,null,null,null,null,"Uploaded to HCD?"]
[null,"File Name:",null,null,{"$f":"'Upload Checklist'!$B$86","v":"18. MLLC Signature Block"},null,null,null,null,null,null,null,{"$f":"'Upload Checklist'!$C$86","v":"Signature Block - upload in Microsoft Word Document."},null,null,null,null,null,null,null,null,null,null,null,null,null,null,null,null,null,null,null,"Uploaded to HCD?"]
[null,"File Name:",null,null,{"$f":"'Upload Checklist'!$B$87","v":"18. MLLC Cert of Good Standing"},null,null,null,null,null,null,null,{"$f":"'Upload Checklist'!$C$87","v":"Dated 30 days or less from the application due date."},null,null,null,null,null,null,null,null,null,null,null,null,null,null,null,null,null,null,null,"Uploaded to HCD?"]
[null,"File Name:",null,null,{"$f":"'Upload Checklist'!$B$88","v":"18. MLLC Tax-Exempt Status"},null,null,null,null,null,null,null,{"$f":"'Upload Checklist'!$C$88","v":"Evidence of tax-exempt status from IRS and FTB for Corporations (Non-Profits Only)."},null,null,null,null,null,null,null,null,null,null,null,null,null,null,null,null,null,null,null,"Uploaded to HCD?"]
[]
[null,"§101 AB-1550 Priority Populations"]
[null,"AB-1550 Priority Populations “Priority Populations” include residents of: (1) census tracts identified as disadvantaged by California Environmental Protection Agency per SB 535; (2) census tracts identified as low-income per AB 1550; or (3) a low-income household per AB 1550. See §VII.B of the GGRF Funding Guidelines for more information on the definitions. See the Priority Populations Maps for more information."]
[null,"Priority Population maps"]
[null,"The Project's priority population benefits will be determined based upon the location of the AHD."]
[null,"Project 10 digit census tract:",null,null,null,null,null,null,null,null,null,"Disadvantaged Community:",null,null,null,null,null,null,null,"Low-Income Community:",null,null,null,null,null,null,null,"Half Mile Buffer Communities"]
[null,"File Name:",null,null,{"$f":"'Upload Checklist'!$B$90","v":"19. AB1550"},null,null,null,null,null,null,null,{"$f":"'Upload Checklist'!$C$90","v":"Applicable CARB Priority Population Benefit Criteria Tables."},null,null,null,null,null,null,null,null,null,null,null,null,null,null,null,null,null,null,null,"Uploaded to HCD?"]
[]
[null,"§102 Eligible Projects"]
[null,null,"(a)","Applicant(s) acknowledges and certifies that the Project Area is the area which encompasses transit, housing, and destinations and is the area in which Project funds will be primarily focused. Each Project Area must:"]
[null,null,null,"(1)","Be a contiguous circular area measured from any single point inside the parcel of the AHD. For TOD Project Areas and ICP Project Areas, the radius must be no greater than a one (1.0) mile. For RIPAs, the radius must be no greater than a two (2.0) miles. Projects that are made up of Scattered Sites must choose a single point in any one of the AHD parcels of the applicant’s choice; "]
[null,null,null,"(2)","Include at least one Transit Station/Stop consistent with the requirements set forth in (b)(1), (b)(2), or (b)(3) and is located no farther than one-half (0.50) mile from the AHD along a Pedestrian Access Route;"]
[null,null,null,null,"(A)","If the Pedestrian Access Route is not already in place at the time of application, the Applicant must affirm that the route will be in place by the effective date of the AHD certificate of occupancy. The Sustainable Transportation Improvements (STI) and Transportation Related Amenities (TRA) components of the Project can fund this improvement;  "]
[null,null,null,"(3)","Include all AHSC-funded Sustainable Transportation Improvements (STI) and Transportation Related Amenities (TRA) components; "]
[null,null,null,null,"(A)","STI components (e.g., a bus-only lane, Transit Signal Priority, a bikeway, or sidewalk) may extend beyond the boundaries of the Project Area, but a pedestrian or cyclist entrance to the facility must be located within the Project Area. If making an STI improvement to a fixed route transit route that includes a portion outside the Project Area, there must be a Transit Station/Stop on that route within the Project Area at the time of application. If making an STI improvement to a Flexible Transit Service, the service area must include the AHD; and"]
[null,null,null,null,"(B)","TRA components must be wholly inside the Project Area."]
[null,null,null,"(4)","Include one AHD and/or HRI and at least one of the following: STI, TRA, or Program Costs (PGM);"]
[null,"File Name:",null,null,{"$f":"'Upload Checklist'!$B$91","v":"20. Project Area Map"},null,null,null,null,null,null,null,{"$f":"'Upload Checklist'!$C$91","v":"Map the items as outlined in the Project Area Mapping Guide. Items marked with PAM in this application must be identified on the Project Area Map (PAM)\" File must be submitted in a KML/KMZ format."},null,null,null,null,null,null,null,null,null,null,null,null,null,null,null,null,null,null,null,"Uploaded to HCD?"]
[]
[null,null,"(b)","The AHSC Program includes three eligible Project Area Types: 1) Transit-Oriented Development (TOD) Project Areas; 2) Integrated Connectivity Project (ICP) Project Areas, and 3) Rural Innovation Project Areas (RIPA). The frequency of nearby transit is the primary differentiating requirement between each Project Area Type, as described §102(b)(1), (2), and (3). "]
[null,null,null,"Applicant(s) acknowledge that all Projects, regardless of Project Area Type, must demonstrate VMT reduction through fewer or shorter vehicle trips or through mode shift to transit use, bicycling, or walking within transit areas. "]
[null,null,null,"Projects should seek to integrate low-carbon transportation and affordable housing with an emphasis on providing benefits to Disadvantaged Communities or Low-Income Communities."]
[null,null,null,"(1)","Applicant(s) acknowledge that TOD Project Areas must include at least one (1) Transit Station/Stop that is served by High Quality Transit at the time of application submittal;"]
[null,null,null,"(2)","Applicant(s) acknowledge that ICP Project Areas must include at least one (1) Transit Station/Stop that is served by the Qualifying Transit at the time of application submittal. At the time of application it must not include a Transit Station/Stop that is served by High Quality Transit which is located within one-half (0.50) mile from the Affordable Housing Development along a Pedestrian Access Route; "]
[null,null,null,"(3)","Applicant(s) acknowledge that RIPAs must demonstrate all the following:"]
[null,null,null,null,"(A)","Include at least one (1) existing or planned Transit Station/Stop that is served by the Qualifying Transit or High Quality Transit that is located no farther than one-half (0.50) mile from the Affordable Housing Development along a Pedestrian Access Route; and"]
[null,null,null,null,"(B)","Must be located within a Rural Area, as defined in",null,null,null,null,null,null,null,null,null,null,"California Health and Safety Code 50199.21. "]
[null,"File Name:",null,null,{"$f":"'Upload Checklist'!$B$92","v":"21. Transit Service Map"},null,null,null,null,null,null,null,{"$f":"'Upload Checklist'!$C$92","v":"Provide the Published Transit Service Map of the Qualifying Transit line. Indicate the approximate location of the AHD on the map."},null,null,null,null,null,null,null,null,null,null,null,null,null,null,null,null,null,null,null,"Uploaded to HCD?"]
[null,"File Name:",null,null,{"$f":"'Upload Checklist'!$B$93","v":"22. Transit Service Schedule"},null,null,null,null,null,null,null,{"$f":"'Upload Checklist'!$C$93","v":"Upload is the service schedule for Qualifying Transit only. All documentation transit service schedule supporting the transit service area. All transit service schedules should be uploaded to \"Transit Service Schedule\" as one document."},null,null,null,null,null,null,null,null,null,null,null,null,null,null,null,null,null,null,null,"Uploaded to HCD?"]
[]
[null,"§103 Eligible Costs"]
[null,null,"Applicant(s) acknowledges that The AHSC Program funds Capital Projects and eligible Program Costs within TOD, ICP and RIPA Project Areas consistent with requirements of §102(b)(1), (2), and (3)."]
[]
[null,"§103 (a) Capital Projects"]
[null,null,null,"(1)","To be eligible for AHD Eligible Costs, AHD Capital Projects must:"]
[null,null,null,null,"(A)","Consist of one or more of the following:"]
[null,null,null,null,null,"Note: Re-syndication of an AHD is not an eligible Capital Project."]
[null,null,null,null,null,"Select from Dropdown:",null,null,null,null,null,null,null,null,null,null,null,null,null,null,null,null,null,null,null,null,null,null,null,null,null,null,null,null,null,null,null,null,null,{"$f":"OR(vmAHDCP=$AO$375,vmAHDCP2=$AO$375,vmAHDCP3=$AO$375)","v":false},"New Construction"]
[null,null,null,null,null,null,null,null,null,null,null,null,null,null,null,null,null,null,null,null,null,null,null,null,null,null,null,null,null,null,null,null,null,null,null,null,null,null,null,{"$f":"OR(vmAHDCP=$AO$376,vmAHDCP2=$AO$376,vmAHDCP3=$AO$376)","v":false},"Acquisition and Substantial Rehabilitation (including preservation of affordable housing at-risk of conversion to market rate)."]
[null,null,null,null,null,null,null,null,null,null,null,null,null,null,null,null,null,null,null,null,null,null,null,null,null,null,null,null,null,null,null,null,null,null,null,null,null,null,null,null,"Conversion of one or more nonresidential structures to residential dwelling units"]
[null,null,null,null,"Mixed Use Development?"]
[null,null,null,null,null,"Applicant(s) acknowledges that the acquisition must be made through a bona fide sale or transfer from the existing ownership entity to the new ownership entity comprised of a completely disparate ownership structure, which contains no common entity interest at any level of the organizational structure. Re-syndication of an Affordable Housing Development is not an eligible Capital Project."]
[]
[null,null,null,null,"(B)","Be located within one-half (0.50) mile from a Transit Station/Stop that meets the Project Area transit requirements as defined in §102(b). The one-half (0.50) mile is to be measured from any point along the perimeter of the AHD parcel to the pedestrian entrance to a Transit Station/Stop along a Pedestrian Access Route. If the Pedestrian Access Route is not clearly identified in the submitted supporting documentation, additional clarification may be requested to substantiate compliance with requirements."]
[null,null,null,null,null,"Is AHD located within one-half (0.50) mile from a Transit Station/Stop that meets the Project Area transit requirements?"]
[null,null,null,null,null,"AHD distance from Transit Station/Stop",null,null,null,null,null,null,null,null,null,null,"miles.",null,{"$f":"IF($O$383=\"\",\"\",IF($O$383<=0.5,$AN$383,$AN$384))","v":""},null,null,null,null,null,null,null,null,null,null,null,null,null,null,null,null,null,null,null,null,"Minimum distance transit requirements met."]
[null,null,null,null,null,null,null,null,null,null,null,null,null,null,null,null,null,null,null,null,null,null,null,null,null,null,null,null,null,null,null,null,null,null,null,null,null,null,null,"Minimum distance transit requirements are not met."]
[null,null,null,null,"(C)","Rental and homeownership Affordable Housing Developments must include at least 20 percent of the total residential units as Affordable Units."]
[null,null,null,null,null,"For Rental Units, does the proposed Project include at least 20 percent of the total residential units as Affordable Units?",null,null,null,null,null,null,null,null,null,null,null,null,null,null,null,null,null,null,null,null,null,null,null,null,{"$f":"IF($AL$386>=0.2,TRUE,FALSE)","v":false},null,null,"% Affordable units",null,null,null,{"$f":"IF('Max Funds & Unit Mix'!$E$27=0,0,ROUND('Max Funds & Unit Mix'!$I$27/'Max Funds & Unit Mix'!$E$27,2))","v":0}]
[null,null,null,null,null,"For Homeownership Units, does the proposed Project include at least 20 percent of the total residential units as Affordable Units?",null,null,null,null,null,null,null,null,null,null,null,null,null,null,null,null,null,null,null,null,null,null,null,null,{"$f":"IF($AL$387>=0.2,TRUE,FALSE)","v":false},null,null,"% Affordable units",null,null,null,{"$f":"IF('Max Funds & Unit Mix'!$E$27=0,0,ROUND('Max Funds & Unit Mix'!$O$27/'Max Funds & Unit Mix'!$E$27,2))","v":0}]
[null,null,null,null,null,"Rental AHD Projects must have an overall Project average affordability of all Restricted Units within the Project no greater than 50 percent represented by Area Median Income (AMI)."]
[null,null,null,null,null,"Does the proposed Rental Project  have an overall Project average affordability of all Restricted Units within the Project no greater than 50 percent?",null,null,null,null,null,null,null,null,null,null,null,null,null,null,null,null,null,null,null,null,null,null,{"$f":"IFERROR(IF($AL$389<=0.5,TRUE,FALSE),FALSE)","v":true},null,"Rental % average affordability",null,null,null,null,null,null,{"$f":"IFERROR(ROUND('Max Funds & Unit Mix'!$AQ$22/'Max Funds & Unit Mix'!$I$27/100,2),0)","v":0}]
[]
[null,null,null,null,"(D)","The AHD must demonstrate a minimum Net Density not less than that shown in §103(a)(1)(D)(i) or (ii)"]
[null,null,null,null,null,"Note: Applicants must calculate Net Density as the number of dwelling units per acre in the AHSC Benefits Calculator Tool."]
[null,null,null,null,null,"(i)","For the total number of dwelling units in the project to be used in the calculation of Net Density, the Applicant may use either the un-adjusted total number of dwelling units in the project (Figure 3) or a number adjusted for unit size as described in §103(a)(1)(D)(ii)."]
[null,null,null,null,null,null,"NOTE:  The following are NOT qualified as site deductions: Utility Easements, Off-street parking, setbacks, private drives and walkways, Landscaping, Common Areas and Facilities, Drainage Facilities (exclusive to a development) and Other mitigation space required for development."]
[null,null,null,null,null,null,"Project meet the Minimum Net Density for any of the following?"]
[null,null,null,null,null,null,{"$f":"CONCATENATE(IF($AN$6,\"TOD\",IF(isICP,\"ICP\",IF($AN$7,\"RIPA\"))),\" \",\"Residential Project meets un-adjusted minimum net density\")","v":"FALSE Residential Project meets un-adjusted minimum net density"},null,null,null,null,null,null,null,null,null,null,{"$f":"IF(AND(vmProjectAreaType=\"Transit Oriented Development (TOD)\",OR(AdjustedUnits>=30,TotalUnits>=30)),TRUE,IF(AND(vmProjectAreaType=\"Integrated Connectivity Project (ICP)\",OR(AdjustedUnits>=20,TotalUnits>=20)),TRUE,IF(AND(vmProjectAreaType=\"Rural Innovation Project Area (RIPA)\",OR(AdjustedUnits>=15,TotalUnits>=15)),TRUE,FALSE)))","v":false},null,null,"Mixed Use Developments (Floor Area Ratio)",null,null,null,null,null,null,null,null,null,{"$f":"IFERROR(IF($AN$376,\"\",IF(AND(vmProjectAreaType=\"Transit Oriented Development (TOD)\",$AD$404/$P$404>2),TRUE,IF(AND(vmProjectAreaType=\"Integrated Connectivity Project (ICP)\",$AD$404/$P$404>1.5),TRUE,IF(AND(vmProjectAreaType=\"Rural Innovation Project Area (RIPA)\",$AD$404/$P$404>0.75),TRUE,FALSE)))),FALSE)","v":false}]
[null,null,null,null,null,null,"Total Sites Area in Square Feet",null,null,null,null,null,null,null,null,{"$f":"$H$216*43560","v":0},null,null,null,null,"Total Buildings Floor Area in Sq. Feet"]
[null,null,null,null,null,null,"(Less Qualified Square Feet Deductions):",null,null,null,null,null,null,null,null,null,null,null,null,null,"(Less Excluded Areas in Square Feet):"]
[null,null,null,null,null,null,"Dedicated streets",null,null,null,null,null,null,null,null,null,null,null,null,null,"Mechanical Space"]
[null,null,null,null,null,null,"Sidewalks",null,null,null,null,null,null,null,null,null,null,null,null,null,"Cellar space"]
[null,null,null,null,null,null,"Parks",null,null,null,null,null,null,null,null,null,null,null,null,null,"Floor space in open balconies"]
[null,null,null,null,null,null,"Open Space",null,null,null,null,null,null,null,null,null,null,null,null,null,"Enclosed parking"]
[null,null,null,null,null,null,"Other (Specify)",null,null,null,null,null,null,null,null,null,null,null,null,null,"Elevator or stair bulkheads"]
[null,null,null,null,null,null,"Net Site Area-acres",null,null,null,{"$f":"P404/43560","v":0},null,"Net Site Square Feet",null,null,{"$f":"P397-P399-P400-P401-P402-P403","v":0},null,null,null,null,"Net Building Square Feet",null,null,null,null,null,null,null,null,{"$f":"AD397-AD399-AD400-AD401-AD402-AD403","v":0}]
[null,null,null,null,null,"(ii)","For the total number of dwelling units in the Project to be used in the calculation of Net Density, the Applicant may use either the un-adjusted total number of dwelling units in the project (Figure 3) or a number adjusted for unit size by multiplying the factors in this subsection by the total number of units in each unit size category, then summing the resulting products:"]
[null,null,null,null,null,null,"Number of units to be used for Net Density by multiplying the adjusting factors shown in §103(a)(1)(D)(ii)",null,null,null,null,null,null,null,null,null,null,null,null,null,null,null,null,null,null,null,null,null,null,{"$f":"ROUNDDOWN(SUMIF('Max Funds & Unit Mix'!$B$7:$B$26,0,'Max Funds & Unit Mix'!$E$7:$E$26)*0.7+SUMIF('Max Funds & Unit Mix'!$B$7:$B$26,1,'Max Funds & Unit Mix'!$E$7:$E$26)*0.9+SUMIF('Max Funds & Unit Mix'!$B$7:$B$26,2,'Max Funds & Unit Mix'!$E$7:$E$26)*1.5+SUMIF('Max Funds & Unit Mix'!$B$7:$B$26,3,'Max Funds & Unit Mix'!$E$7:$E$26)*1.6+SUMIF('Max Funds & Unit Mix'!$B$7:$B$26,4,'Max Funds & Unit Mix'!$E$7:$E$26)+SUMIF('Max Funds & Unit Mix'!$B$7:$B$26,5,'Max Funds & Unit Mix'!$E$7:$E$26)*1.8,0)","v":0}]
[null,null,null,null,null,"(iii)","Mixed Use Developments may demonstrate consistency with the Net Density requirements through either the unit per acre or Floor Area Ratio requirements detailed in Figure 3."]
[null,null,null,null,null,"(iv)","Acquisition and Substantial Rehabilitation (including preservation of affordable housing at-risk of conversion to market rate housing) are exempt from the minimum density requirements in §103(a)(1)(D) but shall not result in fewer units or lower percentage of total affordability than currently exists except where reductions in unit count are required to meet building code requirements."]
[null,"File Name:",null,null,{"$f":"'Upload Checklist'!$B$94","v":"23. Net Density Verification"},null,null,null,null,null,null,null,{"$f":"'Upload Checklist'!$C$94","v":"Letter and sealed site map certified by a California State-licensed professional (e.g., an engineer, surveyor, or landscape architect) confirming the net density."},null,null,null,null,null,null,null,null,null,null,null,null,null,null,null,null,null,null,null,"Uploaded to HCD?"]
[]
[null,null,null,null,"(E)","Must supply at least one (1) Secure Overnight Bicycle Parking spot that is not publicly accessible and is completely enclosed for every two residential units. Bicycle parking at the Affordable Housing Development will be considered an eligible cost but may not be used to meet required Project Area components as outlined in §102."]
[null,null,null,null,null,"Total # of bicycle parking spaces",null,null,null,null,null,null,null,null,null,null,null,"Parking ratio: bicycle spaces/total units",null,null,null,null,null,null,null,null,{"$f":"IF($N$412=0,\"\",SUBSTITUTE(TEXT($N$412/TotalUnits,\"#/######\"),\"/\",\":\"))","v":""},null,null,{"$f":"IF(N412=\"\",\"\",CONCATENATE(IF(TotalUnits/2<=N412,\"Requirement met\",\"Requirement NOT met\")))","v":""}]
[]
[null,null,null,"(2)","Applicant(s) acknowledges that a Project may not contain more than one Affordable Housing Development Capital Project. A single Affordable Housing Development Capital Project may not include more than one Affordable Housing Development, nor may it include an Affordable Housing Development that contains multiple development sites when one development site is receiving 4 percent low-income housing tax credits, and another is receiving 9 percent low-income housing tax credits, or when the multiple development sites are each receiving separate 4 percent low-income housing tax credits. An application proposing an Affordable Housing Development with both 4 percent low-income housing tax credits and 9 percent low-income housing tax credits, or with multiple 4 percent low-income housing tax credits, will be disqualified on the grounds that it is not proposing a Project within the meaning and design of the AHSC Program. To the extent such tax credit scenarios are contemplated, they shall constitute two separate and independent Projects, each of which must submit an entirely separate application and qualify independently of the other."]
[null,null,null,null,"(A)","The purpose of this subsection is to clarify which types of Project structures are eligible within a single AHSC application and award. This reinforces AHSC’s directive to SGC, HCD, and CARB to identify and fund unified, cohesive Projects in which interdependent components truly work together to create reductions in VMTs and ultimately GHG emissions. Any Project that represents at application as a single Affordable Housing Development for scoring purposes, but after receiving an award letter attempts to split its single Affordable Housing Development into multiple Affordable Housing Developments with separate ownership structures or separate financing structures will be disencumbered as it no longer meets the requirements of AHSC."]
[]
[null,null,null,"(3)","Applicant(s) acknowledges that AHD Capital Projects may include or consist as stated below?"]
[null,null,null,null,"(A)","Include residential units that are rental or homeownership, or a combination of both;"]
[null,null,null,null,"(B)","Consist of a Scattered Site constituting a single, integrated Affordable Housing Development. Rental Affordable Housing Developments on a Scattered Site must meet all the requirements set forth by §8303(b) of the Uniform Multifamily Regulations (UMRs). For Homeownership Affordable Housing Developments on Scattered Sites, the individual sites must have a single owner at the time of execution of the AHSC loan Standard Agreement; "]
[null,null,null,null,"(C)","Include nonresidential uses that are compatible under local zoning."]
[]
[null,null,null,"(4)","Applicant(s) acknowledges that any Sustainable Transportation Infrastructure (STI) or Transportation Related Amenities (TRA) that is publicly accessible must be equally accessible to all members of the public in accordance with state and federal anti-discrimination laws. This includes providing full and equal access to people with disabilities."]
[]
[null,null,null,"(5)","Applicant(s) acknowledges that the AHD and HRI Capital Projects must comprise at least fifty percent (50.0%) of total AHSC funds requested, but shall not exceed $35,000,000."]
[]
[null,null,null,"(6)","Applicant(s) acknowledges that the total combined grant amount for Sustainable Transportation Infrastructure Capital Projects and Transportation Related Amenities Capital Projects shall not exceed $15,000,000."]
[]
[null,null,"(b)","Eligible Costs for Affordable Housing Development Capital Projects are limited to:"]
[null,null,null,"(1)","Applicant(s) acknowledge loans for rental Affordable Housing Development. Eligible loan costs for a Housing Development, as specified in §7304 and §7305 of the MHP Guidelines."]
[null,null,null,"(2)","Applicant(s) acknowledges grants for homeownership Affordable Housing Development.  Eligible grant costs as specified in §400.2 of the CalHome Guidelines dated December 30, 2022. Construction and Substantial Rehabilitation work is also an Eligible Cost."]
[null,null,null,null,"§400.2 of the CalHome Guidelines dated December 30, 2022."]
[null,null,null,"(3)","Soft costs such as those incidentally but directly related to construction or other pre-development components including, but not limited to, planning, engineering, construction management, architectural, and other design work, required mitigation expenses, appraisals, legal expenses, and necessary easements. Soft costs shall not exceed 10 percent of costs associated with the funding request for the AHD Capital Project."]
[null,null,null,null,"Are soft costs less than or equal to 10 percent of costs associated with the funding request for the AHD Capital Project?",null,null,null,null,null,null,null,null,null,null,null,null,null,null,null,null,null,null,null,null,null,null,null,null,null,{"$f":"IF(SoftCosts<='Project Overview'!$AC$18*0.1,TRUE,FALSE)","v":true}]
[null,null,null,"(4)","Each AHSC application may budget up to 2 percent of their total funding request for Employment Benefits and Outcomes Reporting. This amount will scale with the size of the Applicant’s funding request. Applicants should consider the size of their loan and grant funded project components when allocating this item into capital cost budgets. Employment Benefits and Outcomes Reporting costs are not included within the soft costs cap."]
[null,null,null,null,"Are Employment Benefits and Outcomes less than or equal to 2 (two) percent of costs associated with the funding request for the AHSC application?",null,null,null,null,null,null,null,null,null,null,null,null,null,null,null,null,null,null,null,null,null,null,null,null,null,null,null,null,null,null,null,{"$f":"IF(SUM('AHD-HRI S&U Budget'!$E$64,'AHD-HRI S&U Budget'!$D$232,'STI S&U Budget'!$D$68,'STI S&U Budget'!$D$135,'STI S&U Budget'!$D$202,'TRA S&U Budget'!$D$74,'TRA S&U Budget'!$D$149,'TRA S&U Budget'!$D$224)<='Project Overview'!$AC$18*0.02,TRUE,FALSE)","v":true}]
[]
[null,null,"(c)","Eligible Costs for Housing Related Infrastructure Capital Projects are limited to any of the following:"]
[null,null,null,"(1)","Capital improvements required by a Locality, transit agency, or special district as a condition to the approval of the Affordable Housing Development."]
[null,null,null,null,"Are there any Capital improvements required by a Locality, transit agency, or special district as a condition to the approval of the Affordable Housing Development?"]
[null,"File Name:",null,null,{"$f":"'Upload Checklist'!$B$95","v":"24. Cap Improvements Req"},null,null,null,null,null,null,null,{"$f":"'Upload Checklist'!$C$95","v":"Documentation from a Locality, transit agency or special district that capital improvements are required."},null,null,null,null,null,null,null,null,null,null,null,null,null,null,null,null,null,null,null,"Uploaded to HCD?"]
[null,null,null,"(2)","Factory-Built Housing components utilized in the construction of the Affordable Housing Development. Eligible costs shall include deposits required to initiate construction of Factory-Built Housing components and any subsequent payments. "]
[null,null,null,"(3)","Soft costs such as those incidentally but directly related to construction or other pre-development components including, but not limited to, planning, engineering, construction management, architectural, and other design work, required mitigation expenses, appraisals, legal expenses, and necessary easements. Soft costs shall not exceed 10 percent of costs associated with the funding request for the HRI Capital Project."]
[null,null,null,null,"Are soft costs less than or equal to 10 percent of costs associated with the funding request for the AHD Capital Project?",null,null,null,null,null,null,null,null,null,null,null,null,null,null,null,null,null,null,null,null,null,null,null,null,null,{"$f":"IF(SoftCosts<='Project Overview'!$AC$18*0.1,TRUE,FALSE)","v":true}]
[null,null,null,"(4)","Each AHSC application may budget up to 2 percent of their total funding request for Employment Benefits and Outcomes Reporting. This amount will scale with the size of the Applicant’s funding request. Applicants should consider the size of their loan and grant funded project components when allocating this item into capital cost budgets. Employment Benefits and Outcomes Reporting costs are not included within the soft costs cap."]
[null,null,null,null,"Are Employment Benefits and Outcomes less than or equal to 2 (two) percent of costs associated with the funding request for the AHSC application?",null,null,null,null,null,null,null,null,null,null,null,null,null,null,null,null,null,null,null,null,null,null,null,null,null,null,null,null,null,null,null,{"$f":"IF(SUM('AHD-HRI S&U Budget'!$E$64,'AHD-HRI S&U Budget'!$D$232,'STI S&U Budget'!$D$68,'STI S&U Budget'!$D$135,'STI S&U Budget'!$D$202,'TRA S&U Budget'!$D$74,'TRA S&U Budget'!$D$149,'TRA S&U Budget'!$D$224)<='Project Overview'!$AC$18*0.02,TRUE,FALSE)","v":true}]
[null,null,null,"(5)","Required environmental remediation necessary for the HRI Capital Project where the cost of the remediation does not exceed 50 percent of AHSC Program grant funds."]
[null,null,null,null,"Does the environmental remediation costs not exceed 50 percent of AHSC Program grant funds?",null,null,null,null,null,null,null,null,null,null,null,null,null,null,null,null,null,null,null,null,{"$f":"IF('AHD-HRI S&U Budget'!$D$189<='AHD-HRI S&U Budget'!$D$237*0.5,TRUE,FALSE)","v":true}]
[null,null,null,"(6)","Real property acquisition (not inclusive of the AHD site) of the Housing Related Infrastructure project site and associated fees and costs (not to exceed 10 percent of the total AHSC Program award). Real estate commissions for purchase or acquisition are not an eligible expenditure."]
[null,null,null,null,"Does the real property acquisition (not inclusive of the AHD site) of the Housing Related Infrastructure project site and associated fees and costs (not to exceed 10 percent of the total AHSC Program award)",null,null,null,null,null,null,null,null,null,null,null,null,null,null,null,null,null,null,null,null,null,null,null,null,null,null,null,null,null,null,null,null,{"$f":"IF('AHD-HRI S&U Budget'!$D$135<='Project Overview'!AC18*0.1,TRUE,FALSE)","v":true}]
[null,null,null,"(7)","Impact fees required by local ordinance are eligible for funding only if used for the identified eligible HRI Capital Project not to exceed $300,000."]
[null,null,null,null,"Does impact fees required by local ordinance not exceed $300,000.",null,null,null,null,null,null,null,null,null,null,null,null,null,null,{"$f":"IF('AHD-HRI S&U Budget'!$D$224<=300000,TRUE,FALSE)","v":true}]
[null,null,null,"(8)","The purchase and installation of on-site energy storage in the form of battery arrays, as certified by an energy consultant or architect."]
[null,null,null,null,"Will the Project have installation of on-site energy storage in the form of battery arrays?"]
[null,"File Name:",null,null,{"$f":"'Upload Checklist'!$B$96","v":"25. Onsite Energy Storage"},null,null,null,null,null,null,null,{"$f":"'Upload Checklist'!$C$96","v":"Documentation certified by an energy consultant or architect."},null,null,null,null,null,null,null,null,null,null,null,null,null,null,null,null,null,null,null,"Uploaded to HCD?"]
[]
[null,null,"(d)","Eligible Costs for Sustainable Transportation Infrastructure Capital Projects (including Active Transportation and transit infrastructure)"]
[null,null,null,"(1)","Applicant(s) acknowledges that eligible costs are for Capital improvements that result in the improvement or addition of infrastructure that encourages mode-shift by enhancing: 1) public transit access, speed, and/or reliability; 2) pedestrian network; or 3) bicycle network (includes public bike-share infrastructure and fleet) within the defined Project Area meeting the transit requirements detailed in §102 (b)(1), (2) or (3)."]
[null,null,null,"(2)","Soft costs such as those incidentally but directly related to construction or project plans, specifications and estimates including, but not limited to, planning, engineering, construction management, architectural, and other design work, environmental impact reports and assessments, appraisals, legal expenses, and necessary easements. Soft costs shall not exceed thirty (30.0) percent of costs associated with the STI Capital Project."]
[null,null,null,null,"Does the soft costs not exceed thirty (30.0) percent of costs associated with the STI Capital Project?",null,null,null,null,null,null,null,null,null,null,null,null,null,null,null,null,null,null,null,null,null,{"$f":"IF('STI S&U Budget'!$D$210<='STI S&U Budget'!$H$219*0.3,TRUE,FALSE)","v":true}]
[null,null,null,"(3)","Each AHSC application may budget up to 2 percent of their total funding request for Employment Benefits and Outcomes Reporting. This amount will scale the size of the Applicant’s funding request. Applicants should consider the size of their loan and grant funded project components when allocating this item into capital cost budgets. Employment Benefits and Outcomes Reporting are not included within the soft costs cap."]
[null,null,null,null,"Are Employment Benefits and Outcomes less than or equal to 2 (two) percent of costs associated with the funding request for the AHSC application?",null,null,null,null,null,null,null,null,null,null,null,null,null,null,null,null,null,null,null,null,null,null,null,null,null,null,null,null,null,null,null,null,{"$f":"IF(SUM('AHD-HRI S&U Budget'!$E$64,'AHD-HRI S&U Budget'!$D$232,'STI S&U Budget'!$D$68,'STI S&U Budget'!$D$135,'STI S&U Budget'!$D$202,'TRA S&U Budget'!$D$74,'TRA S&U Budget'!$D$149,'TRA S&U Budget'!$D$224)<='Project Overview'!$AC$18*0.02,TRUE,FALSE)","v":true}]
[null,null,null,"(4)","Activity Delivery Costs that are associated with the implementation of the STI Capital Project not to exceed 10 percent of the costs associated with the STI Capital Project."]
[null,null,null,null,"Does the Activity Delivery Costs not exceed 10 percent of the costs associated with the STI Capital Project?",null,null,null,null,null,null,null,null,null,null,null,null,null,null,null,null,null,null,null,null,null,null,null,{"$f":"IF('STI S&U Budget'!$D$217<='STI S&U Budget'!$H$219*0.1,TRUE,FALSE)","v":true}]
[null,null,null,"(5)","Applicant(s) acknowledges that eligible STI costs include transit operations expenditures for up to 10 years that directly expand fixed route, flexible, and paratransit transit service by supporting new, restored, or expanded routes and may include wages, maintenance, and other costs to operate those services."]
[null,null,null,"(6)","Applicant(s) acknowledge that all vehicles purchased using AHSC Program funds must be Zero Emission Vehicles (ZEV). Transit types that do not have an approved zero emission passenger locomotive for use, must provide documentation stating so, and purchase vehicles that meet EPA Tier 4 emission standards. "]
[null,null,null,"(7)","Applicant(s) acknowledge that other STI Capital Project costs required as a condition of local approval for the STI Capital Project, as approved by the Department."]
[null,null,null,null,"Are there any other STI Capital Project costs in budget that are required as a condition of local approval for the STI Capital Project?"]
[null,"File Name:",null,null,{"$f":"'Upload Checklist'!$B$97","v":"26. STI Cap Project Costs"},null,null,null,null,null,null,null,{"$f":"'Upload Checklist'!$C$97","v":"Documentation showing Capital Project costs are required as a condition of local approval for STI."},null,null,null,null,null,null,null,null,null,null,null,null,null,null,null,null,null,null,null,"Uploaded to HCD?"]
[]
[null,null,"(e)","Eligible Costs for Transportation Related Amenities Capital Projects are limited to:"]
[null,null,null,"(1)","Applicant(s) acknowledges capital improvements that are publicly accessible and provide supportive amenities to cyclists, pedestrians, and transit riders (e.g., bike parking, bus shelter, benches, street trees, etc.) within the defined Project Area meeting the transit requirements detailed in §102(b)(1), (2) or (3)."]
[null,null,null,"(2)","Soft costs such as those incidentally but directly related to construction project plans, specifications, and estimates including, but not limited to, planning, engineering, construction management, architectural, and other design work, environmental impact reports and assessments, appraisals, legal expenses, and necessary easements. Soft costs shall not exceed 10 percent of costs associated with the TRA Capital Project."]
[null,null,null,null,"Does the soft costs not exceed 10 percent of costs associated with the TRA Capital Project?",null,null,null,null,null,null,null,null,null,null,null,null,null,null,null,null,null,null,null,{"$f":"IF('TRA S&U Budget'!$D$234<='TRA S&U Budget'!$H$244*0.1,TRUE,FALSE)","v":true}]
[null,null,null,"(3)","Each AHSC application may budget up to 2 percent of their total funding request for Employment Benefits and Outcomes Reporting. This amount will scale with the size of the Applicant’s funding request. Applicants should consider the size of their loan and grant funded project components when allocating this item into capital cost budgets. Employment Benefits and Outcomes Reporting costs are not included within the soft costs cap."]
[null,null,null,null,"Are Employment Benefits and Outcomes less than or equal to 2 (two) percent of costs associated with the funding request for the TRA Capital Project?",null,null,null,null,null,null,null,null,null,null,null,null,null,null,null,null,null,null,null,null,null,null,null,null,null,null,null,null,null,null,null,null,{"$f":"IF(SUM('AHD-HRI S&U Budget'!$E$64,'AHD-HRI S&U Budget'!$D$232,'STI S&U Budget'!$D$68,'STI S&U Budget'!$D$135,'STI S&U Budget'!$D$202,'TRA S&U Budget'!$D$74,'TRA S&U Budget'!$D$149,'TRA S&U Budget'!$D$224)<='Project Overview'!$AC$18*0.02,TRUE,FALSE)","v":true}]
[null,null,null,"(4)","Activity Delivery Costs that are associated with the implementation of the TRA Capital Project are not to exceed 10 percent of the costs associated with the TRA Capital Project."]
[null,null,null,null,"Does the Activity Delivery Costs not exceed 10 percent of the costs associated with the TRA Capital Project(s)?",null,null,null,null,null,null,null,null,null,null,null,null,null,null,null,null,null,null,null,null,null,null,null,{"$f":"IF('TRA S&U Budget'!$D$242<='TRA S&U Budget'!$H$244*0.1,TRUE,FALSE)","v":true}]
[null,null,null,"(5)","Applicant(s) acknowledge that other TRA Capital Project costs required as a condition of local approval for the TRA Capital Project, as approved by the Department."]
[null,null,null,null,"Are there any other Capital Project costs in budget that are required as a condition of local approval for the TRA Capital Project?"]
[null,"File Name:",null,null,{"$f":"'Upload Checklist'!$B$98","v":"27. TRA Cap Project Costs"},null,null,null,null,null,null,null,{"$f":"'Upload Checklist'!$C$98","v":"Documentation showing Capital Project costs are required as condition of local approval for TRA."},null,null,null,null,null,null,null,null,null,null,null,null,null,null,null,null,null,null,null,"Uploaded to HCD?"]
[]
[null,null,"(f)","Program Costs"]
[null,null,null,"(1)","Applicant(s) acknowledges that Program Costs include those costs typically associated with 1) program creation or 2) expansion of existing programs to serve new populations or offer new program service and implementation. Eligible costs may include operational costs for programs for the term of the grant (three years). Eligible programs include education, outreach, and training programs for Active Transportation or transit ridership; air pollution exposure reduction; workforce development partnerships; tenant legal counseling services; and outreach, education, and subsidy to low-income residents for ZEV car sharing. Access and availability of Programs may be limited to AHD residents or may be offered to the greater community. Additionally, costs and fees associated with the ongoing provision of broadband internet service, as defined in Section 106, provided free of charge to the AHD residents are an eligible Program Cost."]
[null,null,null,null,"(A)","Applicant(s) acknowledges that tenant legal counseling services cannot be provided by the Developer, building manager, or related entity and must be offered through a third party."]
[]
[null,null,null,"(2)","The total grant amount for Program Costs within a Project Area shall not exceed $600,000. Costs incurred for required transit passes or cards described in §106(b)(2) will not contribute to this cap. "]
[null,null,null,null,"Does the total grant amount for Program Costs within a Project Area not exceed 30 percent of the funding request for the overall Project up to $600,000?",null,null,null,null,null,null,null,null,null,null,null,null,null,null,null,null,null,null,null,null,null,null,null,null,null,null,null,null,null,null,{"$f":"IF('PGM S&U Budget'!$D$174-'PGM S&U Budget'!$D$22-'PGM S&U Budget'!$D$49-'PGM S&U Budget'!$D$76-'PGM S&U Budget'!D103-'PGM S&U Budget'!D130-'PGM S&U Budget'!D157<=IF('Project Overview'!$AC$18*0.3>600000,600000,'Project Overview'!$AC$18*0.3),TRUE,FALSE)","v":true}]
[]
[null,null,"(g)","Applicant(s) acknowledges that ineligible costs include, but are not limited to, all the following::"]
[null,null,null,"(1)","Costs are not eligible for funding if there is another feasible, available source of committed funding for the Project portion thereof to be funded by the AHSC Program or if the cost is incurred prior to AHSC Program award;"]
[null,null,null,"(2)","Routine maintenance or operations of transportation infrastructure unrelated to AHSC-funded transit service, including the general transit fleet"]
[null,null,null,"(3)","In lieu fees for local inclusionary housing programs"]
[null,null,null,"(4)","Ongoing operational costs beyond the term of the grant (three years) for Program Costs; and"]
[null,null,null,"(5)","Costs associated with automobile or motorcycle parking (excluding electric vehicle charging infrastructure)"]
[null,null,null,"(6)","Costs associated with fossil fuel-based backup power"]
[]
[null,"§104 Assistance Terms and Limits"]
[null,null,"Applicant(s) acknowledge, understand and agree to comply with §104 (a-g)?"]
[null,null,"(h)","Grants for HRI, STI, TRA, PGM, and AHD (homeownership) components shall be subject to the following terms:"]
[null,null,null,"(1)","Applicant(s) acknowledges that the applicant must demonstrate that the grant will not result in a profit that exceeds the commercially reasonable range for other developments of similar size and level of risk."]
[null,null,null,"(2)","Applicant(s) acknowledges that the AHSC Program grant funds will be disbursed as reimbursed progress payments only after the execution of the Standard Agreement in the amount not to exceed the AHSC Program award of funds."]
[null,null,null,"(3)","Applicant(s) acknowledges that eligible costs incurred after the award date are eligible for reimbursement once the Standard Agreement is executed. Costs incurred prior to award are not eligible for reimbursement."]
[null,null,null,"(4)","Applicant(s) acknowledges that the following applies for Housing Related Infrastructure Capital Project grants:"]
[null,null,null,null,"(A)","The total Housing Related Infrastructure Capital Project grant amount is $35,000 per residential unit in the proposed Affordable Housing Development, or $50,000 per Restricted Unit."]
[null,null,null,null,null,"Number of residential units",null,null,null,null,null,{"$f":"SUM('Max Funds & Unit Mix'!$F$27,'Max Funds & Unit Mix'!$L$27)","v":0},null,{"$f":"$L$505*35000","v":0},null,null,"Number of Restricted units",null,null,null,null,null,{"$f":"SUM('Max Funds & Unit Mix'!$H$27,'Max Funds & Unit Mix'!$N$27)","v":0},null,{"$f":"$W$505*50000","v":0},null,null,null,"Does the HRI asking grant amount meet this requirement?",null,null,null,null,null,null,{"$f":"IF(MAX($N$505,$Y$505)<=$AC$12,TRUE,FALSE)","v":true}]
[null,null,null,null,"(B)","Conditions precedent to the initial disbursement of AHSC Program funds shall include receipt of all required Public Agency entitlements and all construction funding commitments for the Affordable Housing Development supported by the Housing Related Infrastructure Capital Project."]
[null,null,null,null,"(C)","Rental Affordable Housing Developments supported by the Housing- Related Infrastructure Capital Project shall be subject to a recorded covenant ensuring affordability for duration of at least 55 years, recorded on the fee interest of the real property on which the rental Affordable Housing Development is to be located."]
[null,null,null,null,"(D)","Homeownership Affordable Housing Developments supported by the Housing Related Infrastructure Capital Project shall be subject to a recorded covenant with a duration of at least 30 years that includes either a resale restriction or equity sharing upon resale, recorded on the fee interest of the real property on which the homeownership Affordable Housing Development is to be located."]
[null,null,null,"(5)","Applicant(s) acknowledges that the following applies for homeownership Affordable Housing Developments grants:"]
[null,null,null,null,"(A)","All Assisted Units must be made available for sale to qualified First-time homebuyers."]
[null,null,null,null,"(B)","The maximum grant amount per Restricted Unit is calculated pursuant to §7307 of the MHP Guidelines based on the number of Restricted Units in the Affordable Housing Development, affordability, unit sizes, and location in addition to the base amount of $250,000. The maximum grant amount per Restricted Unit for a homeownership AMI tier shall equal the maximum loan amount per Restricted Unit for a rental AMI tier as follows:"]
[null,null,null,null,null,"(i)","For homeownership AMI tier of 55-85%"]
[null,null,null,null,null,null,"Homeownership AMI",null,null,null,null,0.85,null,0.8,null,0.75,null,0.7,null,0.65,null,0.6,null,0.55000000000000004]
[null,null,null,null,null,null,"Rental AMI",null,null,null,null,0.45,null,0.4,null,0.35,null,0.3,null,0.25,null,0.2,null,0.15]
[null,null,null,null,null,"(ii)","For homeownership AMI tier of 90-120%"]
[null,null,null,null,null,null,"Homeownership AMI",null,null,null,null,1.2,null,1.1499999999999999,null,1.1000000000000001,null,1.05,null,1,null,0.95,null,0.9]
[null,null,null,null,null,null,"Rental AMI",null,null,null,null,0.8,null,0.75,null,0.7,null,0.65,null,0.6,null,0.55000000000000004,null,0.5]
[null,null,null,null,"(C)","Conditions precedent to the initial disbursement of AHSC Program funds shall include receipt of all required Public Agency entitlements and all construction funding commitments for the homeownership Affordable Housing Development."]
[null,null,null,null,"(D)","Prior to any disbursement, an affordability covenant will be recorded against the fee interest in the property of the homeownership Affordable Housing Development. "]
[null,null,null,null,"(E)","Homeownership Affordable Housing Developments supported by the Housing Related Infrastructure Capital Project shall be subject to a recorded covenant with a duration of at least 30 years that includes either a resale restriction or equity sharing upon resale, recorded on the fee interest of the real property on which the homeownership Affordable Housing Development is to be located."]
[]
[null,"Existing versus proposed Units  (include Manager's Units)",null,null,null,null,null,null,null,null,null,null,null,null,null,null,null,null,null,null,null,null,null,null,"Total # Units",null,"Total # Bedrooms",null,null,"Total # Buildings",null,null,"Total  # Mgr. Units",null,null,"Total # of Parking Spaces"]
[null," ",null,null,"Beds",null,null,"0 Bdrm",null,"1 Bdrm",null,null,"2 Bdrm",null,null,"3 Bdrm",null,null,"4 Bdrm",null,null,"5 + Bdrm"]
[null,"Existing",null,null,null,null,null,null,null,null,null,null,null,null,null,null,null,null,null,null,null,null,null,null,{"$f":"SUM(H524:$X$524)","v":0},null,{"$f":"SUM((H524*1)+(J524*1)+(M524*2)+(P524*3)+(S524*4)+(V524*5))","v":0}]
[null,"Proposed",null,null,null,null,null,{"$f":"$AH$528","v":0},null,{"$f":"$AH$529","v":0},null,null,{"$f":"$AH$530","v":0},null,null,{"$f":"$AH$531","v":0},null,null,{"$f":"$AH$532","v":0},null,null,{"$f":"$AH$533","v":0},null,null,{"$f":"SUM(H525:$X$525)","v":0},null,{"$f":"SUM((H525*1)+(J525*1)+(M525*2)+(P525*3)+(S525*4)+(V525*5))","v":0}]
[]
[null,"Building types",null,null,null,null,null,null,"New Construction",null,null,null,null,null,"Rehabilitation",null,null,null,null,null,null,"Unit Size",null,null,"Baths",null,"Layout",null,null,"Avg. Sq. Ft.",null,null,null,"All Units",null,null,"Restricted"]
[null,null,null,null,null,null,null,null,"Units",null,"Stories",null,"Bldgs.",null,"Units",null,"Stories",null,"Bldgs.",null,null,"0 Bdrm.",null,null,null,null,null,null,null,null,null,null,null,{"$f":"SUMIF(UnitsTbl['# of\nBdrms],0,UnitsTbl[Total Units])","v":0},null,null,{"$f":"SUMIF(UnitsTbl['# of\nBdrms],0,UnitsTbl[Total Rental\nRestricted\nUnits])","v":0}]
[null,"Townhouse/Row House",null,null,null,null,null,null,null,null,null,null,null,null,null,null,null,null,null,null,null,"1 Bdrm.",null,null,null,null,null,null,null,null,null,null,null,{"$f":"SUMIF(UnitsTbl['# of\nBdrms],1,UnitsTbl[Total Units])","v":0},null,null,{"$f":"SUMIF(UnitsTbl['# of\nBdrms],1,UnitsTbl[Total Rental\nRestricted\nUnits])","v":0}]
[null,"One or Two Story Walk-Up",null,null,null,null,null,null,null,null,null,null,null,null,null,null,null,null,null,null,null,"2 Bdrm.",null,null,null,null,null,null,null,null,null,null,null,{"$f":"SUMIF(UnitsTbl['# of\nBdrms],2,UnitsTbl[Total Units])","v":0},null,null,{"$f":"SUMIF(UnitsTbl['# of\nBdrms],2,UnitsTbl[Total Rental\nRestricted\nUnits])","v":0}]
[null,"Mid-Rise (3-5 stories)",null,null,null,null,null,null,null,null,null,null,null,null,null,null,null,null,null,null,null,"3 Bdrm.",null,null,null,null,null,null,null,null,null,null,null,{"$f":"SUMIF(UnitsTbl['# of\nBdrms],3,UnitsTbl[Total Units])","v":0},null,null,{"$f":"SUMIF(UnitsTbl['# of\nBdrms],3,UnitsTbl[Total Rental\nRestricted\nUnits])","v":0}]
[null,"High-Rise (6+stories)",null,null,null,null,null,null,null,null,null,null,null,null,null,null,null,null,null,null,null,"4 Bdrm.",null,null,null,null,null,null,null,null,null,null,null,{"$f":"SUMIF(UnitsTbl['# of\nBdrms],4,UnitsTbl[Total Units])","v":0},null,null,{"$f":"SUMIF(UnitsTbl['# of\nBdrms],4,UnitsTbl[Total Rental\nRestricted\nUnits])","v":0}]
[null,"Detached Single Family ",null,null,null,null,null,null,null,null,null,null,null,null,null,null,null,null,null,null,null,"5 Bdrm.",null,null,null,null,null,null,null,null,null,null,null,{"$f":"SUMIF(UnitsTbl['# of\nBdrms],5,UnitsTbl[Total Units])","v":0},null,null,{"$f":"SUMIF(UnitsTbl['# of\nBdrms],5,UnitsTbl[Total Rental\nRestricted\nUnits])","v":0}]
[null,"Duplex/4-Plex",null,null,null,null,null,null,null,null,null,null,null,null,null,null,null,null,null,null,null,"Total Units",null,null,null,null,null,null,null,null,null,null,null,{"$f":"SUM($AH$528:$AJ$533)","v":0},null,null,{"$f":"SUM($AK$528:$AM$533)","v":0}]
[null,"Non-Residential Bldg(s)"]
[null,"Totals",null,null,null,null,null,null,{"$f":"SUM($I$529:J$534)","v":0},null,null,null,{"$f":"SUM(M529:$N$535)","v":0},null,{"$f":"SUM(O529:$P$534)","v":0},null,null,null,{"$f":"SUM(S529:$T$535)","v":0}]
[]
[null,"Sponsor/Applicant Notes"]
[]
[]
[null,"Amenities"]
[null,"Unit Amenities/Features"]
[null,null,null,"Air Conditioning",null,null,null,null,null,null,null,"Refrigerator",null,null,null,null,null,null,null,"Range",null,null,null,null,null,null,null,"Microwave",null,null,null,null,null,null,null,"Disposal"]
[null,null,null,"Dishwasher",null,null,null,null,null,null,null,"Walk-In Closet",null,null,null,null,null,null,null,"Fenced Rear Yard",null,null,null,null,null,null,null,"Ceiling Fans",null,null,null,null,null,null,null,"Curtains/Blinds"]
[null,null,null,"Fireplace",null,null,null,null,null,null,null,"Emergency Call ",null,null,null,null,null,null,null,"Free Cable TV",null,null,null,null,null,null,null,"Storage Area",null,null,null,null,null,null,null,"Lofts "]
[null,null,null,"Balcony",null,null,null,null,null,null,null,"Patio ",null,null,null,null,null,null,null,"(Other)",null,null,null,null,null,null,null,"(Other)",null,null,null,null,null,null,null,"(Other)"]
[]
[null,"Project Amenities"]
[null,"Elevator(s)",null,null,null,null,null,null,null,null,"Laundry Rms.",null,null,null,null,null,null,null,null,"Washers",null,null,null,null,null,null,null,"Dryers"]
[]
[null,null,null,"Community Room ",null,null,null,null,null,null,null,null,null,"Community Kitchen",null,null,null,null,null,null,null,null,null,"Computer Room",null,null,null,null,null,null,null,null,null,"High Speed Internet"]
[null,null,null,"Fitness Room ",null,null,null,null,null,null,null,null,null,"Picnic/BBQ Area(s)",null,null,null,null,null,null,null,null,null,"Tot Lot/Playground",null,null,null,null,null,null,null,null,null,"Sports Court"]
[null,null,null,"Tennis Court",null,null,null,null,null,null,null,null,null,"Swimming Pool",null,null,null,null,null,null,null,null,null,"Jacuzzi/Sauna",null,null,null,null,null,null,null,null,null,"Bike Parking"]
[null,null,null,"(Other)",null,null,null,null,null,null,null,null,null,"(Other)",null,null,null,null,null,null,null,null,null,"(Other)",null,null,null,null,null,null,null,null,null,"(Other)"]
[]
[null,"Security & Other"]
[null,null,null,"Gated Entry",null,null,null,null,null,null,null,"Bldg. Card Key",null,null,null,null,null,null,null,"Security Patrol",null,null,null,null,null,null,null,"Security Cameras"]
[]
[null,"Describe any mandatory charges to tenants beyond allowable Rents.  "]
[]
[]
[null,"Other onsite Services?"]
[]
[]
[null,"Miscellaneous Information"]
[null,"Residential Space"]
[null,"Residential Units",null,null,null,null,null,null,"Common Areas",null,null,null,null,null,null,"Community Room",null,null,null,null,null,null,null,"Leasing Office",null,null,null,null,null,null,"Additional Storage Space"]
[null,"Subtotal Residential SF",null,null,null,null,null,null,{"$f":"SUM($F$567,$M$567,$U$567,$AB$567,$AK$567)","v":0}]
[]
[null,"Maintenance Shop",null,null,null,null,null,null,null,null,"Childcare Center",null,null,null,null,null,null,null,null,"Service Area",null,null,null,null,null,null,null,"Service Office"]
[null,"(Other)",null,null,null,null,null,null,null,null,"(Other)",null,null,null,null,null,null,null,null,"(Other)",null,null,null,null,null,null,null,"(Other)"]
[null,"Total Residential SF",null,null,null,null,null,null,{"$f":"SUM($I$568,$G$570,$P$570,$X$570,$AH$570,$G$571,$P$571,$X$571,$AH$571)","v":0}]
[]
[null,"Residential Parking"]
[null,"Free Residential Parking Spaces"]
[null,"Uncovered Tenant Parking",null,null,null,null,null,null,null,null,null,"Covered Tenant Parking",null,null,null,null,null,null,null,null,"Enclosed Tenant Parking ",null,null,null,null,null,null,null,null,"Tenant Guest Spaces"]
[null,"Subtotal Parking Spaces",null,null,null,null,null,null,{"$f":"SUM($I$576,$R$576,$AA$576,$AJ$576)","v":0}]
[]
[null,"Extra Spaces Tenants may Rent"]
[null,"Uncovered Parking",null,null,null,null,null,null,null,null,"Covered Parking",null,null,null,null,null,null,null,"Enclosed Parking",null,null,null,null,null,null,null,"Total Handicap Parking Spaces"]
[null,"Grand Total Parking Spaces",null,null,null,null,null,null,null,{"$f":"SUM($I$577,$H$580,$P$580,$X$580)","v":0}]
[]
[null,"Commercial Space"]
[null,null,null,null,null,null,null,null,null,null,null,null,null,null,null,"Commercial Square Feet"]
[null,"Commercial Area",null,null,null,null,null,null,null,null,"Offices",null,null,null,null,null,"Childcare Center",null,null,null,null,null,null,null,"Storage Space",null,null,null,null,null,null,null,"(Other)"]
[null,"Total Commercial SF",null,null,null,null,null,{"$f":"SUM($G$585,$M$585,$U$585,$AC$585,$AK$585)","v":0}]
[]
[null,"Parking Spaces for Commercial Tenants"]
[null,"Uncovered Parking",null,null,null,null,null,null,null,null,null,"Covered Parking",null,null,null,null,null,null,null,null,null,null,"Total Spaces",null,null,null,{"$f":"SUM($H$589,$S$589)","v":0}]
[]
[null,"Describe other available parking for commercial patrons"]
[]
[]
[null,"Income from sources other than residential Rents and subsidies"]
[null,"Laundry",null,null,null,null,null,null,null,null,null,null,null,null,null,"Other Leased Spaces "]
[null,"No. of Units Using Central Laundry",null,null,null,null,null,null,null,null,null,null,null,null,null,"Residential",null,null,null,null,null,null,null,null,"Lease Terms",null,null,null,"Sq. Feet",null,null,"Rent/SF/Mo.",null,null,null,"Annual Gross"]
[null,"Weekly Assumed Income Per Unit",null,null,null,null,null,null,null,null,null,null,null,null,null,null,null,null,null,null,null,null,null,null,null,null,null,null,null,null,null,null,null,null,null,{"$f":"+AC597*AF597*12","v":0}]
[null,"Annual Total Laundry Income",null,null,null,null,null,null,null,null,{"$f":"+K597*K596*52","v":0},null,null,null,null,null,null,null,null,null,null,null,null,null,null,null,null,null,null,null,null,null,null,null,null,{"$f":"+AC598*AF598*12","v":0}]
[null,"Residential Parking",null,null,null,null,null,null,null,null,null,null,null,null,null,null,null,null,null,null,null,null,null,null,null,null,null,null,null,null,null,null,null,null,null,{"$f":"+AC599*AF599*12","v":0}]
[null,"Tenant Rental Spaces",null,null,null,null,null,null,null,null,{"$f":"SUM($H$580,$P$580,$X$580)","v":0},null,null,null,null,null,null,null,null,null,null,null,null,null,null,null,null,null,null,null,null,null,null,null,null,{"$f":"+AC600*AF600*12","v":0}]
[null,"Monthly Income Per Space",null,null,null,null,null,null,null,null,null,null,null,null,null,"Commercial"]
[null,"Annual Residential Parking Income",null,null,null,null,null,null,null,null,{"$f":"+K600*K601*12","v":0},null,null,null,null,null,null,null,null,null,null,null,null,null,null,null,null,null,null,null,null,null,null,null,null,{"$f":"+AC602*AF602*12","v":0}]
[null,"Commercial Parking",null,null,null,null,null,null,null,null,null,null,null,null,null,null,null,null,null,null,null,null,null,null,null,null,null,null,null,null,null,null,null,null,null,{"$f":"+AC603*AF603*12","v":0}]
[null,"Number of Rental Spaces",null,null,null,null,null,null,null,null,{"$f":"AA589","v":0},null,null,null,null,null,null,null,null,null,null,null,null,null,null,null,null,null,null,null,null,null,null,null,null,{"$f":"+AC604*AF604*12","v":0}]
[null,"Monthly Income Per Space",null,null,null,null,null,null,null,null,null,null,null,null,null,null,null,null,null,null,null,null,null,null,null,null,null,null,null,null,null,null,null,null,null,{"$f":"+AC605*AF605*12","v":0}]
[null,"Annual Commercial Parking Income",null,null,null,null,null,null,null,null,{"$f":"+K604*K605*12","v":0},null,null,null,null,"Total Income from Other Leased Spaces",null,null,null,null,null,null,null,null,null,null,null,null,null,null,null,null,null,null,null,{"$f":"SUM(AJ597:AM605)","v":0}]
[]
[null,"Monthly utility allowance"]
[null,null,null,null,null,null,"Type of Utility",null,null,null,null,null,"Does the owner or tenant pay utilities?",null,null,null,null,null,"Enter Allowances for Tenant or Homeownership Paid Utilities by Bdrm. Size"]
[null,"Utilities",null,null,null,null,"(Select from dropdown)",null,null,null,null,null,null,null,null,null,null,null,"0 bdrm",null,null,"1 bdrm",null,null,"2 bdrms",null,null,"3 bdrms",null,null,"4 bdrms",null,null,"≥5 bdrms"]
[null,"Heating"]
[null,"Cooking"]
[null,"Other Electric"]
[null,"Air Conditioning"]
[null,"Water Heating"]
[null,"Water"]
[null,"Sewer"]
[null,"Trash"]
[null,"Other"]
[null,"Total Tenant Utility Allowance",null,null,null,null,null,null,null,null,null,null,null,null,null,null,null,null,{"$f":"SUM(S611:U619)","v":0},null,null,{"$f":"SUM(V611:X619)","v":0},null,null,{"$f":"SUM(Y611:AA619)","v":0},null,null,{"$f":"SUM(AB611:AD619)","v":0},null,null,{"$f":"SUM(AE611:AG619)","v":0},null,null,{"$f":"SUM(AH611:AJ619)","v":0}]
[]
[null,"Source for utility allowances"]
[null,"Local PHA?",null,null,null,null,"Name:",null,null,null,null,null,null,null,null,null,null,null,null,null,null,null,null,null,null,null,null,null,null,null,null,"Effective date:"]
[null,"HUD?",null,null,null,null,"Utility Company (Actual Survey)?",null,null,null,null,null,null,null,null,null,"CUAC?",null,null,null,"Other?"]
[null,"Sponsor/Applicant Notes:"]
[]
[null,"File Name::",null,null,{"$f":"'Upload Checklist'!$B$99","v":"28. Utility allowance"},null,null,null,null,null,null,null,null,{"$f":"'Upload Checklist'!$C$99","v":"Schedule of utility allowances."},null,null,null,null,null,null,null,null,null,null,null,null,null,null,null,null,null,"Uploaded to HCD Portal?"]
[]
[null,"California State Prevailing Wage Law"]
[null,"Sponsor/Recipient certifies that the Project will comply with California’s prevailing wage law (Lab. Code, §1720 et seq.)?\nThe Sponsor should seek professional legal advice about the law’s requirements."]
[]
[null,"Capital Projects milestones"]
[null,"Please provide the actual or anticipated completion date for the following performance milestones for each applicable Capital Project.  If a milestone is not applicable to a Capital Project, please enter \"N/A\""]
[null,"Note:  It is acknowledged that some of the following milestones may have already been achieved.  For those milestones which have previously been met, please enter the month and year completed. For those milestones not yet completed, please provide a projected completion date (MM/DD/YY) for each of the applicable items below. If not applicable to the specific Capital Project, please indicate \"NA\" below. "]
[null,"AHD/HRI milestones",null,null,null,null,null,null,null,null,null,null,null,null,null,null,null,null,null,null,null,null,null,null,null,null,null,null,null,null,null,null,null,null,null,"AHD Date",null,"HRI Date"]
[null,"Executed binding agreement between the Sponsor and developer of the proposed Affordable Housing Development detailing the terms and conditions of the Project"]
[null,"Site Control of Affordable Housing Development site(s) by proposed housing developer"]
[null,"Completion of all necessary environmental clearances, including those required under CEQA and NEPA"]
[null,"Obtaining all necessary and discretionary public land use approvals"]
[null,"Obtaining all enforceable funding commitments for at least the first phase of the Housing Development supported by the infrastructure Project"]
[null,"Obtaining all enforceable funding commitments for all construction period financing"]
[null,"Obtaining enforceable commitments for all construction/permanent financing described in the Sources and Uses including substantially final construction and permanent loan documents, and Tax Credit syndication documents for remaining phases of Project"]
[null,"Submission of Final Construction Drawings and Specifications to the appropriate local building department or permitting authority"]
[null,"Commencement of construction"]
[null,"Construction complete and the filing of the Notice of Completion"]
[null,"Program funds fully disbursed"]
[null,"Have all milestone dates been entered above?"]
[]
[null,"STI milestones",null,null,null,null,null,null,null,null,null,null,null,null,null,null,null,null,null,null,null,null,null,null,null,null,null,null,null,null,null,null,null,null,null,null,"Date"]
[null,"Executed binding agreement between the Recipient and developer of the proposed development detailing the terms and conditions of the Project development"]
[null,"Site Control of site(s) by proposed developer."]
[null,"Completion of all necessary environmental clearances, including those required under CEQA and NEPA."]
[null,"Obtaining all necessary and discretionary public land use approvals."]
[null,"Submission of Final Construction Drawings and Specifications to the appropriate local permitting authority."]
[null,"Commencement of construction."]
[null,"Construction completion and closeout."]
[null,"Program funds fully disbursed."]
[null,"Have all milestone dates been entered above?"]
[]
[null,"TRA milestones",null,null,null,null,null,null,null,null,null,null,null,null,null,null,null,null,null,null,null,null,null,null,null,null,null,null,null,null,null,null,null,null,null,null,"Date"]
[null,"Executed binding agreement between the Recipient and developer of the proposed development detailing the terms and conditions of the Project development."]
[null,"Site Control of site(s) by proposed developer."]
[null,"Completion of all necessary environmental clearances, including those required under CEQA and NEPA."]
[null,"Obtaining all necessary and discretionary public land use approvals."]
[null,"Submission of Final Construction Drawings and Specifications to the appropriate local permitting authority."]
[null,"Commencement of construction."]
[null,"Construction completion and closeout."]
[null,"Program funds fully disbursed."]
[null,"Have all milestone dates been entered above?"]
[]
[null,"PGM Proposed Implementation Timeline",null,null,null,null,null,null,null,null,null,null,null,null,null,null,null,null,null,null,null,null,null,null,null,null,null,null,null,null,null,null,null,null,null,null,"Date"]
[null,"Program designed."]
[null,"Program operator identified."]
[null,"Obtaining all enforceable funding commitments."]
[null,"Program operations start."]
[null,"Identification and commitment of program operator and partners."]
[null,"Completion of a business or a work plan."]
[null,"Identification of ongoing support for operation costs beyond grant period."]
[null,"Program funds fully disbursed."]
[null,"Have all milestone dates been entered above?"]
[]
[null,"End of Document"]

{"sheet":"Contact List","index":6,"n_rows":32,"n_cols":21,"rows_kept":32,"cut":false,"hidden":false,"merged":[[1,1,1,7],[31,1,31,10]]}
[]
[null,"Development Team Contacts and Legislative Information"]
[]
[null,"Contact Type","Entity Legal Name","Eligible Sponsor Type","Organization Type","Address","City","State","Zip Code","Auth Rep Name","Title","Email","Phone #","Contact Name","Title2","Email2","Phone #2","Contact Address","City2","State2","Zip Code2"]
[null,"Applicant #1",{"$f":"IF('Project Overview'!$I$254>0,'Project Overview'!$I$254,\"\")","v":""},{"$f":"IF('Project Overview'!$H$255>0,'Project Overview'!$H$255,\"\")","v":""},{"$f":"IF('Project Overview'!$AA$255>0,'Project Overview'!$AA$255,\"\")","v":""}]
[null,"Applicant #2",{"$f":"IF(vmApplicant2>0,vmApplicant2,\"\")","v":""},{"$f":"IF('Project Overview'!$H$266>0,'Project Overview'!$H$266,\"\")","v":""},{"$f":"IF('Project Overview'!$AA$266>0,'Project Overview'!$AA$266,\"\")","v":""}]
[null,"Applicant #3",{"$f":"IF(vmApplicant3>0,vmApplicant3,\"\")","v":""},{"$f":"IF('Project Overview'!$H$277>0,'Project Overview'!$H$277,\"\")","v":""},{"$f":"IF('Project Overview'!$AA$277>0,'Project Overview'!$AA$277,\"\")","v":""}]
[null,"Applicant #4",{"$f":"IF(vmApplicant4>0,vmApplicant4,\"\")","v":""},{"$f":"IF('Project Overview'!$H$288>0,'Project Overview'!$H$288,\"\")","v":""},{"$f":"IF('Project Overview'!$AA$288>0,'Project Overview'!$AA$288,\"\")","v":""}]
[null,"Owner / Borrower Entity",{"$f":"IF('Project Overview'!$I$298>0,'Project Overview'!$I$298,\"\")","v":""}]
[null,"Managing General Partner",{"$f":"IF(vmMGP>0,vmMGP,\"\")","v":""}]
[null,"Administrative GP #1",{"$f":"IF(vmAGP1>0,vmAGP1,\"\")","v":""}]
[null,"Administrative GP #2",{"$f":"IF(vmAGP2>0,vmAGP2,\"\")","v":""}]
[null,"Manager of LLC",{"$f":"IF(vmMLLC>0,vmMLLC,\"\")","v":""}]
[null,"Transportation Infrastructure Partner for STI"]
[null,"Transportation Infrstructure Partner for TRA"]
[null,"Property Management Agent"]
[null,"Financial Consultant"]
[null,"Lead (primary) Service Provider"]
[null,"Borrower Legal Counsel"]
[null,"General Contractor"]
[null,"Architect"]
[null,"Other (Specify)"]
[null,"Other (Specify)"]
[null,"Other (Specify)"]
[null,"Other (Specify)"]
[]
[null,"Congress person Name(s)","District #","State Senator Name(s)","District #2","State Assembly Member Name(s) ","District #3"]
[]
[]
[]
[]
[null,"End of Document"]

{"sheet":"Max Funds & Unit Mix","index":7,"n_rows":162,"n_cols":47,"rows_kept":162,"cut":false,"hidden":true,"merged":[[2,20,2,22],[77,1,77,9],[79,1,79,7],[79,8,79,9],[78,1,78,9],[32,10,33,13],[71,17,72,17],[28,1,28,15],[29,1,29,3],[29,4,29,5],[47,1,47,5],[52,17,52,21],[49,1,49,4],[49,5,49,6],[32,18,33,21],[52,5,52,6],[32,1,33,1],[32,2,33,5],[32,6,33,9],[51,1,51,4],[48,1,48,7],[83,1,83,7],[83,8,83,9],[52,15,52,16],[52,13,52,14],[52,10,52,11],[69,11,69,16],[70,11,70,16],[71,11,72,16],[73,11,73,16],[69,10,73,10],[87,1,88,8],[73,1,73,8],[74,1,74,8],[75,1,75,8],[69,1,69,8],[70,1,70,8],[71,1,71,8],[72,1,72,8],[85,1,85,3],[86,1,86,3],[80,1,80,7],[80,8,80,9],[81,1,81,7],[81,8,81,9],[82,1,82,7],[82,8,82,9],[136,1,136,7],[3,27,4,28],[3,29,4,30],[105,1,105,9],[106,1,106,9],[107,1,108,1],[107,2,107,9],[131,1,131,9],[26,1,26,3],[52,1,52,4],[53,1,54,1],[52,8,52,9],[53,2,54,5],[53,6,54,9],[53,10,54,13],[29,6,29,7],[31,1,31,5],[31,6,31,7],[68,1,68,9],[2,35,2,38],[3,38,3,40],[29,14,29,15],[29,11,29,12],[29,8,29,9],[1,1,2,19],[53,18,54,21],[53,14,54,17],[68,11,68,16],[4,1,4,4],[4,5,4,10],[4,11,4,16],[32,14,33,17]]}
[]
[null,{"$f":"CONCATENATE('Project Overview'!$F$27,\" AHD Units and Maximum AHD-HRI Funds \",\"App \",'Project Overview'!$E$4)","v":" AHD Units and Maximum AHD-HRI Funds App "}]
[null,null,null,null,null,null,null,null,null,null,null,null,null,null,null,null,null,null,null,null,"Scroll -------------->>>",null,null,null,null,null,null,null,null,null,null,null,null,null,{"$f":"12*AK27","v":0},"Annual Net Restricted Rent"]
[null,null,null,null,null,null,null,null,null,null,null,null,null,null,null,null,null,null,null,null,null,null,null,null,null,null,null,"Subsidy Program Name (Specify)",null,"Subsidy Program Name (Specify)",null,null,null,null,null,null,null,{"$f":"12*AL27","v":0},"Annual Net Proposed Rent"]
[null,"Unit Mix",null,null,null,"RENTAL ONLY",null,null,null,null,null,"HOMEOWNERSHIP ONLY",null,null,null,null,null,null,null,null,null,null,null,{"$f":"IF(County=\"\",\"\",County)","v":""},null,null,null,null,null,null,null,null,null,null,null,null,null,null,{"$f":"12*AM27","v":0},"Annual Unrestricted Rent"]
[null,"# of\nBdrms","Unit Type","% of Area Median Income ","Total Units","Total\nRental\nUnits","Total Rental\nUn-Restricted\nUnits","Total Rental\nRestricted\nUnits","Total\nAffordable\nRental Units","AHSC\nRental\nAssisted\nUnits","Other\nRental\nRestricted","Total\nHomeowner\n(HO) Units","Total (HO)\nUn-Restricted\nUnits","Total (HO)\nRestricted\nUnits","Total\nAffordable\n(HO) Units","AHSC\n(HO)\nAssisted\nUnits","Other\n(HO)\nRestricted\nUnits","Support. Housing\nUnits","Veterans\nUnits","Senior\nUnits",null,null,"Vlookup","Restricted Monthly 2023 Rents","Unrestricted Monthly Rent","Proposed Monthly Rent","1Monthly Utility Allowance","Monthly Rent Subsidy Amount","Subsidy\nUnits","Monthly Rent Subsidy Amount","Subsidy Units","# of Baths","Square Feet","Other HCD Funding Source","Other Funding Units","Building Type","Net Monthly Restricted Rent","Net Monthly Proposed Rent","Monthly Unrestricted Rent",{"$f":"AB4","v":"Subsidy Program Name (Specify)"},{"$f":"AD4","v":"Subsidy Program Name (Specify)"},null,"Restricted Rental Units",null,null,"Restricted Homeowner Units"]
[null,null,null,null,null,{"$f":"IF(AND(OR(vmHousingType=\"Rental\",vmHousingType=\"Both\"),UnitsTbl[[#This Row],[Unit Type]]=\"Rental\"),UnitsTbl[[#This Row],[Total Units]],\"\")","v":""},{"$f":"IF(OR(vmHousingType=\"Rental\",vmHousingType=\"Both\"),IF(UnitsTbl[[#This Row],[Unit Type]]=\"Rental\",SUMIF(UnitsTbl[[#This Row],[% of Area Median Income ]],\"Manager\",UnitsTbl[[#This Row],[Total Units]])+SUMIF(UnitsTbl[[#This Row],[% of Area Median Income ]],\"Market\",UnitsTbl[[#This Row],[Total Units]])+SUMIF(UnitsTbl[[#This Row],[% of Area Median Income ]],\">80%\",UnitsTbl[[#This Row],[Total Units]])),0)","v":0},{"$f":"IF(OR(vmHousingType=\"Rental\",vmHousingType=\"Both\"),IF(OR(UnitsTbl[[#This Row],[% of Area Median Income ]]=\"\",UnitsTbl[[#This Row],[% of Area Median Income ]]=\"Manager\",UnitsTbl[[#This Row],[% of Area Median Income ]]=\"Market\"),0,IF(AND(UnitsTbl[[#This Row],[Unit Type]]=\"Rental\",UnitsTbl[[#This Row],[% of Area Median Income ]]<=0.8),UnitsTbl[[#This Row],[Total Units]])),0)","v":0},{"$f":"IF(AND(OR(vmHousingType=\"Rental\",vmHousingType=\"Both\"),UnitsTbl[[#This Row],[Unit Type]]=\"Rental\",UnitsTbl[[#This Row],[% of Area Median Income ]]<=0.6),UnitsTbl[[#This Row],[Total Units]],0)","v":0},null,null,{"$f":"IF(AND(OR(vmHousingType=\"Both\",vmHousingType=\"Homeownership\"),UnitsTbl[[#This Row],[Unit Type]]=\"Homeowner\"),UnitsTbl[[#This Row],[Total Units]],\"\")","v":""},{"$f":"IF(OR(vmHousingType=\"Homeownership\",vmHousingType=\"Both\"),IF(UnitsTbl[[#This Row],[Unit Type]]=\"Homeowner\",SUMIF(UnitsTbl[[#This Row],[% of Area Median Income ]],\"Market\",UnitsTbl[[#This Row],[Total Units]])+SUMIF(UnitsTbl[[#This Row],[% of Area Median Income ]],\">120%\",UnitsTbl[[#This Row],[Total Units]])),0)","v":0},{"$f":"IF(OR(vmHousingType=\"Homeownership\",vmHousingType=\"Both\"),IF(OR(UnitsTbl[[#This Row],[% of Area Median Income ]]=\"\",UnitsTbl[[#This Row],[% of Area Median Income ]]=\"Manager\",UnitsTbl[[#This Row],[% of Area Median Income ]]=\"Market\"),0),IF(AND(UnitsTbl[[#This Row],[Unit Type]]=\"Homeowner\",UnitsTbl[[#This Row],[% of Area Median Income ]]<=1.2,UnitsTbl[[#This Row],[% of Area Median Income ]]>=0.55),UnitsTbl[[#This Row],[Total Units]],0))","v":0},{"$f":"IF(AND(OR(vmHousingType=\"Homeownership\",vmHousingType=\"Both\"),UnitsTbl[[#This Row],[Unit Type]]=\"Homeowner\",UnitsTbl[[#This Row],[% of Area Median Income ]]>=55%,UnitsTbl[[#This Row],[% of Area Median Income ]]<=120%),UnitsTbl[[#This Row],[Total Units]],0)","v":0},0,null,null,null,null,null,null,{"$f":"IF(B7=\"\",\"\",IF(B7=0,2,IF(B7=1,3,IF(B7=2,4,IF(B7=3,5,IF(B7=4,6,IF(B7=5,6,\"\")))))))","v":""},{"$f":"IFERROR(VLOOKUP(CONCATENATE(County,UnitsTbl[[#This Row],[% of Area Median Income ]]),TCACrentTbl[],W7,FALSE),0)","v":0},null,null,null,null,null,null,null,null,null,null,null,null,{"$f":"(X7-AA7)*E7","v":0},{"$f":"(Z7-AA7)*E7","v":0},{"$f":"G7*Y7","v":0},{"$f":"AB7*AC7","v":0},{"$f":"AD7*AE7","v":0},null,{"$f":"SUMPRODUCT(($D$6:$D$25=0.15)*($C$6:$C$25=\"Rental\")*($H$7:$H$26))*15","v":0},"15% AMI",{"$f":"CONCATENATE(County,D7)","v":""},{"$f":"SUMPRODUCT(($D$7:$D$26=0.15)*($C$7:$C$26=\"Homeowner\")*($H$7:$H$26))*15","v":0},"15% AMI"]
[null,null,null,null,null,{"$f":"IF(AND(OR(vmHousingType=\"Rental\",vmHousingType=\"Both\"),UnitsTbl[[#This Row],[Unit Type]]=\"Rental\"),UnitsTbl[[#This Row],[Total Units]],\"\")","v":""},{"$f":"IF(OR(vmHousingType=\"Rental\",vmHousingType=\"Both\"),IF(UnitsTbl[[#This Row],[Unit Type]]=\"Rental\",SUMIF(UnitsTbl[[#This Row],[% of Area Median Income ]],\"Manager\",UnitsTbl[[#This Row],[Total Units]])+SUMIF(UnitsTbl[[#This Row],[% of Area Median Income ]],\"Market\",UnitsTbl[[#This Row],[Total Units]])+SUMIF(UnitsTbl[[#This Row],[% of Area Median Income ]],\">80%\",UnitsTbl[[#This Row],[Total Units]])),0)","v":0},{"$f":"IF(OR(vmHousingType=\"Rental\",vmHousingType=\"Both\"),IF(OR(UnitsTbl[[#This Row],[% of Area Median Income ]]=\"\",UnitsTbl[[#This Row],[% of Area Median Income ]]=\"Manager\",UnitsTbl[[#This Row],[% of Area Median Income ]]=\"Market\"),0,IF(AND(UnitsTbl[[#This Row],[Unit Type]]=\"Rental\",UnitsTbl[[#This Row],[% of Area Median Income ]]<=0.8),UnitsTbl[[#This Row],[Total Units]])),0)","v":0},{"$f":"IF(AND(OR(vmHousingType=\"Rental\",vmHousingType=\"Both\"),UnitsTbl[[#This Row],[Unit Type]]=\"Rental\",UnitsTbl[[#This Row],[% of Area Median Income ]]<=0.6),UnitsTbl[[#This Row],[Total Units]],0)","v":0},null,0,{"$f":"IF(AND(OR(vmHousingType=\"Both\",vmHousingType=\"Homeownership\"),UnitsTbl[[#This Row],[Unit Type]]=\"Homeowner\"),UnitsTbl[[#This Row],[Total Units]],\"\")","v":""},{"$f":"IF(OR(vmHousingType=\"Homeownership\",vmHousingType=\"Both\"),IF(UnitsTbl[[#This Row],[Unit Type]]=\"Homeowner\",SUMIF(UnitsTbl[[#This Row],[% of Area Median Income ]],\"Market\",UnitsTbl[[#This Row],[Total Units]])+SUMIF(UnitsTbl[[#This Row],[% of Area Median Income ]],\">120%\",UnitsTbl[[#This Row],[Total Units]])),0)","v":0},{"$f":"IF(OR(vmHousingType=\"Homeownership\",vmHousingType=\"Both\"),IF(OR(UnitsTbl[[#This Row],[% of Area Median Income ]]=\"\",UnitsTbl[[#This Row],[% of Area Median Income ]]=\"Manager\",UnitsTbl[[#This Row],[% of Area Median Income ]]=\"Market\"),0),IF(AND(UnitsTbl[[#This Row],[Unit Type]]=\"Homeowner\",UnitsTbl[[#This Row],[% of Area Median Income ]]<=1.2,UnitsTbl[[#This Row],[% of Area Median Income ]]>=0.55),UnitsTbl[[#This Row],[Total Units]],0))","v":0},{"$f":"IF(AND(OR(vmHousingType=\"Homeownership\",vmHousingType=\"Both\"),UnitsTbl[[#This Row],[Unit Type]]=\"Homeowner\",UnitsTbl[[#This Row],[% of Area Median Income ]]>=55%,UnitsTbl[[#This Row],[% of Area Median Income ]]<=120%),UnitsTbl[[#This Row],[Total Units]],0)","v":0},null,null,null,null,null,null,null,"",{"$f":"IFERROR(VLOOKUP(CONCATENATE(County,D8),TCACrentTbl[],W8,FALSE),0)","v":0},null,null,null,null,null,null,null,null,null,null,null,null,0,{"$f":"(Z8-AA8)*E8","v":0},0,0,0,null,{"$f":"SUMPRODUCT(($D$7:$D$26=0.2)*($C$7:$C$26=\"Rental\")*($H$7:$H$26))*20","v":0},"20% AMI","",{"$f":"SUMPRODUCT(($D$7:$D$26=0.2)*($C$7:$C$26=\"Homeowner\")*($H$7:$H$26))*20","v":0},"20% AMI"]
[null,null,null,null,null,{"$f":"IF(AND(OR(vmHousingType=\"Rental\",vmHousingType=\"Both\"),UnitsTbl[[#This Row],[Unit Type]]=\"Rental\"),UnitsTbl[[#This Row],[Total Units]],\"\")","v":""},{"$f":"IF(OR(vmHousingType=\"Rental\",vmHousingType=\"Both\"),IF(UnitsTbl[[#This Row],[Unit Type]]=\"Rental\",SUMIF(UnitsTbl[[#This Row],[% of Area Median Income ]],\"Manager\",UnitsTbl[[#This Row],[Total Units]])+SUMIF(UnitsTbl[[#This Row],[% of Area Median Income ]],\"Market\",UnitsTbl[[#This Row],[Total Units]])+SUMIF(UnitsTbl[[#This Row],[% of Area Median Income ]],\">80%\",UnitsTbl[[#This Row],[Total Units]])),0)","v":0},{"$f":"IF(OR(vmHousingType=\"Rental\",vmHousingType=\"Both\"),IF(OR(UnitsTbl[[#This Row],[% of Area Median Income ]]=\"\",UnitsTbl[[#This Row],[% of Area Median Income ]]=\"Manager\",UnitsTbl[[#This Row],[% of Area Median Income ]]=\"Market\"),0,IF(AND(UnitsTbl[[#This Row],[Unit Type]]=\"Rental\",UnitsTbl[[#This Row],[% of Area Median Income ]]<=0.8),UnitsTbl[[#This Row],[Total Units]])),0)","v":0},{"$f":"IF(AND(OR(vmHousingType=\"Rental\",vmHousingType=\"Both\"),UnitsTbl[[#This Row],[Unit Type]]=\"Rental\",UnitsTbl[[#This Row],[% of Area Median Income ]]<=0.6),UnitsTbl[[#This Row],[Total Units]],0)","v":0},null,0,{"$f":"IF(AND(OR(vmHousingType=\"Both\",vmHousingType=\"Homeownership\"),UnitsTbl[[#This Row],[Unit Type]]=\"Homeowner\"),UnitsTbl[[#This Row],[Total Units]],\"\")","v":""},{"$f":"IF(OR(vmHousingType=\"Homeownership\",vmHousingType=\"Both\"),IF(UnitsTbl[[#This Row],[Unit Type]]=\"Homeowner\",SUMIF(UnitsTbl[[#This Row],[% of Area Median Income ]],\"Market\",UnitsTbl[[#This Row],[Total Units]])+SUMIF(UnitsTbl[[#This Row],[% of Area Median Income ]],\">120%\",UnitsTbl[[#This Row],[Total Units]])),0)","v":0},{"$f":"IF(OR(vmHousingType=\"Homeownership\",vmHousingType=\"Both\"),IF(OR(UnitsTbl[[#This Row],[% of Area Median Income ]]=\"\",UnitsTbl[[#This Row],[% of Area Median Income ]]=\"Manager\",UnitsTbl[[#This Row],[% of Area Median Income ]]=\"Market\"),0),IF(AND(UnitsTbl[[#This Row],[Unit Type]]=\"Homeowner\",UnitsTbl[[#This Row],[% of Area Median Income ]]<=1.2,UnitsTbl[[#This Row],[% of Area Median Income ]]>=0.55),UnitsTbl[[#This Row],[Total Units]],0))","v":0},{"$f":"IF(AND(OR(vmHousingType=\"Homeownership\",vmHousingType=\"Both\"),UnitsTbl[[#This Row],[Unit Type]]=\"Homeowner\",UnitsTbl[[#This Row],[% of Area Median Income ]]>=55%,UnitsTbl[[#This Row],[% of Area Median Income ]]<=120%),UnitsTbl[[#This Row],[Total Units]],0)","v":0},0,null,null,null,null,null,null,"",{"$f":"IFERROR(VLOOKUP(CONCATENATE(County,D9),TCACrentTbl[],W9,FALSE),0)","v":0},null,null,null,null,null,null,null,null,null,null,null,null,0,0,0,0,0,null,{"$f":"SUMPRODUCT(($D$7:$D$26=0.25)*($C$7:$C$26=\"Rental\")*($H$7:$H$26))*25","v":0},"25% AMI","",{"$f":"SUMPRODUCT(($D$7:$D$26=0.25)*($C$7:$C$26=\"Homeowner\")*($O$7:$O$26))*25","v":0},"25% AMI"]
[null,null,null,null,null,{"$f":"IF(AND(OR(vmHousingType=\"Rental\",vmHousingType=\"Both\"),UnitsTbl[[#This Row],[Unit Type]]=\"Rental\"),UnitsTbl[[#This Row],[Total Units]],\"\")","v":""},{"$f":"IF(OR(vmHousingType=\"Rental\",vmHousingType=\"Both\"),IF(UnitsTbl[[#This Row],[Unit Type]]=\"Rental\",SUMIF(UnitsTbl[[#This Row],[% of Area Median Income ]],\"Manager\",UnitsTbl[[#This Row],[Total Units]])+SUMIF(UnitsTbl[[#This Row],[% of Area Median Income ]],\"Market\",UnitsTbl[[#This Row],[Total Units]])+SUMIF(UnitsTbl[[#This Row],[% of Area Median Income ]],\">80%\",UnitsTbl[[#This Row],[Total Units]])),0)","v":0},{"$f":"IF(OR(vmHousingType=\"Rental\",vmHousingType=\"Both\"),IF(OR(UnitsTbl[[#This Row],[% of Area Median Income ]]=\"\",UnitsTbl[[#This Row],[% of Area Median Income ]]=\"Manager\",UnitsTbl[[#This Row],[% of Area Median Income ]]=\"Market\"),0,IF(AND(UnitsTbl[[#This Row],[Unit Type]]=\"Rental\",UnitsTbl[[#This Row],[% of Area Median Income ]]<=0.8),UnitsTbl[[#This Row],[Total Units]])),0)","v":0},{"$f":"IF(AND(OR(vmHousingType=\"Rental\",vmHousingType=\"Both\"),UnitsTbl[[#This Row],[Unit Type]]=\"Rental\",UnitsTbl[[#This Row],[% of Area Median Income ]]<=0.6),UnitsTbl[[#This Row],[Total Units]],0)","v":0},null,null,{"$f":"IF(AND(OR(vmHousingType=\"Both\",vmHousingType=\"Homeownership\"),UnitsTbl[[#This Row],[Unit Type]]=\"Homeowner\"),UnitsTbl[[#This Row],[Total Units]],\"\")","v":""},{"$f":"IF(OR(vmHousingType=\"Homeownership\",vmHousingType=\"Both\"),IF(UnitsTbl[[#This Row],[Unit Type]]=\"Homeowner\",SUMIF(UnitsTbl[[#This Row],[% of Area Median Income ]],\"Market\",UnitsTbl[[#This Row],[Total Units]])+SUMIF(UnitsTbl[[#This Row],[% of Area Median Income ]],\">120%\",UnitsTbl[[#This Row],[Total Units]])),0)","v":0},{"$f":"IF(OR(vmHousingType=\"Homeownership\",vmHousingType=\"Both\"),IF(OR(UnitsTbl[[#This Row],[% of Area Median Income ]]=\"\",UnitsTbl[[#This Row],[% of Area Median Income ]]=\"Manager\",UnitsTbl[[#This Row],[% of Area Median Income ]]=\"Market\"),0),IF(AND(UnitsTbl[[#This Row],[Unit Type]]=\"Homeowner\",UnitsTbl[[#This Row],[% of Area Median Income ]]<=1.2,UnitsTbl[[#This Row],[% of Area Median Income ]]>=0.55),UnitsTbl[[#This Row],[Total Units]],0))","v":0},{"$f":"IF(AND(OR(vmHousingType=\"Homeownership\",vmHousingType=\"Both\"),UnitsTbl[[#This Row],[Unit Type]]=\"Homeowner\",UnitsTbl[[#This Row],[% of Area Median Income ]]>=55%,UnitsTbl[[#This Row],[% of Area Median Income ]]<=120%),UnitsTbl[[#This Row],[Total Units]],0)","v":0},0,null,null,null,null,null,null,"",{"$f":"IFERROR(VLOOKUP(CONCATENATE(County,D10),TCACrentTbl[],W10,FALSE),0)","v":0},null,null,null,null,null,null,null,null,null,null,null,null,0,0,0,0,0,null,{"$f":"SUMPRODUCT(($D$7:$D$26=0.3)*($C$7:$C$26=\"Rental\")*($H$7:$H$26))*30","v":0},"30% AMI","",{"$f":"SUMPRODUCT(($D$7:$D$26=0.3)*($C$7:$C$26=\"Homeowner\")*($H$7:$H$26))*30","v":0},"30% AMI"]
[null,null,null,null,null,{"$f":"IF(AND(OR(vmHousingType=\"Rental\",vmHousingType=\"Both\"),UnitsTbl[[#This Row],[Unit Type]]=\"Rental\"),UnitsTbl[[#This Row],[Total Units]],\"\")","v":""},{"$f":"IF(OR(vmHousingType=\"Rental\",vmHousingType=\"Both\"),IF(UnitsTbl[[#This Row],[Unit Type]]=\"Rental\",SUMIF(UnitsTbl[[#This Row],[% of Area Median Income ]],\"Manager\",UnitsTbl[[#This Row],[Total Units]])+SUMIF(UnitsTbl[[#This Row],[% of Area Median Income ]],\"Market\",UnitsTbl[[#This Row],[Total Units]])+SUMIF(UnitsTbl[[#This Row],[% of Area Median Income ]],\">80%\",UnitsTbl[[#This Row],[Total Units]])),0)","v":0},{"$f":"IF(OR(vmHousingType=\"Rental\",vmHousingType=\"Both\"),IF(OR(UnitsTbl[[#This Row],[% of Area Median Income ]]=\"\",UnitsTbl[[#This Row],[% of Area Median Income ]]=\"Manager\",UnitsTbl[[#This Row],[% of Area Median Income ]]=\"Market\"),0,IF(AND(UnitsTbl[[#This Row],[Unit Type]]=\"Rental\",UnitsTbl[[#This Row],[% of Area Median Income ]]<=0.8),UnitsTbl[[#This Row],[Total Units]])),0)","v":0},{"$f":"IF(AND(OR(vmHousingType=\"Rental\",vmHousingType=\"Both\"),UnitsTbl[[#This Row],[Unit Type]]=\"Rental\",UnitsTbl[[#This Row],[% of Area Median Income ]]<=0.6),UnitsTbl[[#This Row],[Total Units]],0)","v":0},null,0,{"$f":"IF(AND(OR(vmHousingType=\"Both\",vmHousingType=\"Homeownership\"),UnitsTbl[[#This Row],[Unit Type]]=\"Homeowner\"),UnitsTbl[[#This Row],[Total Units]],\"\")","v":""},{"$f":"IF(OR(vmHousingType=\"Homeownership\",vmHousingType=\"Both\"),IF(UnitsTbl[[#This Row],[Unit Type]]=\"Homeowner\",SUMIF(UnitsTbl[[#This Row],[% of Area Median Income ]],\"Market\",UnitsTbl[[#This Row],[Total Units]])+SUMIF(UnitsTbl[[#This Row],[% of Area Median Income ]],\">120%\",UnitsTbl[[#This Row],[Total Units]])),0)","v":0},{"$f":"IF(OR(vmHousingType=\"Homeownership\",vmHousingType=\"Both\"),IF(OR(UnitsTbl[[#This Row],[% of Area Median Income ]]=\"\",UnitsTbl[[#This Row],[% of Area Median Income ]]=\"Manager\",UnitsTbl[[#This Row],[% of Area Median Income ]]=\"Market\"),0),IF(AND(UnitsTbl[[#This Row],[Unit Type]]=\"Homeowner\",UnitsTbl[[#This Row],[% of Area Median Income ]]<=1.2,UnitsTbl[[#This Row],[% of Area Median Income ]]>=0.55),UnitsTbl[[#This Row],[Total Units]],0))","v":0},{"$f":"IF(AND(OR(vmHousingType=\"Homeownership\",vmHousingType=\"Both\"),UnitsTbl[[#This Row],[Unit Type]]=\"Homeowner\",UnitsTbl[[#This Row],[% of Area Median Income ]]>=55%,UnitsTbl[[#This Row],[% of Area Median Income ]]<=120%),UnitsTbl[[#This Row],[Total Units]],0)","v":0},0,null,null,null,null,null,null,"",{"$f":"IFERROR(VLOOKUP(CONCATENATE(County,D11),TCACrentTbl[],W11,FALSE),0)","v":0},null,null,null,null,null,null,null,null,null,null,null,null,0,0,0,0,0,null,{"$f":"SUMPRODUCT(($D$7:$D$26=0.35)*($C$7:$C$26=\"Rental\")*($H$7:$H$26))*35","v":0},"35% AMI","",{"$f":"SUMPRODUCT(($D$7:$D$26=0.35)*($C$7:$C$26=\"Homeowner\")*($H$7:$H$26))*35","v":0},"35% AMI"]
[null,null,null,null,null,{"$f":"IF(AND(OR(vmHousingType=\"Rental\",vmHousingType=\"Both\"),UnitsTbl[[#This Row],[Unit Type]]=\"Rental\"),UnitsTbl[[#This Row],[Total Units]],\"\")","v":""},{"$f":"IF(OR(vmHousingType=\"Rental\",vmHousingType=\"Both\"),IF(UnitsTbl[[#This Row],[Unit Type]]=\"Rental\",SUMIF(UnitsTbl[[#This Row],[% of Area Median Income ]],\"Manager\",UnitsTbl[[#This Row],[Total Units]])+SUMIF(UnitsTbl[[#This Row],[% of Area Median Income ]],\"Market\",UnitsTbl[[#This Row],[Total Units]])+SUMIF(UnitsTbl[[#This Row],[% of Area Median Income ]],\">80%\",UnitsTbl[[#This Row],[Total Units]])),0)","v":0},{"$f":"IF(OR(vmHousingType=\"Rental\",vmHousingType=\"Both\"),IF(OR(UnitsTbl[[#This Row],[% of Area Median Income ]]=\"\",UnitsTbl[[#This Row],[% of Area Median Income ]]=\"Manager\",UnitsTbl[[#This Row],[% of Area Median Income ]]=\"Market\"),0,IF(AND(UnitsTbl[[#This Row],[Unit Type]]=\"Rental\",UnitsTbl[[#This Row],[% of Area Median Income ]]<=0.8),UnitsTbl[[#This Row],[Total Units]])),0)","v":0},{"$f":"IF(AND(OR(vmHousingType=\"Rental\",vmHousingType=\"Both\"),UnitsTbl[[#This Row],[Unit Type]]=\"Rental\",UnitsTbl[[#This Row],[% of Area Median Income ]]<=0.6),UnitsTbl[[#This Row],[Total Units]],0)","v":0},null,0,{"$f":"IF(AND(OR(vmHousingType=\"Both\",vmHousingType=\"Homeownership\"),UnitsTbl[[#This Row],[Unit Type]]=\"Homeowner\"),UnitsTbl[[#This Row],[Total Units]],\"\")","v":""},{"$f":"IF(OR(vmHousingType=\"Homeownership\",vmHousingType=\"Both\"),IF(UnitsTbl[[#This Row],[Unit Type]]=\"Homeowner\",SUMIF(UnitsTbl[[#This Row],[% of Area Median Income ]],\"Market\",UnitsTbl[[#This Row],[Total Units]])+SUMIF(UnitsTbl[[#This Row],[% of Area Median Income ]],\">120%\",UnitsTbl[[#This Row],[Total Units]])),0)","v":0},{"$f":"IF(OR(vmHousingType=\"Homeownership\",vmHousingType=\"Both\"),IF(OR(UnitsTbl[[#This Row],[% of Area Median Income ]]=\"\",UnitsTbl[[#This Row],[% of Area Median Income ]]=\"Manager\",UnitsTbl[[#This Row],[% of Area Median Income ]]=\"Market\"),0),IF(AND(UnitsTbl[[#This Row],[Unit Type]]=\"Homeowner\",UnitsTbl[[#This Row],[% of Area Median Income ]]<=1.2,UnitsTbl[[#This Row],[% of Area Median Income ]]>=0.55),UnitsTbl[[#This Row],[Total Units]],0))","v":0},{"$f":"IF(AND(OR(vmHousingType=\"Homeownership\",vmHousingType=\"Both\"),UnitsTbl[[#This Row],[Unit Type]]=\"Homeowner\",UnitsTbl[[#This Row],[% of Area Median Income ]]>=55%,UnitsTbl[[#This Row],[% of Area Median Income ]]<=120%),UnitsTbl[[#This Row],[Total Units]],0)","v":0},0,null,null,null,null,null,null,"",{"$f":"IFERROR(VLOOKUP(CONCATENATE(County,D12),TCACrentTbl[],W12,FALSE),0)","v":0},null,null,null,null,null,null,null,null,null,null,null,null,0,0,0,0,0,null,{"$f":"SUMPRODUCT(($D$7:$D$26=0.4)*($C$7:$C$26=\"Rental\")*($H$7:$H$26))*40","v":0},"40% AMI","",{"$f":"SUMPRODUCT(($D$7:$D$26=0.4)*($C$7:$C$26=\"Homeowner\")*($H$7:$H$26))*40","v":0},"40% AMI"]
[null,null,null,null,null,{"$f":"IF(AND(OR(vmHousingType=\"Rental\",vmHousingType=\"Both\"),UnitsTbl[[#This Row],[Unit Type]]=\"Rental\"),UnitsTbl[[#This Row],[Total Units]],\"\")","v":""},{"$f":"IF(OR(vmHousingType=\"Rental\",vmHousingType=\"Both\"),IF(UnitsTbl[[#This Row],[Unit Type]]=\"Rental\",SUMIF(UnitsTbl[[#This Row],[% of Area Median Income ]],\"Manager\",UnitsTbl[[#This Row],[Total Units]])+SUMIF(UnitsTbl[[#This Row],[% of Area Median Income ]],\"Market\",UnitsTbl[[#This Row],[Total Units]])+SUMIF(UnitsTbl[[#This Row],[% of Area Median Income ]],\">80%\",UnitsTbl[[#This Row],[Total Units]])),0)","v":0},{"$f":"IF(OR(vmHousingType=\"Rental\",vmHousingType=\"Both\"),IF(OR(UnitsTbl[[#This Row],[% of Area Median Income ]]=\"\",UnitsTbl[[#This Row],[% of Area Median Income ]]=\"Manager\",UnitsTbl[[#This Row],[% of Area Median Income ]]=\"Market\"),0,IF(AND(UnitsTbl[[#This Row],[Unit Type]]=\"Rental\",UnitsTbl[[#This Row],[% of Area Median Income ]]<=0.8),UnitsTbl[[#This Row],[Total Units]])),0)","v":0},{"$f":"IF(AND(OR(vmHousingType=\"Rental\",vmHousingType=\"Both\"),UnitsTbl[[#This Row],[Unit Type]]=\"Rental\",UnitsTbl[[#This Row],[% of Area Median Income ]]<=0.6),UnitsTbl[[#This Row],[Total Units]],0)","v":0},0,0,{"$f":"IF(AND(OR(vmHousingType=\"Both\",vmHousingType=\"Homeownership\"),UnitsTbl[[#This Row],[Unit Type]]=\"Homeowner\"),UnitsTbl[[#This Row],[Total Units]],\"\")","v":""},{"$f":"IF(OR(vmHousingType=\"Homeownership\",vmHousingType=\"Both\"),IF(UnitsTbl[[#This Row],[Unit Type]]=\"Homeowner\",SUMIF(UnitsTbl[[#This Row],[% of Area Median Income ]],\"Market\",UnitsTbl[[#This Row],[Total Units]])+SUMIF(UnitsTbl[[#This Row],[% of Area Median Income ]],\">120%\",UnitsTbl[[#This Row],[Total Units]])),0)","v":0},{"$f":"IF(OR(vmHousingType=\"Homeownership\",vmHousingType=\"Both\"),IF(OR(UnitsTbl[[#This Row],[% of Area Median Income ]]=\"\",UnitsTbl[[#This Row],[% of Area Median Income ]]=\"Manager\",UnitsTbl[[#This Row],[% of Area Median Income ]]=\"Market\"),0),IF(AND(UnitsTbl[[#This Row],[Unit Type]]=\"Homeowner\",UnitsTbl[[#This Row],[% of Area Median Income ]]<=1.2,UnitsTbl[[#This Row],[% of Area Median Income ]]>=0.55),UnitsTbl[[#This Row],[Total Units]],0))","v":0},{"$f":"IF(AND(OR(vmHousingType=\"Homeownership\",vmHousingType=\"Both\"),UnitsTbl[[#This Row],[Unit Type]]=\"Homeowner\",UnitsTbl[[#This Row],[% of Area Median Income ]]>=55%,UnitsTbl[[#This Row],[% of Area Median Income ]]<=120%),UnitsTbl[[#This Row],[Total Units]],0)","v":0},null,null,null,null,null,null,null,{"$f":"IF(B13=\"\",\"\",IF(B13=0,2,IF(B13=1,3,IF(B13=2,4,IF(B13=3,5,IF(B13=4,6,IF(B13=5,6,\"\")))))))","v":""},{"$f":"IFERROR(VLOOKUP(CONCATENATE(County,D13),TCACrentTbl[],W13,FALSE),0)","v":0},null,null,null,null,null,null,null,null,null,null,null,null,0,0,0,0,0,null,{"$f":"SUMPRODUCT(($D$7:$D$26=0.45)*($C$7:$C$26=\"Rental\")*($H$7:$H$26))*45","v":0},"45% AMI","",{"$f":"SUMPRODUCT(($D$7:$D$26=0.45)*($C$7:$C$26=\"Homeowner\")*($H$7:$H$26))*45","v":0},"45% AMI"]
[null,null,null,null,null,{"$f":"IF(AND(OR(vmHousingType=\"Rental\",vmHousingType=\"Both\"),UnitsTbl[[#This Row],[Unit Type]]=\"Rental\"),UnitsTbl[[#This Row],[Total Units]],\"\")","v":""},{"$f":"IF(OR(vmHousingType=\"Rental\",vmHousingType=\"Both\"),IF(UnitsTbl[[#This Row],[Unit Type]]=\"Rental\",SUMIF(UnitsTbl[[#This Row],[% of Area Median Income ]],\"Manager\",UnitsTbl[[#This Row],[Total Units]])+SUMIF(UnitsTbl[[#This Row],[% of Area Median Income ]],\"Market\",UnitsTbl[[#This Row],[Total Units]])+SUMIF(UnitsTbl[[#This Row],[% of Area Median Income ]],\">80%\",UnitsTbl[[#This Row],[Total Units]])),0)","v":0},{"$f":"IF(OR(vmHousingType=\"Rental\",vmHousingType=\"Both\"),IF(OR(UnitsTbl[[#This Row],[% of Area Median Income ]]=\"\",UnitsTbl[[#This Row],[% of Area Median Income ]]=\"Manager\",UnitsTbl[[#This Row],[% of Area Median Income ]]=\"Market\"),0,IF(AND(UnitsTbl[[#This Row],[Unit Type]]=\"Rental\",UnitsTbl[[#This Row],[% of Area Median Income ]]<=0.8),UnitsTbl[[#This Row],[Total Units]])),0)","v":0},{"$f":"IF(AND(OR(vmHousingType=\"Rental\",vmHousingType=\"Both\"),UnitsTbl[[#This Row],[Unit Type]]=\"Rental\",UnitsTbl[[#This Row],[% of Area Median Income ]]<=0.6),UnitsTbl[[#This Row],[Total Units]],0)","v":0},0,0,{"$f":"IF(AND(OR(vmHousingType=\"Both\",vmHousingType=\"Homeownership\"),UnitsTbl[[#This Row],[Unit Type]]=\"Homeowner\"),UnitsTbl[[#This Row],[Total Units]],\"\")","v":""},{"$f":"IF(OR(vmHousingType=\"Homeownership\",vmHousingType=\"Both\"),IF(UnitsTbl[[#This Row],[Unit Type]]=\"Homeowner\",SUMIF(UnitsTbl[[#This Row],[% of Area Median Income ]],\"Market\",UnitsTbl[[#This Row],[Total Units]])+SUMIF(UnitsTbl[[#This Row],[% of Area Median Income ]],\">120%\",UnitsTbl[[#This Row],[Total Units]])),0)","v":0},{"$f":"IF(OR(vmHousingType=\"Homeownership\",vmHousingType=\"Both\"),IF(OR(UnitsTbl[[#This Row],[% of Area Median Income ]]=\"\",UnitsTbl[[#This Row],[% of Area Median Income ]]=\"Manager\",UnitsTbl[[#This Row],[% of Area Median Income ]]=\"Market\"),0),IF(AND(UnitsTbl[[#This Row],[Unit Type]]=\"Homeowner\",UnitsTbl[[#This Row],[% of Area Median Income ]]<=1.2,UnitsTbl[[#This Row],[% of Area Median Income ]]>=0.55),UnitsTbl[[#This Row],[Total Units]],0))","v":0},{"$f":"IF(AND(OR(vmHousingType=\"Homeownership\",vmHousingType=\"Both\"),UnitsTbl[[#This Row],[Unit Type]]=\"Homeowner\",UnitsTbl[[#This Row],[% of Area Median Income ]]>=55%,UnitsTbl[[#This Row],[% of Area Median Income ]]<=120%),UnitsTbl[[#This Row],[Total Units]],0)","v":0},null,null,null,null,null,null,null,"",{"$f":"IFERROR(VLOOKUP(CONCATENATE(County,D14),TCACrentTbl[],W14,FALSE),0)","v":0},null,null,null,null,null,null,null,null,null,null,null,null,0,0,0,0,0,null,{"$f":"SUMPRODUCT(($D$7:$D$26=0.5)*($C$7:$C$26=\"Rental\")*($H$7:$H$26))*50","v":0},"50% AMI","",{"$f":"SUMPRODUCT(($D$7:$D$26=0.5)*($C$7:$C$26=\"Homeowner\")*($H$7:$H$26))*50","v":0},"50% AMI"]
[null,null,null,null,null,{"$f":"IF(AND(OR(vmHousingType=\"Rental\",vmHousingType=\"Both\"),UnitsTbl[[#This Row],[Unit Type]]=\"Rental\"),UnitsTbl[[#This Row],[Total Units]],\"\")","v":""},{"$f":"IF(OR(vmHousingType=\"Rental\",vmHousingType=\"Both\"),IF(UnitsTbl[[#This Row],[Unit Type]]=\"Rental\",SUMIF(UnitsTbl[[#This Row],[% of Area Median Income ]],\"Manager\",UnitsTbl[[#This Row],[Total Units]])+SUMIF(UnitsTbl[[#This Row],[% of Area Median Income ]],\"Market\",UnitsTbl[[#This Row],[Total Units]])+SUMIF(UnitsTbl[[#This Row],[% of Area Median Income ]],\">80%\",UnitsTbl[[#This Row],[Total Units]])),0)","v":0},{"$f":"IF(OR(vmHousingType=\"Rental\",vmHousingType=\"Both\"),IF(OR(UnitsTbl[[#This Row],[% of Area Median Income ]]=\"\",UnitsTbl[[#This Row],[% of Area Median Income ]]=\"Manager\",UnitsTbl[[#This Row],[% of Area Median Income ]]=\"Market\"),0,IF(AND(UnitsTbl[[#This Row],[Unit Type]]=\"Rental\",UnitsTbl[[#This Row],[% of Area Median Income ]]<=0.8),UnitsTbl[[#This Row],[Total Units]])),0)","v":0},{"$f":"IF(AND(OR(vmHousingType=\"Rental\",vmHousingType=\"Both\"),UnitsTbl[[#This Row],[Unit Type]]=\"Rental\",UnitsTbl[[#This Row],[% of Area Median Income ]]<=0.6),UnitsTbl[[#This Row],[Total Units]],0)","v":0},0,0,{"$f":"IF(AND(OR(vmHousingType=\"Both\",vmHousingType=\"Homeownership\"),UnitsTbl[[#This Row],[Unit Type]]=\"Homeowner\"),UnitsTbl[[#This Row],[Total Units]],\"\")","v":""},{"$f":"IF(OR(vmHousingType=\"Homeownership\",vmHousingType=\"Both\"),IF(UnitsTbl[[#This Row],[Unit Type]]=\"Homeowner\",SUMIF(UnitsTbl[[#This Row],[% of Area Median Income ]],\"Market\",UnitsTbl[[#This Row],[Total Units]])+SUMIF(UnitsTbl[[#This Row],[% of Area Median Income ]],\">120%\",UnitsTbl[[#This Row],[Total Units]])),0)","v":0},{"$f":"IF(OR(vmHousingType=\"Homeownership\",vmHousingType=\"Both\"),IF(OR(UnitsTbl[[#This Row],[% of Area Median Income ]]=\"\",UnitsTbl[[#This Row],[% of Area Median Income ]]=\"Manager\",UnitsTbl[[#This Row],[% of Area Median Income ]]=\"Market\"),0),IF(AND(UnitsTbl[[#This Row],[Unit Type]]=\"Homeowner\",UnitsTbl[[#This Row],[% of Area Median Income ]]<=1.2,UnitsTbl[[#This Row],[% of Area Median Income ]]>=0.55),UnitsTbl[[#This Row],[Total Units]],0))","v":0},{"$f":"IF(AND(OR(vmHousingType=\"Homeownership\",vmHousingType=\"Both\"),UnitsTbl[[#This Row],[Unit Type]]=\"Homeowner\",UnitsTbl[[#This Row],[% of Area Median Income ]]>=55%,UnitsTbl[[#This Row],[% of Area Median Income ]]<=120%),UnitsTbl[[#This Row],[Total Units]],0)","v":0},null,null,null,null,null,null,null,"",{"$f":"IFERROR(VLOOKUP(CONCATENATE(County,D15),TCACrentTbl[],W15,FALSE),0)","v":0},null,null,null,null,null,null,null,null,null,null,null,null,0,0,0,0,0,null,{"$f":"SUMPRODUCT(($D$7:$D$26=0.55)*($C$7:$C$26=\"Rental\")*($H$7:$H$26))*55","v":0},"55% AMI","",{"$f":"SUMPRODUCT(($D$7:$D$26=0.55)*($C$7:$C$26=\"Homeowner\")*($H$7:$H$26))*55","v":0},"55% AMI"]
[null,null,null,null,null,{"$f":"IF(AND(OR(vmHousingType=\"Rental\",vmHousingType=\"Both\"),UnitsTbl[[#This Row],[Unit Type]]=\"Rental\"),UnitsTbl[[#This Row],[Total Units]],\"\")","v":""},{"$f":"IF(OR(vmHousingType=\"Rental\",vmHousingType=\"Both\"),IF(UnitsTbl[[#This Row],[Unit Type]]=\"Rental\",SUMIF(UnitsTbl[[#This Row],[% of Area Median Income ]],\"Manager\",UnitsTbl[[#This Row],[Total Units]])+SUMIF(UnitsTbl[[#This Row],[% of Area Median Income ]],\"Market\",UnitsTbl[[#This Row],[Total Units]])+SUMIF(UnitsTbl[[#This Row],[% of Area Median Income ]],\">80%\",UnitsTbl[[#This Row],[Total Units]])),0)","v":0},{"$f":"IF(OR(vmHousingType=\"Rental\",vmHousingType=\"Both\"),IF(OR(UnitsTbl[[#This Row],[% of Area Median Income ]]=\"\",UnitsTbl[[#This Row],[% of Area Median Income ]]=\"Manager\",UnitsTbl[[#This Row],[% of Area Median Income ]]=\"Market\"),0,IF(AND(UnitsTbl[[#This Row],[Unit Type]]=\"Rental\",UnitsTbl[[#This Row],[% of Area Median Income ]]<=0.8),UnitsTbl[[#This Row],[Total Units]])),0)","v":0},{"$f":"IF(AND(OR(vmHousingType=\"Rental\",vmHousingType=\"Both\"),UnitsTbl[[#This Row],[Unit Type]]=\"Rental\",UnitsTbl[[#This Row],[% of Area Median Income ]]<=0.6),UnitsTbl[[#This Row],[Total Units]],0)","v":0},0,0,{"$f":"IF(AND(OR(vmHousingType=\"Both\",vmHousingType=\"Homeownership\"),UnitsTbl[[#This Row],[Unit Type]]=\"Homeowner\"),UnitsTbl[[#This Row],[Total Units]],\"\")","v":""},{"$f":"IF(OR(vmHousingType=\"Homeownership\",vmHousingType=\"Both\"),IF(UnitsTbl[[#This Row],[Unit Type]]=\"Homeowner\",SUMIF(UnitsTbl[[#This Row],[% of Area Median Income ]],\"Market\",UnitsTbl[[#This Row],[Total Units]])+SUMIF(UnitsTbl[[#This Row],[% of Area Median Income ]],\">120%\",UnitsTbl[[#This Row],[Total Units]])),0)","v":0},{"$f":"IF(OR(vmHousingType=\"Homeownership\",vmHousingType=\"Both\"),IF(OR(UnitsTbl[[#This Row],[% of Area Median Income ]]=\"\",UnitsTbl[[#This Row],[% of Area Median Income ]]=\"Manager\",UnitsTbl[[#This Row],[% of Area Median Income ]]=\"Market\"),0),IF(AND(UnitsTbl[[#This Row],[Unit Type]]=\"Homeowner\",UnitsTbl[[#This Row],[% of Area Median Income ]]<=1.2,UnitsTbl[[#This Row],[% of Area Median Income ]]>=0.55),UnitsTbl[[#This Row],[Total Units]],0))","v":0},{"$f":"IF(AND(OR(vmHousingType=\"Homeownership\",vmHousingType=\"Both\"),UnitsTbl[[#This Row],[Unit Type]]=\"Homeowner\",UnitsTbl[[#This Row],[% of Area Median Income ]]>=55%,UnitsTbl[[#This Row],[% of Area Median Income ]]<=120%),UnitsTbl[[#This Row],[Total Units]],0)","v":0},null,null,null,null,null,null,null,"",{"$f":"IFERROR(VLOOKUP(CONCATENATE(County,D16),TCACrentTbl[],W16,FALSE),0)","v":0},null,null,null,null,null,null,null,null,null,null,null,null,0,0,0,0,0,null,{"$f":"SUMPRODUCT(($D$7:$D$26=0.6)*($C$7:$C$26=\"Rental\")*($H$7:$H$26))*60","v":0},"60% AMI","",{"$f":"SUMPRODUCT(($D$7:$D$26=0.6)*($C$7:$C$26=\"Homeowner\")*($H$7:$H$26))*60","v":0},"60% AMI"]
[null,null,null,null,null,{"$f":"IF(AND(OR(vmHousingType=\"Rental\",vmHousingType=\"Both\"),UnitsTbl[[#This Row],[Unit Type]]=\"Rental\"),UnitsTbl[[#This Row],[Total Units]],\"\")","v":""},{"$f":"IF(OR(vmHousingType=\"Rental\",vmHousingType=\"Both\"),IF(UnitsTbl[[#This Row],[Unit Type]]=\"Rental\",SUMIF(UnitsTbl[[#This Row],[% of Area Median Income ]],\"Manager\",UnitsTbl[[#This Row],[Total Units]])+SUMIF(UnitsTbl[[#This Row],[% of Area Median Income ]],\"Market\",UnitsTbl[[#This Row],[Total Units]])+SUMIF(UnitsTbl[[#This Row],[% of Area Median Income ]],\">80%\",UnitsTbl[[#This Row],[Total Units]])),0)","v":0},{"$f":"IF(OR(vmHousingType=\"Rental\",vmHousingType=\"Both\"),IF(OR(UnitsTbl[[#This Row],[% of Area Median Income ]]=\"\",UnitsTbl[[#This Row],[% of Area Median Income ]]=\"Manager\",UnitsTbl[[#This Row],[% of Area Median Income ]]=\"Market\"),0,IF(AND(UnitsTbl[[#This Row],[Unit Type]]=\"Rental\",UnitsTbl[[#This Row],[% of Area Median Income ]]<=0.8),UnitsTbl[[#This Row],[Total Units]])),0)","v":0},{"$f":"IF(AND(OR(vmHousingType=\"Rental\",vmHousingType=\"Both\"),UnitsTbl[[#This Row],[Unit Type]]=\"Rental\",UnitsTbl[[#This Row],[% of Area Median Income ]]<=0.6),UnitsTbl[[#This Row],[Total Units]],0)","v":0},0,0,{"$f":"IF(AND(OR(vmHousingType=\"Both\",vmHousingType=\"Homeownership\"),UnitsTbl[[#This Row],[Unit Type]]=\"Homeowner\"),UnitsTbl[[#This Row],[Total Units]],\"\")","v":""},{"$f":"IF(OR(vmHousingType=\"Homeownership\",vmHousingType=\"Both\"),IF(UnitsTbl[[#This Row],[Unit Type]]=\"Homeowner\",SUMIF(UnitsTbl[[#This Row],[% of Area Median Income ]],\"Market\",UnitsTbl[[#This Row],[Total Units]])+SUMIF(UnitsTbl[[#This Row],[% of Area Median Income ]],\">120%\",UnitsTbl[[#This Row],[Total Units]])),0)","v":0},{"$f":"IF(OR(vmHousingType=\"Homeownership\",vmHousingType=\"Both\"),IF(OR(UnitsTbl[[#This Row],[% of Area Median Income ]]=\"\",UnitsTbl[[#This Row],[% of Area Median Income ]]=\"Manager\",UnitsTbl[[#This Row],[% of Area Median Income ]]=\"Market\"),0),IF(AND(UnitsTbl[[#This Row],[Unit Type]]=\"Homeowner\",UnitsTbl[[#This Row],[% of Area Median Income ]]<=1.2,UnitsTbl[[#This Row],[% of Area Median Income ]]>=0.55),UnitsTbl[[#This Row],[Total Units]],0))","v":0},{"$f":"IF(AND(OR(vmHousingType=\"Homeownership\",vmHousingType=\"Both\"),UnitsTbl[[#This Row],[Unit Type]]=\"Homeowner\",UnitsTbl[[#This Row],[% of Area Median Income ]]>=55%,UnitsTbl[[#This Row],[% of Area Median Income ]]<=120%),UnitsTbl[[#This Row],[Total Units]],0)","v":0},0,null,null,null,null,null,null,"",{"$f":"IFERROR(VLOOKUP(CONCATENATE(County,D17),TCACrentTbl[],W17,FALSE),0)","v":0},null,null,null,null,null,null,null,null,null,null,null,null,0,0,0,0,0,null,{"$f":"SUMPRODUCT(($D$7:$D$26=0.65)*($C$7:$C$26=\"Rental\")*($H$7:$H$26))*65","v":0},"Total","",{"$f":"SUMPRODUCT(($D$7:$D$26=0.65)*($C$7:$C$26=\"Homeowner\")*($H$7:$H$26))*65","v":0},"65% AMI"]
[null,null,null,null,null,{"$f":"IF(AND(OR(vmHousingType=\"Rental\",vmHousingType=\"Both\"),UnitsTbl[[#This Row],[Unit Type]]=\"Rental\"),UnitsTbl[[#This Row],[Total Units]],\"\")","v":""},{"$f":"IF(OR(vmHousingType=\"Rental\",vmHousingType=\"Both\"),IF(UnitsTbl[[#This Row],[Unit Type]]=\"Rental\",SUMIF(UnitsTbl[[#This Row],[% of Area Median Income ]],\"Manager\",UnitsTbl[[#This Row],[Total Units]])+SUMIF(UnitsTbl[[#This Row],[% of Area Median Income ]],\"Market\",UnitsTbl[[#This Row],[Total Units]])+SUMIF(UnitsTbl[[#This Row],[% of Area Median Income ]],\">80%\",UnitsTbl[[#This Row],[Total Units]])),0)","v":0},{"$f":"IF(OR(vmHousingType=\"Rental\",vmHousingType=\"Both\"),IF(OR(UnitsTbl[[#This Row],[% of Area Median Income ]]=\"\",UnitsTbl[[#This Row],[% of Area Median Income ]]=\"Manager\",UnitsTbl[[#This Row],[% of Area Median Income ]]=\"Market\"),0,IF(AND(UnitsTbl[[#This Row],[Unit Type]]=\"Rental\",UnitsTbl[[#This Row],[% of Area Median Income ]]<=0.8),UnitsTbl[[#This Row],[Total Units]])),0)","v":0},{"$f":"IF(AND(OR(vmHousingType=\"Rental\",vmHousingType=\"Both\"),UnitsTbl[[#This Row],[Unit Type]]=\"Rental\",UnitsTbl[[#This Row],[% of Area Median Income ]]<=0.6),UnitsTbl[[#This Row],[Total Units]],0)","v":0},0,0,{"$f":"IF(AND(OR(vmHousingType=\"Both\",vmHousingType=\"Homeownership\"),UnitsTbl[[#This Row],[Unit Type]]=\"Homeowner\"),UnitsTbl[[#This Row],[Total Units]],\"\")","v":""},{"$f":"IF(OR(vmHousingType=\"Homeownership\",vmHousingType=\"Both\"),IF(UnitsTbl[[#This Row],[Unit Type]]=\"Homeowner\",SUMIF(UnitsTbl[[#This Row],[% of Area Median Income ]],\"Market\",UnitsTbl[[#This Row],[Total Units]])+SUMIF(UnitsTbl[[#This Row],[% of Area Median Income ]],\">120%\",UnitsTbl[[#This Row],[Total Units]])),0)","v":0},{"$f":"IF(OR(vmHousingType=\"Homeownership\",vmHousingType=\"Both\"),IF(OR(UnitsTbl[[#This Row],[% of Area Median Income ]]=\"\",UnitsTbl[[#This Row],[% of Area Median Income ]]=\"Manager\",UnitsTbl[[#This Row],[% of Area Median Income ]]=\"Market\"),0),IF(AND(UnitsTbl[[#This Row],[Unit Type]]=\"Homeowner\",UnitsTbl[[#This Row],[% of Area Median Income ]]<=1.2,UnitsTbl[[#This Row],[% of Area Median Income ]]>=0.55),UnitsTbl[[#This Row],[Total Units]],0))","v":0},{"$f":"IF(AND(OR(vmHousingType=\"Homeownership\",vmHousingType=\"Both\"),UnitsTbl[[#This Row],[Unit Type]]=\"Homeowner\",UnitsTbl[[#This Row],[% of Area Median Income ]]>=55%,UnitsTbl[[#This Row],[% of Area Median Income ]]<=120%),UnitsTbl[[#This Row],[Total Units]],0)","v":0},0,null,null,null,null,null,null,"",{"$f":"IFERROR(VLOOKUP(CONCATENATE(County,D18),TCACrentTbl[],W18,FALSE),0)","v":0},null,null,null,null,null,null,null,null,null,null,null,null,0,0,0,0,0,null,{"$f":"SUMPRODUCT(($D$7:$D$26=0.7)*($C$7:$C$26=\"Rental\")*($H$7:$H$26))*70","v":0},null,"",{"$f":"SUMPRODUCT(($D$7:$D$26=0.7)*($C$7:$C$26=\"Homeowner\")*($H$7:$H$26))*70","v":0},"70% AMI"]
[null,null,null,null,null,{"$f":"IF(AND(OR(vmHousingType=\"Rental\",vmHousingType=\"Both\"),UnitsTbl[[#This Row],[Unit Type]]=\"Rental\"),UnitsTbl[[#This Row],[Total Units]],\"\")","v":""},{"$f":"IF(OR(vmHousingType=\"Rental\",vmHousingType=\"Both\"),IF(UnitsTbl[[#This Row],[Unit Type]]=\"Rental\",SUMIF(UnitsTbl[[#This Row],[% of Area Median Income ]],\"Manager\",UnitsTbl[[#This Row],[Total Units]])+SUMIF(UnitsTbl[[#This Row],[% of Area Median Income ]],\"Market\",UnitsTbl[[#This Row],[Total Units]])+SUMIF(UnitsTbl[[#This Row],[% of Area Median Income ]],\">80%\",UnitsTbl[[#This Row],[Total Units]])),0)","v":0},{"$f":"IF(OR(vmHousingType=\"Rental\",vmHousingType=\"Both\"),IF(OR(UnitsTbl[[#This Row],[% of Area Median Income ]]=\"\",UnitsTbl[[#This Row],[% of Area Median Income ]]=\"Manager\",UnitsTbl[[#This Row],[% of Area Median Income ]]=\"Market\"),0,IF(AND(UnitsTbl[[#This Row],[Unit Type]]=\"Rental\",UnitsTbl[[#This Row],[% of Area Median Income ]]<=0.8),UnitsTbl[[#This Row],[Total Units]])),0)","v":0},{"$f":"IF(AND(OR(vmHousingType=\"Rental\",vmHousingType=\"Both\"),UnitsTbl[[#This Row],[Unit Type]]=\"Rental\",UnitsTbl[[#This Row],[% of Area Median Income ]]<=0.6),UnitsTbl[[#This Row],[Total Units]],0)","v":0},0,0,{"$f":"IF(AND(OR(vmHousingType=\"Both\",vmHousingType=\"Homeownership\"),UnitsTbl[[#This Row],[Unit Type]]=\"Homeowner\"),UnitsTbl[[#This Row],[Total Units]],\"\")","v":""},{"$f":"IF(OR(vmHousingType=\"Homeownership\",vmHousingType=\"Both\"),IF(UnitsTbl[[#This Row],[Unit Type]]=\"Homeowner\",SUMIF(UnitsTbl[[#This Row],[% of Area Median Income ]],\"Market\",UnitsTbl[[#This Row],[Total Units]])+SUMIF(UnitsTbl[[#This Row],[% of Area Median Income ]],\">120%\",UnitsTbl[[#This Row],[Total Units]])),0)","v":0},{"$f":"IF(OR(vmHousingType=\"Homeownership\",vmHousingType=\"Both\"),IF(OR(UnitsTbl[[#This Row],[% of Area Median Income ]]=\"\",UnitsTbl[[#This Row],[% of Area Median Income ]]=\"Manager\",UnitsTbl[[#This Row],[% of Area Median Income ]]=\"Market\"),0),IF(AND(UnitsTbl[[#This Row],[Unit Type]]=\"Homeowner\",UnitsTbl[[#This Row],[% of Area Median Income ]]<=1.2,UnitsTbl[[#This Row],[% of Area Median Income ]]>=0.55),UnitsTbl[[#This Row],[Total Units]],0))","v":0},{"$f":"IF(AND(OR(vmHousingType=\"Homeownership\",vmHousingType=\"Both\"),UnitsTbl[[#This Row],[Unit Type]]=\"Homeowner\",UnitsTbl[[#This Row],[% of Area Median Income ]]>=55%,UnitsTbl[[#This Row],[% of Area Median Income ]]<=120%),UnitsTbl[[#This Row],[Total Units]],0)","v":0},0,null,null,null,null,null,null,"",{"$f":"IFERROR(VLOOKUP(CONCATENATE(County,D19),TCACrentTbl[],W19,FALSE),0)","v":0},null,null,null,null,null,null,null,null,null,null,null,null,0,0,0,0,0,null,{"$f":"SUMPRODUCT(($D$7:$D$26=0.75)*($C$7:$C$26=\"Rental\")*($H$7:$H$26))*75","v":0},null,"",{"$f":"SUMPRODUCT(($D$7:$D$26=0.75)*($C$7:$C$26=\"Homeowner\")*($H$7:$H$26))*75","v":0},"75% AMI"]
[null,null,null,null,null,{"$f":"IF(AND(OR(vmHousingType=\"Rental\",vmHousingType=\"Both\"),UnitsTbl[[#This Row],[Unit Type]]=\"Rental\"),UnitsTbl[[#This Row],[Total Units]],\"\")","v":""},{"$f":"IF(OR(vmHousingType=\"Rental\",vmHousingType=\"Both\"),IF(UnitsTbl[[#This Row],[Unit Type]]=\"Rental\",SUMIF(UnitsTbl[[#This Row],[% of Area Median Income ]],\"Manager\",UnitsTbl[[#This Row],[Total Units]])+SUMIF(UnitsTbl[[#This Row],[% of Area Median Income ]],\"Market\",UnitsTbl[[#This Row],[Total Units]])+SUMIF(UnitsTbl[[#This Row],[% of Area Median Income ]],\">80%\",UnitsTbl[[#This Row],[Total Units]])),0)","v":0},{"$f":"IF(OR(vmHousingType=\"Rental\",vmHousingType=\"Both\"),IF(OR(UnitsTbl[[#This Row],[% of Area Median Income ]]=\"\",UnitsTbl[[#This Row],[% of Area Median Income ]]=\"Manager\",UnitsTbl[[#This Row],[% of Area Median Income ]]=\"Market\"),0,IF(AND(UnitsTbl[[#This Row],[Unit Type]]=\"Rental\",UnitsTbl[[#This Row],[% of Area Median Income ]]<=0.8),UnitsTbl[[#This Row],[Total Units]])),0)","v":0},{"$f":"IF(AND(OR(vmHousingType=\"Rental\",vmHousingType=\"Both\"),UnitsTbl[[#This Row],[Unit Type]]=\"Rental\",UnitsTbl[[#This Row],[% of Area Median Income ]]<=0.6),UnitsTbl[[#This Row],[Total Units]],0)","v":0},0,0,{"$f":"IF(AND(OR(vmHousingType=\"Both\",vmHousingType=\"Homeownership\"),UnitsTbl[[#This Row],[Unit Type]]=\"Homeowner\"),UnitsTbl[[#This Row],[Total Units]],\"\")","v":""},{"$f":"IF(OR(vmHousingType=\"Homeownership\",vmHousingType=\"Both\"),IF(UnitsTbl[[#This Row],[Unit Type]]=\"Homeowner\",SUMIF(UnitsTbl[[#This Row],[% of Area Median Income ]],\"Market\",UnitsTbl[[#This Row],[Total Units]])+SUMIF(UnitsTbl[[#This Row],[% of Area Median Income ]],\">120%\",UnitsTbl[[#This Row],[Total Units]])),0)","v":0},{"$f":"IF(OR(vmHousingType=\"Homeownership\",vmHousingType=\"Both\"),IF(OR(UnitsTbl[[#This Row],[% of Area Median Income ]]=\"\",UnitsTbl[[#This Row],[% of Area Median Income ]]=\"Manager\",UnitsTbl[[#This Row],[% of Area Median Income ]]=\"Market\"),0),IF(AND(UnitsTbl[[#This Row],[Unit Type]]=\"Homeowner\",UnitsTbl[[#This Row],[% of Area Median Income ]]<=1.2,UnitsTbl[[#This Row],[% of Area Median Income ]]>=0.55),UnitsTbl[[#This Row],[Total Units]],0))","v":0},{"$f":"IF(AND(OR(vmHousingType=\"Homeownership\",vmHousingType=\"Both\"),UnitsTbl[[#This Row],[Unit Type]]=\"Homeowner\",UnitsTbl[[#This Row],[% of Area Median Income ]]>=55%,UnitsTbl[[#This Row],[% of Area Median Income ]]<=120%),UnitsTbl[[#This Row],[Total Units]],0)","v":0},0,null,null,null,null,null,null,"",{"$f":"IFERROR(VLOOKUP(CONCATENATE(County,D20),TCACrentTbl[],W20,FALSE),0)","v":0},null,null,null,null,null,null,null,null,null,null,null,null,0,0,0,0,0,null,{"$f":"SUMPRODUCT(($D$7:$D$26=0.8)*($C$7:$C$26=\"Rental\")*($H$7:$H$26))*80","v":0},null,"",{"$f":"SUMPRODUCT(($D$7:$D$26=0.8)*($C$7:$C$26=\"Homeowner\")*($H$7:$H$26))*80","v":0},"80% AMI"]
[null,null,null,null,null,{"$f":"IF(AND(OR(vmHousingType=\"Rental\",vmHousingType=\"Both\"),UnitsTbl[[#This Row],[Unit Type]]=\"Rental\"),UnitsTbl[[#This Row],[Total Units]],\"\")","v":""},{"$f":"IF(OR(vmHousingType=\"Rental\",vmHousingType=\"Both\"),IF(UnitsTbl[[#This Row],[Unit Type]]=\"Rental\",SUMIF(UnitsTbl[[#This Row],[% of Area Median Income ]],\"Manager\",UnitsTbl[[#This Row],[Total Units]])+SUMIF(UnitsTbl[[#This Row],[% of Area Median Income ]],\"Market\",UnitsTbl[[#This Row],[Total Units]])+SUMIF(UnitsTbl[[#This Row],[% of Area Median Income ]],\">80%\",UnitsTbl[[#This Row],[Total Units]])),0)","v":0},{"$f":"IF(OR(vmHousingType=\"Rental\",vmHousingType=\"Both\"),IF(OR(UnitsTbl[[#This Row],[% of Area Median Income ]]=\"\",UnitsTbl[[#This Row],[% of Area Median Income ]]=\"Manager\",UnitsTbl[[#This Row],[% of Area Median Income ]]=\"Market\"),0,IF(AND(UnitsTbl[[#This Row],[Unit Type]]=\"Rental\",UnitsTbl[[#This Row],[% of Area Median Income ]]<=0.8),UnitsTbl[[#This Row],[Total Units]])),0)","v":0},{"$f":"IF(AND(OR(vmHousingType=\"Rental\",vmHousingType=\"Both\"),UnitsTbl[[#This Row],[Unit Type]]=\"Rental\",UnitsTbl[[#This Row],[% of Area Median Income ]]<=0.6),UnitsTbl[[#This Row],[Total Units]],0)","v":0},0,0,{"$f":"IF(AND(OR(vmHousingType=\"Both\",vmHousingType=\"Homeownership\"),UnitsTbl[[#This Row],[Unit Type]]=\"Homeowner\"),UnitsTbl[[#This Row],[Total Units]],\"\")","v":""},{"$f":"IF(OR(vmHousingType=\"Homeownership\",vmHousingType=\"Both\"),IF(UnitsTbl[[#This Row],[Unit Type]]=\"Homeowner\",SUMIF(UnitsTbl[[#This Row],[% of Area Median Income ]],\"Market\",UnitsTbl[[#This Row],[Total Units]])+SUMIF(UnitsTbl[[#This Row],[% of Area Median Income ]],\">120%\",UnitsTbl[[#This Row],[Total Units]])),0)","v":0},{"$f":"IF(OR(vmHousingType=\"Homeownership\",vmHousingType=\"Both\"),IF(OR(UnitsTbl[[#This Row],[% of Area Median Income ]]=\"\",UnitsTbl[[#This Row],[% of Area Median Income ]]=\"Manager\",UnitsTbl[[#This Row],[% of Area Median Income ]]=\"Market\"),0),IF(AND(UnitsTbl[[#This Row],[Unit Type]]=\"Homeowner\",UnitsTbl[[#This Row],[% of Area Median Income ]]<=1.2,UnitsTbl[[#This Row],[% of Area Median Income ]]>=0.55),UnitsTbl[[#This Row],[Total Units]],0))","v":0},{"$f":"IF(AND(OR(vmHousingType=\"Homeownership\",vmHousingType=\"Both\"),UnitsTbl[[#This Row],[Unit Type]]=\"Homeowner\",UnitsTbl[[#This Row],[% of Area Median Income ]]>=55%,UnitsTbl[[#This Row],[% of Area Median Income ]]<=120%),UnitsTbl[[#This Row],[Total Units]],0)","v":0},0,null,null,null,null,null,null,"",{"$f":"IFERROR(VLOOKUP(CONCATENATE(County,D21),TCACrentTbl[],W21,FALSE),0)","v":0},null,null,null,null,null,null,null,null,null,null,null,null,0,0,0,0,0,null,null,null,"",{"$f":"SUM(AT7:AT20)","v":0}]
[null,null,null,null,null,{"$f":"IF(AND(OR(vmHousingType=\"Rental\",vmHousingType=\"Both\"),UnitsTbl[[#This Row],[Unit Type]]=\"Rental\"),UnitsTbl[[#This Row],[Total Units]],\"\")","v":""},{"$f":"IF(OR(vmHousingType=\"Rental\",vmHousingType=\"Both\"),IF(UnitsTbl[[#This Row],[Unit Type]]=\"Rental\",SUMIF(UnitsTbl[[#This Row],[% of Area Median Income ]],\"Manager\",UnitsTbl[[#This Row],[Total Units]])+SUMIF(UnitsTbl[[#This Row],[% of Area Median Income ]],\"Market\",UnitsTbl[[#This Row],[Total Units]])+SUMIF(UnitsTbl[[#This Row],[% of Area Median Income ]],\">80%\",UnitsTbl[[#This Row],[Total Units]])),0)","v":0},{"$f":"IF(OR(vmHousingType=\"Rental\",vmHousingType=\"Both\"),IF(OR(UnitsTbl[[#This Row],[% of Area Median Income ]]=\"\",UnitsTbl[[#This Row],[% of Area Median Income ]]=\"Manager\",UnitsTbl[[#This Row],[% of Area Median Income ]]=\"Market\"),0,IF(AND(UnitsTbl[[#This Row],[Unit Type]]=\"Rental\",UnitsTbl[[#This Row],[% of Area Median Income ]]<=0.8),UnitsTbl[[#This Row],[Total Units]])),0)","v":0},{"$f":"IF(AND(OR(vmHousingType=\"Rental\",vmHousingType=\"Both\"),UnitsTbl[[#This Row],[Unit Type]]=\"Rental\",UnitsTbl[[#This Row],[% of Area Median Income ]]<=0.6),UnitsTbl[[#This Row],[Total Units]],0)","v":0},0,0,{"$f":"IF(AND(OR(vmHousingType=\"Both\",vmHousingType=\"Homeownership\"),UnitsTbl[[#This Row],[Unit Type]]=\"Homeowner\"),UnitsTbl[[#This Row],[Total Units]],\"\")","v":""},{"$f":"IF(OR(vmHousingType=\"Homeownership\",vmHousingType=\"Both\"),IF(UnitsTbl[[#This Row],[Unit Type]]=\"Homeowner\",SUMIF(UnitsTbl[[#This Row],[% of Area Median Income ]],\"Market\",UnitsTbl[[#This Row],[Total Units]])+SUMIF(UnitsTbl[[#This Row],[% of Area Median Income ]],\">120%\",UnitsTbl[[#This Row],[Total Units]])),0)","v":0},{"$f":"IF(OR(vmHousingType=\"Homeownership\",vmHousingType=\"Both\"),IF(OR(UnitsTbl[[#This Row],[% of Area Median Income ]]=\"\",UnitsTbl[[#This Row],[% of Area Median Income ]]=\"Manager\",UnitsTbl[[#This Row],[% of Area Median Income ]]=\"Market\"),0),IF(AND(UnitsTbl[[#This Row],[Unit Type]]=\"Homeowner\",UnitsTbl[[#This Row],[% of Area Median Income ]]<=1.2,UnitsTbl[[#This Row],[% of Area Median Income ]]>=0.55),UnitsTbl[[#This Row],[Total Units]],0))","v":0},{"$f":"IF(AND(OR(vmHousingType=\"Homeownership\",vmHousingType=\"Both\"),UnitsTbl[[#This Row],[Unit Type]]=\"Homeowner\",UnitsTbl[[#This Row],[% of Area Median Income ]]>=55%,UnitsTbl[[#This Row],[% of Area Median Income ]]<=120%),UnitsTbl[[#This Row],[Total Units]],0)","v":0},0,null,null,null,null,null,null,"",{"$f":"IFERROR(VLOOKUP(CONCATENATE(County,D22),TCACrentTbl[],W22,FALSE),0)","v":0},null,null,null,null,null,null,null,null,null,null,null,null,0,0,0,0,0,null,{"$f":"SUM(AQ7:AQ20)","v":0},null,""]
[null,null,null,null,null,{"$f":"IF(AND(OR(vmHousingType=\"Rental\",vmHousingType=\"Both\"),UnitsTbl[[#This Row],[Unit Type]]=\"Rental\"),UnitsTbl[[#This Row],[Total Units]],\"\")","v":""},{"$f":"IF(OR(vmHousingType=\"Rental\",vmHousingType=\"Both\"),IF(UnitsTbl[[#This Row],[Unit Type]]=\"Rental\",SUMIF(UnitsTbl[[#This Row],[% of Area Median Income ]],\"Manager\",UnitsTbl[[#This Row],[Total Units]])+SUMIF(UnitsTbl[[#This Row],[% of Area Median Income ]],\"Market\",UnitsTbl[[#This Row],[Total Units]])+SUMIF(UnitsTbl[[#This Row],[% of Area Median Income ]],\">80%\",UnitsTbl[[#This Row],[Total Units]])),0)","v":0},{"$f":"IF(OR(vmHousingType=\"Rental\",vmHousingType=\"Both\"),IF(OR(UnitsTbl[[#This Row],[% of Area Median Income ]]=\"\",UnitsTbl[[#This Row],[% of Area Median Income ]]=\"Manager\",UnitsTbl[[#This Row],[% of Area Median Income ]]=\"Market\"),0,IF(AND(UnitsTbl[[#This Row],[Unit Type]]=\"Rental\",UnitsTbl[[#This Row],[% of Area Median Income ]]<=0.8),UnitsTbl[[#This Row],[Total Units]])),0)","v":0},{"$f":"IF(AND(OR(vmHousingType=\"Rental\",vmHousingType=\"Both\"),UnitsTbl[[#This Row],[Unit Type]]=\"Rental\",UnitsTbl[[#This Row],[% of Area Median Income ]]<=0.6),UnitsTbl[[#This Row],[Total Units]],0)","v":0},0,0,{"$f":"IF(AND(OR(vmHousingType=\"Both\",vmHousingType=\"Homeownership\"),UnitsTbl[[#This Row],[Unit Type]]=\"Homeowner\"),UnitsTbl[[#This Row],[Total Units]],\"\")","v":""},{"$f":"IF(OR(vmHousingType=\"Homeownership\",vmHousingType=\"Both\"),IF(UnitsTbl[[#This Row],[Unit Type]]=\"Homeowner\",SUMIF(UnitsTbl[[#This Row],[% of Area Median Income ]],\"Market\",UnitsTbl[[#This Row],[Total Units]])+SUMIF(UnitsTbl[[#This Row],[% of Area Median Income ]],\">120%\",UnitsTbl[[#This Row],[Total Units]])),0)","v":0},{"$f":"IF(OR(vmHousingType=\"Homeownership\",vmHousingType=\"Both\"),IF(OR(UnitsTbl[[#This Row],[% of Area Median Income ]]=\"\",UnitsTbl[[#This Row],[% of Area Median Income ]]=\"Manager\",UnitsTbl[[#This Row],[% of Area Median Income ]]=\"Market\"),0),IF(AND(UnitsTbl[[#This Row],[Unit Type]]=\"Homeowner\",UnitsTbl[[#This Row],[% of Area Median Income ]]<=1.2,UnitsTbl[[#This Row],[% of Area Median Income ]]>=0.55),UnitsTbl[[#This Row],[Total Units]],0))","v":0},{"$f":"IF(AND(OR(vmHousingType=\"Homeownership\",vmHousingType=\"Both\"),UnitsTbl[[#This Row],[Unit Type]]=\"Homeowner\",UnitsTbl[[#This Row],[% of Area Median Income ]]>=55%,UnitsTbl[[#This Row],[% of Area Median Income ]]<=120%),UnitsTbl[[#This Row],[Total Units]],0)","v":0},0,null,null,null,null,null,null,"",{"$f":"IFERROR(VLOOKUP(CONCATENATE(County,D23),TCACrentTbl[],W23,FALSE),0)","v":0},null,null,null,null,null,null,null,null,null,null,null,null,0,0,0,0,0,null,null,null,""]
[null,null,null,null,null,{"$f":"IF(AND(OR(vmHousingType=\"Rental\",vmHousingType=\"Both\"),UnitsTbl[[#This Row],[Unit Type]]=\"Rental\"),UnitsTbl[[#This Row],[Total Units]],\"\")","v":""},{"$f":"IF(OR(vmHousingType=\"Rental\",vmHousingType=\"Both\"),IF(UnitsTbl[[#This Row],[Unit Type]]=\"Rental\",SUMIF(UnitsTbl[[#This Row],[% of Area Median Income ]],\"Manager\",UnitsTbl[[#This Row],[Total Units]])+SUMIF(UnitsTbl[[#This Row],[% of Area Median Income ]],\"Market\",UnitsTbl[[#This Row],[Total Units]])+SUMIF(UnitsTbl[[#This Row],[% of Area Median Income ]],\">80%\",UnitsTbl[[#This Row],[Total Units]])),0)","v":0},{"$f":"IF(OR(vmHousingType=\"Rental\",vmHousingType=\"Both\"),IF(OR(UnitsTbl[[#This Row],[% of Area Median Income ]]=\"\",UnitsTbl[[#This Row],[% of Area Median Income ]]=\"Manager\",UnitsTbl[[#This Row],[% of Area Median Income ]]=\"Market\"),0,IF(AND(UnitsTbl[[#This Row],[Unit Type]]=\"Rental\",UnitsTbl[[#This Row],[% of Area Median Income ]]<=0.8),UnitsTbl[[#This Row],[Total Units]])),0)","v":0},{"$f":"IF(AND(OR(vmHousingType=\"Rental\",vmHousingType=\"Both\"),UnitsTbl[[#This Row],[Unit Type]]=\"Rental\",UnitsTbl[[#This Row],[% of Area Median Income ]]<=0.6),UnitsTbl[[#This Row],[Total Units]],0)","v":0},0,0,{"$f":"IF(AND(OR(vmHousingType=\"Both\",vmHousingType=\"Homeownership\"),UnitsTbl[[#This Row],[Unit Type]]=\"Homeowner\"),UnitsTbl[[#This Row],[Total Units]],\"\")","v":""},{"$f":"IF(OR(vmHousingType=\"Homeownership\",vmHousingType=\"Both\"),IF(UnitsTbl[[#This Row],[Unit Type]]=\"Homeowner\",SUMIF(UnitsTbl[[#This Row],[% of Area Median Income ]],\"Market\",UnitsTbl[[#This Row],[Total Units]])+SUMIF(UnitsTbl[[#This Row],[% of Area Median Income ]],\">120%\",UnitsTbl[[#This Row],[Total Units]])),0)","v":0},{"$f":"IF(OR(vmHousingType=\"Homeownership\",vmHousingType=\"Both\"),IF(OR(UnitsTbl[[#This Row],[% of Area Median Income ]]=\"\",UnitsTbl[[#This Row],[% of Area Median Income ]]=\"Manager\",UnitsTbl[[#This Row],[% of Area Median Income ]]=\"Market\"),0),IF(AND(UnitsTbl[[#This Row],[Unit Type]]=\"Homeowner\",UnitsTbl[[#This Row],[% of Area Median Income ]]<=1.2,UnitsTbl[[#This Row],[% of Area Median Income ]]>=0.55),UnitsTbl[[#This Row],[Total Units]],0))","v":0},{"$f":"IF(AND(OR(vmHousingType=\"Homeownership\",vmHousingType=\"Both\"),UnitsTbl[[#This Row],[Unit Type]]=\"Homeowner\",UnitsTbl[[#This Row],[% of Area Median Income ]]>=55%,UnitsTbl[[#This Row],[% of Area Median Income ]]<=120%),UnitsTbl[[#This Row],[Total Units]],0)","v":0},0,null,null,null,null,null,null,"",{"$f":"IFERROR(VLOOKUP(CONCATENATE(County,D24),TCACrentTbl[],W24,FALSE),0)","v":0},null,null,null,null,null,null,null,null,null,null,null,null,0,0,0,0,0,null,null,null,""]
[null,null,null,null,null,{"$f":"IF(AND(OR(vmHousingType=\"Rental\",vmHousingType=\"Both\"),UnitsTbl[[#This Row],[Unit Type]]=\"Rental\"),UnitsTbl[[#This Row],[Total Units]],\"\")","v":""},{"$f":"IF(OR(vmHousingType=\"Rental\",vmHousingType=\"Both\"),IF(UnitsTbl[[#This Row],[Unit Type]]=\"Rental\",SUMIF(UnitsTbl[[#This Row],[% of Area Median Income ]],\"Manager\",UnitsTbl[[#This Row],[Total Units]])+SUMIF(UnitsTbl[[#This Row],[% of Area Median Income ]],\"Market\",UnitsTbl[[#This Row],[Total Units]])+SUMIF(UnitsTbl[[#This Row],[% of Area Median Income ]],\">80%\",UnitsTbl[[#This Row],[Total Units]])),0)","v":0},{"$f":"IF(OR(vmHousingType=\"Rental\",vmHousingType=\"Both\"),IF(OR(UnitsTbl[[#This Row],[% of Area Median Income ]]=\"\",UnitsTbl[[#This Row],[% of Area Median Income ]]=\"Manager\",UnitsTbl[[#This Row],[% of Area Median Income ]]=\"Market\"),0,IF(AND(UnitsTbl[[#This Row],[Unit Type]]=\"Rental\",UnitsTbl[[#This Row],[% of Area Median Income ]]<=0.8),UnitsTbl[[#This Row],[Total Units]])),0)","v":0},{"$f":"IF(AND(OR(vmHousingType=\"Rental\",vmHousingType=\"Both\"),UnitsTbl[[#This Row],[Unit Type]]=\"Rental\",UnitsTbl[[#This Row],[% of Area Median Income ]]<=0.6),UnitsTbl[[#This Row],[Total Units]],0)","v":0},0,0,{"$f":"IF(AND(OR(vmHousingType=\"Both\",vmHousingType=\"Homeownership\"),UnitsTbl[[#This Row],[Unit Type]]=\"Homeowner\"),UnitsTbl[[#This Row],[Total Units]],\"\")","v":""},{"$f":"IF(OR(vmHousingType=\"Homeownership\",vmHousingType=\"Both\"),IF(UnitsTbl[[#This Row],[Unit Type]]=\"Homeowner\",SUMIF(UnitsTbl[[#This Row],[% of Area Median Income ]],\"Market\",UnitsTbl[[#This Row],[Total Units]])+SUMIF(UnitsTbl[[#This Row],[% of Area Median Income ]],\">120%\",UnitsTbl[[#This Row],[Total Units]])),0)","v":0},{"$f":"IF(OR(vmHousingType=\"Homeownership\",vmHousingType=\"Both\"),IF(OR(UnitsTbl[[#This Row],[% of Area Median Income ]]=\"\",UnitsTbl[[#This Row],[% of Area Median Income ]]=\"Manager\",UnitsTbl[[#This Row],[% of Area Median Income ]]=\"Market\"),0),IF(AND(UnitsTbl[[#This Row],[Unit Type]]=\"Homeowner\",UnitsTbl[[#This Row],[% of Area Median Income ]]<=1.2,UnitsTbl[[#This Row],[% of Area Median Income ]]>=0.55),UnitsTbl[[#This Row],[Total Units]],0))","v":0},{"$f":"IF(AND(OR(vmHousingType=\"Homeownership\",vmHousingType=\"Both\"),UnitsTbl[[#This Row],[Unit Type]]=\"Homeowner\",UnitsTbl[[#This Row],[% of Area Median Income ]]>=55%,UnitsTbl[[#This Row],[% of Area Median Income ]]<=120%),UnitsTbl[[#This Row],[Total Units]],0)","v":0},0,null,null,null,null,null,null,"",{"$f":"IFERROR(VLOOKUP(CONCATENATE(County,D25),TCACrentTbl[],W25,FALSE),0)","v":0},null,null,null,null,null,null,null,null,null,null,null,null,{"$f":"(X25-AA25)*E25","v":0},0,0,0,0,null,null,null,""]
[null,null,null,null,null,{"$f":"IF(AND(OR(vmHousingType=\"Rental\",vmHousingType=\"Both\"),UnitsTbl[[#This Row],[Unit Type]]=\"Rental\"),UnitsTbl[[#This Row],[Total Units]],\"\")","v":""},{"$f":"IF(OR(vmHousingType=\"Rental\",vmHousingType=\"Both\"),IF(UnitsTbl[[#This Row],[Unit Type]]=\"Rental\",SUMIF(UnitsTbl[[#This Row],[% of Area Median Income ]],\"Manager\",UnitsTbl[[#This Row],[Total Units]])+SUMIF(UnitsTbl[[#This Row],[% of Area Median Income ]],\"Market\",UnitsTbl[[#This Row],[Total Units]])+SUMIF(UnitsTbl[[#This Row],[% of Area Median Income ]],\">80%\",UnitsTbl[[#This Row],[Total Units]])),0)","v":0},{"$f":"IF(OR(vmHousingType=\"Rental\",vmHousingType=\"Both\"),IF(OR(UnitsTbl[[#This Row],[% of Area Median Income ]]=\"\",UnitsTbl[[#This Row],[% of Area Median Income ]]=\"Manager\",UnitsTbl[[#This Row],[% of Area Median Income ]]=\"Market\"),0,IF(AND(UnitsTbl[[#This Row],[Unit Type]]=\"Rental\",UnitsTbl[[#This Row],[% of Area Median Income ]]<=0.8),UnitsTbl[[#This Row],[Total Units]])),0)","v":0},{"$f":"IF(AND(OR(vmHousingType=\"Rental\",vmHousingType=\"Both\"),UnitsTbl[[#This Row],[Unit Type]]=\"Rental\",UnitsTbl[[#This Row],[% of Area Median Income ]]<=0.6),UnitsTbl[[#This Row],[Total Units]],0)","v":0},0,0,{"$f":"IF(AND(OR(vmHousingType=\"Both\",vmHousingType=\"Homeownership\"),UnitsTbl[[#This Row],[Unit Type]]=\"Homeowner\"),UnitsTbl[[#This Row],[Total Units]],\"\")","v":""},{"$f":"IF(OR(vmHousingType=\"Homeownership\",vmHousingType=\"Both\"),IF(UnitsTbl[[#This Row],[Unit Type]]=\"Homeowner\",SUMIF(UnitsTbl[[#This Row],[% of Area Median Income ]],\"Market\",UnitsTbl[[#This Row],[Total Units]])+SUMIF(UnitsTbl[[#This Row],[% of Area Median Income ]],\">120%\",UnitsTbl[[#This Row],[Total Units]])),0)","v":0},{"$f":"IF(OR(vmHousingType=\"Homeownership\",vmHousingType=\"Both\"),IF(OR(UnitsTbl[[#This Row],[% of Area Median Income ]]=\"\",UnitsTbl[[#This Row],[% of Area Median Income ]]=\"Manager\",UnitsTbl[[#This Row],[% of Area Median Income ]]=\"Market\"),0),IF(AND(UnitsTbl[[#This Row],[Unit Type]]=\"Homeowner\",UnitsTbl[[#This Row],[% of Area Median Income ]]<=1.2,UnitsTbl[[#This Row],[% of Area Median Income ]]>=0.55),UnitsTbl[[#This Row],[Total Units]],0))","v":0},{"$f":"IF(AND(OR(vmHousingType=\"Homeownership\",vmHousingType=\"Both\"),UnitsTbl[[#This Row],[Unit Type]]=\"Homeowner\",UnitsTbl[[#This Row],[% of Area Median Income ]]>=55%,UnitsTbl[[#This Row],[% of Area Median Income ]]<=120%),UnitsTbl[[#This Row],[Total Units]],0)","v":0},0,null,null,null,null,null,null,"",{"$f":"IFERROR(VLOOKUP(CONCATENATE(County,D26),TCACrentTbl[],W26,FALSE),0)","v":0},null,null,null,null,null,null,null,null,null,null,null,null,{"$f":"(X26-AA26)*E26","v":0},0,0,0,0,null,null,null,""]
[null,"Totals",null,null,{"$f":"SUM(E7:E26)","v":0},0,0,{"$f":"SUM(H7:H26)","v":0},0,0,0,0,0,{"$f":"SUM(N7:N26)","v":0},0,0,0,0,0,0,null,null,null,null,null,null,null,null,{"$f":"SUM(AC7:AC26)","v":0},null,{"$f":"SUM(AE7:AE26)","v":0},null,null,null,{"$f":"SUM(AI7:AI26)","v":0},null,{"$f":"SUM(AK7:AK26)","v":0},{"$f":"SUM(AL7:AL26)","v":0},{"$f":"SUM(AM7:AM26)","v":0},{"$f":"SUM(AN7:AN26)","v":0},{"$f":"SUM(AO7:AO26)","v":0}]
[]
[null,"Maximum HRI Grant Amount"]
[null,{"$f":"CONCATENATE(SUMIF(UnitsTbl[% of Area Median Income ],\">80%\",UnitsTbl[Total Units])+SUMIF(UnitsTbl[% of Area Median Income ],\"Manager\",UnitsTbl[Total Units]),\" Unrestricted redidential units @ $35,000 Per unit\")","v":"0 Unrestricted redidential units @ $35,000 Per unit"},null,null,{"$f":"$G$27*35000","v":0},null,{"$f":"CONCATENATE($I$27,\" restricted residential units @ $50,000 per unit \")","v":"0 restricted residential units @ $50,000 per unit "},null,{"$f":"$I$27*50000","v":0},null,"HRI\nRequested",{"$f":"IF('Dev Sources'!$H$23=\"\",0,'Dev Sources'!$H$23)","v":0},null,"Max HRI Grant",{"$f":"MIN(($E$30+$I$30),$L$30,'Dev Sources'!$J$23)","v":0}]
[]
[null,"Maximum Homeownership Funding Amount",null,null,null,null,{"$f":"IF(OR(vmHousingType=\"Homeownership\",vmHousingType=\"Both\"),MIN(SUM($F$46,$J$46,$N$46,$R$46,$V$46),IF('Dev Sources'!$H$24=\"\",0,'Dev Sources'!$H$24),0))","v":false}]
[null,"\n\n\nAMI\nLevel","0 Bedroom Units",null,null,null,"1 Bedroom Units",null,null,null,"2 Bedroom Units",null,null,null,"3 Bedroom Units",null,null,null,"4+ Bedroom Units"]
[]
[null,"AMI","Per\nUnit\nAmount","AHSC\nAssisted\nUnits","Other\nRental\nRestricted","Funding\nAmount","Per\nUnit\nAmount","AHSC\nAssisted\nUnits","Other\nRental\nRestricted","Funding\nAmount","Per\nUnit\nAmount","AHSC\nAssisted\nUnits","Other\nRental\nRestricted","Funding\nAmount","Per\nUnit\nAmount","AHSC\nAssisted\nUnits","Other\nRental\nRestricted","Funding\nAmount","Per\nUnit\nAmount","AHSC\nAssisted\nUnits","Other\nRental\nRestricted","Funding\nAmount"]
[null,1,{"$f":"E95","v":250000},{"$f":"IFERROR(SUMIFS(UnitsTbl[AHSC\n(HO)\nAssisted\nUnits],UnitsTbl['# of\nBdrms],0,UnitsTbl[% of Area Median Income ],\">=100%\"),0)","v":0},{"$f":"IFERROR(SUMIFS(UnitsTbl[Other\n(HO)\nRestricted\nUnits],UnitsTbl['# of\nBdrms],0,UnitsTbl[% of Area Median Income ],\">=100%\"),0)","v":0},{"$f":"C36*SUM(D36,E36)","v":0},{"$f":"F95","v":250000},{"$f":"IFERROR(SUMIFS(UnitsTbl[AHSC\n(HO)\nAssisted\nUnits],UnitsTbl['# of\nBdrms],1,UnitsTbl[% of Area Median Income ],\">=100%\"),0)","v":0},{"$f":"IFERROR(SUMIFS(UnitsTbl[Other\n(HO)\nRestricted\nUnits],UnitsTbl['# of\nBdrms],1,UnitsTbl[% of Area Median Income ],\">=100%\"),0)","v":0},{"$f":"G36*SUM(H36,I36)","v":0},{"$f":"G95","v":250000},{"$f":"IFERROR(SUMIFS(UnitsTbl[AHSC\n(HO)\nAssisted\nUnits],UnitsTbl['# of\nBdrms],2,UnitsTbl[% of Area Median Income ],\">=100%\"),0)","v":0},{"$f":"IFERROR(SUMIFS(UnitsTbl[Other\n(HO)\nRestricted\nUnits],UnitsTbl['# of\nBdrms],2,UnitsTbl[% of Area Median Income ],\">=100%\"),0)","v":0},{"$f":"K36*SUM(L36,M36)","v":0},{"$f":"H95","v":250000},{"$f":"IFERROR(SUMIFS(UnitsTbl[AHSC\n(HO)\nAssisted\nUnits],UnitsTbl['# of\nBdrms],3,UnitsTbl[% of Area Median Income ],\">=100%\"),0)","v":0},{"$f":"IFERROR(SUMIFS(UnitsTbl[Other\n(HO)\nRestricted\nUnits],UnitsTbl['# of\nBdrms],3,UnitsTbl[% of Area Median Income ],\">=100%\"),0)","v":0},{"$f":"O36*SUM(P36,Q36)","v":0},{"$f":"I95","v":250000},{"$f":"IFERROR(SUMIFS(UnitsTbl[AHSC\n(HO)\nAssisted\nUnits],UnitsTbl['# of\nBdrms],4,UnitsTbl[% of Area Median Income ],\">=100%\")+SUMIFS(UnitsTbl[AHSC\n(HO)\nAssisted\nUnits],UnitsTbl['# of\nBdrms],5,UnitsTbl[% of Area Median Income ],\">=100%\"),0)","v":0},{"$f":"IFERROR(SUMIFS(UnitsTbl[Other\n(HO)\nRestricted\nUnits],UnitsTbl['# of\nBdrms],4,UnitsTbl[% of Area Median Income ],\">=100%\")+SUMIFS(UnitsTbl[Other\n(HO)\nRestricted\nUnits],UnitsTbl['# of\nBdrms],5,UnitsTbl[% of Area Median Income ],\">=100%\"),0)","v":0},{"$f":"S36*SUM(T36,U36)","v":0}]
[null,0.95,{"$f":"E96","v":250000},{"$f":"IFERROR(SUMIFS(UnitsTbl[AHSC\n(HO)\nAssisted\nUnits],UnitsTbl['# of\nBdrms],0,UnitsTbl[% of Area Median Income ],95%),0)","v":0},{"$f":"IFERROR(SUMIFS(UnitsTbl[Other\n(HO)\nRestricted\nUnits],UnitsTbl['# of\nBdrms],0,UnitsTbl[% of Area Median Income ],95%),0)","v":0},{"$f":"C37*SUM(D37,E37)","v":0},{"$f":"F96","v":250000},{"$f":"IFERROR(SUMIFS(UnitsTbl[AHSC\n(HO)\nAssisted\nUnits],UnitsTbl['# of\nBdrms],1,UnitsTbl[% of Area Median Income ],95%),0)","v":0},{"$f":"IFERROR(SUMIFS(UnitsTbl[Other\n(HO)\nRestricted\nUnits],UnitsTbl['# of\nBdrms],1,UnitsTbl[% of Area Median Income ],95%),0)","v":0},{"$f":"G37*SUM(H37,I37)","v":0},{"$f":"G96","v":250000},{"$f":"IFERROR(SUMIFS(UnitsTbl[AHSC\n(HO)\nAssisted\nUnits],UnitsTbl['# of\nBdrms],2,UnitsTbl[% of Area Median Income ],95%),0)","v":0},{"$f":"IFERROR(SUMIFS(UnitsTbl[Other\n(HO)\nRestricted\nUnits],UnitsTbl['# of\nBdrms],2,UnitsTbl[% of Area Median Income ],95%),0)","v":0},{"$f":"K37*SUM(L37,M37)","v":0},{"$f":"H96","v":250000},{"$f":"IFERROR(SUMIFS(UnitsTbl[AHSC\n(HO)\nAssisted\nUnits],UnitsTbl['# of\nBdrms],3,UnitsTbl[% of Area Median Income ],95%),0)","v":0},{"$f":"IFERROR(SUMIFS(UnitsTbl[Other\n(HO)\nRestricted\nUnits],UnitsTbl['# of\nBdrms],3,UnitsTbl[% of Area Median Income ],95%),0)","v":0},{"$f":"O37*SUM(P37,Q37)","v":0},{"$f":"I96","v":250000},{"$f":"IFERROR(SUMIFS(UnitsTbl[AHSC\n(HO)\nAssisted\nUnits],UnitsTbl['# of\nBdrms],4,UnitsTbl[% of Area Median Income ],95%)+SUMIFS(UnitsTbl[AHSC\n(HO)\nAssisted\nUnits],UnitsTbl['# of\nBdrms],5,UnitsTbl[% of Area Median Income ],95%),0)","v":0},{"$f":"IFERROR(SUMIFS(UnitsTbl[Other\n(HO)\nRestricted\nUnits],UnitsTbl['# of\nBdrms],4,UnitsTbl[% of Area Median Income ],95%)+SUMIFS(UnitsTbl[Other\n(HO)\nRestricted\nUnits],UnitsTbl['# of\nBdrms],5,UnitsTbl[% of Area Median Income ],95%),0)","v":0},{"$f":"S37*SUM(T37,U37)","v":0}]
[null,0.9,0,{"$f":"IFERROR(SUMIFS(UnitsTbl[AHSC\n(HO)\nAssisted\nUnits],UnitsTbl['# of\nBdrms],0,UnitsTbl[% of Area Median Income ],90%),0)","v":0},{"$f":"IFERROR(SUMIFS(UnitsTbl[Other\n(HO)\nRestricted\nUnits],UnitsTbl['# of\nBdrms],0,UnitsTbl[% of Area Median Income ],90%),0)","v":0},0,0,{"$f":"IFERROR(SUMIFS(UnitsTbl[AHSC\n(HO)\nAssisted\nUnits],UnitsTbl['# of\nBdrms],1,UnitsTbl[% of Area Median Income ],90%),0)","v":0},{"$f":"IFERROR(SUMIFS(UnitsTbl[Other\n(HO)\nRestricted\nUnits],UnitsTbl['# of\nBdrms],1,UnitsTbl[% of Area Median Income ],90%),0)","v":0},0,0,{"$f":"IFERROR(SUMIFS(UnitsTbl[AHSC\n(HO)\nAssisted\nUnits],UnitsTbl['# of\nBdrms],2,UnitsTbl[% of Area Median Income ],90%),0)","v":0},{"$f":"IFERROR(SUMIFS(UnitsTbl[Other\n(HO)\nRestricted\nUnits],UnitsTbl['# of\nBdrms],2,UnitsTbl[% of Area Median Income ],90%),0)","v":0},0,0,{"$f":"IFERROR(SUMIFS(UnitsTbl[AHSC\n(HO)\nAssisted\nUnits],UnitsTbl['# of\nBdrms],3,UnitsTbl[% of Area Median Income ],90%),0)","v":0},{"$f":"IFERROR(SUMIFS(UnitsTbl[Other\n(HO)\nRestricted\nUnits],UnitsTbl['# of\nBdrms],3,UnitsTbl[% of Area Median Income ],90%),0)","v":0},0,0,{"$f":"IFERROR(SUMIFS(UnitsTbl[AHSC\n(HO)\nAssisted\nUnits],UnitsTbl['# of\nBdrms],4,UnitsTbl[% of Area Median Income ],90%)+SUMIFS(UnitsTbl[AHSC\n(HO)\nAssisted\nUnits],UnitsTbl['# of\nBdrms],5,UnitsTbl[% of Area Median Income ],90%),0)","v":0},{"$f":"IFERROR(SUMIFS(UnitsTbl[Other\n(HO)\nRestricted\nUnits],UnitsTbl['# of\nBdrms],4,UnitsTbl[% of Area Median Income ],90%)+SUMIFS(UnitsTbl[Other\n(HO)\nRestricted\nUnits],UnitsTbl['# of\nBdrms],5,UnitsTbl[% of Area Median Income ],90%),0)","v":0},0]
[null,0.85,250000,{"$f":"IFERROR(SUMIFS(UnitsTbl[AHSC\n(HO)\nAssisted\nUnits],UnitsTbl['# of\nBdrms],0,UnitsTbl[% of Area Median Income ],85%),0)","v":0},{"$f":"IFERROR(SUMIFS(UnitsTbl[Other\n(HO)\nRestricted\nUnits],UnitsTbl['# of\nBdrms],0,UnitsTbl[% of Area Median Income ],85%),0)","v":0},0,250000,{"$f":"IFERROR(SUMIFS(UnitsTbl[AHSC\n(HO)\nAssisted\nUnits],UnitsTbl['# of\nBdrms],1,UnitsTbl[% of Area Median Income ],85%),0)","v":0},{"$f":"IFERROR(SUMIFS(UnitsTbl[Other\n(HO)\nRestricted\nUnits],UnitsTbl['# of\nBdrms],1,UnitsTbl[% of Area Median Income ],85%),0)","v":0},0,250000,{"$f":"IFERROR(SUMIFS(UnitsTbl[AHSC\n(HO)\nAssisted\nUnits],UnitsTbl['# of\nBdrms],2,UnitsTbl[% of Area Median Income ],85%),0)","v":0},{"$f":"IFERROR(SUMIFS(UnitsTbl[Other\n(HO)\nRestricted\nUnits],UnitsTbl['# of\nBdrms],2,UnitsTbl[% of Area Median Income ],85%),0)","v":0},0,250000,{"$f":"IFERROR(SUMIFS(UnitsTbl[AHSC\n(HO)\nAssisted\nUnits],UnitsTbl['# of\nBdrms],3,UnitsTbl[% of Area Median Income ],85%),0)","v":0},{"$f":"IFERROR(SUMIFS(UnitsTbl[Other\n(HO)\nRestricted\nUnits],UnitsTbl['# of\nBdrms],3,UnitsTbl[% of Area Median Income ],85%),0)","v":0},0,250000,{"$f":"IFERROR(SUMIFS(UnitsTbl[AHSC\n(HO)\nAssisted\nUnits],UnitsTbl['# of\nBdrms],4,UnitsTbl[% of Area Median Income ],85%)+SUMIFS(UnitsTbl[AHSC\n(HO)\nAssisted\nUnits],UnitsTbl['# of\nBdrms],5,UnitsTbl[% of Area Median Income ],85%),0)","v":0},{"$f":"IFERROR(SUMIFS(UnitsTbl[Other\n(HO)\nRestricted\nUnits],UnitsTbl['# of\nBdrms],4,UnitsTbl[% of Area Median Income ],85%)+SUMIFS(UnitsTbl[Other\n(HO)\nRestricted\nUnits],UnitsTbl['# of\nBdrms],5,UnitsTbl[% of Area Median Income ],85%),0)","v":0},0]
[null,0.8,250000,{"$f":"IFERROR(SUMIFS(UnitsTbl[AHSC\n(HO)\nAssisted\nUnits],UnitsTbl['# of\nBdrms],0,UnitsTbl[% of Area Median Income ],80%),0)","v":0},{"$f":"IFERROR(SUMIFS(UnitsTbl[Other\n(HO)\nRestricted\nUnits],UnitsTbl['# of\nBdrms],0,UnitsTbl[% of Area Median Income ],80%),0)","v":0},0,250000,{"$f":"IFERROR(SUMIFS(UnitsTbl[AHSC\n(HO)\nAssisted\nUnits],UnitsTbl['# of\nBdrms],1,UnitsTbl[% of Area Median Income ],80%),0)","v":0},{"$f":"IFERROR(SUMIFS(UnitsTbl[Other\n(HO)\nRestricted\nUnits],UnitsTbl['# of\nBdrms],1,UnitsTbl[% of Area Median Income ],80%),0)","v":0},0,250000,{"$f":"IFERROR(SUMIFS(UnitsTbl[AHSC\n(HO)\nAssisted\nUnits],UnitsTbl['# of\nBdrms],2,UnitsTbl[% of Area Median Income ],80%),0)","v":0},{"$f":"IFERROR(SUMIFS(UnitsTbl[Other\n(HO)\nRestricted\nUnits],UnitsTbl['# of\nBdrms],2,UnitsTbl[% of Area Median Income ],80%),0)","v":0},0,250000,{"$f":"IFERROR(SUMIFS(UnitsTbl[AHSC\n(HO)\nAssisted\nUnits],UnitsTbl['# of\nBdrms],3,UnitsTbl[% of Area Median Income ],80%),0)","v":0},{"$f":"IFERROR(SUMIFS(UnitsTbl[Other\n(HO)\nRestricted\nUnits],UnitsTbl['# of\nBdrms],3,UnitsTbl[% of Area Median Income ],80%),0)","v":0},0,250000,{"$f":"IFERROR(SUMIFS(UnitsTbl[AHSC\n(HO)\nAssisted\nUnits],UnitsTbl['# of\nBdrms],4,UnitsTbl[% of Area Median Income ],80%)+SUMIFS(UnitsTbl[AHSC\n(HO)\nAssisted\nUnits],UnitsTbl['# of\nBdrms],5,UnitsTbl[% of Area Median Income ],80%),0)","v":0},{"$f":"IFERROR(SUMIFS(UnitsTbl[Other\n(HO)\nRestricted\nUnits],UnitsTbl['# of\nBdrms],4,UnitsTbl[% of Area Median Income ],80%)+SUMIFS(UnitsTbl[Other\n(HO)\nRestricted\nUnits],UnitsTbl['# of\nBdrms],5,UnitsTbl[% of Area Median Income ],80%),0)","v":0},0]
[null,0.75,250000,{"$f":"IFERROR(SUMIFS(UnitsTbl[AHSC\n(HO)\nAssisted\nUnits],UnitsTbl['# of\nBdrms],0,UnitsTbl[% of Area Median Income ],75%),0)","v":0},{"$f":"IFERROR(SUMIFS(UnitsTbl[Other\n(HO)\nRestricted\nUnits],UnitsTbl['# of\nBdrms],0,UnitsTbl[% of Area Median Income ],75%),0)","v":0},0,250000,{"$f":"IFERROR(SUMIFS(UnitsTbl[AHSC\n(HO)\nAssisted\nUnits],UnitsTbl['# of\nBdrms],1,UnitsTbl[% of Area Median Income ],75%),0)","v":0},{"$f":"IFERROR(SUMIFS(UnitsTbl[Other\n(HO)\nRestricted\nUnits],UnitsTbl['# of\nBdrms],1,UnitsTbl[% of Area Median Income ],75%),0)","v":0},0,250000,{"$f":"IFERROR(SUMIFS(UnitsTbl[AHSC\n(HO)\nAssisted\nUnits],UnitsTbl['# of\nBdrms],2,UnitsTbl[% of Area Median Income ],75%),0)","v":0},{"$f":"IFERROR(SUMIFS(UnitsTbl[Other\n(HO)\nRestricted\nUnits],UnitsTbl['# of\nBdrms],2,UnitsTbl[% of Area Median Income ],75%),0)","v":0},0,250000,{"$f":"IFERROR(SUMIFS(UnitsTbl[AHSC\n(HO)\nAssisted\nUnits],UnitsTbl['# of\nBdrms],3,UnitsTbl[% of Area Median Income ],75%),0)","v":0},{"$f":"IFERROR(SUMIFS(UnitsTbl[Other\n(HO)\nRestricted\nUnits],UnitsTbl['# of\nBdrms],3,UnitsTbl[% of Area Median Income ],75%),0)","v":0},0,250000,{"$f":"IFERROR(SUMIFS(UnitsTbl[AHSC\n(HO)\nAssisted\nUnits],UnitsTbl['# of\nBdrms],4,UnitsTbl[% of Area Median Income ],75%)+SUMIFS(UnitsTbl[AHSC\n(HO)\nAssisted\nUnits],UnitsTbl['# of\nBdrms],5,UnitsTbl[% of Area Median Income ],75%),0)","v":0},{"$f":"IFERROR(SUMIFS(UnitsTbl[Other\n(HO)\nRestricted\nUnits],UnitsTbl['# of\nBdrms],4,UnitsTbl[% of Area Median Income ],75%)+SUMIFS(UnitsTbl[Other\n(HO)\nRestricted\nUnits],UnitsTbl['# of\nBdrms],5,UnitsTbl[% of Area Median Income ],75%),0)","v":0},0]
[null,0.7,250000,{"$f":"IFERROR(SUMIFS(UnitsTbl[AHSC\n(HO)\nAssisted\nUnits],UnitsTbl['# of\nBdrms],0,UnitsTbl[% of Area Median Income ],70%),0)","v":0},{"$f":"IFERROR(SUMIFS(UnitsTbl[Other\n(HO)\nRestricted\nUnits],UnitsTbl['# of\nBdrms],0,UnitsTbl[% of Area Median Income ],70%),0)","v":0},0,250000,{"$f":"IFERROR(SUMIFS(UnitsTbl[AHSC\n(HO)\nAssisted\nUnits],UnitsTbl['# of\nBdrms],1,UnitsTbl[% of Area Median Income ],70%),0)","v":0},{"$f":"IFERROR(SUMIFS(UnitsTbl[Other\n(HO)\nRestricted\nUnits],UnitsTbl['# of\nBdrms],1,UnitsTbl[% of Area Median Income ],70%),0)","v":0},0,250000,{"$f":"IFERROR(SUMIFS(UnitsTbl[AHSC\n(HO)\nAssisted\nUnits],UnitsTbl['# of\nBdrms],2,UnitsTbl[% of Area Median Income ],70%),0)","v":0},{"$f":"IFERROR(SUMIFS(UnitsTbl[Other\n(HO)\nRestricted\nUnits],UnitsTbl['# of\nBdrms],2,UnitsTbl[% of Area Median Income ],70%),0)","v":0},0,250000,{"$f":"IFERROR(SUMIFS(UnitsTbl[AHSC\n(HO)\nAssisted\nUnits],UnitsTbl['# of\nBdrms],3,UnitsTbl[% of Area Median Income ],70%),0)","v":0},{"$f":"IFERROR(SUMIFS(UnitsTbl[Other\n(HO)\nRestricted\nUnits],UnitsTbl['# of\nBdrms],3,UnitsTbl[% of Area Median Income ],70%),0)","v":0},0,250000,{"$f":"IFERROR(SUMIFS(UnitsTbl[AHSC\n(HO)\nAssisted\nUnits],UnitsTbl['# of\nBdrms],4,UnitsTbl[% of Area Median Income ],70%)+SUMIFS(UnitsTbl[AHSC\n(HO)\nAssisted\nUnits],UnitsTbl['# of\nBdrms],5,UnitsTbl[% of Area Median Income ],70%),0)","v":0},{"$f":"IFERROR(SUMIFS(UnitsTbl[Other\n(HO)\nRestricted\nUnits],UnitsTbl['# of\nBdrms],4,UnitsTbl[% of Area Median Income ],70%)+SUMIFS(UnitsTbl[Other\n(HO)\nRestricted\nUnits],UnitsTbl['# of\nBdrms],5,UnitsTbl[% of Area Median Income ],70%),0)","v":0},0]
[null,0.65,250000,{"$f":"IFERROR(SUMIFS(UnitsTbl[AHSC\n(HO)\nAssisted\nUnits],UnitsTbl['# of\nBdrms],0,UnitsTbl[% of Area Median Income ],65%),0)","v":0},{"$f":"IFERROR(SUMIFS(UnitsTbl[Other\n(HO)\nRestricted\nUnits],UnitsTbl['# of\nBdrms],0,UnitsTbl[% of Area Median Income ],65%),0)","v":0},0,250000,{"$f":"IFERROR(SUMIFS(UnitsTbl[AHSC\n(HO)\nAssisted\nUnits],UnitsTbl['# of\nBdrms],1,UnitsTbl[% of Area Median Income ],65%),0)","v":0},{"$f":"IFERROR(SUMIFS(UnitsTbl[Other\n(HO)\nRestricted\nUnits],UnitsTbl['# of\nBdrms],1,UnitsTbl[% of Area Median Income ],65%),0)","v":0},0,250000,{"$f":"IFERROR(SUMIFS(UnitsTbl[AHSC\n(HO)\nAssisted\nUnits],UnitsTbl['# of\nBdrms],2,UnitsTbl[% of Area Median Income ],65%),0)","v":0},{"$f":"IFERROR(SUMIFS(UnitsTbl[Other\n(HO)\nRestricted\nUnits],UnitsTbl['# of\nBdrms],2,UnitsTbl[% of Area Median Income ],65%),0)","v":0},0,250000,{"$f":"IFERROR(SUMIFS(UnitsTbl[AHSC\n(HO)\nAssisted\nUnits],UnitsTbl['# of\nBdrms],3,UnitsTbl[% of Area Median Income ],65%),0)","v":0},{"$f":"IFERROR(SUMIFS(UnitsTbl[Other\n(HO)\nRestricted\nUnits],UnitsTbl['# of\nBdrms],3,UnitsTbl[% of Area Median Income ],65%),0)","v":0},0,250000,{"$f":"IFERROR(SUMIFS(UnitsTbl[AHSC\n(HO)\nAssisted\nUnits],UnitsTbl['# of\nBdrms],4,UnitsTbl[% of Area Median Income ],65%)+SUMIFS(UnitsTbl[AHSC\n(HO)\nAssisted\nUnits],UnitsTbl['# of\nBdrms],5,UnitsTbl[% of Area Median Income ],65%),0)","v":0},{"$f":"IFERROR(SUMIFS(UnitsTbl[Other\n(HO)\nRestricted\nUnits],UnitsTbl['# of\nBdrms],4,UnitsTbl[% of Area Median Income ],65%)+SUMIFS(UnitsTbl[Other\n(HO)\nRestricted\nUnits],UnitsTbl['# of\nBdrms],5,UnitsTbl[% of Area Median Income ],65%),0)","v":0},0]
[null,0.6,250000,{"$f":"IFERROR(SUMIFS(UnitsTbl[AHSC\n(HO)\nAssisted\nUnits],UnitsTbl['# of\nBdrms],0,UnitsTbl[% of Area Median Income ],60%),0)","v":0},{"$f":"IFERROR(SUMIFS(UnitsTbl[Other\n(HO)\nRestricted\nUnits],UnitsTbl['# of\nBdrms],0,UnitsTbl[% of Area Median Income ],60%),0)","v":0},0,250000,{"$f":"IFERROR(SUMIFS(UnitsTbl[AHSC\n(HO)\nAssisted\nUnits],UnitsTbl['# of\nBdrms],1,UnitsTbl[% of Area Median Income ],60%),0)","v":0},{"$f":"IFERROR(SUMIFS(UnitsTbl[Other\n(HO)\nRestricted\nUnits],UnitsTbl['# of\nBdrms],1,UnitsTbl[% of Area Median Income ],60%),0)","v":0},0,250000,{"$f":"IFERROR(SUMIFS(UnitsTbl[AHSC\n(HO)\nAssisted\nUnits],UnitsTbl['# of\nBdrms],2,UnitsTbl[% of Area Median Income ],60%),0)","v":0},{"$f":"IFERROR(SUMIFS(UnitsTbl[Other\n(HO)\nRestricted\nUnits],UnitsTbl['# of\nBdrms],2,UnitsTbl[% of Area Median Income ],60%),0)","v":0},0,250000,{"$f":"IFERROR(SUMIFS(UnitsTbl[AHSC\n(HO)\nAssisted\nUnits],UnitsTbl['# of\nBdrms],3,UnitsTbl[% of Area Median Income ],60%),0)","v":0},{"$f":"IFERROR(SUMIFS(UnitsTbl[Other\n(HO)\nRestricted\nUnits],UnitsTbl['# of\nBdrms],3,UnitsTbl[% of Area Median Income ],60%),0)","v":0},0,250000,{"$f":"IFERROR(SUMIFS(UnitsTbl[AHSC\n(HO)\nAssisted\nUnits],UnitsTbl['# of\nBdrms],4,UnitsTbl[% of Area Median Income ],60%)+SUMIFS(UnitsTbl[AHSC\n(HO)\nAssisted\nUnits],UnitsTbl['# of\nBdrms],5,UnitsTbl[% of Area Median Income ],60%),0)","v":0},{"$f":"IFERROR(SUMIFS(UnitsTbl[Other\n(HO)\nRestricted\nUnits],UnitsTbl['# of\nBdrms],4,UnitsTbl[% of Area Median Income ],60%)+SUMIFS(UnitsTbl[Other\n(HO)\nRestricted\nUnits],UnitsTbl['# of\nBdrms],5,UnitsTbl[% of Area Median Income ],60%),0)","v":0},0]
[null,0.55000000000000004,250000,{"$f":"IFERROR(SUMIFS(UnitsTbl[AHSC\n(HO)\nAssisted\nUnits],UnitsTbl['# of\nBdrms],0,UnitsTbl[% of Area Median Income ],55%),0)","v":0},{"$f":"IFERROR(SUMIFS(UnitsTbl[Other\n(HO)\nRestricted\nUnits],UnitsTbl['# of\nBdrms],0,UnitsTbl[% of Area Median Income ],55%),0)","v":0},0,250000,{"$f":"IFERROR(SUMIFS(UnitsTbl[AHSC\n(HO)\nAssisted\nUnits],UnitsTbl['# of\nBdrms],1,UnitsTbl[% of Area Median Income ],55%),0)","v":0},{"$f":"IFERROR(SUMIFS(UnitsTbl[Other\n(HO)\nRestricted\nUnits],UnitsTbl['# of\nBdrms],1,UnitsTbl[% of Area Median Income ],55%),0)","v":0},0,250000,{"$f":"IFERROR(SUMIFS(UnitsTbl[AHSC\n(HO)\nAssisted\nUnits],UnitsTbl['# of\nBdrms],2,UnitsTbl[% of Area Median Income ],55%),0)","v":0},{"$f":"IFERROR(SUMIFS(UnitsTbl[Other\n(HO)\nRestricted\nUnits],UnitsTbl['# of\nBdrms],2,UnitsTbl[% of Area Median Income ],55%),0)","v":0},0,250000,{"$f":"IFERROR(SUMIFS(UnitsTbl[AHSC\n(HO)\nAssisted\nUnits],UnitsTbl['# of\nBdrms],3,UnitsTbl[% of Area Median Income ],55%),0)","v":0},{"$f":"IFERROR(SUMIFS(UnitsTbl[Other\n(HO)\nRestricted\nUnits],UnitsTbl['# of\nBdrms],3,UnitsTbl[% of Area Median Income ],55%),0)","v":0},0,250000,{"$f":"IFERROR(SUMIFS(UnitsTbl[AHSC\n(HO)\nAssisted\nUnits],UnitsTbl['# of\nBdrms],4,UnitsTbl[% of Area Median Income ],55%)+SUMIFS(UnitsTbl[AHSC\n(HO)\nAssisted\nUnits],UnitsTbl['# of\nBdrms],5,UnitsTbl[% of Area Median Income ],55%),0)","v":0},{"$f":"IFERROR(SUMIFS(UnitsTbl[Other\n(HO)\nRestricted\nUnits],UnitsTbl['# of\nBdrms],4,UnitsTbl[% of Area Median Income ],55%)+SUMIFS(UnitsTbl[Other\n(HO)\nRestricted\nUnits],UnitsTbl['# of\nBdrms],5,UnitsTbl[% of Area Median Income ],55%),0)","v":0},0]
[null,"Totals","Total",{"$f":"SUM(D36:D45)","v":0},{"$f":"SUM(E36:E45)","v":0},{"$f":"SUM(F36:F45)","v":0},"Total",{"$f":"SUM(H36:H45)","v":0},{"$f":"SUM(I36:I45)","v":0},{"$f":"SUM(J36:J45)","v":0},"Total",{"$f":"SUM(L36:L45)","v":0},{"$f":"SUM(M36:M45)","v":0},{"$f":"SUM(N36:N45)","v":0},"Total",{"$f":"SUM(P36:P45)","v":0},{"$f":"SUM(Q36:Q45)","v":0},{"$f":"SUM(R36:R45)","v":0},"Total",{"$f":"SUM(T36:T45)","v":0},{"$f":"SUM(U36:U45)","v":0},{"$f":"SUM(V36:V45)","v":0}]
[]
[null,"Does your Project have a previous HCD loan award?",null,null,null,null,{"$f":"IF(vmOtherHCD=\"Yes\",IF(AND('Project Overview'!$R$197>0,'Project Overview'!$AA$197=\"Yes\"),TRUE,IF(AND('Project Overview'!$R$198>0,'Project Overview'!$AA$198=\"Yes\"),TRUE,IF(AND('Project Overview'!$R$199>0,'Project Overview'!$AA$199=\"Yes\"),TRUE,FALSE))))","v":false}]
[null,"Will your Project receive an HCD loan award before the AHSC application due date?"]
[null,{"$f":"IF($G$48,\"Total previous or planned award\",IF($I$49=\"Yes\",\"Total planned award before AHSC application due date?\",\"\"))","v":""}]
[]
[null,"Maximum AHD Funding Amount"]
[null,"Unrestricted Manager Funding Amount",null,null,null,{"$f":"$E$86*SUMIF(UnitsTbl[% of Area Median Income ],\"Manager\",UnitsTbl[Total Units])","v":0},null,null,"AHD Funds Requested",null,{"$f":"IF('Dev Sources'!$H$24=\"\",0,'Dev Sources'!$H$24)","v":0},null,null,"Max allowable AHD Loan",null,{"$f":"IFERROR(IF(vmAHD=\"Yes\",MIN(SUM($F$53,$F$67,$J$67,$N$67,$R$67,$V$67)-$F$50,$K$53,$J$76,$R$74,35000000)),0)","v":false},null,null,null,null,null,null,1.1200000000000001]
[null,"\n\n\nAMI\nLevel","0 Bedroom Units",null,null,null,"1 Bedroom Units",null,null,null,"2 Bedroom Units",null,null,null,"3 Bedroom Units",null,null,null,"4+ Bedroom Units"]
[]
[null,"AMI","Per\nUnit\nAmount","AHSC\nAssisted\nUnits","Other\nRental\nRestricted","Funding\nAmount","Per\nUnit\nAmount","AHSC\nAssisted\nUnits","Other\nRental\nRestricted","Funding\nAmount","Per\nUnit\nAmount","AHSC\nAssisted\nUnits","Other\nRental\nRestricted","Funding\nAmount","Per\nUnit\nAmount","AHSC\nAssisted\nUnits","Other\nRental\nRestricted","Funding\nAmount","Per\nUnit\nAmount","AHSC\nAssisted\nUnits","Other\nRental\nRestricted","Funding\nAmount"]
[null,0.6,{"$f":"E95","v":250000},{"$f":"IFERROR(SUMIFS(UnitsTbl[AHSC\nRental\nAssisted\nUnits],UnitsTbl['# of\nBdrms],0,UnitsTbl[% of Area Median Income ],60%),0)","v":0},{"$f":"IFERROR(SUMIFS(UnitsTbl[Other\nRental\nRestricted],UnitsTbl['# of\nBdrms],0,UnitsTbl[% of Area Median Income ],60%),0)","v":0},{"$f":"C57*SUM(D57,E57)","v":0},{"$f":"F95","v":250000},{"$f":"IFERROR(SUMIFS(UnitsTbl[AHSC\nRental\nAssisted\nUnits],UnitsTbl['# of\nBdrms],1,UnitsTbl[% of Area Median Income ],60%),0)","v":0},{"$f":"IFERROR(SUMIFS(UnitsTbl[Other\nRental\nRestricted],UnitsTbl['# of\nBdrms],1,UnitsTbl[% of Area Median Income ],60%),0)","v":0},{"$f":"G57*SUM(H57,I57)","v":0},{"$f":"G95","v":250000},{"$f":"IFERROR(SUMIFS(UnitsTbl[AHSC\nRental\nAssisted\nUnits],UnitsTbl['# of\nBdrms],2,UnitsTbl[% of Area Median Income ],60%),0)","v":0},{"$f":"IFERROR(SUMIFS(UnitsTbl[Other\nRental\nRestricted],UnitsTbl['# of\nBdrms],2,UnitsTbl[% of Area Median Income ],60%),0)","v":0},{"$f":"K57*SUM(L57,M57)","v":0},{"$f":"H95","v":250000},{"$f":"IFERROR(SUMIFS(UnitsTbl[AHSC\nRental\nAssisted\nUnits],UnitsTbl['# of\nBdrms],3,UnitsTbl[% of Area Median Income ],60%),0)","v":0},{"$f":"IFERROR(SUMIFS(UnitsTbl[Other\nRental\nRestricted],UnitsTbl['# of\nBdrms],3,UnitsTbl[% of Area Median Income ],60%),0)","v":0},{"$f":"O57*SUM(P57,Q57)","v":0},{"$f":"I95","v":250000},{"$f":"IFERROR(SUMIFS(UnitsTbl[AHSC\nRental\nAssisted\nUnits],UnitsTbl['# of\nBdrms],4,UnitsTbl[% of Area Median Income ],60%)+SUMIFS(UnitsTbl[AHSC\nRental\nAssisted\nUnits],UnitsTbl['# of\nBdrms],5,UnitsTbl[% of Area Median Income ],60%),0)","v":0},{"$f":"IFERROR(SUMIFS(UnitsTbl[Other\nRental\nRestricted],UnitsTbl['# of\nBdrms],4,UnitsTbl[% of Area Median Income ],60%)+SUMIFS(UnitsTbl[Other\nRental\nRestricted],UnitsTbl['# of\nBdrms],5,UnitsTbl[% of Area Median Income ],60%),0)","v":0},{"$f":"S57*SUM(T57,U57)","v":0}]
[null,"55%",{"$f":"E96","v":250000},{"$f":"IFERROR(SUMIFS(UnitsTbl[AHSC\nRental\nAssisted\nUnits],UnitsTbl['# of\nBdrms],0,UnitsTbl[% of Area Median Income ],55%),0)","v":0},{"$f":"IFERROR(SUMIFS(UnitsTbl[Other\nRental\nRestricted],UnitsTbl['# of\nBdrms],0,UnitsTbl[% of Area Median Income ],55%),0)","v":0},{"$f":"C58*SUM(D58,E58)","v":0},250000,{"$f":"IFERROR(SUMIFS(UnitsTbl[AHSC\nRental\nAssisted\nUnits],UnitsTbl['# of\nBdrms],1,UnitsTbl[% of Area Median Income ],55%),0)","v":0},{"$f":"IFERROR(SUMIFS(UnitsTbl[Other\nRental\nRestricted],UnitsTbl['# of\nBdrms],1,UnitsTbl[% of Area Median Income ],55%),0)","v":0},{"$f":"G58*SUM(H58,I58)","v":0},250000,{"$f":"IFERROR(SUMIFS(UnitsTbl[AHSC\nRental\nAssisted\nUnits],UnitsTbl['# of\nBdrms],2,UnitsTbl[% of Area Median Income ],55%),0)","v":0},{"$f":"IFERROR(SUMIFS(UnitsTbl[Other\nRental\nRestricted],UnitsTbl['# of\nBdrms],2,UnitsTbl[% of Area Median Income ],55%),0)","v":0},{"$f":"K58*SUM(L58,M58)","v":0},250000,{"$f":"IFERROR(SUMIFS(UnitsTbl[AHSC\nRental\nAssisted\nUnits],UnitsTbl['# of\nBdrms],3,UnitsTbl[% of Area Median Income ],55%),0)","v":0},{"$f":"IFERROR(SUMIFS(UnitsTbl[Other\nRental\nRestricted],UnitsTbl['# of\nBdrms],3,UnitsTbl[% of Area Median Income ],55%),0)","v":0},{"$f":"O58*SUM(P58,Q58)","v":0},250000,{"$f":"IFERROR(SUMIFS(UnitsTbl[AHSC\nRental\nAssisted\nUnits],UnitsTbl['# of\nBdrms],4,UnitsTbl[% of Area Median Income ],55%)+SUMIFS(UnitsTbl[AHSC\nRental\nAssisted\nUnits],UnitsTbl['# of\nBdrms],5,UnitsTbl[% of Area Median Income ],55%),0)","v":0},{"$f":"IFERROR(SUMIFS(UnitsTbl[Other\nRental\nRestricted],UnitsTbl['# of\nBdrms],4,UnitsTbl[% of Area Median Income ],55%)+SUMIFS(UnitsTbl[Other\nRental\nRestricted],UnitsTbl['# of\nBdrms],5,UnitsTbl[% of Area Median Income ],55%),0)","v":0},{"$f":"S58*SUM(T58,U58)","v":0}]
[null,"50%",0,{"$f":"IFERROR(SUMIFS(UnitsTbl[AHSC\nRental\nAssisted\nUnits],UnitsTbl['# of\nBdrms],0,UnitsTbl[% of Area Median Income ],50%),0)","v":0},{"$f":"IFERROR(SUMIFS(UnitsTbl[Other\nRental\nRestricted],UnitsTbl['# of\nBdrms],0,UnitsTbl[% of Area Median Income ],50%),0)","v":0},0,0,{"$f":"IFERROR(SUMIFS(UnitsTbl[AHSC\nRental\nAssisted\nUnits],UnitsTbl['# of\nBdrms],1,UnitsTbl[% of Area Median Income ],50%),0)","v":0},{"$f":"IFERROR(SUMIFS(UnitsTbl[Other\nRental\nRestricted],UnitsTbl['# of\nBdrms],1,UnitsTbl[% of Area Median Income ],50%),0)","v":0},0,0,{"$f":"IFERROR(SUMIFS(UnitsTbl[AHSC\nRental\nAssisted\nUnits],UnitsTbl['# of\nBdrms],2,UnitsTbl[% of Area Median Income ],50%),0)","v":0},{"$f":"IFERROR(SUMIFS(UnitsTbl[Other\nRental\nRestricted],UnitsTbl['# of\nBdrms],2,UnitsTbl[% of Area Median Income ],50%),0)","v":0},0,0,{"$f":"IFERROR(SUMIFS(UnitsTbl[AHSC\nRental\nAssisted\nUnits],UnitsTbl['# of\nBdrms],3,UnitsTbl[% of Area Median Income ],50%),0)","v":0},{"$f":"IFERROR(SUMIFS(UnitsTbl[Other\nRental\nRestricted],UnitsTbl['# of\nBdrms],3,UnitsTbl[% of Area Median Income ],50%),0)","v":0},0,0,{"$f":"IFERROR(SUMIFS(UnitsTbl[AHSC\nRental\nAssisted\nUnits],UnitsTbl['# of\nBdrms],4,UnitsTbl[% of Area Median Income ],50%)+SUMIFS(UnitsTbl[AHSC\nRental\nAssisted\nUnits],UnitsTbl['# of\nBdrms],5,UnitsTbl[% of Area Median Income ],50%),0)","v":0},{"$f":"IFERROR(SUMIFS(UnitsTbl[Other\nRental\nRestricted],UnitsTbl['# of\nBdrms],4,UnitsTbl[% of Area Median Income ],50%)+SUMIFS(UnitsTbl[Other\nRental\nRestricted],UnitsTbl['# of\nBdrms],5,UnitsTbl[% of Area Median Income ],50%),0)","v":0},0]
[null,"45%",250000,{"$f":"IFERROR(SUMIFS(UnitsTbl[AHSC\nRental\nAssisted\nUnits],UnitsTbl['# of\nBdrms],0,UnitsTbl[% of Area Median Income ],45%),0)","v":0},{"$f":"IFERROR(SUMIFS(UnitsTbl[Other\nRental\nRestricted],UnitsTbl['# of\nBdrms],0,UnitsTbl[% of Area Median Income ],45%),0)","v":0},0,250000,{"$f":"IFERROR(SUMIFS(UnitsTbl[AHSC\nRental\nAssisted\nUnits],UnitsTbl['# of\nBdrms],1,UnitsTbl[% of Area Median Income ],45%),0)","v":0},{"$f":"IFERROR(SUMIFS(UnitsTbl[Other\nRental\nRestricted],UnitsTbl['# of\nBdrms],1,UnitsTbl[% of Area Median Income ],45%),0)","v":0},0,250000,{"$f":"IFERROR(SUMIFS(UnitsTbl[AHSC\nRental\nAssisted\nUnits],UnitsTbl['# of\nBdrms],2,UnitsTbl[% of Area Median Income ],45%),0)","v":0},{"$f":"IFERROR(SUMIFS(UnitsTbl[Other\nRental\nRestricted],UnitsTbl['# of\nBdrms],2,UnitsTbl[% of Area Median Income ],45%),0)","v":0},0,250000,{"$f":"IFERROR(SUMIFS(UnitsTbl[AHSC\nRental\nAssisted\nUnits],UnitsTbl['# of\nBdrms],3,UnitsTbl[% of Area Median Income ],45%),0)","v":0},{"$f":"IFERROR(SUMIFS(UnitsTbl[Other\nRental\nRestricted],UnitsTbl['# of\nBdrms],3,UnitsTbl[% of Area Median Income ],45%),0)","v":0},0,250000,{"$f":"IFERROR(SUMIFS(UnitsTbl[AHSC\nRental\nAssisted\nUnits],UnitsTbl['# of\nBdrms],4,UnitsTbl[% of Area Median Income ],45%)+SUMIFS(UnitsTbl[AHSC\nRental\nAssisted\nUnits],UnitsTbl['# of\nBdrms],5,UnitsTbl[% of Area Median Income ],45%),0)","v":0},{"$f":"IFERROR(SUMIFS(UnitsTbl[Other\nRental\nRestricted],UnitsTbl['# of\nBdrms],4,UnitsTbl[% of Area Median Income ],45%)+SUMIFS(UnitsTbl[Other\nRental\nRestricted],UnitsTbl['# of\nBdrms],5,UnitsTbl[% of Area Median Income ],45%),0)","v":0},0]
[null,"40%",250000,{"$f":"IFERROR(SUMIFS(UnitsTbl[AHSC\nRental\nAssisted\nUnits],UnitsTbl['# of\nBdrms],0,UnitsTbl[% of Area Median Income ],40%),0)","v":0},{"$f":"IFERROR(SUMIFS(UnitsTbl[Other\nRental\nRestricted],UnitsTbl['# of\nBdrms],0,UnitsTbl[% of Area Median Income ],40%),0)","v":0},0,250000,{"$f":"IFERROR(SUMIFS(UnitsTbl[AHSC\nRental\nAssisted\nUnits],UnitsTbl['# of\nBdrms],1,UnitsTbl[% of Area Median Income ],40%),0)","v":0},{"$f":"IFERROR(SUMIFS(UnitsTbl[Other\nRental\nRestricted],UnitsTbl['# of\nBdrms],1,UnitsTbl[% of Area Median Income ],40%),0)","v":0},0,250000,{"$f":"IFERROR(SUMIFS(UnitsTbl[AHSC\nRental\nAssisted\nUnits],UnitsTbl['# of\nBdrms],2,UnitsTbl[% of Area Median Income ],40%),0)","v":0},{"$f":"IFERROR(SUMIFS(UnitsTbl[Other\nRental\nRestricted],UnitsTbl['# of\nBdrms],2,UnitsTbl[% of Area Median Income ],40%),0)","v":0},0,250000,{"$f":"IFERROR(SUMIFS(UnitsTbl[AHSC\nRental\nAssisted\nUnits],UnitsTbl['# of\nBdrms],3,UnitsTbl[% of Area Median Income ],40%),0)","v":0},{"$f":"IFERROR(SUMIFS(UnitsTbl[Other\nRental\nRestricted],UnitsTbl['# of\nBdrms],3,UnitsTbl[% of Area Median Income ],40%),0)","v":0},0,250000,{"$f":"IFERROR(SUMIFS(UnitsTbl[AHSC\nRental\nAssisted\nUnits],UnitsTbl['# of\nBdrms],4,UnitsTbl[% of Area Median Income ],40%)+SUMIFS(UnitsTbl[AHSC\nRental\nAssisted\nUnits],UnitsTbl['# of\nBdrms],5,UnitsTbl[% of Area Median Income ],40%),0)","v":0},{"$f":"IFERROR(SUMIFS(UnitsTbl[Other\nRental\nRestricted],UnitsTbl['# of\nBdrms],4,UnitsTbl[% of Area Median Income ],40%)+SUMIFS(UnitsTbl[Other\nRental\nRestricted],UnitsTbl['# of\nBdrms],5,UnitsTbl[% of Area Median Income ],40%),0)","v":0},0]
[null,"35%",250000,{"$f":"IFERROR(SUMIFS(UnitsTbl[AHSC\nRental\nAssisted\nUnits],UnitsTbl['# of\nBdrms],0,UnitsTbl[% of Area Median Income ],35%),0)","v":0},{"$f":"IFERROR(SUMIFS(UnitsTbl[Other\nRental\nRestricted],UnitsTbl['# of\nBdrms],0,UnitsTbl[% of Area Median Income ],35%),0)","v":0},0,250000,{"$f":"IFERROR(SUMIFS(UnitsTbl[AHSC\nRental\nAssisted\nUnits],UnitsTbl['# of\nBdrms],1,UnitsTbl[% of Area Median Income ],35%),0)","v":0},{"$f":"IFERROR(SUMIFS(UnitsTbl[Other\nRental\nRestricted],UnitsTbl['# of\nBdrms],1,UnitsTbl[% of Area Median Income ],35%),0)","v":0},0,250000,{"$f":"IFERROR(SUMIFS(UnitsTbl[AHSC\nRental\nAssisted\nUnits],UnitsTbl['# of\nBdrms],2,UnitsTbl[% of Area Median Income ],35%),0)","v":0},{"$f":"IFERROR(SUMIFS(UnitsTbl[Other\nRental\nRestricted],UnitsTbl['# of\nBdrms],2,UnitsTbl[% of Area Median Income ],35%),0)","v":0},0,250000,{"$f":"IFERROR(SUMIFS(UnitsTbl[AHSC\nRental\nAssisted\nUnits],UnitsTbl['# of\nBdrms],3,UnitsTbl[% of Area Median Income ],35%),0)","v":0},{"$f":"IFERROR(SUMIFS(UnitsTbl[Other\nRental\nRestricted],UnitsTbl['# of\nBdrms],3,UnitsTbl[% of Area Median Income ],35%),0)","v":0},0,250000,{"$f":"IFERROR(SUMIFS(UnitsTbl[AHSC\nRental\nAssisted\nUnits],UnitsTbl['# of\nBdrms],4,UnitsTbl[% of Area Median Income ],35%)+SUMIFS(UnitsTbl[AHSC\nRental\nAssisted\nUnits],UnitsTbl['# of\nBdrms],5,UnitsTbl[% of Area Median Income ],35%),0)","v":0},{"$f":"IFERROR(SUMIFS(UnitsTbl[Other\nRental\nRestricted],UnitsTbl['# of\nBdrms],4,UnitsTbl[% of Area Median Income ],35%)+SUMIFS(UnitsTbl[Other\nRental\nRestricted],UnitsTbl['# of\nBdrms],5,UnitsTbl[% of Area Median Income ],35%),0)","v":0},0]
[null,"30%",250000,{"$f":"IFERROR(SUMIFS(UnitsTbl[AHSC\nRental\nAssisted\nUnits],UnitsTbl['# of\nBdrms],0,UnitsTbl[% of Area Median Income ],30%),0)","v":0},{"$f":"IFERROR(SUMIFS(UnitsTbl[Other\nRental\nRestricted],UnitsTbl['# of\nBdrms],0,UnitsTbl[% of Area Median Income ],30%),0)","v":0},0,250000,{"$f":"IFERROR(SUMIFS(UnitsTbl[AHSC\nRental\nAssisted\nUnits],UnitsTbl['# of\nBdrms],1,UnitsTbl[% of Area Median Income ],30%),0)","v":0},{"$f":"IFERROR(SUMIFS(UnitsTbl[Other\nRental\nRestricted],UnitsTbl['# of\nBdrms],1,UnitsTbl[% of Area Median Income ],30%),0)","v":0},0,250000,{"$f":"IFERROR(SUMIFS(UnitsTbl[AHSC\nRental\nAssisted\nUnits],UnitsTbl['# of\nBdrms],2,UnitsTbl[% of Area Median Income ],30%),0)","v":0},{"$f":"IFERROR(SUMIFS(UnitsTbl[Other\nRental\nRestricted],UnitsTbl['# of\nBdrms],2,UnitsTbl[% of Area Median Income ],30%),0)","v":0},0,250000,{"$f":"IFERROR(SUMIFS(UnitsTbl[AHSC\nRental\nAssisted\nUnits],UnitsTbl['# of\nBdrms],3,UnitsTbl[% of Area Median Income ],30%),0)","v":0},{"$f":"IFERROR(SUMIFS(UnitsTbl[Other\nRental\nRestricted],UnitsTbl['# of\nBdrms],3,UnitsTbl[% of Area Median Income ],30%),0)","v":0},0,250000,{"$f":"IFERROR(SUMIFS(UnitsTbl[AHSC\nRental\nAssisted\nUnits],UnitsTbl['# of\nBdrms],4,UnitsTbl[% of Area Median Income ],30%)+SUMIFS(UnitsTbl[AHSC\nRental\nAssisted\nUnits],UnitsTbl['# of\nBdrms],5,UnitsTbl[% of Area Median Income ],30%),0)","v":0},{"$f":"IFERROR(SUMIFS(UnitsTbl[Other\nRental\nRestricted],UnitsTbl['# of\nBdrms],4,UnitsTbl[% of Area Median Income ],30%)+SUMIFS(UnitsTbl[Other\nRental\nRestricted],UnitsTbl['# of\nBdrms],5,UnitsTbl[% of Area Median Income ],30%),0)","v":0},0]
[null,"25%",250000,{"$f":"IFERROR(SUMIFS(UnitsTbl[AHSC\nRental\nAssisted\nUnits],UnitsTbl['# of\nBdrms],0,UnitsTbl[% of Area Median Income ],25%),0)","v":0},{"$f":"IFERROR(SUMIFS(UnitsTbl[Other\nRental\nRestricted],UnitsTbl['# of\nBdrms],0,UnitsTbl[% of Area Median Income ],25%),0)","v":0},0,250000,{"$f":"IFERROR(SUMIFS(UnitsTbl[AHSC\nRental\nAssisted\nUnits],UnitsTbl['# of\nBdrms],1,UnitsTbl[% of Area Median Income ],25%),0)","v":0},{"$f":"IFERROR(SUMIFS(UnitsTbl[Other\nRental\nRestricted],UnitsTbl['# of\nBdrms],1,UnitsTbl[% of Area Median Income ],25%),0)","v":0},0,250000,{"$f":"IFERROR(SUMIFS(UnitsTbl[AHSC\nRental\nAssisted\nUnits],UnitsTbl['# of\nBdrms],2,UnitsTbl[% of Area Median Income ],25%),0)","v":0},{"$f":"IFERROR(SUMIFS(UnitsTbl[Other\nRental\nRestricted],UnitsTbl['# of\nBdrms],2,UnitsTbl[% of Area Median Income ],25%),0)","v":0},0,250000,{"$f":"IFERROR(SUMIFS(UnitsTbl[AHSC\nRental\nAssisted\nUnits],UnitsTbl['# of\nBdrms],3,UnitsTbl[% of Area Median Income ],25%),0)","v":0},{"$f":"IFERROR(SUMIFS(UnitsTbl[Other\nRental\nRestricted],UnitsTbl['# of\nBdrms],3,UnitsTbl[% of Area Median Income ],25%),0)","v":0},0,250000,{"$f":"IFERROR(SUMIFS(UnitsTbl[AHSC\nRental\nAssisted\nUnits],UnitsTbl['# of\nBdrms],4,UnitsTbl[% of Area Median Income ],25%)+SUMIFS(UnitsTbl[AHSC\nRental\nAssisted\nUnits],UnitsTbl['# of\nBdrms],5,UnitsTbl[% of Area Median Income ],25%),0)","v":0},{"$f":"IFERROR(SUMIFS(UnitsTbl[Other\nRental\nRestricted],UnitsTbl['# of\nBdrms],4,UnitsTbl[% of Area Median Income ],25%)+SUMIFS(UnitsTbl[Other\nRental\nRestricted],UnitsTbl['# of\nBdrms],5,UnitsTbl[% of Area Median Income ],25%),0)","v":0},0]
[null,"20%",250000,{"$f":"IFERROR(SUMIFS(UnitsTbl[AHSC\nRental\nAssisted\nUnits],UnitsTbl['# of\nBdrms],0,UnitsTbl[% of Area Median Income ],20%),0)","v":0},{"$f":"IFERROR(SUMIFS(UnitsTbl[Other\nRental\nRestricted],UnitsTbl['# of\nBdrms],0,UnitsTbl[% of Area Median Income ],20%),0)","v":0},0,250000,{"$f":"IFERROR(SUMIFS(UnitsTbl[AHSC\nRental\nAssisted\nUnits],UnitsTbl['# of\nBdrms],1,UnitsTbl[% of Area Median Income ],20%),0)","v":0},{"$f":"IFERROR(SUMIFS(UnitsTbl[Other\nRental\nRestricted],UnitsTbl['# of\nBdrms],1,UnitsTbl[% of Area Median Income ],20%),0)","v":0},0,250000,{"$f":"IFERROR(SUMIFS(UnitsTbl[AHSC\nRental\nAssisted\nUnits],UnitsTbl['# of\nBdrms],2,UnitsTbl[% of Area Median Income ],20%),0)","v":0},{"$f":"IFERROR(SUMIFS(UnitsTbl[Other\nRental\nRestricted],UnitsTbl['# of\nBdrms],2,UnitsTbl[% of Area Median Income ],20%),0)","v":0},0,250000,{"$f":"IFERROR(SUMIFS(UnitsTbl[AHSC\nRental\nAssisted\nUnits],UnitsTbl['# of\nBdrms],3,UnitsTbl[% of Area Median Income ],20%),0)","v":0},{"$f":"IFERROR(SUMIFS(UnitsTbl[Other\nRental\nRestricted],UnitsTbl['# of\nBdrms],3,UnitsTbl[% of Area Median Income ],20%),0)","v":0},0,250000,{"$f":"IFERROR(SUMIFS(UnitsTbl[AHSC\nRental\nAssisted\nUnits],UnitsTbl['# of\nBdrms],4,UnitsTbl[% of Area Median Income ],20%)+SUMIFS(UnitsTbl[AHSC\nRental\nAssisted\nUnits],UnitsTbl['# of\nBdrms],5,UnitsTbl[% of Area Median Income ],20%),0)","v":0},{"$f":"IFERROR(SUMIFS(UnitsTbl[Other\nRental\nRestricted],UnitsTbl['# of\nBdrms],4,UnitsTbl[% of Area Median Income ],20%)+SUMIFS(UnitsTbl[Other\nRental\nRestricted],UnitsTbl['# of\nBdrms],5,UnitsTbl[% of Area Median Income ],20%),0)","v":0},0]
[null,"15%",{"$f":"E104","v":250000},{"$f":"IFERROR(SUMIFS(UnitsTbl[AHSC\nRental\nAssisted\nUnits],UnitsTbl['# of\nBdrms],0,UnitsTbl[% of Area Median Income ],15%),0)","v":0},{"$f":"IFERROR(SUMIFS(UnitsTbl[Other\nRental\nRestricted],UnitsTbl['# of\nBdrms],0,UnitsTbl[% of Area Median Income ],15%),0)","v":0},0,250000,{"$f":"IFERROR(SUMIFS(UnitsTbl[AHSC\nRental\nAssisted\nUnits],UnitsTbl['# of\nBdrms],1,UnitsTbl[% of Area Median Income ],15%),0)","v":0},{"$f":"IFERROR(SUMIFS(UnitsTbl[Other\nRental\nRestricted],UnitsTbl['# of\nBdrms],1,UnitsTbl[% of Area Median Income ],15%),0)","v":0},0,250000,{"$f":"IFERROR(SUMIFS(UnitsTbl[AHSC\nRental\nAssisted\nUnits],UnitsTbl['# of\nBdrms],2,UnitsTbl[% of Area Median Income ],15%),0)","v":0},{"$f":"IFERROR(SUMIFS(UnitsTbl[Other\nRental\nRestricted],UnitsTbl['# of\nBdrms],2,UnitsTbl[% of Area Median Income ],15%),0)","v":0},0,250000,{"$f":"IFERROR(SUMIFS(UnitsTbl[AHSC\nRental\nAssisted\nUnits],UnitsTbl['# of\nBdrms],3,UnitsTbl[% of Area Median Income ],15%),0)","v":0},{"$f":"IFERROR(SUMIFS(UnitsTbl[Other\nRental\nRestricted],UnitsTbl['# of\nBdrms],3,UnitsTbl[% of Area Median Income ],15%),0)","v":0},0,250000,{"$f":"IFERROR(SUMIFS(UnitsTbl[AHSC\nRental\nAssisted\nUnits],UnitsTbl['# of\nBdrms],4,UnitsTbl[% of Area Median Income ],15%)+SUMIFS(UnitsTbl[AHSC\nRental\nAssisted\nUnits],UnitsTbl['# of\nBdrms],5,UnitsTbl[% of Area Median Income ],15%),0)","v":0},{"$f":"IFERROR(SUMIFS(UnitsTbl[Other\nRental\nRestricted],UnitsTbl['# of\nBdrms],4,UnitsTbl[% of Area Median Income ],15%)+SUMIFS(UnitsTbl[Other\nRental\nRestricted],UnitsTbl['# of\nBdrms],5,UnitsTbl[% of Area Median Income ],15%),0)","v":0},0]
[null,"Totals","Total",{"$f":"SUM(D57:D66)","v":0},{"$f":"SUM(E57:E66)","v":0},{"$f":"SUM(F57:F66)","v":0},"Total",{"$f":"SUM(H57:H66)","v":0},{"$f":"SUM(I57:I66)","v":0},{"$f":"SUM(J57:J66)","v":0},"Total",{"$f":"SUM(L57:L66)","v":0},{"$f":"SUM(M57:M66)","v":0},{"$f":"SUM(N57:N66)","v":0},"Total",{"$f":"SUM(P57:P66)","v":0},{"$f":"SUM(Q57:Q66)","v":0},{"$f":"SUM(R57:R66)","v":0},"Total",{"$f":"SUM(T57:T66)","v":0},{"$f":"SUM(U57:U66)","v":0},{"$f":"SUM(V57:V66)","v":0}]
[]
[null,"Permanent Financing Funding Gap Calculation",null,null,null,null,null,null,null,null,null,"Shared Cost Calculation"]
[null,"Total Development Cost",null,null,null,null,null,null,null,{"$f":"'AHD Dev Budget'!$C$118","v":0},null,"Average gross square feet of Restricted Units",null,null,null,null,null,{"$f":"SUMIFS(UnitsTbl[Total Units],UnitsTbl['# of\nBdrms],0, UnitsTbl[% of Area Median Income ],\"<=60%\")*'Project Overview'!AD528+SUMIFS(UnitsTbl[Total Units],UnitsTbl['# of\nBdrms],0, UnitsTbl[% of Area Median Income ],\"Manager\")*'Project Overview'!AD528+SUMIFS(UnitsTbl[Total Units],UnitsTbl['# of\nBdrms],1, UnitsTbl[% of Area Median Income ],\"<=60%\")*'Project Overview'!AD529+SUMIFS(UnitsTbl[Total Units],UnitsTbl['# of\nBdrms],1, UnitsTbl[% of Area Median Income ],\"Manager\")*'Project Overview'!AD529+SUMIFS(UnitsTbl[Total Units],UnitsTbl['# of\nBdrms],2, UnitsTbl[% of Area Median Income ],\"<=60%\")*'Project Overview'!AD530+SUMIFS(UnitsTbl[Total Units],UnitsTbl['# of\nBdrms],2, UnitsTbl[% of Area Median Income ],\"Manager\")*'Project Overview'!AD530+SUMIFS(UnitsTbl[Total Units],UnitsTbl['# of\nBdrms],3, UnitsTbl[% of Area Median Income ],\"<=60%\")*'Project Overview'!AD531+SUMIFS(UnitsTbl[Total Units],UnitsTbl['# of\nBdrms],3, UnitsTbl[% of Area Median Income ],\"Manager\")*'Project Overview'!AD531+SUMIFS(UnitsTbl[Total Units],UnitsTbl['# of\nBdrms],4, UnitsTbl[% of Area Median Income ],\"<=60%\")*'Project Overview'!AD532+SUMIFS(UnitsTbl[Total Units],UnitsTbl['# of\nBdrms],4, UnitsTbl[% of Area Median Income ],\"Manager\")*'Project Overview'!AD532+SUMIFS(UnitsTbl[Total Units],UnitsTbl['# of\nBdrms],5, UnitsTbl[% of Area Median Income ],\"<=60%\")*'Project Overview'!AD533+SUMIFS(UnitsTbl[Total Units],UnitsTbl['# of\nBdrms],5, UnitsTbl[% of Area Median Income ],\"Manager\")*'Project Overview'!AD533","v":0}]
[null," Less: Net Syndication Proceeds/Investor Equity ",null,null,null,null,null,null,null,null,null,"Average gross square feet of all residential units",null,null,null,null,null,{"$f":"'Project Overview'!$AH$528*'Project Overview'!$AD$528+'Project Overview'!$AH$529*'Project Overview'!$AD$529+'Project Overview'!$AH$530*'Project Overview'!$AD$530+'Project Overview'!$AH$531*'Project Overview'!$AD$531+'Project Overview'!$AH$532*'Project Overview'!$AD$532+'Project Overview'!$AH$533*'Project Overview'!$AD$533","v":0}]
[null," Less: Additional Owner/General Partner Equity (Including Deferred Developer Fee)",null,null,null,null,null,null,null,null,null,"Restricted Units average gross square footage as a % of total residential units average gross square footage",null,null,null,null,null,{"$f":"IFERROR($R$70/$R$71,0)","v":0}]
[null,"Total Estimated Financing needed",null,null,null,null,null,null,null,{"$f":"$J$70-$J$71-$J$72","v":0}]
[null," Less: Supportable Conventional or Bond Debt Financing",null,null,null,null,null,null,null,null,null,"Shared Cost Calculation Amount",null,null,null,null,null,{"$f":"$R$72*'AHD Dev Budget'!$C$118","v":0}]
[null," Less: \"Soft\" Financing and Grants."]
[null,"Permanent Funding Gap",null,null,null,null,null,null,null,{"$f":"$J$73-$J$74-$J$75","v":0}]
[]
[null,"Rental Maximum Allowable Loan Amount"]
[null,"The lesser of:"]
[null,"AHSC Restricted Unit Loan Amount ",null,null,null,null,null,null,{"$f":"SUM(,$F$53,$F$67,$J$67,$N$67,$R$67,$V$67)","v":0}]
[null,"Permanent Funding Gap",null,null,null,null,null,null,{"$f":"$J$76","v":0}]
[null,"NOFA Maximum per Project Loan Amount",null,null,null,null,null,null,35000000]
[null,"Sponsor Requested Loan Amount",null,null,null,null,null,null,{"$f":"$K$53","v":0}]
[null,"Maximum Allowable AHSC Loan:",null,null,null,null,null,null,{"$f":"MIN($I$80,$I$81,$I$82,$I$83)","v":0}]
[]
[null,"AHD or Homeownership Base Amount:",null,null,250000,null,null,null,"vacancy rate",null,null,"county_name","lim50_21p1","lim50_21\np2","lim50_21p3","lim50_21\np4","lim50_21p5","lim50_21\np6","lim50_21\np7","lim50_21p8"]
[null,"Assume:",null,null,"DSCR",0.06,360,1.1000000000000001,0.05,null,null,"Alameda",51800,59200,66600,73950,79900,85800,91700,97650]
[null,"Base Amount + Reduction in Amount Financeable due to Rent Limitations below 60% AMI",null,null,null,null,null,null,null,null,null,"Alpine",33650,38450,43250,48050,51900,55750,59600,63450]
[null,null,null,null,null,null,null,null,null,null,null,"Amador",32100,36700,41300,45850,49550,53200,56900,60550]
[null,"County","RentalAMI","HO AMI","0 BR ","1 BR","2 BR","3 BR","4+ BR",null,null,"Butte",28900,33000,37150,41250,44550,47850,51150,54450]
[null,{"$f":"CONCATENATE(County,\" \",HCDLoanLimitTbl[[#This Row],[RentalAMI]])","v":" 0.8"},0.8,1.2,{"$f":"$E$95","v":250000},{"$f":"$F$95","v":250000},{"$f":"$G$95","v":250000},{"$f":"$H$95","v":250000},{"$f":"$I$95","v":250000},null,null,"Calaveras",33400,38150,42900,47650,51500,55300,59100,62900]
[null,{"$f":"CONCATENATE(County,\" \",HCDLoanLimitTbl[[#This Row],[RentalAMI]])","v":" 0.75"},0.75,1.1499999999999999,{"$f":"$E$95","v":250000},{"$f":"$F$95","v":250000},{"$f":"$G$95","v":250000},{"$f":"$H$95","v":250000},{"$f":"$I$95","v":250000},null,null,"Colusa",28900,33000,37150,41250,44550,47850,51150,54450]
[null,{"$f":"CONCATENATE(County,\" \",HCDLoanLimitTbl[[#This Row],[RentalAMI]])","v":" 0.7"},0.7,1.1000000000000001,{"$f":"$E$95","v":250000},{"$f":"$F$95","v":250000},{"$f":"$G$95","v":250000},{"$f":"$H$95","v":250000},{"$f":"$I$95","v":250000},null,null,"Contra Costa",51800,59200,66600,73950,79900,85800,91700,97650]
[null,{"$f":"CONCATENATE(County,\" \",HCDLoanLimitTbl[[#This Row],[RentalAMI]])","v":" 0.65"},0.65,1.05,{"$f":"$E$95","v":250000},{"$f":"$F$95","v":250000},{"$f":"$G$95","v":250000},{"$f":"$H$95","v":250000},{"$f":"$I$95","v":250000},null,null,"Del Norte",28900,33000,37150,41250,44550,47850,51150,54450]
[null,{"$f":"CONCATENATE(County,\" \",HCDLoanLimitTbl[[#This Row],[RentalAMI]])","v":" 0.6"},0.6,1,{"$f":"IFERROR(+$E$86+PV($F$87/12,$G$87,-(($D$153-$D$153)*(1-$I$87))/$H$87),0)","v":250000},{"$f":"IFERROR(+$E$86+PV($F$87/12,$G$87,-(($E$153-$E$153)*(1-$I$87))/$H$87),0)","v":250000},{"$f":"IFERROR(+$E$86+PV($F$87/12,$G$87,-(($F$153-$F$153)*(1-$I$87))/$H$87),0)","v":250000},{"$f":"IFERROR(+$E$86+PV($F$87/12,$G$87,-(($G$153-$G$153)*(1-$I$87))/$H$87),0)","v":250000},{"$f":"IFERROR(+$E$86+PV($F$87/12,$G$87,-(($H$153-$H$153)*(1-$I$87))/$H$87),0)","v":250000},null,null,"El Dorado",37550,42900,48250,53600,57900,62200,66500,70800]
[null,{"$f":"CONCATENATE(County,\" \",HCDLoanLimitTbl[[#This Row],[RentalAMI]])","v":" 0.55"},0.55000000000000004,0.95,{"$f":"IFERROR($E$86+PV($F$87/12,$G$87,-(($D$153-$D$154)*(1-$I$87))/$H$87),0)","v":250000},{"$f":"IFERROR($E$86+PV($F$87/12,$G$87,-(($E$153-$E$154)*(1-$I$87))/$H$87),0)","v":250000},{"$f":"IFERROR($E$86+PV($F$87/12,$G$87,-(($F$153-$F$154)*(1-$I$87))/$H$87),0)","v":250000},{"$f":"IFERROR($E$86+PV($F$87/12,$G$87,-(($G$153-$G$154)*(1-$I$87))/$H$87),0)","v":250000},{"$f":"IFERROR($E$86+PV($F$87/12,$G$87,-(($H$153-$H$154)*(1-$I$87))/$H$87),0)","v":250000},null,null,"Fresno",28900,33000,37150,41250,44550,47850,51150,54450]
[null,{"$f":"CONCATENATE(County,\" \",HCDLoanLimitTbl[[#This Row],[RentalAMI]])","v":" 0.5"},0.5,0.9,{"$f":"IFERROR($E$86+PV($F$87/12,$G$87,-(($D$153-$D$155)*(1-$I$87))/$H$87),0)","v":0},{"$f":"IFERROR($E$86+PV($F$87/12,$G$87,-(($E$153-$E$155)*(1-$I$87))/$H$87),0)","v":0},{"$f":"IFERROR($E$86+PV($F$87/12,$G$87,-(($F$153-$F$155)*(1-$I$87))/$H$87),0)","v":0},{"$f":"IFERROR($E$86+PV($F$87/12,$G$87,-(($G$153-$G$155)*(1-$I$87))/$H$87),0)","v":0},{"$f":"IFERROR($E$86+PV($F$87/12,$G$87,-(($H$153-$H$155)*(1-$I$87))/$H$87),0)","v":0},null,null,"Glenn",28900,33000,37150,41250,44550,47850,51150,54450]
[null,{"$f":"CONCATENATE(County,\" \",HCDLoanLimitTbl[[#This Row],[RentalAMI]])","v":" 0.45"},0.45,0.85,{"$f":"IFERROR($E$86+PV($F$87/12,$G$87,-(($D$153-$D$156)*(1-$I$87))/$H$87),0)","v":250000},{"$f":"IFERROR($E$86+PV($F$87/12,$G$87,-(($E$153-$E$156)*(1-$I$87))/$H$87),0)","v":250000},{"$f":"IFERROR($E$86+PV($F$87/12,$G$87,-(($F$153-$F$156)*(1-$I$87))/$H$87),0)","v":250000},{"$f":"IFERROR($E$86+PV($F$87/12,$G$87,-(($G$153-$G$156)*(1-$I$87))/$H$87),0)","v":250000},{"$f":"IFERROR($E$86+PV($F$87/12,$G$87,-(($H$153-$H$156)*(1-$I$87))/$H$87),0)","v":250000},null,null,"Humboldt",28900,33000,37150,41250,44550,47850,51150,54450]
[null,{"$f":"CONCATENATE(County,\" \",HCDLoanLimitTbl[[#This Row],[RentalAMI]])","v":" 0.4"},0.4,0.8,{"$f":"IFERROR($E$86+PV($F$87/12,$G$87,-(($D$153-$D$157)*(1-$I$87))/$H$87),0)","v":250000},{"$f":"IFERROR($E$86+PV($F$87/12,$G$87,-(($E$153-$E$157)*(1-$I$87))/$H$87),0)","v":250000},{"$f":"IFERROR($E$86+PV($F$87/12,$G$87,-(($F$153-$F$157)*(1-$I$87))/$H$87),0)","v":250000},{"$f":"IFERROR($E$86+PV($F$87/12,$G$87,-(($G$153-$G$157)*(1-$I$87))/$H$87),0)","v":250000},{"$f":"IFERROR($E$86+PV($F$87/12,$G$87,-(($H$153-$H$157)*(1-$I$87))/$H$87),0)","v":250000},null,null,"Imperial",28900,33000,37150,41250,44550,47850,51150,54450]
[null,{"$f":"CONCATENATE(County,\" \",HCDLoanLimitTbl[[#This Row],[RentalAMI]])","v":" 0.35"},0.35,0.75,{"$f":"IFERROR($E$86+PV($F$87/12,$G$87,-(($D$153-$D$158)*(1-$I$87))/$H$87),0)","v":250000},{"$f":"IFERROR($E$86+PV($F$87/12,$G$87,-(($E$153-$E$158)*(1-$I$87))/$H$87),0)","v":250000},{"$f":"IFERROR($E$86+PV($F$87/12,$G$87,-(($F$153-$F$158)*(1-$I$87))/$H$87),0)","v":250000},{"$f":"IFERROR($E$86+PV($F$87/12,$G$87,-(($G$153-$G$158)*(1-$I$87))/$H$87),0)","v":250000},{"$f":"IFERROR($E$86+PV($F$87/12,$G$87,-(($H$153-$H$158)*(1-$I$87))/$H$87),0)","v":250000},null,null,"Inyo",29900,34200,38450,42700,46150,49550,52950,56400]
[null,{"$f":"CONCATENATE(County,\" \",HCDLoanLimitTbl[[#This Row],[RentalAMI]])","v":" 0.3"},0.3,0.7,{"$f":"IFERROR($E$86+PV($F$87/12,$G$87,-(($D$153-$D$159)*(1-$I$87))/$H$87),0)","v":250000},{"$f":"IFERROR($E$86+PV($F$87/12,$G$87,-(($E$153-$E$159)*(1-$I$87))/$H$87),0)","v":250000},{"$f":"IFERROR($E$86+PV($F$87/12,$G$87,-(($F$153-$F$159)*(1-$I$87))/$H$87),0)","v":250000},{"$f":"IFERROR($E$86+PV($F$87/12,$G$87,-(($G$153-$G$159)*(1-$I$87))/$H$87),0)","v":250000},{"$f":"IFERROR($E$86+PV($F$87/12,$G$87,-(($H$153-$H$159)*(1-$I$87))/$H$87),0)","v":250000},null,null,"Kern",28900,33000,37150,41250,44550,47850,51150,54450]
[null,{"$f":"CONCATENATE(County,\" \",HCDLoanLimitTbl[[#This Row],[RentalAMI]])","v":" 0.25"},0.25,0.65,{"$f":"IFERROR($E$86+PV($F$87/12,$G$87,-(($D$153-$D$160)*(1-$I$87))/$H$87),0)","v":250000},{"$f":"IFERROR($E$86+PV($F$87/12,$G$87,-(($E$153-$E$160)*(1-$I$87))/$H$87),0)","v":250000},{"$f":"IFERROR($E$86+PV($F$87/12,$G$87,-(($F$153-$F$160)*(1-$I$87))/$H$87),0)","v":250000},{"$f":"IFERROR($E$86+PV($F$87/12,$G$87,-(($G$153-$G$160)*(1-$I$87))/$H$87),0)","v":250000},{"$f":"IFERROR($E$86+PV($F$87/12,$G$87,-(($H$153-$H$160)*(1-$I$87))/$H$87),0)","v":250000},null,null,"Kings",28900,33000,37150,41250,44550,47850,51150,54450]
[null,{"$f":"CONCATENATE(County,\" \",HCDLoanLimitTbl[[#This Row],[RentalAMI]])","v":" 0.2"},0.2,0.6,{"$f":"IFERROR($E$86+PV($F$87/12,$G$87,-(($D$153-$D$161)*(1-$I$87))/$H$87),0)","v":250000},{"$f":"IFERROR($E$86+PV($F$87/12,$G$87,-(($E$153-$E$161)*(1-$I$87))/$H$87),0)","v":250000},{"$f":"IFERROR($E$86+PV($F$87/12,$G$87,-(($F$153-$F$161)*(1-$I$87))/$H$87),0)","v":250000},{"$f":"IFERROR($E$86+PV($F$87/12,$G$87,-(($G$153-$G$161)*(1-$I$87))/$H$87),0)","v":250000},{"$f":"IFERROR($E$86+PV($F$87/12,$G$87,-(($H$153-$H$161)*(1-$I$87))/$H$87),0)","v":250000},null,null,"Lake",28900,33000,37150,41250,44550,47850,51150,54450]
[null,{"$f":"CONCATENATE(County,\" \",HCDLoanLimitTbl[[#This Row],[RentalAMI]])","v":" 0.15"},0.15,0.55000000000000004,{"$f":"IFERROR($E$86+PV($F$87/12,$G$87,-(($D$153-$D$162)*(1-$I$87))/$H$87),0)","v":250000},{"$f":"IFERROR($E$86+PV($F$87/12,$G$87,-(($E$153-$E$162)*(1-$I$87))/$H$87),0)","v":250000},{"$f":"IFERROR($E$86+PV($F$87/12,$G$87,-(($F$153-$F$162)*(1-$I$87))/$H$87),0)","v":250000},{"$f":"IFERROR($E$86+PV($F$87/12,$G$87,-(($G$153-$G$162)*(1-$I$87))/$H$87),0)","v":250000},{"$f":"IFERROR($E$86+PV($F$87/12,$G$87,-(($H$153-$H$162)*(1-$I$87))/$H$87),0)","v":250000},null,null,"Lassen",29350,33550,37750,41900,45300,48650,52000,55350]
[null,null,null,null,null,null,null,null,null,null,null,"Los Angeles",44150,50450,56750,63050,68100,73150,78200,83250]
[null,"Income and Rent Calculation Tables",null,null,null,null,null,null,null,null,null,"Madera",28900,33000,37150,41250,44550,47850,51150,54450]
[null,"TCAC/CDLAC/AHSC/CalHFA Income Limits Calculated from HUD 50% Income Limits",null,null,null,null,null,null,null,null,null,"Marin",65050,74350,83650,92900,100350,107800,115200,122650]
[null,"Income Level","Household Size",null,null,null,null,null,null,null,null,"Mariposa",28900,33000,37150,41250,44550,47850,51150,54450]
[null,null,1,2,3,4,5,6,7,8,null,"Mendocino",29750,34000,38250,42500,45900,49300,52700,56100]
[null,1.2,{"$f":"IFERROR($C$122*B110/$B$122,0)","v":0},{"$f":"IFERROR($D$122*B110/$B$122,0)","v":0},{"$f":"IFERROR($E$122*B110/$B$122,0)","v":0},{"$f":"IFERROR($F$122*B110/$B$122,0)","v":0},{"$f":"IFERROR($G$122*B110/$B$122,0)","v":0},{"$f":"IFERROR($H$122*B110/$B$122,0)","v":0},{"$f":"IFERROR($I$122*B110/$B$122,0)","v":0},{"$f":"IFERROR($J$122*B110/$B$122,0)","v":0},null,"Merced",28900,33000,37150,41250,44550,47850,51150,54450]
[null,1.1000000000000001,0,0,0,0,0,0,0,0,null,"Modoc",28900,33000,37150,41250,44550,47850,51150,54450]
[null,1,0,0,0,0,0,0,0,0,null,"Mono",29750,34000,38250,42500,45900,49300,52700,56100]
[null,0.95,0,0,0,0,0,0,0,0,null,"Monterey",42150,48200,54200,60200,65050,69850,74650,79500]
[null,0.9,0,0,0,0,0,0,0,0,null,"Napa",46750,53400,60100,66750,72100,77450,82800,88150]
[null,0.85,0,0,0,0,0,0,0,0,null,"Nevada",36500,41700,46900,52100,56300,60450,64650,68800]
[null,0.8,0,0,0,0,0,0,0,0,null,"Orange",50250,57400,64600,71750,77500,83250,89000,94750]
[null,0.75,0,0,0,0,0,0,0,0,null,"Placer",37550,42900,48250,53600,57900,62200,66500,70800]
[null,0.7,0,0,0,0,0,0,0,0,null,"Plumas",29350,33550,37750,41900,45300,48650,52000,55350]
[null,0.65,0,0,0,0,0,0,0,0,null,"Riverside",32650,37300,41950,46600,50350,54100,57800,61550]
[null,0.6,0,0,0,0,0,0,0,0,null,"Sacramento",37550,42900,48250,53600,57900,62200,66500,70800]
[null,0.55000000000000004,0,0,0,0,0,0,0,0,null,"San Benito",39000,44550,50100,55650,60150,64600,69050,73500]
[null,0.5,{"$f":"IF(County=\"\",\"\",VLOOKUP(County,IncomeLimitsTbl[],2,FALSE))","v":""},{"$f":"IF(County=\"\",\"\",VLOOKUP(County,IncomeLimitsTbl[],3,FALSE))","v":""},{"$f":"IF(County=\"\",\"\",VLOOKUP(County,IncomeLimitsTbl[],4,FALSE))","v":""},{"$f":"IF(County=\"\",\"\",VLOOKUP(County,IncomeLimitsTbl[],5,FALSE))","v":""},{"$f":"IF(County=\"\",\"\",VLOOKUP(County,IncomeLimitsTbl[],6,FALSE))","v":""},{"$f":"IF(County=\"\",\"\",VLOOKUP(County,IncomeLimitsTbl[],7,FALSE))","v":""},{"$f":"IF(County=\"\",\"\",VLOOKUP(County,IncomeLimitsTbl[],8,FALSE))","v":""},{"$f":"IF(County=\"\",\"\",VLOOKUP(County,IncomeLimitsTbl[],9,FALSE))","v":""},null,"San Bernardino",32650,37300,41950,46600,50350,54100,57800,61550]
[null,0.45,{"$f":"IFERROR($C$122*B123/$B$122,0)","v":0},{"$f":"IFERROR($D$122*B123/$B$122,0)","v":0},{"$f":"IFERROR($E$122*B123/$B$122,0)","v":0},{"$f":"IFERROR($F$122*B123/$B$122,0)","v":0},{"$f":"IFERROR($G$122*B123/$B$122,0)","v":0},{"$f":"IFERROR($H$122*B123/$B$122,0)","v":0},{"$f":"IFERROR($I$122*B123/$B$122,0)","v":0},{"$f":"IFERROR($J$122*B123/$B$122,0)","v":0},null,"San Diego",48250,55150,62050,68900,74450,79950,85450,90950]
[null,0.4,0,0,0,0,0,0,0,0,null,"San Francisco",65050,74350,83650,92900,100350,107800,115200,122650]
[null,0.35,0,0,0,0,0,0,0,0,null,"San Joaquin",30700,35100,39500,43850,47400,50900,54400,57900]
[null,0.3,0,0,0,0,0,0,0,0,null,"San Luis Obispo",40550,46350,52150,57900,62550,67200,71800,76450]
[null,0.25,0,0,0,0,0,0,0,0,null,"San Mateo",65050,74350,83650,92900,100350,107800,115200,122650]
[null,0.2,0,0,0,0,0,0,0,0,null,"Santa Barbara",51800,59200,66600,73950,79900,85800,91700,97650]
[null,0.15,0,0,0,0,0,0,0,0,null,"Santa Clara",62450,71400,80300,89200,96350,103500,110650,117750]
[null,null,null,null,null,null,null,null,null,null,null,"Santa Cruz",57650,65900,74150,82350,88950,95550,102150,108750]
[null,null,"CalHFA 50% Rent Limits ",null,null,null,null,null,null,null,null,"Shasta",29400,33600,37800,42000,45400,48750,52100,55450]
[null,"(Assumes  1 person in 0-bedroom, 2 people in a 1 bdrm and 1 additional person per additional bedroom) ",null,null,null,null,null,null,null,null,null,"Sierra",29950,34200,38500,42750,46200,49600,53050,56450]
[null,null,null,null,null,null,null,null,null,null,null,"Siskiyou",28900,33000,37150,41250,44550,47850,51150,54450]
[null,null,"Level","0 Bdrm.","1 Bdrm.","2 Bdrm.","3 Bdrm.","4 Bdrm.","5 Bdrm.",null,null,"Solano",40050,45800,51500,57200,61800,66400,70950,75550]
[null,null,{"$f":"CONCATENATE(County,0.5)","v":"0.5"},{"$f":"C122/12*0.3","v":{"$error":"#VALUE!"}},{"$f":"D122/12*0.3","v":{"$error":"#VALUE!"}},{"$f":"E122/12*0.3","v":{"$error":"#VALUE!"}},{"$f":"F122/12*0.3","v":{"$error":"#VALUE!"}},{"$f":"G122/12*0.3","v":{"$error":"#VALUE!"}},{"$f":"H122/12*0.3","v":{"$error":"#VALUE!"}},null,null,"Sonoma",44050,50350,56650,62900,67950,73000,78000,83050]
[null,null,null,null,null,null,null,null,null,null,null,"Stanislaus",29550,33800,38000,42200,45600,49000,52350,55750]
[null,null,null,null,null,null,null,null,null,null,null,"Sutter",28900,33000,37150,41250,44550,47850,51150,54450]
[null,null,"TCAC/CDLAC/AHSC Rent Limits ",null,null,null,null,null,null,null,null,"Tehama",28900,33000,37150,41250,44550,47850,51150,54450]
[null,null,"(Assumes 1 person in 0-bdrm unit, 1.5 people per bedroom in other units)",null,null,null,null,null,null,null,null,"Trinity",28900,33000,37150,41250,44550,47850,51150,54450]
[null,null,null,null,null,null,null,null,null,null,null,"Tulare",28900,33000,37150,41250,44550,47850,51150,54450]
[null,null,"TCACrentTbl",null,null,null,null,null,null,null,null,"Tuolumne",30850,35250,39650,44050,47600,51100,54650,58150]
[null,null,"Limit","0 Bdrm.","1 Bdrm.","2 Bdrm.","3 Bdrm.","4 Bdrm.","5 Bdrm.",null,null,"Ventura",46500,53150,59800,66400,71750,77050,82350,87650]
[null,null,{"$f":"CONCATENATE(County,1.2)","v":"1.2"},{"$f":"TRUNC(C110/12*0.3)","v":0},{"$f":"TRUNC((C110+D110)/2/12*0.3)","v":0},{"$f":"TRUNC(E110/12*0.3)","v":0},{"$f":"TRUNC((F110+G110)/2/12*0.3)","v":0},{"$f":"TRUNC(H110/12*0.3)","v":0},{"$f":"TRUNC((I110+J110)/2/12*0.3)","v":0},null,null,"Yolo",36750,42000,47250,52450,56650,60850,65050,69250]
[null,null,{"$f":"CONCATENATE(County,1.1)","v":"1.1"},{"$f":"TRUNC(C111/12*0.3)","v":0},0,0,0,0,0,null,null,"Yuba",28900,33000,37150,41250,44550,47850,51150,54450]
[null,null,{"$f":"CONCATENATE(County,1)","v":"1"},{"$f":"TRUNC(C112/12*0.3)","v":0},0,0,0,0,0]
[null,null,{"$f":"CONCATENATE(County,0.95)","v":"0.95"},{"$f":"TRUNC(C113/12*0.3)","v":0},0,0,0,0,0]
[null,null,{"$f":"CONCATENATE(County,0.9)","v":"0.9"},0,0,{"$f":"TRUNC(E114/12*0.3)","v":0},0,0,0]
[null,null,{"$f":"CONCATENATE(County,0.85)","v":"0.85"},0,0,0,0,0,0]
[null,null,{"$f":"CONCATENATE(County,0.8)","v":"0.8"},0,0,0,0,0,0]
[null,null,{"$f":"CONCATENATE(County,0.75)","v":"0.75"},0,0,0,0,0,0]
[null,null,{"$f":"CONCATENATE(County,0.7)","v":"0.7"},0,0,0,0,0,0]
[null,null,{"$f":"CONCATENATE(County,0.65)","v":"0.65"},0,0,0,0,0,0]
[null,null,{"$f":"CONCATENATE(County,0.6)","v":"0.6"},0,0,0,0,0,0]
[null,null,{"$f":"CONCATENATE(County,0.55)","v":"0.55"},0,0,0,0,0,0]
[null,null,{"$f":"CONCATENATE(County,0.5)","v":"0.5"},{"$error":"#VALUE!"},{"$f":"TRUNC((C122+D122)/2/12*0.3)","v":{"$error":"#VALUE!"}},{"$error":"#VALUE!"},{"$error":"#VALUE!"},{"$error":"#VALUE!"},{"$error":"#VALUE!"}]
[null,null,{"$f":"CONCATENATE(County,0.45)","v":"0.45"},0,0,0,0,0,0]
[null,null,{"$f":"CONCATENATE(County,0.4)","v":"0.4"},0,0,0,0,0,0]
[null,null,{"$f":"CONCATENATE(County,0.35)","v":"0.35"},0,0,0,0,0,0]
[null,null,{"$f":"CONCATENATE(County,0.3)","v":"0.3"},0,0,0,0,0,0]
[null,null,{"$f":"CONCATENATE(County,0.25)","v":"0.25"},0,0,0,0,0,0]
[null,null,{"$f":"CONCATENATE(County,0.2)","v":"0.2"},0,0,0,0,0,0]
[null,null,{"$f":"CONCATENATE(County,0.15)","v":"0.15"},0,0,0,0,0,0]

{"sheet":"STI S&U Budget","index":8,"n_rows":221,"n_cols":9,"rows_kept":221,"cut":false,"hidden":true,"merged":[[209,8,218,9],[1,1,1,9],[7,1,7,6],[7,7,7,9],[71,1,71,9],[138,1,138,9],[205,1,205,9],[130,8,131,9],[132,8,132,9],[177,8,189,9],[197,8,198,9],[199,8,199,9],[200,8,203,9],[13,1,13,2],[8,8,16,9],[75,8,83,9],[80,1,80,2],[142,8,150,9],[144,1,144,2],[201,1,201,2],[200,1,200,2],[133,8,136,9],[66,8,69,9],[134,1,134,2],[190,8,193,9],[191,1,191,2],[192,1,192,2],[193,1,193,2],[194,1,194,2],[151,1,151,2],[151,8,158,9],[152,1,152,2],[157,1,157,2],[158,1,158,2],[159,1,159,2],[159,8,164,9],[160,1,160,2],[161,1,161,2],[162,1,162,2],[163,1,163,2],[164,1,164,2],[208,1,208,9],[197,1,197,2],[198,1,198,2],[199,1,199,2],[202,1,202,2],[203,1,203,2],[204,1,204,2],[176,1,176,2],[177,1,177,2],[179,1,179,2],[180,1,180,2],[181,1,181,2],[182,1,182,2],[183,1,183,2],[184,1,184,2],[185,1,185,2],[186,1,186,2],[187,1,187,2],[188,1,188,2],[189,1,189,2],[194,8,196,9],[195,1,195,2],[196,1,196,2],[190,1,190,2],[146,1,146,2],[147,1,147,2],[148,1,148,2],[149,1,149,2],[150,1,150,2],[143,1,143,2],[130,1,130,2],[131,1,131,2],[132,1,132,2],[133,1,133,2],[135,1,135,2],[136,1,136,2],[137,1,137,2],[141,1,141,9],[137,8,137,9],[142,1,142,2],[145,1,145,2],[123,1,123,2],[123,8,126,9],[124,1,124,2],[125,1,125,2],[126,1,126,2],[127,1,127,2],[127,8,129,9],[128,1,128,2],[129,1,129,2],[109,1,109,2],[110,1,110,2],[110,8,122,9],[112,1,112,2],[113,1,113,2],[114,1,114,2],[115,1,115,2],[116,1,116,2],[117,1,117,2],[118,1,118,2],[119,1,119,2],[120,1,120,2],[121,1,121,2],[122,1,122,2],[100,1,100,2],[101,1,101,2],[102,1,102,2],[103,1,103,2],[104,1,104,2],[105,1,105,2],[106,1,106,2],[107,1,107,2],[108,1,108,2],[15,1,15,2],[16,1,16,2],[3,1,5,2],[3,3,3,7],[3,8,5,9],[90,1,90,2],[76,1,76,2],[19,1,19,2],[20,1,20,2],[21,1,21,2],[22,1,22,2],[44,1,44,2],[72,1,72,9],[14,1,14,2],[10,1,10,2],[11,1,11,2],[8,1,8,2],[12,1,12,2],[9,1,9,2],[4,7,5,7],[29,1,29,2],[30,1,30,2],[31,1,31,2],[25,8,30,9],[26,1,26,2],[27,1,27,2],[28,1,28,2],[24,1,24,2],[25,1,25,2],[17,8,24,9],[23,1,23,2],[18,1,18,2],[17,1,17,2],[41,1,41,2],[42,1,42,2],[31,8,42,9],[38,1,38,2],[39,1,39,2],[40,1,40,2],[35,1,35,2],[36,1,36,2],[37,1,37,2],[32,1,32,2],[33,1,33,2],[34,1,34,2],[53,1,53,2],[54,1,54,2],[55,1,55,2],[43,8,55,9],[50,1,50,2],[51,1,51,2],[52,1,52,2],[47,1,47,2],[48,1,48,2],[49,1,49,2],[43,1,43,2],[45,1,45,2],[46,1,46,2],[63,8,64,9],[65,8,65,9],[62,1,62,2],[60,8,62,9],[59,1,59,2],[60,1,60,2],[61,1,61,2],[56,8,59,9],[56,1,56,2],[57,1,57,2],[58,1,58,2],[213,1,213,2],[86,1,86,2],[87,1,87,2],[88,1,88,2],[89,1,89,2],[111,1,111,2],[139,1,139,9],[153,1,153,2],[154,1,154,2],[155,1,155,2],[156,1,156,2],[91,1,91,2],[92,1,92,2],[92,8,97,9],[93,1,93,2],[94,1,94,2],[95,1,95,2],[96,1,96,2],[97,1,97,2],[98,1,98,2],[84,8,91,9],[85,1,85,2],[98,8,109,9],[99,1,99,2],[4,4,5,4],[4,5,5,5],[209,1,209,2],[210,1,210,2],[211,1,211,2],[212,1,212,2],[75,1,75,2],[77,1,77,2],[78,1,78,2],[79,1,79,2],[81,1,81,2],[82,1,82,2],[83,1,83,2],[84,1,84,2],[67,1,67,2],[70,1,70,2],[66,1,66,2],[68,1,68,2],[69,1,69,2],[63,1,63,2],[64,1,64,2],[65,1,65,2],[74,1,74,9],[70,8,70,9],[4,6,5,6],[220,1,220,9],[2,1,2,9],[214,1,214,2],[216,1,216,2],[215,1,215,2],[217,1,217,2],[218,1,218,2],[165,1,165,2],[165,8,176,9],[166,1,166,2],[167,1,167,2],[168,1,168,2],[169,1,169,2],[170,1,170,2],[171,1,171,2],[172,1,172,2],[173,1,173,2],[174,1,174,2],[175,1,175,2],[178,1,178,2],[204,8,204,9],[206,1,206,9],[4,3,5,3]]}
[]
[null,{"$f":"CONCATENATE('Project Overview'!F27,\" Sustainable Transportation Infrastructure (STI) Sources and Uses Budget   \",\"App \",'Project Overview'!E4)","v":" Sustainable Transportation Infrastructure (STI) Sources and Uses Budget   App "}]
[null,"If proposing multiple distinct STI Capital Projects, provide detail for each Project in separate budgets below.  Amounts from each budget will autosum at the bottom. The sum will be used to determine the total STI funds requested and cost cap. "]
[null,"Cost Category",null,"ALL FUNDING SOURCES",null,null,null,null,"Comments"]
[null,null,null,{"$f":"'Threshold Requirements'!J166","v":"AHSC STI Grant"},{"$f":"'Threshold Requirements'!J167","v":0},{"$f":"'Threshold Requirements'!J168","v":0},{"$f":"'Threshold Requirements'!J169","v":0},"Sources Total"]
[]
[]
[null,{"$f":"CONCATENATE(\"STI BUDGET #1\",\" - \",'Project Overview'!$F$47)","v":"STI BUDGET #1 - "}]
[null,"Environmental review/studies",null,null,null,null,null,{"$f":"SUM(D9:G9)","v":0}]
[null,"Plan Specification and Estimates",null,null,null,null,null,0]
[null,"Right of way support costs",null,null,null,null,null,0]
[null,"Site or right of way acquisition for Cap. Improvement Project",null,null,null,null,null,0]
[null,"Other Soft Costs (Specify)",null,null,null,null,null,0]
[null,"Other Soft Costs (Specify)",null,null,null,null,null,0]
[null,"Other Soft Costs (Specify)",null,null,null,null,null,0]
[null,"Other Soft Costs (Specify)",null,null,null,null,null,0]
[null,"Total Soft Costs",null,{"$f":"SUM(D9:D16)","v":0},{"$f":"SUM(E9:E16)","v":0},0,0,0]
[null,"Clearing and Grubbing",null,null,null,null,null,{"$f":"SUM(D18:G18)","v":0}]
[null,"Demolition",null,null,null,null,null,0]
[null,"Grading",null,null,null,null,null,0]
[null,"Soil Stabilization (Lime, etc.)",null,null,null,null,null,0]
[null,"Erosion/Weed Control",null,null,null,null,null,0]
[null,"Dewatering",null,null,null,null,null,0]
[null,"Other Site Preparation (Specify)",null,null,null,null,null,0]
[null,"Total Site Preparation",null,{"$f":"SUM(D18:D24)","v":0},0,{"$f":"SUM(F18:F24)","v":0},0,{"$f":"SUM(H18:H24)","v":0}]
[null,"Sanitary Sewer",null,null,null,null,null,{"$f":"SUM(D26:G26)","v":0}]
[null,"Irrigation",null,null,null,null,null,{"$f":"SUM(D27:G27)","v":0}]
[null,"Storm Drain",null,null,null,null,null,{"$f":"SUM(D28:G28)","v":0}]
[null,"Detention Basin/Culverts",null,null,null,null,null,{"$f":"SUM(D29:G29)","v":0}]
[null,"Other Site Utilities (Specify)",null,null,null,null,null,{"$f":"SUM(D30:G30)","v":0}]
[null,"Total Site Utilities",null,{"$f":"SUM(D26:D30)","v":0},0,{"$f":"SUM(F26:F30)","v":0},0,{"$f":"SUM(H26:H30)","v":0}]
[null,"Aggregate Base",null,null,null,null,null,{"$f":"SUM(D32:G32)","v":0}]
[null,"Asphalt Pavement",null,null,null,null,null,0]
[null,"Sidewalk, Curb and Gutter",null,null,null,null,null,0]
[null,"Street Lights",null,null,null,null,null,0]
[null,"Striping/Barricades (Bicycle Facilities)",null,null,null,null,null,0]
[null,"Signage",null,null,null,null,null,0]
[null,"Crossing and Traffic Signals",null,null,null,null,null,0]
[null,"Roundabouts, median islands or curb extensions",null,null,null,null,null,0]
[null,"Other traffic calming surface improvements",null,null,null,null,null,0]
[null,"Other Complete Street Improvements (Specify)",null,null,null,null,null,0]
[null,"Other Complete Street Improvements (Specify)",null,null,null,null,null,0]
[null,"Total Complete Streets Improvements - Construction",null,{"$f":"SUM(D32:D42)","v":0},0,{"$f":"SUM(F32:F42)","v":0},0,0]
[null,"Striping/Barricades (for dedicated bus lanes)",null,null,null,null,null,{"$f":"SUM(D44:G44)","v":0}]
[null,"Sidewalk, Curb and Gutter",null,null,null,null,null,0]
[null,"Street Lights",null,null,null,null,null,0]
[null,"Signage",null,null,null,null,null,0]
[null,"Signaling Prioritization Technology ",null,null,null,null,null,0]
[null,"Boarding infrastructure",null,null,null,null,null,0]
[null,"Seating/Benches",null,null,null,null,null,0]
[null,"Bus/Transit Shelters",null,null,null,null,null,0]
[null,"Vehicles",null,null,null,null,null,0]
[null,"Other ITS Technology",null,null,null,null,null,0]
[null,"Other Transit and Station Areas (Specify)",null,null,null,null,null,0]
[null,"Other Transit and Station Areas (Specify)",null,null,null,null,null,0]
[null,"Total Transit and Station Areas -  Construction",null,{"$f":"SUM(D44:D55)","v":0},0,{"$f":"SUM(F44:F55)","v":0},0,{"$f":"SUM(H44:H55)","v":0}]
[null,"Urban Greening (Specify)",null,null,null,null,null,{"$f":"SUM(D57:G57)","v":0}]
[null,"Urban Greening (Specify)",null,null,null,null,null,{"$f":"SUM(D58:G58)","v":0}]
[null,"Urban Greening (Specify)",null,null,null,null,null,{"$f":"SUM(D59:G59)","v":0}]
[null,"Total Urban Greening",null,{"$f":"SUM(D57:D59)","v":0},0,{"$f":"SUM(F57:F59)","v":0},0,0]
[null,"Provide Name of Impact Fee (Specify)",null,null,null,null,null,{"$f":"SUM(D61:G61)","v":0}]
[null,"Provide Name of Impact Fee (Specify)",null,null,null,null,null,{"$f":"SUM(D62:G62)","v":0}]
[null,"Total Impact Fees",null,{"$f":"SUM(D61:D62)","v":0},0,{"$f":"SUM(F61:F62)","v":0},0,{"$f":"SUM(H61:H62)","v":0}]
[null,"Other Activity Costs (Specify)",null,null,null,null,null,{"$f":"SUM(D64:G64)","v":0}]
[null,"Other Activity Costs (Specify)",null,null,null,null,null,{"$f":"SUM(D65:G65)","v":0}]
[null,"Total Activity Delivery Costs",null,{"$f":"SUM(D64:D65)","v":0},0,{"$f":"SUM(F64:F65)","v":0},0,{"$f":"SUM(H64:H65)","v":0}]
[null,"Transit Operations for service expansion §103(a)(3)(A)(v)",null,null,null,null,null,{"$f":"SUM(D67:G67)","v":0}]
[null,"Employee Reporting",null,null,null,null,null,{"$f":"SUM(D68:G68)","v":0}]
[null,"Other Capital Asset Costs (Specify)",null,null,null,null,null,{"$f":"SUM(D69:G69)","v":0}]
[null,"Total Other Capital Asset Costs",null,{"$f":"SUM(D67:D69)","v":0},0,{"$f":"SUM(F67:F69)","v":0},0,{"$f":"SUM(H67:H69)","v":0}]
[null,{"$f":"CONCATENATE('Project Overview'!$F$47,\" Total Budgeted Project Costs\")","v":" Total Budgeted Project Costs"},null,{"$f":"SUM(D70,D66,D63,D60,D56,D43,D31,D25,D17)","v":0},{"$f":"SUM(E70,E66,E63,E60,E56,E43,E31,E25,E17)","v":0},{"$f":"SUM(F70,F66,F63,F60,F56,F43,F31,F25,F17)","v":0},0,0]
[null,"Provide Urban Greening Details and explain unusual or extraordinary circumstances that have resulted in higher than expected Project costs; provide a justification as to why these costs are reasonable. "]
[]
[]
[null,{"$f":"CONCATENATE(\"STI BUDGET #2\",\" - \",'Project Overview'!$F$55)","v":"STI BUDGET #2 - "}]
[null,"Environmental review/studies",null,null,null,null,null,{"$f":"SUM(D76:G76)","v":0}]
[null,"Plan Specification and Estimates",null,null,null,null,null,0]
[null,"Right of way support costs",null,null,null,null,null,0]
[null,"Site or right of way acquisition for Cap. Improvement Project",null,null,null,null,null,0]
[null,"Other Soft Costs (Specify)",null,null,null,null,null,0]
[null,"Other Soft Costs (Specify)",null,null,null,null,null,0]
[null,"Other Soft Costs (Specify)",null,null,null,null,null,0]
[null,"Other Soft Costs (Specify)",null,null,null,null,null,0]
[null,"Total Soft Costs",null,{"$f":"SUM(D76:D83)","v":0},{"$f":"SUM(E76:E83)","v":0},0,0,0]
[null,"Clearing and Grubbing",null,null,null,null,null,{"$f":"SUM(D85:G85)","v":0}]
[null,"Demolition",null,null,null,null,null,0]
[null,"Grading",null,null,null,null,null,0]
[null,"Soil Stabilization (Lime, etc.)",null,null,null,null,null,0]
[null,"Erosion/Weed Control",null,null,null,null,null,0]
[null,"Dewatering",null,null,null,null,null,0]
[null,"Other Site Preparation (Specify)",null,null,null,null,null,0]
[null,"Total Site Preparation",null,{"$f":"SUM(D85:D91)","v":0},0,{"$f":"SUM(F85:F91)","v":0},{"$f":"SUM(G85:G91)","v":0},{"$f":"SUM(H85:H91)","v":0}]
[null,"Sanitary Sewer",null,null,null,null,null,{"$f":"SUM(D93:G93)","v":0}]
[null,"Irrigation",null,null,null,null,null,{"$f":"SUM(D94:G94)","v":0}]
[null,"Storm Drain",null,null,null,null,null,{"$f":"SUM(D95:G95)","v":0}]
[null,"Detention Basin/Culverts",null,null,null,null,null,{"$f":"SUM(D96:G96)","v":0}]
[null,"Other Site Utilities (Specify)",null,null,null,null,null,{"$f":"SUM(D97:G97)","v":0}]
[null,"Total Site Utilities",null,{"$f":"SUM(D93:D97)","v":0},0,{"$f":"SUM(F93:F97)","v":0},{"$f":"SUM(G93:G97)","v":0},{"$f":"SUM(H93:H97)","v":0}]
[null,"Aggregate Base",null,null,null,null,null,{"$f":"SUM(D99:G99)","v":0}]
[null,"Asphalt Pavement",null,null,null,null,null,0]
[null,"Sidewalk, Curb and Gutter",null,null,null,null,null,0]
[null,"Street Lights",null,null,null,null,null,0]
[null,"Striping/Barricades (Bicycle Facilities)",null,null,null,null,null,0]
[null,"Signage",null,null,null,null,null,0]
[null,"Crossing and Traffic Signals",null,null,null,null,null,0]
[null,"Roundabouts, median islands or curb extensions",null,null,null,null,null,0]
[null,"Other traffic calming surface improvements",null,null,null,null,null,0]
[null,"Other Complete Street Improvements (Specify)",null,null,null,null,null,0]
[null,"Other Complete Street Improvements (Specify)",null,null,null,null,null,0]
[null,"Total Complete Streets Improvements - Construction",null,{"$f":"SUM(D99:D109)","v":0},0,{"$f":"SUM(F99:F109)","v":0},{"$f":"SUM(G99:G109)","v":0},0]
[null,"Striping/Barricades (for dedicated bus lanes)",null,null,null,null,null,{"$f":"SUM(D111:G111)","v":0}]
[null,"Sidewalk, Curb and Gutter",null,null,null,null,null,0]
[null,"Street Lights",null,null,null,null,null,0]
[null,"Signage",null,null,null,null,null,0]
[null,"Signaling Prioritization Technology ",null,null,null,null,null,0]
[null,"Boarding infrastructure",null,null,null,null,null,0]
[null,"Seating/Benches",null,null,null,null,null,0]
[null,"Bus/Transit Shelters",null,null,null,null,null,0]
[null,"Vehicles",null,null,null,null,null,0]
[null,"Other ITS Technology",null,null,null,null,null,0]
[null,"Other Transit and Station Areas (Specify)",null,null,null,null,null,0]
[null,"Other Transit and Station Areas (Specify)",null,null,null,null,null,0]
[null,"Total Transit and Station Areas -  Construction",null,{"$f":"SUM(D111:D122)","v":0},0,{"$f":"SUM(F111:F122)","v":0},{"$f":"SUM(G111:G122)","v":0},{"$f":"SUM(H111:H122)","v":0}]
[null,"Urban Greening (Specify)",null,null,null,null,null,{"$f":"SUM(D124:G124)","v":0}]
[null,"Urban Greening (Specify)",null,null,null,null,null,{"$f":"SUM(D125:G125)","v":0}]
[null,"Urban Greening (Specify)",null,null,null,null,null,{"$f":"SUM(D126:G126)","v":0}]
[null,"Total Urban Greening",null,{"$f":"SUM(D124:D126)","v":0},0,{"$f":"SUM(F124:F126)","v":0},{"$f":"SUM(G124:G126)","v":0},0]
[null,"Provide Name of Impact Fee (Specify)",null,null,null,null,null,{"$f":"SUM(D128:G128)","v":0}]
[null,"Provide Name of Impact Fee (Specify)",null,null,null,null,null,{"$f":"SUM(D129:G129)","v":0}]
[null,"Total Impact Fees",null,{"$f":"SUM(D128:D129)","v":0},0,{"$f":"SUM(F128:F129)","v":0},{"$f":"SUM(G128:G129)","v":0},{"$f":"SUM(H128:H129)","v":0}]
[null,"Other Activity Costs (Specify)",null,null,null,null,null,{"$f":"SUM(D131:G131)","v":0}]
[null,"Other Activity Costs (Specify)",null,null,null,null,null,{"$f":"SUM(D132:G132)","v":0}]
[null,"Total Activity Delivery Costs",null,{"$f":"SUM(D131:D132)","v":0},0,{"$f":"SUM(F131:F132)","v":0},{"$f":"SUM(G131:G132)","v":0},{"$f":"SUM(H131:H132)","v":0}]
[null,"Transit Operations for service expansion §103(a)(3)(A)(v)",null,null,null,null,null,{"$f":"SUM(D134:G134)","v":0}]
[null,"Employee Reporting",null,null,null,null,null,{"$f":"SUM(D135:G135)","v":0}]
[null,"Other Capital Asset Costs (Specify)",null,null,null,null,null,{"$f":"SUM(D136:G136)","v":0}]
[null,"Total Other Capital Asset Costs",null,{"$f":"SUM(D134:D136)","v":0},0,{"$f":"SUM(F134:F136)","v":0},{"$f":"SUM(G134:G136)","v":0},{"$f":"SUM(H134:H136)","v":0}]
[null,"Total STI #2 Budgeted Project Costs",null,{"$f":"SUM(D137,D133,D130,D127,D123,D110,D98,D92,D84)","v":0},0,0,0,{"$f":"SUM(H137,H133,H130,H127,H123,H110,H98,H92,H84)","v":0}]
[null,"Provide Urban Greening Details and explain unusual or extraordinary circumstances that have resulted in higher than expected Project costs; provide a justification as to why these costs are reasonable. "]
[]
[]
[null,{"$f":"CONCATENATE(\"STI BUDGET #3\",\" - \",'Project Overview'!$F$63)","v":"STI BUDGET #3 - "}]
[null,"Environmental review/studies",null,null,null,null,null,{"$f":"SUM(D143:G143)","v":0}]
[null,"Plan Specification and Estimates",null,null,null,null,null,0]
[null,"Right of way support costs",null,null,null,null,null,0]
[null,"Site or right of way acquisition for Cap. Improvement Project",null,null,null,null,null,0]
[null,"Other Soft Costs (Specify)",null,null,null,null,null,0]
[null,"Other Soft Costs (Specify)",null,null,null,null,null,0]
[null,"Other Soft Costs (Specify)",null,null,null,null,null,0]
[null,"Other Soft Costs (Specify)",null,null,null,null,null,0]
[null,"Total Soft Costs",null,{"$f":"SUM(D143:D150)","v":0},{"$f":"SUM(E143:E150)","v":0},0,0,0]
[null,"Clearing and Grubbing",null,null,null,null,null,{"$f":"SUM(D152:G152)","v":0}]
[null,"Demolition",null,null,null,null,null,0]
[null,"Grading",null,null,null,null,null,0]
[null,"Soil Stabilization (Lime, etc.)",null,null,null,null,null,0]
[null,"Erosion/Weed Control",null,null,null,null,null,0]
[null,"Dewatering",null,null,null,null,null,0]
[null,"Other Site Preparation (Specify)",null,null,null,null,null,0]
[null,"Total Site Preparation",null,{"$f":"SUM(D152:D158)","v":0},0,{"$f":"SUM(F152:F158)","v":0},{"$f":"SUM(G152:G158)","v":0},{"$f":"SUM(H152:H158)","v":0}]
[null,"Sanitary Sewer",null,null,null,null,null,{"$f":"SUM(D160:G160)","v":0}]
[null,"Irrigation",null,null,null,null,null,{"$f":"SUM(D161:G161)","v":0}]
[null,"Storm Drain",null,null,null,null,null,{"$f":"SUM(D162:G162)","v":0}]
[null,"Detention Basin/Culverts",null,null,null,null,null,{"$f":"SUM(D163:G163)","v":0}]
[null,"Other Site Utilities (Specify)",null,null,null,null,null,{"$f":"SUM(D164:G164)","v":0}]
[null,"Total Site Utilities",null,{"$f":"SUM(D160:D164)","v":0},0,{"$f":"SUM(F160:F164)","v":0},{"$f":"SUM(G160:G164)","v":0},{"$f":"SUM(H160:H164)","v":0}]
[null,"Aggregate Base",null,null,null,null,null,{"$f":"SUM(D166:G166)","v":0}]
[null,"Asphalt Pavement",null,null,null,null,null,0]
[null,"Sidewalk, Curb and Gutter",null,null,null,null,null,0]
[null,"Street Lights",null,null,null,null,null,0]
[null,"Striping/Barricades (Bicycle Facilities)",null,null,null,null,null,0]
[null,"Signage",null,null,null,null,null,0]
[null,"Crossing and Traffic Signals",null,null,null,null,null,0]
[null,"Roundabouts, median islands or curb extensions",null,null,null,null,null,0]
[null,"Other traffic calming surface improvements",null,null,null,null,null,0]
[null,"Other Complete Street Improvements (Specify)",null,null,null,null,null,0]
[null,"Other Complete Street Improvements (Specify)",null,null,null,null,null,0]
[null,"Total Complete Streets Improvements - Construction",null,{"$f":"SUM(D166:D176)","v":0},0,{"$f":"SUM(F166:F176)","v":0},{"$f":"SUM(G166:G176)","v":0},0]
[null,"Striping/Barricades (for dedicated bus lanes)",null,null,null,null,null,{"$f":"SUM(D178:G178)","v":0}]
[null,"Sidewalk, Curb and Gutter",null,null,null,null,null,0]
[null,"Street Lights",null,null,null,null,null,0]
[null,"Signage",null,null,null,null,null,0]
[null,"Signaling Prioritization Technology ",null,null,null,null,null,0]
[null,"Boarding infrastructure",null,null,null,null,null,0]
[null,"Seating/Benches",null,null,null,null,null,0]
[null,"Bus/Transit Shelters",null,null,null,null,null,0]
[null,"Vehicles",null,null,null,null,null,0]
[null,"Other ITS Technology",null,null,null,null,null,0]
[null,"Other Transit and Station Areas (Specify)",null,null,null,null,null,0]
[null,"Other Transit and Station Areas (Specify)",null,null,null,null,null,0]
[null,"Total Transit and Station Areas -  Construction",null,{"$f":"SUM(D178:D189)","v":0},0,{"$f":"SUM(F178:F189)","v":0},{"$f":"SUM(G178:G189)","v":0},{"$f":"SUM(H178:H189)","v":0}]
[null,"Urban Greening (Specify)",null,null,null,null,null,{"$f":"SUM(D191:G191)","v":0}]
[null,"Urban Greening (Specify)",null,null,null,null,null,{"$f":"SUM(D192:G192)","v":0}]
[null,"Urban Greening (Specify)",null,null,null,null,null,{"$f":"SUM(D193:G193)","v":0}]
[null,"Total Urban Greening",null,{"$f":"SUM(D191:D193)","v":0},0,{"$f":"SUM(F191:F193)","v":0},{"$f":"SUM(G191:G193)","v":0},0]
[null,"Provide Name of Impact Fee (Specify)",null,null,null,null,null,{"$f":"SUM(D195:G195)","v":0}]
[null,"Provide Name of Impact Fee (Specify)",null,null,null,null,null,{"$f":"SUM(D196:G196)","v":0}]
[null,"Total Impact Fees",null,{"$f":"SUM(D195:D196)","v":0},0,{"$f":"SUM(F195:F196)","v":0},{"$f":"SUM(G195:G196)","v":0},{"$f":"SUM(H195:H196)","v":0}]
[null,"Other Activity Costs (Specify)",null,null,null,null,null,{"$f":"SUM(D198:G198)","v":0}]
[null,"Other Activity Costs (Specify)",null,null,null,null,null,{"$f":"SUM(D199:G199)","v":0}]
[null,"Total Activity Delivery Costs",null,{"$f":"SUM(D198:D199)","v":0},0,{"$f":"SUM(F198:F199)","v":0},{"$f":"SUM(G198:G199)","v":0},{"$f":"SUM(H198:H199)","v":0}]
[null,"Transit Operations for service expansion §103(a)(3)(A)(v)",null,null,null,null,null,{"$f":"SUM(D201:G201)","v":0}]
[null,"Employee Reporting",null,null,null,null,null,{"$f":"SUM(D202:G202)","v":0}]
[null,"Other Capital Asset Costs (Specify)",null,null,null,null,null,{"$f":"SUM(D203:G203)","v":0}]
[null,"Total Other Capital Asset Costs",null,{"$f":"SUM(D201:D203)","v":0},0,{"$f":"SUM(F201:F203)","v":0},{"$f":"SUM(G201:G203)","v":0},{"$f":"SUM(H201:H203)","v":0}]
[null,"Total STI #3 Budgeted Project Costs",null,{"$f":"SUM(D204,D200,D197,D194,D190,D177,D165,D159,D151)","v":0},{"$f":"SUM(E204,E200,E197,E194,E190,E177,E165,E159,E151)","v":0},0,{"$f":"SUM(G204,G200,G197,G194,G190,G177,G165,G159,G151)","v":0},{"$f":"SUM(H204,H200,H197,H194,H190,H177,H165,H159,H151)","v":0}]
[null,"Provide Urban Greening Details and explain unusual or extraordinary circumstances that have resulted in higher than expected Project costs; provide a justification as to why these costs are reasonable. "]
[]
[]
[null,"TOTAL SUSTAINABLE TRANSPORTATION INFRASTRUCTURE (STI) BUDGET"]
[null,"Total Soft Costs",null,{"$f":"D17+D84+D151","v":0},0,0,0,{"$f":"H17+H84+H151","v":0}]
[null,"Total Site Preparation",null,{"$f":"D25+D92+D159","v":0},0,0,0,0]
[null,"Total Site Utilities",null,{"$f":"D31+D98+D165","v":0},0,0,0,0]
[null,"Total Complete Streets Improvements - Construction",null,{"$f":"D43+D110+D177","v":0},0,0,0,0]
[null,"Total Transit and Station Areas -  Construction",null,{"$f":"D56+D123+D190","v":0},0,0,0,0]
[null,"Total Urban Greening",null,{"$f":"D60+D127+D194","v":0},0,0,0,0]
[null,"Total Impact Fees",null,{"$f":"D63+D130+D197","v":0},0,0,0,0]
[null,"Total Activity Delivery Costs",null,{"$f":"D66+D133+D200","v":0},0,0,0,0]
[null,"Total Other Capital Asset Costs",null,{"$f":"D70+D137+D204","v":0},0,0,0,0]
[null,"Total STI Budgeted Project Costs",null,{"$f":"D71+D138+D205","v":0},{"$f":"E71+E138+E205","v":0},{"$f":"F71+F138+F205","v":0},{"$f":"G71+G138+G205","v":0},{"$f":"H71+H138+H205","v":0}]
[]
[null,"End of Document"]

{"sheet":"TRA S&U Budget","index":9,"n_rows":246,"n_cols":9,"rows_kept":246,"cut":false,"hidden":true,"merged":[[1,1,1,9],[79,1,79,9],[154,1,154,9],[83,8,91,9],[148,8,152,9],[145,8,147,9],[158,8,166,9],[220,8,222,9],[106,8,116,9],[158,1,158,2],[159,1,159,2],[160,1,160,2],[161,1,161,2],[151,1,151,2],[152,1,152,2],[153,1,153,2],[153,8,153,9],[112,1,112,2],[113,1,113,2],[114,1,114,2],[118,1,118,2],[119,1,119,2],[120,1,120,2],[121,1,121,2],[229,1,229,9],[82,1,82,6],[82,7,82,9],[157,1,157,6],[157,7,157,9],[117,8,128,9],[181,8,191,9],[239,1,239,2],[54,8,59,9],[60,8,66,9],[135,8,141,9],[210,1,210,2],[210,8,216,9],[211,1,211,2],[212,1,212,2],[213,1,213,2],[214,1,214,2],[215,1,215,2],[216,1,216,2],[65,1,65,2],[58,1,58,2],[135,1,135,2],[136,1,136,2],[137,1,137,2],[70,1,70,2],[71,1,71,2],[72,1,72,2],[60,1,60,2],[8,1,8,2],[9,1,9,2],[26,1,26,2],[27,1,27,2],[28,1,28,2],[29,1,29,2],[30,1,30,2],[31,1,31,2],[52,1,52,2],[53,1,53,2],[66,1,66,2],[54,1,54,2],[55,1,55,2],[56,1,56,2],[57,1,57,2],[59,1,59,2],[64,1,64,2],[34,1,34,2],[35,1,35,2],[36,1,36,2],[8,8,16,9],[11,1,11,2],[15,1,15,2],[16,1,16,2],[17,1,17,2],[17,8,24,9],[18,1,18,2],[19,1,19,2],[20,1,20,2],[21,1,21,2],[22,1,22,2],[23,1,23,2],[24,1,24,2],[10,1,10,2],[7,1,7,6],[7,7,7,9],[70,8,72,9],[14,1,14,2],[2,1,2,9],[3,1,5,2],[3,3,3,7],[3,8,5,9],[4,7,5,7],[4,3,5,3],[4,4,5,4],[4,5,5,5],[4,6,5,6],[12,1,12,2],[13,1,13,2],[25,1,25,2],[67,1,67,2],[67,8,69,9],[68,1,68,2],[69,1,69,2],[25,8,30,9],[31,8,41,9],[32,1,32,2],[33,1,33,2],[37,1,37,2],[38,1,38,2],[39,1,39,2],[40,1,40,2],[41,1,41,2],[42,8,53,9],[51,1,51,2],[47,1,47,2],[48,1,48,2],[49,1,49,2],[50,1,50,2],[42,1,42,2],[43,1,43,2],[44,1,44,2],[45,1,45,2],[46,1,46,2],[234,1,234,2],[235,1,235,2],[80,1,80,9],[91,1,91,2],[92,1,92,2],[74,1,74,2],[76,1,76,2],[77,1,77,2],[78,1,78,2],[78,8,78,9],[83,1,83,2],[84,1,84,2],[86,1,86,2],[85,1,85,2],[162,1,162,2],[73,8,77,9],[97,1,97,2],[98,1,98,2],[99,1,99,2],[87,1,87,2],[92,8,99,9],[93,1,93,2],[115,1,115,2],[94,1,94,2],[232,1,232,9],[100,1,100,2],[100,8,105,9],[73,1,73,2],[63,1,63,2],[61,1,61,2],[62,1,62,2],[96,1,96,2],[233,1,233,2],[95,1,95,2],[124,1,124,2],[125,1,125,2],[116,1,116,2],[101,1,101,2],[102,1,102,2],[103,1,103,2],[104,1,104,2],[105,1,105,2],[106,1,106,2],[117,1,117,2],[107,1,107,2],[108,1,108,2],[109,1,109,2],[110,1,110,2],[142,1,142,2],[142,8,144,9],[143,1,143,2],[144,1,144,2],[145,1,145,2],[146,1,146,2],[147,1,147,2],[88,1,88,2],[89,1,89,2],[90,1,90,2],[129,8,134,9],[130,1,130,2],[131,1,131,2],[132,1,132,2],[133,1,133,2],[134,1,134,2],[139,1,139,2],[140,1,140,2],[141,1,141,2],[175,8,180,9],[176,1,176,2],[155,1,155,9],[177,1,177,2],[178,1,178,2],[179,1,179,2],[173,1,173,2],[174,1,174,2],[175,1,175,2],[166,1,166,2],[167,1,167,2],[167,8,174,9],[168,1,168,2],[163,1,163,2],[164,1,164,2],[165,1,165,2],[169,1,169,2],[170,1,170,2],[171,1,171,2],[172,1,172,2],[204,8,209,9],[205,1,205,2],[206,1,206,2],[207,1,207,2],[192,1,192,2],[193,1,193,2],[194,1,194,2],[195,1,195,2],[196,1,196,2],[197,1,197,2],[208,1,208,2],[209,1,209,2],[192,8,203,9],[198,1,198,2],[199,1,199,2],[200,1,200,2],[201,1,201,2],[202,1,202,2],[203,1,203,2],[204,1,204,2],[189,1,189,2],[190,1,190,2],[191,1,191,2],[75,1,75,2],[182,1,182,2],[183,1,183,2],[184,1,184,2],[185,1,185,2],[186,1,186,2],[129,1,129,2],[123,1,123,2],[122,1,122,2],[148,1,148,2],[187,1,187,2],[188,1,188,2],[180,1,180,2],[181,1,181,2],[150,1,150,2],[111,1,111,2],[138,1,138,2],[149,1,149,2],[126,1,126,2],[127,1,127,2],[128,1,128,2],[245,1,245,9],[230,1,230,9],[224,1,224,2],[226,1,226,2],[227,1,227,2],[228,1,228,2],[228,8,228,9],[217,1,217,2],[217,8,219,9],[218,1,218,2],[219,1,219,2],[220,1,220,2],[221,1,221,2],[222,1,222,2],[225,1,225,2],[223,1,223,2],[223,8,227,9],[243,1,243,2],[236,1,236,2],[237,1,237,2],[238,1,238,2],[240,1,240,2],[241,1,241,2],[242,1,242,2]]}
[]
[null,{"$f":"CONCATENATE('Project Overview'!F27,\" Transportation Related Amenities (TRA) Sources and Uses Budget   \",\"App \",'Project Overview'!E4)","v":" Transportation Related Amenities (TRA) Sources and Uses Budget   App "}]
[null,"If proposing multiple distinct TRA Capital Projects, provide detail for each Project in separate budgets below.  Amounts from each budget will autosum at the bottom. The sum will be used to determine the total TRA funds requested and cost cap. "]
[null,"Cost Category",null,"ALL FUNDING SOURCES",null,null,null,null,"Comments"]
[null,null,null,{"$f":"'Threshold Requirements'!J178","v":"AHSC TRA Grant"},{"$f":"'Threshold Requirements'!J179","v":0},{"$f":"'Threshold Requirements'!J180","v":0},{"$f":"'Threshold Requirements'!J181","v":0},"Sources Total"]
[]
[]
[null,{"$f":"CONCATENATE(\"TRA BUDGET #1\",\" - \",'Project Overview'!$F$79)","v":"TRA BUDGET #1 - "}]
[null,"Environmental review/studies",null,null,null,null,null,{"$f":"SUM(D9:G9)","v":0}]
[null,"Plan Specification and Estimates",null,null,null,null,null,0]
[null,"Right of way support costs",null,null,null,null,null,0]
[null,"Site or right of way acquisition for Cap. Improvement Project",null,null,null,null,null,0]
[null,"Other Soft Costs (Specify)",null,null,null,null,null,0]
[null,"Other Soft Costs (Specify)",null,null,null,null,null,0]
[null,"Other Soft Costs (Specify)",null,null,null,null,null,0]
[null,"Other Soft Costs (Specify)",null,null,null,null,null,0]
[null,"Total Soft Costs",null,{"$f":"SUM(D9:D16)","v":0},{"$f":"SUM(E9:E16)","v":0},0,0,0]
[null,"Clearing and Grubbing",null,null,null,null,null,{"$f":"SUM(D18:G18)","v":0}]
[null,"Demolition",null,null,null,null,null,0]
[null,"Grading",null,null,null,null,null,0]
[null,"Soil Stabilization (Lime, etc.)",null,null,null,null,null,0]
[null,"Erosion/Weed Control",null,null,null,null,null,0]
[null,"Dewatering",null,null,null,null,null,0]
[null,"Other Site Preparation (Specify)",null,null,null,null,null,0]
[null,"Total Site Preparation",null,{"$f":"SUM(D18:D24)","v":0},0,0,0,{"$f":"SUM(H18:H24)","v":0}]
[null,"Sanitary Sewer",null,null,null,null,null,{"$f":"SUM(D26:G26)","v":0}]
[null,"Irrigation",null,null,null,null,null,{"$f":"SUM(D27:G27)","v":0}]
[null,"Storm Drain",null,null,null,null,null,{"$f":"SUM(D28:G28)","v":0}]
[null,"Detention Basin/Culverts",null,null,null,null,null,{"$f":"SUM(D29:G29)","v":0}]
[null,"Other Site Utilities (Specify)",null,null,null,null,null,{"$f":"SUM(D30:G30)","v":0}]
[null,"Total Site Utilities",null,{"$f":"SUM(D26:D30)","v":0},0,0,0,{"$f":"SUM(H26:H30)","v":0}]
[null,"Aggregate Base",null,null,null,null,null,{"$f":"SUM(D32:G32)","v":0}]
[null,"Asphalt Pavement",null,null,null,null,null,0]
[null,"Sidewalk, Curb and Gutter",null,null,null,null,null,0]
[null,"Street Lights",null,null,null,null,null,0]
[null,"Striping/Barricades (Bicycle Facilities)",null,null,null,null,null,0]
[null,"Signage",null,null,null,null,null,0]
[null,"Crossing and Traffic Signals",null,null,null,null,null,0]
[null,"Roundabouts, median islands or curb extensions",null,null,null,null,null,0]
[null,"Other traffic calming surface improvements",null,null,null,null,null,0]
[null,"Other Street Improvements (Specify)",null,null,null,null,null,0]
[null,"Total Complete Streets Improvements - Construction",null,{"$f":"SUM(D32:D41)","v":0},0,0,0,0]
[null,"Striping/Barricades (for dedicated bus lanes)",null,null,null,null,null,{"$f":"SUM(D43:G43)","v":0}]
[null,"Sidewalk, Curb, and Gutter",null,null,null,null,null,0]
[null,"Street Lights",null,null,null,null,null,0]
[null,"Signage",null,null,null,null,null,0]
[null,"Signaling Prioritization Technology ",null,null,null,null,null,0]
[null,"Boarding infrastructure",null,null,null,null,null,0]
[null,"Seating/Benches",null,null,null,null,null,0]
[null,"Bus/Transit Shelters",null,null,null,null,null,0]
[null,"Other ITS Technology",null,null,null,null,null,0]
[null,"Other Transit Station or Stop (Specify)",null,null,null,null,null,0]
[null,"Other Transit Station or Stop (Specify)",null,null,null,null,null,0]
[null,"Total Transit Station or Stop -  Construction",null,{"$f":"SUM(D43:D53)","v":0},0,0,0,0]
[null,"Street Trees",null,null,null,null,null,{"$f":"SUM(D55:G55)","v":0}]
[null,"Bioswales",null,null,null,null,null,{"$f":"SUM(D56:G56)","v":0}]
[null,"Landscaping",null,null,null,null,null,{"$f":"SUM(D57:G57)","v":0}]
[null,"Other Urban Greening (Specify)",null,null,null,null,null,{"$f":"SUM(D58:G58)","v":0}]
[null,"Other Urban Greening (Specify)",null,null,null,null,null,{"$f":"SUM(D59:G59)","v":0}]
[null,"Total Urban Greening",null,{"$f":"SUM(D55:D59)","v":0},{"$f":"SUM(E55:E59)","v":0},0,0,0]
[null,"Street Furniture",null,null,null,null,null,{"$f":"SUM(D61:G61)","v":0}]
[null,"Bicycle Repair Kiosks",null,null,null,null,null,0]
[null,"Bicycle Storage or Parking",null,null,null,null,null,0]
[null,"Drinking Fountains",null,null,null,null,null,0]
[null,"Other Amenities (Specify)",null,null,null,null,null,0]
[null,"Other Amenities (Specify)",null,null,null,null,null,0]
[null,"Total Amenities",null,{"$f":"SUM(D61:D66)","v":0},{"$f":"SUM(E61:E66)","v":0},0,0,0]
[null,"Provide Name of Impact Fee (Specify)",null,null,null,null,null,{"$f":"SUM(D68:G68)","v":0}]
[null,"Provide Name of Impact Fee (Specify)",null,null,null,null,null,{"$f":"SUM(D69:G69)","v":0}]
[null,"Total Impact Fees",null,{"$f":"SUM(D68:D69)","v":0},0,0,0,{"$f":"SUM(H68:H69)","v":0}]
[null,"Other Activity Costs (Specify)",null,null,null,null,null,{"$f":"SUM(D71:G71)","v":0}]
[null,"Other Activity Costs (Specify)",null,null,null,null,null,{"$f":"SUM(D72:G72)","v":0}]
[null,"Total Activity Delivery Costs",null,{"$f":"SUM(D71:D72)","v":0},0,0,0,{"$f":"SUM(H71:H72)","v":0}]
[null,"Employee Reporting",null,null,null,null,null,{"$f":"SUM(D74:G74)","v":0}]
[null,"Vehicles",null,null,null,null,null,{"$f":"SUM(D75:G75)","v":0}]
[null,"Other Capital Costs (Specify)",null,null,null,null,null,{"$f":"SUM(D76:G76)","v":0}]
[null,"Other Capital Costs (Specify)",null,null,null,null,null,{"$f":"SUM(D77:G77)","v":0}]
[null,"Total Other Capital Asset Costs",null,{"$f":"SUM(D74:D77)","v":0},{"$f":"SUM(E74:E77)","v":0},0,0,0]
[null,{"$f":"CONCATENATE('Project Overview'!$F$79,\" Total Budgeted Project Costs\")","v":" Total Budgeted Project Costs"},null,{"$f":"SUM(D78,D73,D70,D67,D60,D54,D42,D31,D25,D17)","v":0},{"$f":"SUM(E78,E73,E70,E67,E60,E54,E42,E31,E25,E17)","v":0},0,0,0]
[null,"Provide Urban Greening Details and explain unusual or extraordinary circumstances that have resulted in higher than expected Project costs; provide a justification as to why these costs are reasonable. "]
[]
[]
[null,{"$f":"CONCATENATE(\"TRA BUDGET #2\",\" - \",'Project Overview'!$F$87)","v":"TRA BUDGET #2 - "}]
[null,"Environmental review/studies",null,null,null,null,null,{"$f":"SUM(D84:G84)","v":0}]
[null,"Plan Specification and Estimates",null,null,null,null,null,0]
[null,"Right of way support costs",null,null,null,null,null,0]
[null,"Site or right of way acquisition for Cap. Improvement Project",null,null,null,null,null,0]
[null,"Other Soft Costs (Specify)",null,null,null,null,null,0]
[null,"Other Soft Costs (Specify)",null,null,null,null,null,0]
[null,"Other Soft Costs (Specify)",null,null,null,null,null,0]
[null,"Other Soft Costs (Specify)",null,null,null,null,null,0]
[null,"Total Soft Costs",null,{"$f":"SUM(D84:D91)","v":0},{"$f":"SUM(E84:E91)","v":0},0,0,0]
[null,"Clearing and Grubbing",null,null,null,null,null,{"$f":"SUM(D93:G93)","v":0}]
[null,"Demolition",null,null,null,null,null,0]
[null,"Grading",null,null,null,null,null,0]
[null,"Soil Stabilization (Lime, etc.)",null,null,null,null,null,0]
[null,"Erosion/Weed Control",null,null,null,null,null,0]
[null,"Dewatering",null,null,null,null,null,0]
[null,"Other Site Preparation (Specify)",null,null,null,null,null,0]
[null,"Total Site Preparation",null,{"$f":"SUM(D93:D99)","v":0},0,0,0,{"$f":"SUM(H93:H99)","v":0}]
[null,"Sanitary Sewer",null,null,null,null,null,{"$f":"SUM(D101:G101)","v":0}]
[null,"Irrigation",null,null,null,null,null,{"$f":"SUM(D102:G102)","v":0}]
[null,"Storm Drain",null,null,null,null,null,{"$f":"SUM(D103:G103)","v":0}]
[null,"Detention Basin/Culverts",null,null,null,null,null,{"$f":"SUM(D104:G104)","v":0}]
[null,"Other Site Utilities (Specify)",null,null,null,null,null,{"$f":"SUM(D105:G105)","v":0}]
[null,"Total Site Utilities",null,{"$f":"SUM(D101:D105)","v":0},0,0,0,{"$f":"SUM(H101:H105)","v":0}]
[null,"Aggregate Base",null,null,null,null,null,{"$f":"SUM(D107:G107)","v":0}]
[null,"Asphalt Pavement",null,null,null,null,null,0]
[null,"Sidewalk, Curb and Gutter",null,null,null,null,null,0]
[null,"Street Lights",null,null,null,null,null,0]
[null,"Striping/Barricades (Bicycle Facilities)",null,null,null,null,null,0]
[null,"Signage",null,null,null,null,null,0]
[null,"Crossing and Traffic Signals",null,null,null,null,null,0]
[null,"Roundabouts, median islands or curb extensions",null,null,null,null,null,0]
[null,"Other traffic calming surface improvements",null,null,null,null,null,0]
[null,"Other Street Improvements (Specify)",null,null,null,null,null,0]
[null,"Total Complete Streets Improvements - Construction",null,{"$f":"SUM(D107:D116)","v":0},0,0,0,0]
[null,"Striping/Barricades (for dedicated bus lanes)",null,null,null,null,null,{"$f":"SUM(D118:G118)","v":0}]
[null,"Sidewalk, Curb, and Gutter",null,null,null,null,null,0]
[null,"Street Lights",null,null,null,null,null,0]
[null,"Signage",null,null,null,null,null,0]
[null,"Signaling Prioritization Technology ",null,null,null,null,null,0]
[null,"Boarding infrastructure",null,null,null,null,null,0]
[null,"Seating/Benches",null,null,null,null,null,0]
[null,"Bus/Transit Shelters",null,null,null,null,null,0]
[null,"Other ITS Technology",null,null,null,null,null,0]
[null,"Other Transit Station or Stop (Specify)",null,null,null,null,null,0]
[null,"Other Transit Station or Stop (Specify)",null,null,null,null,null,0]
[null,"Total Transit Station or Stop -  Construction",null,{"$f":"SUM(D118:D128)","v":0},0,0,0,0]
[null,"Street Trees",null,null,null,null,null,{"$f":"SUM(D130:G130)","v":0}]
[null,"Bioswales",null,null,null,null,null,{"$f":"SUM(D131:G131)","v":0}]
[null,"Landscaping",null,null,null,null,null,{"$f":"SUM(D132:G132)","v":0}]
[null,"Other Urban Greening (Specify)",null,null,null,null,null,{"$f":"SUM(D133:G133)","v":0}]
[null,"Other Urban Greening (Specify)",null,null,null,null,null,{"$f":"SUM(D134:G134)","v":0}]
[null,"Total Urban Greening",null,{"$f":"SUM(D130:D134)","v":0},{"$f":"SUM(E130:E134)","v":0},0,0,0]
[null,"Street Furniture",null,null,null,null,null,{"$f":"SUM(D136:G136)","v":0}]
[null,"Bicycle Repair Kiosks",null,null,null,null,null,0]
[null,"Bicycle Storage or Parking",null,null,null,null,null,0]
[null,"Drinking Fountains",null,null,null,null,null,0]
[null,"Other Amenities (Specify)",null,null,null,null,null,0]
[null,"Other Amenities (Specify)",null,null,null,null,null,0]
[null,"Total Amenities",null,{"$f":"SUM(D136:D141)","v":0},{"$f":"SUM(E136:E141)","v":0},0,0,0]
[null,"Provide Name of Impact Fee (Specify)",null,null,null,null,null,{"$f":"SUM(D143:G143)","v":0}]
[null,"Provide Name of Impact Fee (Specify)",null,null,null,null,null,{"$f":"SUM(D144:G144)","v":0}]
[null,"Total Impact Fees",null,{"$f":"SUM(D143:D144)","v":0},0,0,0,{"$f":"SUM(H143:H144)","v":0}]
[null,"Other Activity Costs (Specify)",null,null,null,null,null,{"$f":"SUM(D146:G146)","v":0}]
[null,"Other Activity Costs (Specify)",null,null,null,null,null,{"$f":"SUM(D147:G147)","v":0}]
[null,"Total Activity Delivery Costs",null,{"$f":"SUM(D146:D147)","v":0},0,0,0,{"$f":"SUM(H146:H147)","v":0}]
[null,"Employee Reporting",null,null,null,null,null,{"$f":"SUM(D149:G149)","v":0}]
[null,"Vehicles",null,null,null,null,null,{"$f":"SUM(D150:G150)","v":0}]
[null,"Other Capital Costs (Specify)",null,null,null,null,null,{"$f":"SUM(D151:G151)","v":0}]
[null,"Other Capital Costs (Specify)",null,null,null,null,null,{"$f":"SUM(D152:G152)","v":0}]
[null,"Total Other Capital Asset Costs",null,{"$f":"SUM(D149:D152)","v":0},{"$f":"SUM(E149:E152)","v":0},0,0,0]
[null,{"$f":"CONCATENATE('Project Overview'!$F$87,\" Total Budgeted Project Costs\")","v":" Total Budgeted Project Costs"},null,{"$f":"SUM(D153,D148,D145,D142,D135,D129,D117,D106,D100,D92)","v":0},{"$f":"SUM(E153,E148,E145,E142,E135,E129,E117,E106,E100,E92)","v":0},0,{"$f":"SUM(G153,G148,G145,G142,G135,G129,G117,G106,G100,G92)","v":0},0]
[null,"Provide Urban Greening Details and explain unusual or extraordinary circumstances that have resulted in higher than expected Project costs; provide a justification as to why these costs are reasonable. "]
[]
[]
[null,{"$f":"CONCATENATE(\"TRA BUDGET #3\",\" - \",'Project Overview'!$F$95)","v":"TRA BUDGET #3 - "}]
[null,"Environmental review/studies",null,null,null,null,null,{"$f":"SUM(D159:G159)","v":0}]
[null,"Plan Specification and Estimates",null,null,null,null,null,0]
[null,"Right of way support costs",null,null,null,null,null,0]
[null,"Site or right of way acquisition for Cap. Improvement Project",null,null,null,null,null,0]
[null,"Other Soft Costs (Specify)",null,null,null,null,null,0]
[null,"Other Soft Costs (Specify)",null,null,null,null,null,0]
[null,"Other Soft Costs (Specify)",null,null,null,null,null,0]
[null,"Other Soft Costs (Specify)",null,null,null,null,null,0]
[null,"Total Soft Costs",null,{"$f":"SUM(D159:D166)","v":0},{"$f":"SUM(E159:E166)","v":0},0,0,0]
[null,"Clearing and Grubbing",null,null,null,null,null,{"$f":"SUM(D168:G168)","v":0}]
[null,"Demolition",null,null,null,null,null,0]
[null,"Grading",null,null,null,null,null,0]
[null,"Soil Stabilization (Lime, etc.)",null,null,null,null,null,0]
[null,"Erosion/Weed Control",null,null,null,null,null,0]
[null,"Dewatering",null,null,null,null,null,0]
[null,"Other Site Preparation (Specify)",null,null,null,null,null,0]
[null,"Total Site Preparation",null,{"$f":"SUM(D168:D174)","v":0},0,0,0,{"$f":"SUM(H168:H174)","v":0}]
[null,"Sanitary Sewer",null,null,null,null,null,{"$f":"SUM(D176:G176)","v":0}]
[null,"Irrigation",null,null,null,null,null,{"$f":"SUM(D177:G177)","v":0}]
[null,"Storm Drain",null,null,null,null,null,{"$f":"SUM(D178:G178)","v":0}]
[null,"Detention Basin/Culverts",null,null,null,null,null,{"$f":"SUM(D179:G179)","v":0}]
[null,"Other Site Utilities (Specify)",null,null,null,null,null,{"$f":"SUM(D180:G180)","v":0}]
[null,"Total Site Utilities",null,{"$f":"SUM(D176:D180)","v":0},0,0,0,{"$f":"SUM(H176:H180)","v":0}]
[null,"Aggregate Base",null,null,null,null,null,{"$f":"SUM(D182:G182)","v":0}]
[null,"Asphalt Pavement",null,null,null,null,null,0]
[null,"Sidewalk, Curb and Gutter",null,null,null,null,null,0]
[null,"Street Lights",null,null,null,null,null,0]
[null,"Striping/Barricades (Bicycle Facilities)",null,null,null,null,null,0]
[null,"Signage",null,null,null,null,null,0]
[null,"Crossing and Traffic Signals",null,null,null,null,null,0]
[null,"Roundabouts, median islands or curb extensions",null,null,null,null,null,0]
[null,"Other traffic calming surface improvements",null,null,null,null,null,0]
[null,"Other Street Improvements (Specify)",null,null,null,null,null,0]
[null,"Total Complete Streets Improvements - Construction",null,{"$f":"SUM(D182:D191)","v":0},0,0,0,0]
[null,"Striping/Barricades (for dedicated bus lanes)",null,null,null,null,null,{"$f":"SUM(D193:G193)","v":0}]
[null,"Sidewalk, Curb, and Gutter",null,null,null,null,null,0]
[null,"Street Lights",null,null,null,null,null,0]
[null,"Signage",null,null,null,null,null,0]
[null,"Signaling Prioritization Technology ",null,null,null,null,null,0]
[null,"Boarding infrastructure",null,null,null,null,null,0]
[null,"Seating/Benches",null,null,null,null,null,0]
[null,"Bus/Transit Shelters",null,null,null,null,null,0]
[null,"Other ITS Technology",null,null,null,null,null,0]
[null,"Other Transit Station or Stop (Specify)",null,null,null,null,null,0]
[null,"Other Transit Station or Stop (Specify)",null,null,null,null,null,0]
[null,"Total Transit Station or Stop -  Construction",null,{"$f":"SUM(D193:D203)","v":0},0,0,0,0]
[null,"Street Trees",null,null,null,null,null,{"$f":"SUM(D205:G205)","v":0}]
[null,"Bioswales",null,null,null,null,null,{"$f":"SUM(D206:G206)","v":0}]
[null,"Landscaping",null,null,null,null,null,{"$f":"SUM(D207:G207)","v":0}]
[null,"Other Urban Greening (Specify)",null,null,null,null,null,{"$f":"SUM(D208:G208)","v":0}]
[null,"Other Urban Greening (Specify)",null,null,null,null,null,{"$f":"SUM(D209:G209)","v":0}]
[null,"Total Urban Greening",null,{"$f":"SUM(D205:D209)","v":0},{"$f":"SUM(E205:E209)","v":0},0,0,0]
[null,"Street Furniture",null,null,null,null,null,{"$f":"SUM(D211:G211)","v":0}]
[null,"Bicycle Repair Kiosks",null,null,null,null,null,0]
[null,"Bicycle Storage or Parking",null,null,null,null,null,0]
[null,"Drinking Fountains",null,null,null,null,null,0]
[null,"Other Amenities (Specify)",null,null,null,null,null,0]
[null,"Other Amenities (Specify)",null,null,null,null,null,0]
[null,"Total Amenities",null,{"$f":"SUM(D211:D216)","v":0},{"$f":"SUM(E211:E216)","v":0},0,0,0]
[null,"Provide Name of Impact Fee (Specify)",null,null,null,null,null,{"$f":"SUM(D218:G218)","v":0}]
[null,"Provide Name of Impact Fee (Specify)",null,null,null,null,null,{"$f":"SUM(D219:G219)","v":0}]
[null,"Total Impact Fees",null,{"$f":"SUM(D218:D219)","v":0},0,0,0,{"$f":"SUM(H218:H219)","v":0}]
[null,"Other Activity Costs (Specify)",null,null,null,null,null,{"$f":"SUM(D221:G221)","v":0}]
[null,"Other Activity Costs (Specify)",null,null,null,null,null,{"$f":"SUM(D222:G222)","v":0}]
[null,"Total Activity Delivery Costs",null,{"$f":"SUM(D221:D222)","v":0},0,0,0,{"$f":"SUM(H221:H222)","v":0}]
[null,"Employee Reporting",null,null,null,null,null,{"$f":"SUM(D224:G224)","v":0}]
[null,"Vehicles",null,null,null,null,null,{"$f":"SUM(D225:G225)","v":0}]
[null,"Other Capital Costs (Specify)",null,null,null,null,null,{"$f":"SUM(D226:G226)","v":0}]
[null,"Other Capital Costs (Specify)",null,null,null,null,null,{"$f":"SUM(D227:G227)","v":0}]
[null,"Total Other Capital Asset Costs",null,{"$f":"SUM(D224:D227)","v":0},{"$f":"SUM(E224:E227)","v":0},0,0,0]
[null,{"$f":"CONCATENATE('Project Overview'!$F$95,\" Total Budgeted Project Costs\")","v":" Total Budgeted Project Costs"},null,{"$f":"SUM(D228,D223,D220,D217,D210,D204,D192,D181,D175,D167)","v":0},{"$f":"SUM(E228,E223,E220,E217,E210,E204,E192,E181,E175,E167)","v":0},0,0,0]
[null,"Provide Urban Greening Details and explain unusual or extraordinary circumstances that have resulted in higher than expected Project costs; provide a justification as to why these costs are reasonable. "]
[]
[]
[null,"TOTAL TRANSPORTATION RELATED AMENITIES (TRA)  BUDGET"]
[null,"Total Soft Costs",null,{"$f":"D17+D92+D167","v":0},{"$f":"E17+E92+E167","v":0},0,0,0]
[null,"Total Site Preparation",null,{"$f":"D25+D100+D175","v":0},0,0,0,0]
[null,"Total Site Utilities",null,{"$f":"D31+D106+D181","v":0},0,0,0,0]
[null,"Total Complete Streets Improvements - Construction",null,{"$f":"D42+D117+D192","v":0},0,0,0,0]
[null,"Total Transit Station or Stop -  Construction",null,{"$f":"D54+D129+D204","v":0},{"$f":"E54+E129+E204","v":0},0,0,0]
[null,"Total Urban Greening",null,{"$f":"D60+D135+D210","v":0},0,0,0,0]
[null,"Total Amenities",null,{"$f":"D67+D142+D217","v":0},0,0,0,0]
[null,"Total Impact Fees",null,{"$f":"D70+D145+D220","v":0},0,0,0,0]
[null,"Total Activity Delivery Costs",null,{"$f":"D73+D148+D223","v":0},0,0,0,0]
[null,"Total Other Capital Asset Costs",null,{"$f":"D78+D153+D228","v":0},{"$f":"E78+E153+E228","v":0},0,0,0]
[null,"Total TRA Budgeted Project Costs",null,{"$f":"SUM(D234:D243)","v":0},0,0,0,0]
[]
[null,"End of Document"]

{"sheet":"PGM S&U Budget","index":10,"n_rows":176,"n_cols":9,"rows_kept":176,"cut":false,"hidden":true,"merged":[[52,1,52,2],[2,1,2,9],[3,1,5,2],[3,3,3,7],[3,8,5,9],[4,7,5,7],[4,3,5,3],[4,4,5,4],[4,5,5,5],[4,6,5,6],[41,1,41,2],[14,1,14,2],[15,1,15,2],[29,1,29,2],[24,1,24,2],[26,1,26,2],[27,1,27,2],[7,1,7,9],[8,8,13,9],[11,1,11,2],[12,1,12,2],[13,1,13,2],[10,1,10,2],[9,1,9,2],[8,1,8,2],[22,1,22,2],[23,1,23,2],[31,1,31,2],[36,1,36,2],[18,1,18,2],[17,1,17,2],[19,1,19,2],[20,1,20,2],[32,1,32,2],[34,1,34,9],[35,8,40,9],[37,1,37,2],[38,1,38,2],[39,1,39,2],[40,1,40,2],[21,1,21,2],[32,8,32,9],[35,1,35,2],[19,8,31,9],[25,1,25,2],[28,1,28,2],[16,1,16,2],[42,1,42,2],[43,1,43,2],[44,1,44,2],[45,1,45,2],[59,8,59,9],[62,1,62,2],[63,1,63,2],[56,1,56,2],[57,1,57,2],[58,1,58,2],[59,1,59,2],[46,1,46,2],[47,1,47,2],[48,1,48,2],[49,1,49,2],[50,1,50,2],[51,1,51,2],[53,1,53,2],[62,8,67,9],[41,8,45,9],[46,8,58,9],[64,1,64,2],[54,1,54,2],[55,1,55,2],[169,1,169,9],[170,1,170,2],[171,1,171,2],[172,1,172,2],[68,8,72,9],[73,8,85,9],[86,8,86,9],[83,1,83,2],[84,1,84,2],[85,1,85,2],[86,1,86,2],[73,1,73,2],[74,1,74,2],[75,1,75,2],[76,1,76,2],[69,1,69,2],[70,1,70,2],[71,1,71,2],[72,1,72,2],[79,1,79,2],[77,1,77,2],[78,1,78,2],[80,1,80,2],[81,1,81,2],[82,1,82,2],[65,1,65,2],[66,1,66,2],[67,1,67,2],[68,1,68,2],[1,1,1,9],[170,8,173,9],[88,1,88,9],[89,1,89,2],[89,8,94,9],[90,1,90,2],[91,1,91,2],[92,1,92,2],[93,1,93,2],[94,1,94,2],[95,1,95,2],[96,1,96,2],[97,1,97,2],[98,1,98,2],[99,1,99,2],[100,1,100,2],[100,8,112,9],[101,1,101,2],[102,1,102,2],[173,1,173,2],[30,1,30,2],[61,1,61,9],[103,1,103,2],[104,1,104,2],[105,1,105,2],[106,1,106,2],[107,1,107,2],[108,1,108,2],[109,1,109,2],[110,1,110,2],[111,1,111,2],[112,1,112,2],[113,1,113,2],[113,8,113,9],[115,1,115,9],[116,1,116,2],[116,8,121,9],[117,1,117,2],[118,1,118,2],[119,1,119,2],[120,1,120,2],[125,1,125,2],[126,1,126,2],[127,1,127,2],[127,8,139,9],[128,1,128,2],[129,1,129,2],[130,1,130,2],[131,1,131,2],[132,1,132,2],[133,1,133,2],[134,1,134,2],[135,1,135,2],[136,1,136,2],[137,1,137,2],[138,1,138,2],[139,1,139,2],[175,1,175,9],[14,8,18,9],[95,8,99,9],[122,8,126,9],[142,1,142,9],[143,1,143,2],[143,8,148,9],[144,1,144,2],[145,1,145,2],[146,1,146,2],[147,1,147,2],[148,1,148,2],[149,1,149,2],[149,8,153,9],[150,1,150,2],[151,1,151,2],[152,1,152,2],[153,1,153,2],[121,1,121,2],[140,1,140,2],[140,8,140,9],[122,1,122,2],[123,1,123,2],[124,1,124,2],[167,1,167,2],[167,8,167,9],[154,1,154,2],[154,8,166,9],[155,1,155,2],[156,1,156,2],[157,1,157,2],[158,1,158,2],[159,1,159,2],[160,1,160,2],[161,1,161,2],[162,1,162,2],[163,1,163,2],[164,1,164,2],[165,1,165,2],[166,1,166,2]]}
[]
[null,{"$f":"CONCATENATE('Project Overview'!F27,\" Programs (PGM) Sources and Uses Budget   \",\"App \",'Project Overview'!E4)","v":" Programs (PGM) Sources and Uses Budget   App "}]
[null,"Amounts from each budget will autosum at the bottom. The sum will be used to determine the total PGM funds requested. "]
[null,"Cost Category",null,"ALL FUNDING SOURCES",null,null,null,null,"Comments"]
[null,null,null,{"$f":"'Threshold Requirements'!J190","v":"AHSC PGM Grant"},{"$f":"'Threshold Requirements'!J191","v":0},{"$f":"'Threshold Requirements'!J192","v":0},{"$f":"'Threshold Requirements'!J193","v":0},"Sources Total"]
[]
[]
[null,{"$f":"CONCATENATE(\"PGM BUDGET #1\",\" - \",'Project Overview'!$F$109)","v":"PGM BUDGET #1 - "}]
[null,"Direct Staff Cost (Specify)",null,null,null,null,null,{"$f":"SUM(D9:G9)","v":0}]
[null,"Direct Staff Cost (Specify)",null,null,null,null,null,{"$f":"SUM(D10:G10)","v":0}]
[null,"Direct Staff Cost (Specify)",null,null,null,null,null,{"$f":"SUM(D11:G11)","v":0}]
[null,"Direct Staff Cost (Specify)",null,null,null,null,null,{"$f":"SUM(D12:G12)","v":0}]
[null,"Direct Staff Cost (Specify)",null,null,null,null,null,{"$f":"SUM(D13:G13)","v":0}]
[null,"Total Direct Staff Costs",null,{"$f":"SUM(D9:D13)","v":0},{"$f":"SUM(E9:E13)","v":0},{"$f":"SUM(F9:F13)","v":0},{"$f":"SUM(G9:G13)","v":0},0]
[null,"Other Indirect Staff Cost (Specify)",null,null,null,null,null,{"$f":"SUM(D15:G15)","v":0}]
[null,"Other Indirect Staff Cost (Specify)",null,null,null,null,null,{"$f":"SUM(D16:G16)","v":0}]
[null,"Other Indirect Staff Cost (Specify)",null,null,null,null,null,{"$f":"SUM(D17:G17)","v":0}]
[null,"Total Indirect Staff Costs",null,{"$f":"SUM(D15:D17)","v":0},{"$f":"SUM(E15:E17)","v":0},0,0,0]
[null,"Total Staff Costs",null,{"$f":"D14+D18","v":0},0,0,0,0]
[null,"Travel",null,null,null,null,null,{"$f":"SUM(D20:G20)","v":0}]
[null,"Equipment",null,null,null,null,null,0]
[null,"Required Transit Passes/Cards (see cell comment)",null,null,null,null,null,0]
[null,"Other Transit Passes",null,null,null,null,null,0]
[null,"Supplies (Specify)",null,null,null,null,null,0]
[null,"Supplies (Specify)",null,null,null,null,null,0]
[null,"Other Capital Costs (Specify)",null,null,null,null,null,0]
[null,"Other Capital Costs (Specify)",null,null,null,null,null,0]
[null,"Other Capital Costs (Specify)",null,null,null,null,null,0]
[null,"Other Capital Costs (Specify)",null,null,null,null,null,0]
[null,"Other Capital Costs (Specify)",null,null,null,null,null,0]
[null,"Other Capital Costs (Specify)",null,null,null,null,null,0]
[null,"Total Other Capital Costs",null,{"$f":"SUM(D20:D31)","v":0},0,0,0,0]
[null,{"$f":"CONCATENATE('Project Overview'!$F$109,\" Total Budgeted Project Costs\")","v":" Total Budgeted Project Costs"},null,{"$f":"D19+D32","v":0},0,0,0,0]
[]
[null,{"$f":"CONCATENATE(\"PGM BUDGET #2\",\" - \",'Project Overview'!$F$123)","v":"PGM BUDGET #2 - "}]
[null,"Direct Staff Cost (Specify)",null,null,null,null,null,{"$f":"SUM(D36:G36)","v":0}]
[null,"Direct Staff Cost (Specify)",null,null,null,null,null,{"$f":"SUM(D37:G37)","v":0}]
[null,"Direct Staff Cost (Specify)",null,null,null,null,null,{"$f":"SUM(D38:G38)","v":0}]
[null,"Direct Staff Cost (Specify)",null,null,null,null,null,{"$f":"SUM(D39:G39)","v":0}]
[null,"Direct Staff Cost (Specify)",null,null,null,null,null,{"$f":"SUM(D40:G40)","v":0}]
[null,"Total Direct Staff Costs",null,{"$f":"SUM(D36:D40)","v":0},{"$f":"SUM(E36:E40)","v":0},0,0,0]
[null,"Other Indirect Staff Cost (Specify)",null,null,null,null,null,{"$f":"SUM(D42:G42)","v":0}]
[null,"Other Indirect Staff Cost (Specify)",null,null,null,null,null,{"$f":"SUM(D43:G43)","v":0}]
[null,"Other Indirect Staff Cost (Specify)",null,null,null,null,null,{"$f":"SUM(D44:G44)","v":0}]
[null,"Total Indirect Staff Costs",null,{"$f":"SUM(D42:D44)","v":0},0,0,0,0]
[null,"Total Staff Costs",null,{"$f":"D41+D45","v":0},0,0,0,0]
[null,"Travel",null,null,null,null,null,{"$f":"SUM(D47:G47)","v":0}]
[null,"Equipment",null,null,null,null,null,0]
[null,"Required Transit Passes/Cards (see cell comment)",null,null,null,null,null,0]
[null,"Other Transit Passes",null,null,null,null,null,0]
[null,"Supplies (Specify)",null,null,null,null,null,0]
[null,"Supplies (Specify)",null,null,null,null,null,0]
[null,"Other Capital Costs (Specify)",null,null,null,null,null,0]
[null,"Other Capital Costs (Specify)",null,null,null,null,null,0]
[null,"Other Capital Costs (Specify)",null,null,null,null,null,0]
[null,"Other Capital Costs (Specify)",null,null,null,null,null,0]
[null,"Other Capital Costs (Specify)",null,null,null,null,null,0]
[null,"Other Capital Costs (Specify)",null,null,null,null,null,0]
[null,"Total Other Capital Costs",null,{"$f":"SUM(D47:D58)","v":0},0,0,0,0]
[null,{"$f":"CONCATENATE('Project Overview'!$F$123,\" Total Budgeted Project Costs\")","v":" Total Budgeted Project Costs"},null,{"$f":"D46+D59","v":0},0,0,0,0]
[]
[null,{"$f":"CONCATENATE(\"PGM BUDGET #3\",\" - \",'Project Overview'!$F$137)","v":"PGM BUDGET #3 - "}]
[null,"Direct Staff Cost (Specify)",null,null,null,null,null,{"$f":"SUM(D63:G63)","v":0}]
[null,"Direct Staff Cost (Specify)",null,null,null,null,null,{"$f":"SUM(D64:G64)","v":0}]
[null,"Direct Staff Cost (Specify)",null,null,null,null,null,{"$f":"SUM(D65:G65)","v":0}]
[null,"Direct Staff Cost (Specify)",null,null,null,null,null,{"$f":"SUM(D66:G66)","v":0}]
[null,"Direct Staff Cost (Specify)",null,null,null,null,null,{"$f":"SUM(D67:G67)","v":0}]
[null,"Total Direct Staff Costs",null,{"$f":"SUM(D63:D67)","v":0},0,0,0,0]
[null,"Other Indirect Staff Cost (Specify)",null,null,null,null,null,{"$f":"SUM(D69:G69)","v":0}]
[null,"Other Indirect Staff Cost (Specify)",null,null,null,null,null,{"$f":"SUM(D70:G70)","v":0}]
[null,"Other Indirect Staff Cost (Specify)",null,null,null,null,null,{"$f":"SUM(D71:G71)","v":0}]
[null,"Total Indirect Staff Costs",null,{"$f":"SUM(D69:D71)","v":0},0,0,0,0]
[null,"Total Staff Costs",null,{"$f":"D68+D72","v":0},0,0,0,0]
[null,"Travel",null,null,null,null,null,{"$f":"SUM(D74:G74)","v":0}]
[null,"Equipment",null,null,null,null,null,0]
[null,"Required Transit Passes/Cards (see cell comment)",null,null,null,null,null,0]
[null,"Other Transit Passes",null,null,null,null,null,0]
[null,"Supplies (Specify)",null,null,null,null,null,0]
[null,"Supplies (Specify)",null,null,null,null,null,0]
[null,"Other Capital Costs (Specify)",null,null,null,null,null,0]
[null,"Other Capital Costs (Specify)",null,null,null,null,null,0]
[null,"Other Capital Costs (Specify)",null,null,null,null,null,0]
[null,"Other Capital Costs (Specify)",null,null,null,null,null,0]
[null,"Other Capital Costs (Specify)",null,null,null,null,null,0]
[null,"Other Capital Costs (Specify)",null,null,null,null,null,0]
[null,"Total Other Capital Costs",null,{"$f":"SUM(D74:D85)","v":0},0,0,0,0]
[null,{"$f":"CONCATENATE('Project Overview'!$F$137,\" Total Budgeted Project Costs\")","v":" Total Budgeted Project Costs"},null,{"$f":"D73+D86","v":0},0,0,0,0]
[]
[null,{"$f":"CONCATENATE(\"PGM BUDGET #4\",\" - \",'Project Overview'!$F$151)","v":"PGM BUDGET #4 - "}]
[null,"Direct Staff Cost (Specify)",null,null,null,null,null,{"$f":"SUM(D90:G90)","v":0}]
[null,"Direct Staff Cost (Specify)",null,null,null,null,null,{"$f":"SUM(D91:G91)","v":0}]
[null,"Direct Staff Cost (Specify)",null,null,null,null,null,{"$f":"SUM(D92:G92)","v":0}]
[null,"Direct Staff Cost (Specify)",null,null,null,null,null,{"$f":"SUM(D93:G93)","v":0}]
[null,"Direct Staff Cost (Specify)",null,null,null,null,null,{"$f":"SUM(D94:G94)","v":0}]
[null,"Total Direct Staff Costs",null,{"$f":"SUM(D90:D94)","v":0},{"$f":"SUM(E90:E94)","v":0},{"$f":"SUM(F90:F94)","v":0},{"$f":"SUM(G90:G94)","v":0},0]
[null,"Other Indirect Staff Cost (Specify)",null,null,null,null,null,{"$f":"SUM(D96:G96)","v":0}]
[null,"Other Indirect Staff Cost (Specify)",null,null,null,null,null,{"$f":"SUM(D97:G97)","v":0}]
[null,"Other Indirect Staff Cost (Specify)",null,null,null,null,null,{"$f":"SUM(D98:G98)","v":0}]
[null,"Total Indirect Staff Costs",null,{"$f":"SUM(D96:D98)","v":0},{"$f":"SUM(E96:E98)","v":0},0,0,0]
[null,"Total Staff Costs",null,{"$f":"D95+D99","v":0},0,0,0,0]
[null,"Travel",null,null,null,null,null,{"$f":"SUM(D101:G101)","v":0}]
[null,"Equipment",null,null,null,null,null,0]
[null,"Required Transit Passes/Cards (see cell comment)",null,null,null,null,null,0]
[null,"Other Transit Passes",null,null,null,null,null,0]
[null,"Supplies (Specify)",null,null,null,null,null,0]
[null,"Supplies (Specify)",null,null,null,null,null,0]
[null,"Other Capital Costs (Specify)",null,null,null,null,null,0]
[null,"Other Capital Costs (Specify)",null,null,null,null,null,0]
[null,"Other Capital Costs (Specify)",null,null,null,null,null,0]
[null,"Other Capital Costs (Specify)",null,null,null,null,null,0]
[null,"Other Capital Costs (Specify)",null,null,null,null,null,0]
[null,"Other Capital Costs (Specify)",null,null,null,null,null,0]
[null,"Total Other Capital Costs",null,{"$f":"SUM(D101:D112)","v":0},0,0,0,0]
[null,{"$f":"CONCATENATE('Project Overview'!$F$151,\" Total Budgeted Project Costs\")","v":" Total Budgeted Project Costs"},null,{"$f":"D100+D113","v":0},0,0,0,0]
[]
[null,{"$f":"CONCATENATE(\"PGM BUDGET #5\",\" - \",'Project Overview'!$F$165)","v":"PGM BUDGET #5 - "}]
[null,"Direct Staff Cost (Specify)",null,null,null,null,null,{"$f":"SUM(D117:G117)","v":0}]
[null,"Direct Staff Cost (Specify)",null,null,null,null,null,{"$f":"SUM(D118:G118)","v":0}]
[null,"Direct Staff Cost (Specify)",null,null,null,null,null,{"$f":"SUM(D119:G119)","v":0}]
[null,"Direct Staff Cost (Specify)",null,null,null,null,null,{"$f":"SUM(D120:G120)","v":0}]
[null,"Direct Staff Cost (Specify)",null,null,null,null,null,{"$f":"SUM(D121:G121)","v":0}]
[null,"Total Direct Staff Costs",null,{"$f":"SUM(D117:D121)","v":0},{"$f":"SUM(E117:E121)","v":0},{"$f":"SUM(F117:F121)","v":0},{"$f":"SUM(G117:G121)","v":0},0]
[null,"Other Indirect Staff Cost (Specify)",null,null,null,null,null,{"$f":"SUM(D123:G123)","v":0}]
[null,"Other Indirect Staff Cost (Specify)",null,null,null,null,null,{"$f":"SUM(D124:G124)","v":0}]
[null,"Other Indirect Staff Cost (Specify)",null,null,null,null,null,{"$f":"SUM(D125:G125)","v":0}]
[null,"Total Indirect Staff Costs",null,{"$f":"SUM(D123:D125)","v":0},{"$f":"SUM(E123:E125)","v":0},0,0,0]
[null,"Total Staff Costs",null,{"$f":"D122+D126","v":0},0,0,0,0]
[null,"Travel",null,null,null,null,null,{"$f":"SUM(D128:G128)","v":0}]
[null,"Equipment",null,null,null,null,null,0]
[null,"Required Transit Passes/Cards (see cell comment)",null,null,null,null,null,0]
[null,"Other Transit Passes",null,null,null,null,null,0]
[null,"Supplies (Specify)",null,null,null,null,null,0]
[null,"Supplies (Specify)",null,null,null,null,null,0]
[null,"Other Capital Costs (Specify)",null,null,null,null,null,0]
[null,"Other Capital Costs (Specify)",null,null,null,null,null,0]
[null,"Other Capital Costs (Specify)",null,null,null,null,null,0]
[null,"Other Capital Costs (Specify)",null,null,null,null,null,0]
[null,"Other Capital Costs (Specify)",null,null,null,null,null,0]
[null,"Other Capital Costs (Specify)",null,null,null,null,null,0]
[null,"Total Other Capital Costs",null,{"$f":"SUM(D128:D139)","v":0},0,0,0,0]
[null,{"$f":"CONCATENATE('Project Overview'!$F$165,\" Total Budgeted Project Costs\")","v":" Total Budgeted Project Costs"},null,{"$f":"D127+D140","v":0},{"$f":"E127+E140","v":0},0,0,0]
[]
[null,{"$f":"CONCATENATE(\"PGM BUDGET #6\",\" - \",'Project Overview'!$F$179)","v":"PGM BUDGET #6 - "}]
[null,"Direct Staff Cost (Specify)",null,null,null,null,null,{"$f":"SUM(D144:G144)","v":0}]
[null,"Direct Staff Cost (Specify)",null,null,null,null,null,{"$f":"SUM(D145:G145)","v":0}]
[null,"Direct Staff Cost (Specify)",null,null,null,null,null,{"$f":"SUM(D146:G146)","v":0}]
[null,"Direct Staff Cost (Specify)",null,null,null,null,null,{"$f":"SUM(D147:G147)","v":0}]
[null,"Direct Staff Cost (Specify)",null,null,null,null,null,{"$f":"SUM(D148:G148)","v":0}]
[null,"Total Direct Staff Costs",null,{"$f":"SUM(D144:D148)","v":0},{"$f":"SUM(E144:E148)","v":0},{"$f":"SUM(F144:F148)","v":0},{"$f":"SUM(G144:G148)","v":0},0]
[null,"Other Indirect Staff Cost (Specify)",null,null,null,null,null,{"$f":"SUM(D150:G150)","v":0}]
[null,"Other Indirect Staff Cost (Specify)",null,null,null,null,null,{"$f":"SUM(D151:G151)","v":0}]
[null,"Other Indirect Staff Cost (Specify)",null,null,null,null,null,{"$f":"SUM(D152:G152)","v":0}]
[null,"Total Indirect Staff Costs",null,{"$f":"SUM(D150:D152)","v":0},{"$f":"SUM(E150:E152)","v":0},0,0,0]
[null,"Total Staff Costs",null,{"$f":"D149+D153","v":0},0,0,0,0]
[null,"Travel",null,null,null,null,null,{"$f":"SUM(D155:G155)","v":0}]
[null,"Equipment",null,null,null,null,null,0]
[null,"Required Transit Passes/Cards (see cell comment)",null,null,null,null,null,0]
[null,"Other Transit Passes",null,null,null,null,null,0]
[null,"Supplies (Specify)",null,null,null,null,null,0]
[null,"Supplies (Specify)",null,null,null,null,null,0]
[null,"Other Capital Costs (Specify)",null,null,null,null,null,0]
[null,"Other Capital Costs (Specify)",null,null,null,null,null,0]
[null,"Other Capital Costs (Specify)",null,null,null,null,null,0]
[null,"Other Capital Costs (Specify)",null,null,null,null,null,0]
[null,"Other Capital Costs (Specify)",null,null,null,null,null,0]
[null,"Other Capital Costs (Specify)",null,null,null,null,null,0]
[null,"Total Other Capital Costs",null,{"$f":"SUM(D155:D166)","v":0},0,0,0,0]
[null,{"$f":"CONCATENATE('Project Overview'!$F$179,\" Total Budgeted Project Costs\")","v":" Total Budgeted Project Costs"},null,{"$f":"D154+D167","v":0},0,0,0,0]
[]
[null,"TOTAL PROGRAMS (PGM) BUDGET"]
[null,"Total Direct Staff Costs",null,{"$f":"D14+D41+D68+D95+D122+D149","v":0},{"$f":"E14+E41+E68+E95+E122+E149","v":0},0,0,0]
[null,"Total Indirect Staff Costs",null,{"$f":"D18+D45+D72+D99+D126+D153","v":0},{"$f":"E18+E45+E72+E99+E126+E153","v":0},0,0,{"$f":"H18+H45+H72+H99+H126+H153","v":0}]
[null,"Total Other Capital Costs",null,{"$f":"D32+D59+D86+D113+D140+D167","v":0},{"$f":"E32+E59+E86+E113+E140+E167","v":0},0,0,0]
[null,"Total PGM Budgeted Project Costs",null,{"$f":"SUM(D171:D173)","v":0},{"$f":"SUM(E171:E173)","v":0},0,{"$f":"SUM(G171:G173)","v":0},{"$f":"SUM(H171:H173)","v":0}]
[]
[null,"End of Document"]

{"sheet":"Dev Sources","index":11,"n_rows":45,"n_cols":23,"rows_kept":45,"cut":false,"hidden":true,"merged":[[44,1,44,9],[1,13,1,19],[1,21,1,22],[2,5,2,6],[2,13,2,14],[2,15,2,17],[41,1,41,9],[42,1,42,9],[1,1,1,4],[1,5,1,6],[1,10,2,12]]}
[]
[null,"Development Sources",null,null,null,"Construction Totals",null,{"$f":"SUMIF(DevSourcesTbl[Construction],\"Construction\",DevSourcesTbl[Residential Amount])","v":0},{"$f":"SUMIF(DevSourcesTbl[Construction],\"Construction\",DevSourcesTbl[Commercial Amount])","v":0},{"$f":"SUMIF(DevSourcesTbl[Construction],\"Construction\",DevSourcesTbl[Total Amount])","v":0},"Construction Terms",null,null,"Permanent Terms",null,null,null,null,null,null,null,"Details of Deferred Costs"]
[null,null,null,null,null,"Permanent Totals",null,{"$f":"SUMIF(DevSourcesTbl[Construction],\"Permanent\",DevSourcesTbl[Residential Amount])","v":0},{"$f":"SUMIF(DevSourcesTbl[Construction],\"Permanent\",DevSourcesTbl[Commercial Amount])","v":0},{"$f":"SUMIF(DevSourcesTbl[Construction],\"Permanent\",DevSourcesTbl[Total Amount])","v":0},null,null,null,"Interest Rate",null,"Repayment Terms",null,null,{"$f":"SUM(DevSourcesTbl[Required\nResidential\nDebt Service])","v":0},{"$f":"SUM(DevSourcesTbl[Required\nCommercial\nDebt Service])","v":0},{"$f":"SUM(DevSourcesTbl[Tax-Exempt\nAmount])","v":0},{"$f":"SUM(V4:V21)","v":0}]
[null,"Construction","Committed?","AHD vs HRI","Source Name (lien priority order)","Source Type","Lien No.","Residential Amount","Commercial Amount","Total Amount","Interest Rate","Required\nPayment ","Loan Term\n(months)","Rate","Type","Amortizing\nPeriod (yrs.)","Type2","Due in (yrs.)","Required\nResidential\nDebt Service","Required\nCommercial\nDebt Service","Tax-Exempt\nAmount","Deferred Amount","Description"]
[null,{"$f":"IF(DevSourcesTbl[[#This Row],[Committed?]]>0,\"Construction\",\"\")","v":"Construction"},"No","HRI","AHSC HRI Grant","State-HCD",null,null,null,{"$f":"SUM(DevSourcesTbl[[#This Row],[Residential Amount]],DevSourcesTbl[[#This Row],[Commercial Amount]])","v":0}]
[null,{"$f":"IF(DevSourcesTbl[[#This Row],[Committed?]]>0,\"Construction\",\"\")","v":""},null,null,null,null,null,null,null,{"$f":"SUM(DevSourcesTbl[[#This Row],[Residential Amount]],DevSourcesTbl[[#This Row],[Commercial Amount]])","v":0}]
[null,{"$f":"IF(DevSourcesTbl[[#This Row],[Committed?]]>0,\"Construction\",\"\")","v":""},null,null,null,null,null,null,null,{"$f":"SUM(DevSourcesTbl[[#This Row],[Residential Amount]],DevSourcesTbl[[#This Row],[Commercial Amount]])","v":0}]
[null,{"$f":"IF(DevSourcesTbl[[#This Row],[Committed?]]>0,\"Construction\",\"\")","v":""},null,null,null,null,null,null,null,{"$f":"SUM(DevSourcesTbl[[#This Row],[Residential Amount]],DevSourcesTbl[[#This Row],[Commercial Amount]])","v":0}]
[null,{"$f":"IF(DevSourcesTbl[[#This Row],[Committed?]]>0,\"Construction\",\"\")","v":""},null,null,null,null,null,null,null,{"$f":"SUM(DevSourcesTbl[[#This Row],[Residential Amount]],DevSourcesTbl[[#This Row],[Commercial Amount]])","v":0}]
[null,{"$f":"IF(DevSourcesTbl[[#This Row],[Committed?]]>0,\"Construction\",\"\")","v":""},null,null,null,null,null,null,null,{"$f":"SUM(DevSourcesTbl[[#This Row],[Residential Amount]],DevSourcesTbl[[#This Row],[Commercial Amount]])","v":0}]
[null,{"$f":"IF(DevSourcesTbl[[#This Row],[Committed?]]>0,\"Construction\",\"\")","v":""},null,null,null,null,null,null,null,{"$f":"SUM(DevSourcesTbl[[#This Row],[Residential Amount]],DevSourcesTbl[[#This Row],[Commercial Amount]])","v":0}]
[null,{"$f":"IF(DevSourcesTbl[[#This Row],[Committed?]]>0,\"Construction\",\"\")","v":""},null,null,null,null,null,null,null,{"$f":"SUM(DevSourcesTbl[[#This Row],[Residential Amount]],DevSourcesTbl[[#This Row],[Commercial Amount]])","v":0}]
[null,{"$f":"IF(DevSourcesTbl[[#This Row],[Committed?]]>0,\"Construction\",\"\")","v":""},null,null,null,null,null,null,null,{"$f":"SUM(DevSourcesTbl[[#This Row],[Residential Amount]],DevSourcesTbl[[#This Row],[Commercial Amount]])","v":0}]
[null,{"$f":"IF(DevSourcesTbl[[#This Row],[Committed?]]>0,\"Construction\",\"\")","v":""},null,null,null,null,null,null,null,{"$f":"SUM(DevSourcesTbl[[#This Row],[Residential Amount]],DevSourcesTbl[[#This Row],[Commercial Amount]])","v":0}]
[null,{"$f":"IF(DevSourcesTbl[[#This Row],[Committed?]]>0,\"Construction\",\"\")","v":""},null,null,null,null,null,null,null,{"$f":"SUM(DevSourcesTbl[[#This Row],[Residential Amount]],DevSourcesTbl[[#This Row],[Commercial Amount]])","v":0}]
[null,{"$f":"IF(DevSourcesTbl[[#This Row],[Committed?]]>0,\"Construction\",\"\")","v":""},null,null,null,null,null,null,null,{"$f":"SUM(DevSourcesTbl[[#This Row],[Residential Amount]],DevSourcesTbl[[#This Row],[Commercial Amount]])","v":0}]
[null,{"$f":"IF(DevSourcesTbl[[#This Row],[Committed?]]>0,\"Construction\",\"\")","v":""},null,null,"Deferred Developer Fees",null,null,null,null,{"$f":"SUM(DevSourcesTbl[[#This Row],[Residential Amount]],DevSourcesTbl[[#This Row],[Commercial Amount]])","v":0}]
[null,{"$f":"IF(DevSourcesTbl[[#This Row],[Committed?]]>0,\"Construction\",\"\")","v":"Construction"},"Yes","AHD","Other Deferred Costs",null,null,{"$f":"IF($V$3>0,$V$3,0)","v":0},null,{"$f":"SUM(DevSourcesTbl[[#This Row],[Residential Amount]],DevSourcesTbl[[#This Row],[Commercial Amount]])","v":0}]
[null,{"$f":"IF(DevSourcesTbl[[#This Row],[Committed?]]>0,\"Construction\",\"\")","v":""},null,null,"Developer Fee Contribution",null,null,null,null,{"$f":"SUM(DevSourcesTbl[[#This Row],[Residential Amount]],DevSourcesTbl[[#This Row],[Commercial Amount]])","v":0}]
[null,{"$f":"IF(DevSourcesTbl[[#This Row],[Committed?]]>0,\"Construction\",\"\")","v":""},null,null,"GP Equity",null,null,null,null,{"$f":"SUM(DevSourcesTbl[[#This Row],[Residential Amount]],DevSourcesTbl[[#This Row],[Commercial Amount]])","v":0}]
[null,{"$f":"IF(DevSourcesTbl[[#This Row],[Committed?]]>0,\"Construction\",\"\")","v":"Construction"},"Yes","AHD","Gross Tax Credit Equity",null,null,null,null,{"$f":"SUM(DevSourcesTbl[[#This Row],[Residential Amount]],DevSourcesTbl[[#This Row],[Commercial Amount]])","v":0}]
[null,"Permanent"]
[null,{"$f":"IF(DevSourcesTbl[[#This Row],[Committed?]]>0,\"Permanent\",\"\")","v":"Permanent"},"No","HRI","AHSC HRI Grant","State-HCD",null,null,null,{"$f":"SUM(DevSourcesTbl[[#This Row],[Residential Amount]],DevSourcesTbl[[#This Row],[Commercial Amount]])","v":0}]
[null,{"$f":"IF(DevSourcesTbl[[#This Row],[Committed?]]>0,\"Permanent\",\"\")","v":"Permanent"},"No","AHD","AHSC AHD Funding","State-HCD",null,null,null,{"$f":"SUM(DevSourcesTbl[[#This Row],[Residential Amount]],DevSourcesTbl[[#This Row],[Commercial Amount]])","v":0}]
[null,{"$f":"IF(DevSourcesTbl[[#This Row],[Committed?]]>0,\"Permanent\",\"\")","v":""},null,null,"Tax-Exempt Bond Loan",null,null,null,null,{"$f":"SUM(DevSourcesTbl[[#This Row],[Residential Amount]],DevSourcesTbl[[#This Row],[Commercial Amount]])","v":0}]
[null,{"$f":"IF(DevSourcesTbl[[#This Row],[Committed?]]>0,\"Permanent\",\"\")","v":""},null,null,null,null,null,null,null,{"$f":"SUM(DevSourcesTbl[[#This Row],[Residential Amount]],DevSourcesTbl[[#This Row],[Commercial Amount]])","v":0}]
[null,{"$f":"IF(DevSourcesTbl[[#This Row],[Committed?]]>0,\"Permanent\",\"\")","v":""},null,null,null,null,null,null,null,{"$f":"SUM(DevSourcesTbl[[#This Row],[Residential Amount]],DevSourcesTbl[[#This Row],[Commercial Amount]])","v":0}]
[null,{"$f":"IF(DevSourcesTbl[[#This Row],[Committed?]]>0,\"Permanent\",\"\")","v":""},null,null,null,null,null,null,null,{"$f":"SUM(DevSourcesTbl[[#This Row],[Residential Amount]],DevSourcesTbl[[#This Row],[Commercial Amount]])","v":0}]
[null,{"$f":"IF(DevSourcesTbl[[#This Row],[Committed?]]>0,\"Permanent\",\"\")","v":""},null,null,null,null,null,null,null,{"$f":"SUM(DevSourcesTbl[[#This Row],[Residential Amount]],DevSourcesTbl[[#This Row],[Commercial Amount]])","v":0}]
[null,{"$f":"IF(DevSourcesTbl[[#This Row],[Committed?]]>0,\"Permanent\",\"\")","v":""},null,null,null,null,null,null,null,{"$f":"SUM(DevSourcesTbl[[#This Row],[Residential Amount]],DevSourcesTbl[[#This Row],[Commercial Amount]])","v":0}]
[null,{"$f":"IF(DevSourcesTbl[[#This Row],[Committed?]]>0,\"Permanent\",\"\")","v":""},null,null,null,null,null,null,null,{"$f":"SUM(DevSourcesTbl[[#This Row],[Residential Amount]],DevSourcesTbl[[#This Row],[Commercial Amount]])","v":0}]
[null,{"$f":"IF(DevSourcesTbl[[#This Row],[Committed?]]>0,\"Permanent\",\"\")","v":""},null,null,null,null,null,null,null,{"$f":"SUM(DevSourcesTbl[[#This Row],[Residential Amount]],DevSourcesTbl[[#This Row],[Commercial Amount]])","v":0}]
[null,{"$f":"IF(DevSourcesTbl[[#This Row],[Committed?]]>0,\"Permanent\",\"\")","v":""},null,null,null,null,null,null,null,{"$f":"SUM(DevSourcesTbl[[#This Row],[Residential Amount]],DevSourcesTbl[[#This Row],[Commercial Amount]])","v":0}]
[null,{"$f":"IF(DevSourcesTbl[[#This Row],[Committed?]]>0,\"Permanent\",\"\")","v":""},null,null,null,null,null,null,null,{"$f":"SUM(DevSourcesTbl[[#This Row],[Residential Amount]],DevSourcesTbl[[#This Row],[Commercial Amount]])","v":0}]
[null,{"$f":"IF(DevSourcesTbl[[#This Row],[Committed?]]>0,\"Permanent\",\"\")","v":""},null,null,null,null,null,null,null,{"$f":"SUM(DevSourcesTbl[[#This Row],[Residential Amount]],DevSourcesTbl[[#This Row],[Commercial Amount]])","v":0}]
[null,{"$f":"IF(DevSourcesTbl[[#This Row],[Committed?]]>0,\"Permanent\",\"\")","v":""},null,null,null,null,null,null,null,{"$f":"SUM(DevSourcesTbl[[#This Row],[Residential Amount]],DevSourcesTbl[[#This Row],[Commercial Amount]])","v":0}]
[null,{"$f":"IF(DevSourcesTbl[[#This Row],[Committed?]]>0,\"Permanent\",\"\")","v":""},null,null,"Deferred Developer Fees",null,null,null,null,{"$f":"SUM(DevSourcesTbl[[#This Row],[Residential Amount]],DevSourcesTbl[[#This Row],[Commercial Amount]])","v":0}]
[null,{"$f":"IF(DevSourcesTbl[[#This Row],[Committed?]]>0,\"Permanent\",\"\")","v":""},null,null,"Developer Fee Contribution",null,null,null,null,{"$f":"SUM(DevSourcesTbl[[#This Row],[Residential Amount]],DevSourcesTbl[[#This Row],[Commercial Amount]])","v":0}]
[null,{"$f":"IF(DevSourcesTbl[[#This Row],[Committed?]]>0,\"Permanent\",\"\")","v":""},null,null,"GP Equity",null,null,null,null,{"$f":"SUM(DevSourcesTbl[[#This Row],[Residential Amount]],DevSourcesTbl[[#This Row],[Commercial Amount]])","v":0}]
[null,{"$f":"IF(DevSourcesTbl[[#This Row],[Committed?]]>0,\"Permanent\",\"\")","v":"Permanent"},"Yes","AHD","Gross Tax Credit Equity",null,null,null,null,{"$f":"SUM(DevSourcesTbl[[#This Row],[Residential Amount]],DevSourcesTbl[[#This Row],[Commercial Amount]])","v":0}]
[]
[null,"Applicant Comments: Include a description of unusual or extraordinary circumstances that have resulted in higher than expected Project costs and provide a justification as to why these costs are reasonable. "]
[]
[]
[null,"End of Document"]

{"sheet":"AHD Dev Budget","index":12,"n_rows":130,"n_cols":8,"rows_kept":130,"cut":false,"hidden":true,"merged":[[1,1,1,6],[87,7,88,7],[91,7,106,7],[110,7,115,7],[62,7,66,7],[67,7,69,7],[17,7,27,7],[4,7,7,7],[9,7,10,7],[13,7,15,7],[31,7,41,7],[44,7,45,7],[49,7,59,7],[72,7,75,7],[78,7,84,7],[3,2,3,7],[129,1,129,7],[126,1,126,4],[125,1,125,4],[121,1,121,4],[122,1,122,4],[123,1,123,4],[124,1,124,4],[16,2,16,7],[30,2,30,7],[43,2,43,7],[48,2,48,7],[109,2,109,7],[61,2,61,7],[71,2,71,7],[77,2,77,7],[86,2,86,7],[90,2,90,7]]}
[]
[null,"AHD Development Budget"]
[null,"DEVELOPMENT COST","Total Project Costs","Residential Costs","Commercial Costs",{"$f":"IF('Project Overview'!H201=\"\",\"30% PVC for New Const/Rehab\",IF('Project Overview'!H201=0.09,\"70% PVC for New Const/Rehab\",IF('Project Overview'!H201=0.04,\"30% PVC for New Const/Rehab\",\"N/A - No tax credits per Dev Sources\")))","v":"30% PVC for New Const/Rehab"},{"$f":"IF('Project Overview'!H201=\"\",\"30% PVC for Acquisition\",IF('Project Overview'!H201=0.09,\"30% PVC for Acquisition\",IF('Project Overview'!H201=0.04,\"30% PVC for Acquisition\",\"N/A - No tax credits per Dev Sources\")))","v":"30% PVC for Acquisition"},"Comments and explanation of basis changes"]
[null,"LAND COST/ACQUISITION"]
[null,"Land Cost or Value",{"$f":"SUM(D5,E5)","v":0}]
[null,"Demolition",{"$f":"SUM(D6,E6)","v":0}]
[null,"Legal",0]
[null,"Land Lease Rent Prepayment",{"$f":"SUM(D8,E8)","v":0}]
[null,"Total Land Cost or Value",0,{"$f":"SUM(D5:D8)","v":0},{"$f":"SUM(E5:E8)","v":0}]
[null,"Existing Improvements Cost or Value",0]
[null,"Off-Site Improvements",0]
[null,"Total Acquisition Cost",0,{"$f":"SUM(D10:D11)","v":0},{"$f":"SUM(E10:E11)","v":0},null,{"$f":"SUM(G10:G11)","v":0}]
[null,"Total Land Cost / Acquisition Cost",0,{"$f":"SUM(D9+D12)","v":0},{"$f":"SUM(E9+E12)","v":0}]
[null,"Predevelopment Interest/Holding Cost",0]
[null,"Assumed, Accrued Interest on Existing Debt (Rehab/Acq)",0]
[null,"Excess Purchase Price Over Appraisal",0]
[null,"REHABILITATION"]
[null,"Site Work",{"$f":"SUM(D18:E18)","v":0}]
[null,"Structures",{"$f":"SUM(D19:E19)","v":0}]
[null,"General Requirements",{"$f":"SUM(D20:E20)","v":0}]
[null,"Contractor Overhead",0]
[null,"Contractor Profit",0]
[null,"Prevailing Wages",0]
[null,"General Liability Insurance",0]
[null,"Urban Greening",0]
[null,"Other Rehabilitation (Specify)",0]
[null,"Other Rehabilitation (Specify)",0]
[null,"Other Rehabilitation (Specify)",0]
[null,"Total Rehabilitation Costs",{"$f":"SUM(D29:E29)","v":0},{"$f":"SUM(D18:D28)","v":0},{"$f":"SUM(E18:E28)","v":0},{"$f":"SUM(F18:F28)","v":0},{"$f":"SUM(G18:G28)","v":0}]
[null,"Total Relocation Expenses",{"$f":"SUM(D30:E30)","v":0}]
[null,"NEW CONSTRUCTION"]
[null,"Site Work",{"$f":"SUM(D32,E32)","v":0}]
[null,"Structures",{"$f":"SUM(D33,E33)","v":0}]
[null,"General Requirements",0]
[null,"Contractor Overhead",0]
[null,"Contractor Profit",0]
[null,"Prevailing Wages",0]
[null,"General Liability Insurance",0]
[null,"Urban Greening",0]
[null,"Other New Construction (Specify)",0]
[null,"Other New Construction (Specify)",0]
[null,"Other New Construction (Specify)",0]
[null,"Total New Construction Costs",{"$f":"SUM(D43+E43)","v":0},{"$f":"SUM(D32:D42)","v":0},{"$f":"SUM(E32:E42)","v":0},{"$f":"SUM(F32:F42)","v":0},{"$f":"SUM(G32:G42)","v":0}]
[null,"ARCHITECTURAL FEES"]
[null,"Design",{"$f":"SUM(D45,E45)","v":0}]
[null,"Supervision",{"$f":"SUM(D46,E46)","v":0}]
[null,"Total Architectural Costs",{"$f":"SUM(D47:E47)","v":0},{"$f":"SUM(D45:D46)","v":0},{"$f":"SUM(E45:E46)","v":0},{"$f":"SUM(F45:F46)","v":0},0]
[null,"Total Survey & Engineering",{"$f":"SUM(D48,E48)","v":0}]
[null,"CONSTRUCTION INTEREST & FEES"]
[null,"Construction Loan Interest",{"$f":"SUM(D50,E50)","v":0}]
[null,"Origination Fee",{"$f":"SUM(D51,E51)","v":0}]
[null,"Credit Enhancement/Application Fee",0]
[null,"Bond Premium",0]
[null,"Cost of Issuance",0]
[null,"Title & Recording",0]
[null,"Taxes",0]
[null,"Insurance",0]
[null,"Employment Reporting",0]
[null,"Other Construction Int. & Fees (Specify)",0]
[null,"Other Construction Int. & Fees (Specify)",0]
[null,"Total Construction Interest & Fees",{"$f":"SUM(D61:E61)","v":0},{"$f":"SUM(D50:D60)","v":0},{"$f":"SUM(E50:E60)","v":0},{"$f":"SUM(F50:F60)","v":0},{"$f":"SUM(G50:G60)","v":0}]
[null,"PERMANENT FINANCING"]
[null,"Loan Origination Fee",{"$f":"SUM(D63+E63)","v":0}]
[null,"Credit Enhancement/Application Fee",0]
[null,"Title & Recording",0]
[null,"Taxes",0]
[null,"Insurance",0]
[null,"Other Perm. Financing Costs (Specify)",0]
[null,"Other Perm. Financing Costs (Specify)",0]
[null,"Total Permanent Financing Costs",{"$f":"SUM(D70:E70)","v":0},{"$f":"SUM(D63:D69)","v":0},0]
[null,"Subtotals Forward",{"$f":"SUM(D71:E71)","v":0},{"$f":"SUM(D9+D12+D14+D15+D16+D29+D30+D43+D47+D48+D61+D70)","v":0},{"$f":"SUM(E9+E12+E14+E15+E16+E29+E30+E43+E47+E48+E61+E70)","v":0},{"$f":"SUM(F11+F14+F15+F16+F29+F30+F43+F47+F48+F61)","v":0},{"$f":"SUM(G12+G14+G15+G16+G29+G30+G43+G47+G48+G61)","v":0}]
[null,"LEGAL FEES"]
[null,"Legal Paid by Applicant",{"$f":"SUM(D73+E73)","v":0}]
[null,"Other Attorney Costs (Specify)",{"$f":"SUM(D74+E74)","v":0}]
[null,"Other Attorney Costs (Specify)",{"$f":"SUM(D75+E75)","v":0}]
[null,"Other Attorney Costs (Specify)",{"$f":"SUM(D76+E76)","v":0}]
[null,"Total Attorney Costs",{"$f":"SUM(D77:E77)","v":0},{"$f":"SUM(D72:D76)","v":0},{"$f":"SUM(E72:E76)","v":0},{"$f":"SUM(F73:F76)","v":0},0]
[null,"RESERVES"]
[null,"Operating Reserve",{"$f":"SUM(D79+E79)","v":0}]
[null,"Replacement Reserve",0]
[null,"Transition Reserve Pool Fee",{"$f":"SUM(D81+E81)","v":0}]
[null,"Rent Reserve",0]
[null,"Other Reserve Costs (Specify)",0]
[null,"Other Reserve Costs (Specify)",0]
[null,"Other Reserve Costs (Specify)",0]
[null,"Total Reserve Costs",{"$f":"SUM(D86:E86)","v":0},{"$f":"SUM(D79:D85)","v":0},0]
[null,"CONTINGENCY COSTS"]
[null,"Construction Hard Cost Contingency ",{"$f":"SUM(D88+E88)","v":0}]
[null,"Soft Cost Contingency",{"$f":"SUM(D89+E89)","v":0}]
[null,"Total Contingency Costs",{"$f":"SUM(D90:E90)","v":0},{"$f":"SUM(D88:D89)","v":0},{"$f":"SUM(E88:E89)","v":0},0,0]
[null,"OTHER PROJECT COSTS"]
[null,"TCAC App/Allocation/Monitoring Fees",{"$f":"SUM(D92+E92)","v":0}]
[null,"Environmental Audit",{"$f":"SUM(D93+E93)","v":0}]
[null,"Local Development Impact Fees",0]
[null,"Permit Processing Fees",0]
[null,"Capital Fees",0]
[null,"Marketing",0]
[null,"Furnishings",0]
[null,"Market Study",0]
[null,"Accounting/Reimbursable",0]
[null,"Appraisal Costs",0]
[null,"Broadband Readiness",0]
[null,"Other Costs (Specify)",{"$f":"SUM(D103+E103)","v":0}]
[null,"Other Costs (Specify)",0]
[null,"Other Costs (Specify)",{"$f":"SUM(D105+E105)","v":0}]
[null,"Other Costs (Specify)",{"$f":"SUM(D106+E106)","v":0}]
[null,"Other Costs (Specify)",{"$f":"SUM(D107+E107)","v":0}]
[null,"Total Other Costs",{"$f":"SUM(D108:E108)","v":0},{"$f":"SUM(D92:D107)","v":0},{"$f":"SUM(E92:E107)","v":0},{"$f":"SUM(F93:F96,F98:F107)","v":0},{"$f":"SUM(G93:G96,G98:G107)","v":0}]
[null,"SUBTOTAL PROJECT COST",{"$f":"SUM(D109:E109)","v":0},{"$f":"SUM(D71+D77+D86+D90+D108)","v":0},{"$f":"SUM(E71+E77+E86+E90+E108)","v":0},{"$f":"SUM(+F71+F77+F90+F108)","v":0},{"$f":"SUM(G71+G77+G90+G108)","v":0}]
[null,"DEVELOPER COSTS"]
[null,"Developer Overhead/Profit",{"$f":"SUM(D111+E111)","v":0}]
[null,"Consultant/Processing Agent",0]
[null,"Project Administration",0]
[null,"Broker Fees Paid  to a Related Party",0]
[null,"Construction Oversight by Developer",0]
[null,"Other Developer Costs (Specify)",0]
[null,"Total Developer Costs",{"$f":"SUM(D117:E117)","v":0},{"$f":"SUM(D111:D116)","v":0},{"$f":"SUM(E111:E116)","v":0},{"$f":"SUM(F111:F116)","v":0},{"$f":"SUM(G111:G116)","v":0}]
[null,"TOTAL PROJECT COST",{"$f":"SUM(D118:E118)","v":0},{"$f":"SUM(D109+D117)","v":0},{"$f":"SUM(E109+E117)","v":0},{"$f":"F109+F117","v":0},{"$f":"G109+G117","v":0}]
[null,null,null,null," Eligible Basis:",{"$f":"F118","v":0},{"$f":"G118","v":0}]
[null,null,null,null,null,"Total Eligible Basis:",{"$f":"SUM(F119:G119)","v":0}]
[]
[null,null,null,null,null,"DF 2023"]
[null,"Total Developer Fee (equals Total Developer Costs above):",null,null,null,{"$f":"'Developer Fee'!$AE$7","v":0}]
[null,"Total Developer Fee paid from development funding sources:",null,null,null,{"$f":"'Developer Fee'!$AE$8","v":0}]
[null,"Deferred Developer Fee payable on a priority basis from available Cash Flow:",null,null,null,{"$f":"'Developer Fee'!$AE$9","v":0}]
[null,"Deferred Developer Fee payable from allowable 50% Distribution:",null,null,null,{"$f":"'Developer Fee'!$AE$10","v":0}]
[null,"Developer Fee Contributed as Capital:",null,null,null,{"$f":"'Developer Fee'!$Y$12","v":0}]
[]
[]
[null,"End of Document"]

{"sheet":"AHD-HRI S&U Budget","index":13,"n_rows":245,"n_cols":27,"rows_kept":245,"cut":false,"hidden":true,"merged":[[3,26,4,26],[3,24,4,24],[3,25,4,25],[2,24,2,25],[3,2,4,2],[3,3,4,3],[3,4,4,4],[3,5,4,5],[3,6,4,6],[2,1,2,2],[3,16,4,16],[3,15,4,15],[3,17,4,17],[3,18,4,18],[3,12,4,12],[3,13,4,13],[241,1,241,11],[244,1,244,11],[238,1,238,2],[3,20,4,20],[3,21,4,21],[3,19,4,19],[3,14,4,14],[3,7,4,7],[3,8,4,8],[3,9,4,9],[3,10,4,10],[3,11,4,11]]}
[null,"Scroll to the Right for more data input (sources) --------------------------------------------------------->"]
[null,{"$f":"CONCATENATE('Project Overview'!F27,\" AHD and HRI Permanent Sources and Uses   \",\"App \",'Project Overview'!E4)","v":" AHD and HRI Permanent Sources and Uses   App "}]
[null,"Residential Sources and Uses Budget",null,null,null,null,null,null,null,null,null,null,null,null,null,null,null,null,null,null,null,null,null,null,"Commercial Sources"]
[null,"USES OF FUNDS\n\nSoft cost in red (total AHSC AHD below)"," Total\nCost from\nAHD Dev Budget",{"$f":"'Dev Sources'!$E$23","v":"AHSC HRI Grant"},{"$f":"'Dev Sources'!$E$24","v":"AHSC AHD Funding"},{"$f":"'Dev Sources'!$E$25","v":"Tax-Exempt Bond Loan"},{"$f":"'Dev Sources'!$E$26","v":0},{"$f":"'Dev Sources'!$E$27","v":0},{"$f":"'Dev Sources'!$E$28","v":0},{"$f":"'Dev Sources'!$E$29","v":0},{"$f":"'Dev Sources'!$E$30","v":0},{"$f":"'Dev Sources'!$E$31","v":0},{"$f":"'Dev Sources'!$E$32","v":0},{"$f":"'Dev Sources'!$E$33","v":0},{"$f":"'Dev Sources'!$E$34","v":0},{"$f":"'Dev Sources'!$E$35","v":0},{"$f":"'Dev Sources'!$E$36","v":0},{"$f":"'Dev Sources'!$E$37","v":"Deferred Developer Fees"},{"$f":"'Dev Sources'!$E$38","v":"Developer Fee Contribution"},{"$f":"'Dev Sources'!$E$39","v":"GP Equity"},{"$f":"'Dev Sources'!$E$40","v":"Gross Tax Credit Equity"},"Total\nResidential\nSources","Residential\nCosts","Commercial\nCosts","GP Loan : City Centro","Union Bank Perm Loan","Residential\nCost\nDifference\nDev Budget\nvs. Sources"]
[null,{"$f":"E9+E10+E16+E17+E33+E52+E53+E85+E99+E104+E105+E106+E107+E108+E109+E110+E111+E112","v":0},null,null,null,null,null,null,null,null,null,null,null,null,null,null,null,null,null,null,null,null,"Total","Total"]
[null,{"$f":"'AHD Dev Budget'!B4","v":"LAND COST/ACQUISITION"}]
[null,{"$f":"'AHD Dev Budget'!B5","v":"Land Cost or Value"},{"$f":"'AHD Dev Budget'!C5","v":0},null,null,null,null,null,null,null,null,null,null,null,null,null,null,null,null,null,null,{"$f":"SUM(E7:U7)","v":0},{"$f":"'AHD Dev Budget'!D5","v":0},{"$f":"'AHD Dev Budget'!E5","v":0},null,3,{"$f":"W7-V7","v":0}]
[null,{"$f":"'AHD Dev Budget'!B6","v":"Demolition"},{"$f":"'AHD Dev Budget'!C6","v":0},null,null,null,null,null,null,null,null,null,null,null,null,null,null,null,null,null,null,{"$f":"SUM(E8:U8)","v":0},{"$f":"'AHD Dev Budget'!D6","v":0},{"$f":"'AHD Dev Budget'!E6","v":0},null,7552,{"$f":"W8-V8","v":0}]
[null,{"$f":"'AHD Dev Budget'!B7","v":"Legal"},{"$f":"'AHD Dev Budget'!C7","v":0},null,null,null,null,null,null,null,null,null,null,null,null,null,null,null,null,null,null,{"$f":"SUM(E9:U9)","v":0},{"$f":"'AHD Dev Budget'!D7","v":0},{"$f":"'AHD Dev Budget'!E7","v":0},null,3904,{"$f":"W9-V9","v":0}]
[null,{"$f":"'AHD Dev Budget'!B8","v":"Land Lease Rent Prepayment"},{"$f":"'AHD Dev Budget'!C8","v":0},null,null,null,null,null,null,null,null,null,null,null,null,null,null,null,null,null,null,{"$f":"SUM(E10:U10)","v":0},{"$f":"'AHD Dev Budget'!D8","v":0},{"$f":"'AHD Dev Budget'!E8","v":0},null,0,{"$f":"W10-V10","v":0}]
[null,{"$f":"'AHD Dev Budget'!B9","v":"Total Land Cost or Value"},{"$f":"'AHD Dev Budget'!C9","v":0},null,{"$f":"SUM(E7:E10)","v":0},0,0,0,0,0,0,0,0,0,0,{"$f":"SUM(P7:P10)","v":0},0,0,0,0,0,{"$f":"SUM(V7:V10)","v":0},{"$f":"SUM(W7:W10)","v":0},0,{"$f":"SUM(Y7:Y10)","v":0},11459,0]
[null,{"$f":"'AHD Dev Budget'!B10","v":"Existing Improvements Cost or Value"},{"$f":"'AHD Dev Budget'!C10","v":0},null,null,null,null,null,null,null,null,null,null,null,null,null,null,null,null,null,null,{"$f":"SUM(E12:U12)","v":0},{"$f":"'AHD Dev Budget'!D10","v":0},{"$f":"'AHD Dev Budget'!E10","v":0},null,null,{"$f":"W12-V12","v":0}]
[null,{"$f":"'AHD Dev Budget'!B11","v":"Off-Site Improvements"},{"$f":"'AHD Dev Budget'!C11","v":0},null,null,null,null,null,null,null,null,null,null,null,null,null,null,null,null,null,null,{"$f":"SUM(E13:U13)","v":0},{"$f":"'AHD Dev Budget'!D11","v":0},{"$f":"'AHD Dev Budget'!E11","v":0},null,75070,{"$f":"W13-V13","v":0}]
[null,{"$f":"'AHD Dev Budget'!B12","v":"Total Acquisition Cost"},{"$f":"'AHD Dev Budget'!C12","v":0},null,{"$f":"SUM(E12:E13)","v":0},0,0,0,0,0,0,0,0,0,0,{"$f":"SUM(P12:P13)","v":0},0,{"$f":"SUM(R12:R13)","v":0},0,0,0,0,{"$f":"SUM(W12:W13)","v":0},0,{"$f":"SUM(Y12:Y13)","v":0},75070,0]
[null,{"$f":"'AHD Dev Budget'!B13","v":"Total Land Cost / Acquisition Cost"},{"$f":"'AHD Dev Budget'!C13","v":0},null,{"$f":"SUM(E11+E14)","v":0},{"$f":"SUM(F11+F14)","v":0},0,0,0,0,0,0,0,0,0,{"$f":"SUM(P11+P14)","v":0},0,{"$f":"SUM(R11+R14)","v":0},0,0,0,0,{"$f":"SUM(W11+W14)","v":0},0,{"$f":"SUM(Y11+Y14)","v":0},86529,0]
[null,{"$f":"'AHD Dev Budget'!B14","v":"Predevelopment Interest/Holding Cost"},{"$f":"'AHD Dev Budget'!C14","v":0},null,null,null,null,null,null,null,null,null,null,null,null,null,null,null,null,null,null,{"$f":"SUM(E16:U16)","v":0},{"$f":"'AHD Dev Budget'!D14","v":0},{"$f":"'AHD Dev Budget'!E14","v":0},null,2552,{"$f":"W16-V16","v":0}]
[null,{"$f":"'AHD Dev Budget'!B15","v":"Assumed, Accrued Interest on Existing Debt (Rehab/Acq)"},{"$f":"'AHD Dev Budget'!C15","v":0},null,null,null,null,null,null,null,null,null,null,null,null,null,null,null,null,null,null,{"$f":"SUM(E17:U17)","v":0},{"$f":"'AHD Dev Budget'!D15","v":0},{"$f":"'AHD Dev Budget'!E15","v":0},null,null,{"$f":"W17-V17","v":0}]
[null,{"$f":"'AHD Dev Budget'!B16","v":"Excess Purchase Price Over Appraisal"},{"$f":"'AHD Dev Budget'!C16","v":0},null,null,null,null,null,null,null,null,null,null,null,null,null,null,null,null,null,null,{"$f":"SUM(E18:U18)","v":0},{"$f":"'AHD Dev Budget'!D16","v":0},{"$f":"'AHD Dev Budget'!E16","v":0},null,null,{"$f":"W18-V18","v":0}]
[]
[null,{"$f":"'AHD Dev Budget'!B17","v":"REHABILITATION"}]
[null,{"$f":"'AHD Dev Budget'!B18","v":"Site Work"},{"$f":"'AHD Dev Budget'!C18","v":0},null,null,null,null,null,null,null,null,null,null,null,null,null,null,null,null,null,null,{"$f":"SUM(E21:U21)","v":0},{"$f":"'AHD Dev Budget'!D18","v":0},{"$f":"'AHD Dev Budget'!E18","v":0},null,null,{"$f":"W21-V21","v":0}]
[null,{"$f":"'AHD Dev Budget'!B19","v":"Structures"},{"$f":"'AHD Dev Budget'!C19","v":0},null,null,null,null,null,null,null,null,null,null,null,null,null,null,null,null,null,null,0,{"$f":"'AHD Dev Budget'!D19","v":0},{"$f":"'AHD Dev Budget'!E19","v":0},null,null,0]
[null,{"$f":"'AHD Dev Budget'!B20","v":"General Requirements"},{"$f":"'AHD Dev Budget'!C20","v":0},null,null,null,null,null,null,null,null,null,null,null,null,null,null,null,null,null,null,0,{"$f":"'AHD Dev Budget'!D20","v":0},{"$f":"'AHD Dev Budget'!E20","v":0},null,null,0]
[null,{"$f":"'AHD Dev Budget'!B21","v":"Contractor Overhead"},{"$f":"'AHD Dev Budget'!C21","v":0},null,null,null,null,null,null,null,null,null,null,null,null,null,null,null,null,null,null,0,{"$f":"'AHD Dev Budget'!D21","v":0},{"$f":"'AHD Dev Budget'!E21","v":0},null,null,0]
[null,{"$f":"'AHD Dev Budget'!B22","v":"Contractor Profit"},{"$f":"'AHD Dev Budget'!C22","v":0},null,null,null,null,null,null,null,null,null,null,null,null,null,null,null,null,null,null,0,{"$f":"'AHD Dev Budget'!D22","v":0},{"$f":"'AHD Dev Budget'!E22","v":0},null,null,0]
[null,{"$f":"'AHD Dev Budget'!B23","v":"Prevailing Wages"},{"$f":"'AHD Dev Budget'!C23","v":0},null,null,null,null,null,null,null,null,null,null,null,null,null,null,null,null,null,null,0,{"$f":"'AHD Dev Budget'!D23","v":0},{"$f":"'AHD Dev Budget'!E23","v":0},null,null,0]
[null,{"$f":"'AHD Dev Budget'!B24","v":"General Liability Insurance"},{"$f":"'AHD Dev Budget'!C24","v":0},null,null,null,null,null,null,null,null,null,null,null,null,null,null,null,null,null,null,0,{"$f":"'AHD Dev Budget'!D24","v":0},{"$f":"'AHD Dev Budget'!E24","v":0},null,null,0]
[null,{"$f":"'AHD Dev Budget'!B25","v":"Urban Greening"},{"$f":"'AHD Dev Budget'!C25","v":0},null,null,null,null,null,null,null,null,null,null,null,null,null,null,null,null,null,null,0,{"$f":"'AHD Dev Budget'!D25","v":0},{"$f":"'AHD Dev Budget'!E25","v":0},null,null,0]
[null,{"$f":"'AHD Dev Budget'!B26","v":"Other Rehabilitation (Specify)"},{"$f":"'AHD Dev Budget'!C26","v":0},null,null,null,null,null,null,null,null,null,null,null,null,null,null,null,null,null,null,0,{"$f":"'AHD Dev Budget'!D26","v":0},{"$f":"'AHD Dev Budget'!E26","v":0},null,null,0]
[null,{"$f":"'AHD Dev Budget'!B27","v":"Other Rehabilitation (Specify)"},{"$f":"'AHD Dev Budget'!C27","v":0},null,null,null,null,null,null,null,null,null,null,null,null,null,null,null,null,null,null,0,{"$f":"'AHD Dev Budget'!D27","v":0},{"$f":"'AHD Dev Budget'!E27","v":0},null,null,0]
[null,{"$f":"'AHD Dev Budget'!B28","v":"Other Rehabilitation (Specify)"},{"$f":"'AHD Dev Budget'!C28","v":0},null,null,null,null,null,null,null,null,null,null,null,null,null,null,null,null,null,null,0,{"$f":"'AHD Dev Budget'!D28","v":0},{"$f":"'AHD Dev Budget'!E28","v":0},null,null,0]
[null,{"$f":"'AHD Dev Budget'!B29","v":"Total Rehabilitation Costs"},{"$f":"'AHD Dev Budget'!C29","v":0},null,{"$f":"SUM(E21:E31)","v":0},{"$f":"SUM(F21:F31)","v":0},0,0,0,0,0,0,0,0,0,{"$f":"SUM(P21:P31)","v":0},0,0,0,0,0,0,{"$f":"SUM(W21:W31)","v":0},0,{"$f":"SUM(Y21:Y31)","v":0},0,0]
[null,{"$f":"'AHD Dev Budget'!B30","v":"Total Relocation Expenses"},{"$f":"'AHD Dev Budget'!C30","v":0},null,null,null,null,null,null,null,null,null,null,null,null,null,null,null,null,null,null,{"$f":"SUM(E33:U33)","v":0},{"$f":"'AHD Dev Budget'!D30","v":0},{"$f":"'AHD Dev Budget'!E30","v":0},null,null,0]
[]
[null,{"$f":"'AHD Dev Budget'!B31","v":"NEW CONSTRUCTION"}]
[null,{"$f":"'AHD Dev Budget'!B32","v":"Site Work"},{"$f":"'AHD Dev Budget'!C32","v":0},null,null,null,null,null,null,null,null,null,null,null,null,null,null,null,null,null,null,{"$f":"SUM(E36:U36)","v":0},{"$f":"'AHD Dev Budget'!D32","v":0},{"$f":"'AHD Dev Budget'!E32","v":0},null,69177,{"$f":"W36-V36","v":0}]
[null,{"$f":"'AHD Dev Budget'!B33","v":"Structures"},{"$f":"'AHD Dev Budget'!C33","v":0},null,null,null,null,null,null,null,null,null,null,null,null,null,null,null,null,null,null,0,{"$f":"'AHD Dev Budget'!D33","v":0},{"$f":"'AHD Dev Budget'!E33","v":0},1800000,370772,0]
[null,{"$f":"'AHD Dev Budget'!B34","v":"General Requirements"},{"$f":"'AHD Dev Budget'!C34","v":0},null,null,null,null,null,null,null,null,null,null,null,null,null,null,null,null,null,null,0,{"$f":"'AHD Dev Budget'!D34","v":0},{"$f":"'AHD Dev Budget'!E34","v":0},null,72529,0]
[null,{"$f":"'AHD Dev Budget'!B35","v":"Contractor Overhead"},{"$f":"'AHD Dev Budget'!C35","v":0},null,null,null,null,null,null,null,null,null,null,null,null,null,null,null,null,null,null,0,{"$f":"'AHD Dev Budget'!D35","v":0},{"$f":"'AHD Dev Budget'!E35","v":0},null,56411,0]
[null,{"$f":"'AHD Dev Budget'!B36","v":"Contractor Profit"},{"$f":"'AHD Dev Budget'!C36","v":0},null,null,null,null,null,null,null,null,null,null,null,null,null,null,null,null,null,null,0,{"$f":"'AHD Dev Budget'!D36","v":0},{"$f":"'AHD Dev Budget'!E36","v":0},null,0,0]
[null,{"$f":"'AHD Dev Budget'!B37","v":"Prevailing Wages"},{"$f":"'AHD Dev Budget'!C37","v":0},null,null,null,null,null,null,null,null,null,null,null,null,null,null,null,null,null,null,0,{"$f":"'AHD Dev Budget'!D37","v":0},{"$f":"'AHD Dev Budget'!E37","v":0},null,0,0]
[null,{"$f":"'AHD Dev Budget'!B38","v":"General Liability Insurance"},{"$f":"'AHD Dev Budget'!C38","v":0},null,null,null,null,null,null,null,null,null,null,null,null,null,null,null,null,null,null,0,{"$f":"'AHD Dev Budget'!D38","v":0},{"$f":"'AHD Dev Budget'!E38","v":0},null,10960,0]
[null,{"$f":"'AHD Dev Budget'!B39","v":"Urban Greening"},{"$f":"'AHD Dev Budget'!C39","v":0},null,null,null,null,null,null,null,null,null,null,null,null,null,null,null,null,null,null,0,{"$f":"'AHD Dev Budget'!D39","v":0},{"$f":"'AHD Dev Budget'!E39","v":0},null,0,0]
[null,{"$f":"'AHD Dev Budget'!B40","v":"Other New Construction (Specify)"},{"$f":"'AHD Dev Budget'!C40","v":0},null,null,null,null,null,null,null,null,null,null,null,null,null,null,null,null,null,null,0,{"$f":"'AHD Dev Budget'!D40","v":0},{"$f":"'AHD Dev Budget'!E40","v":0},null,9008,0]
[null,{"$f":"'AHD Dev Budget'!B41","v":"Other New Construction (Specify)"},{"$f":"'AHD Dev Budget'!C41","v":0},null,null,null,null,null,null,null,null,null,null,null,null,null,null,null,null,null,null,0,{"$f":"'AHD Dev Budget'!D41","v":0},{"$f":"'AHD Dev Budget'!E41","v":0},null,0,0]
[null,{"$f":"'AHD Dev Budget'!B42","v":"Other New Construction (Specify)"},{"$f":"'AHD Dev Budget'!C42","v":0},null,null,null,null,null,null,null,null,null,null,null,null,null,null,null,null,null,null,0,{"$f":"'AHD Dev Budget'!D42","v":0},{"$f":"'AHD Dev Budget'!E42","v":0},null,0,0]
[null,{"$f":"'AHD Dev Budget'!B43","v":"Total New Construction Costs"},{"$f":"'AHD Dev Budget'!C43","v":0},null,{"$f":"SUM(E36:E46)","v":0},{"$f":"SUM(F36:F46)","v":0},0,0,0,0,0,0,0,0,0,{"$f":"SUM(P36:P46)","v":0},0,0,0,0,0,0,{"$f":"SUM(W36:W46)","v":0},0,{"$f":"SUM(Y36:Y46)","v":1800000},588857,0]
[]
[null,{"$f":"'AHD Dev Budget'!B44","v":"ARCHITECTURAL FEES"}]
[null,{"$f":"'AHD Dev Budget'!B45","v":"Design"},{"$f":"'AHD Dev Budget'!C45","v":0},null,null,null,null,null,null,null,null,null,null,null,null,null,null,null,null,null,null,{"$f":"SUM(E50:U50)","v":0},{"$f":"'AHD Dev Budget'!D45","v":0},{"$f":"'AHD Dev Budget'!E45","v":0},null,37662,{"$f":"W50-V50","v":0}]
[null,{"$f":"'AHD Dev Budget'!B46","v":"Supervision"},{"$f":"'AHD Dev Budget'!C46","v":0},null,null,null,null,null,null,null,null,null,null,null,null,null,null,null,null,null,null,{"$f":"SUM(E51:U51)","v":0},{"$f":"'AHD Dev Budget'!D46","v":0},{"$f":"'AHD Dev Budget'!E46","v":0},null,12155,{"$f":"W51-V51","v":0}]
[null,{"$f":"'AHD Dev Budget'!B47","v":"Total Architectural Costs"},{"$f":"'AHD Dev Budget'!C47","v":0},null,{"$f":"SUM(E49:E51)","v":0},{"$f":"SUM(F49:F51)","v":0},0,0,0,0,0,0,0,0,0,{"$f":"SUM(P49:P51)","v":0},0,0,0,0,0,0,{"$f":"SUM(W49:W51)","v":0},0,{"$f":"SUM(Y49:Y51)","v":0},49817,0]
[null,{"$f":"'AHD Dev Budget'!B48","v":"Total Survey & Engineering"},{"$f":"'AHD Dev Budget'!C48","v":0},null,null,null,null,null,null,null,null,null,null,null,null,null,null,null,null,null,null,{"$f":"SUM(E53:U53)","v":0},{"$f":"'AHD Dev Budget'!D48","v":0},{"$f":"'AHD Dev Budget'!E48","v":0},null,21552,{"$f":"W53-V53","v":0}]
[]
[null,{"$f":"'AHD Dev Budget'!B49","v":"CONSTRUCTION INTEREST & FEES"}]
[null,{"$f":"'AHD Dev Budget'!B50","v":"Construction Loan Interest"},{"$f":"'AHD Dev Budget'!C50","v":0},null,null,null,null,null,null,null,null,null,null,null,null,null,null,null,null,null,null,{"$f":"SUM(E56:U56)","v":0},{"$f":"'AHD Dev Budget'!D50","v":0},{"$f":"'AHD Dev Budget'!E50","v":0},null,86751,{"$f":"W56-V56","v":0}]
[null,{"$f":"'AHD Dev Budget'!B51","v":"Origination Fee"},{"$f":"'AHD Dev Budget'!C51","v":0},null,null,null,null,null,null,null,null,null,null,null,null,null,null,null,null,null,null,0,{"$f":"'AHD Dev Budget'!D51","v":0},{"$f":"'AHD Dev Budget'!E51","v":0},null,11093,0]
[null,{"$f":"'AHD Dev Budget'!B52","v":"Credit Enhancement/Application Fee"},{"$f":"'AHD Dev Budget'!C52","v":0},null,null,null,null,null,null,null,null,null,null,null,null,null,null,null,null,null,null,0,{"$f":"'AHD Dev Budget'!D52","v":0},{"$f":"'AHD Dev Budget'!E52","v":0},null,0,0]
[null,{"$f":"'AHD Dev Budget'!B53","v":"Bond Premium"},{"$f":"'AHD Dev Budget'!C53","v":0},null,null,null,null,null,null,null,null,null,null,null,null,null,null,null,null,null,null,0,{"$f":"'AHD Dev Budget'!D53","v":0},{"$f":"'AHD Dev Budget'!E53","v":0},null,0,0]
[null,{"$f":"'AHD Dev Budget'!B54","v":"Cost of Issuance"},{"$f":"'AHD Dev Budget'!C54","v":0},null,null,null,null,null,null,null,null,null,null,null,null,null,null,null,null,null,null,0,{"$f":"'AHD Dev Budget'!D54","v":0},{"$f":"'AHD Dev Budget'!E54","v":0},null,726,0]
[null,{"$f":"'AHD Dev Budget'!B55","v":"Title & Recording"},{"$f":"'AHD Dev Budget'!C55","v":0},null,null,null,null,null,null,null,null,null,null,null,null,null,null,null,null,null,null,0,{"$f":"'AHD Dev Budget'!D55","v":0},{"$f":"'AHD Dev Budget'!E55","v":0},null,2552,0]
[null,{"$f":"'AHD Dev Budget'!B56","v":"Taxes"},{"$f":"'AHD Dev Budget'!C56","v":0},null,null,null,null,null,null,null,null,null,null,null,null,null,null,null,null,null,null,0,{"$f":"'AHD Dev Budget'!D56","v":0},{"$f":"'AHD Dev Budget'!E56","v":0},null,1652,0]
[null,{"$f":"'AHD Dev Budget'!B57","v":"Insurance"},{"$f":"'AHD Dev Budget'!C57","v":0},null,null,null,null,null,null,null,null,null,null,null,null,null,null,null,null,null,null,0,{"$f":"'AHD Dev Budget'!D57","v":0},{"$f":"'AHD Dev Budget'!E57","v":0},null,38129,0]
[null,{"$f":"'AHD Dev Budget'!B58","v":"Employment Reporting"},{"$f":"'AHD Dev Budget'!C58","v":0},null,null,null,null,null,null,null,null,null,null,null,null,null,null,null,null,null,null,0,{"$f":"'AHD Dev Budget'!D58","v":0},{"$f":"'AHD Dev Budget'!E58","v":0},null,0,0]
[null,{"$f":"'AHD Dev Budget'!B59","v":"Other Construction Int. & Fees (Specify)"},{"$f":"'AHD Dev Budget'!C59","v":0},null,null,null,null,null,null,null,null,null,null,null,null,null,null,null,null,null,null,0,{"$f":"'AHD Dev Budget'!D59","v":0},{"$f":"'AHD Dev Budget'!E59","v":0},null,1351,0]
[null,{"$f":"'AHD Dev Budget'!B60","v":"Other Construction Int. & Fees (Specify)"},{"$f":"'AHD Dev Budget'!C60","v":0},null,null,null,null,null,null,null,null,null,null,null,null,null,null,null,null,null,null,0,{"$f":"'AHD Dev Budget'!D60","v":0},{"$f":"'AHD Dev Budget'!E60","v":0},null,0,0]
[null,{"$f":"'AHD Dev Budget'!B61","v":"Total Construction Interest & Fees"},{"$f":"'AHD Dev Budget'!C61","v":0},null,{"$f":"SUM(E56:E66)","v":0},{"$f":"SUM(F56:F66)","v":0},0,0,0,0,0,0,0,0,0,{"$f":"SUM(P56:P66)","v":0},0,0,0,0,0,0,{"$f":"SUM(W56:W66)","v":0},0,{"$f":"SUM(Y56:Y66)","v":0},142254,0]
[]
[null,{"$f":"'AHD Dev Budget'!B62","v":"PERMANENT FINANCING"}]
[null,{"$f":"'AHD Dev Budget'!B63","v":"Loan Origination Fee"},{"$f":"'AHD Dev Budget'!C63","v":0},null,null,null,null,null,null,null,null,null,null,null,null,null,null,null,null,null,null,{"$f":"SUM(E70:U70)","v":0},{"$f":"'AHD Dev Budget'!D63","v":0},{"$f":"'AHD Dev Budget'!E63","v":0},null,1628,{"$f":"W70-V70","v":0}]
[null,{"$f":"'AHD Dev Budget'!B64","v":"Credit Enhancement/Application Fee"},{"$f":"'AHD Dev Budget'!C64","v":0},null,null,null,null,null,null,null,null,null,null,null,null,null,null,null,null,null,null,0,{"$f":"'AHD Dev Budget'!D64","v":0},{"$f":"'AHD Dev Budget'!E64","v":0},null,0,0]
[null,{"$f":"'AHD Dev Budget'!B65","v":"Title & Recording"},{"$f":"'AHD Dev Budget'!C65","v":0},null,null,null,null,null,null,null,null,null,null,null,null,null,null,null,null,null,null,0,{"$f":"'AHD Dev Budget'!D65","v":0},{"$f":"'AHD Dev Budget'!E65","v":0},null,450,0]
[null,{"$f":"'AHD Dev Budget'!B66","v":"Taxes"},{"$f":"'AHD Dev Budget'!C66","v":0},null,null,null,null,null,null,null,null,null,null,null,null,null,null,null,null,null,null,0,{"$f":"'AHD Dev Budget'!D66","v":0},{"$f":"'AHD Dev Budget'!E66","v":0},null,0,0]
[null,{"$f":"'AHD Dev Budget'!B67","v":"Insurance"},{"$f":"'AHD Dev Budget'!C67","v":0},null,null,null,null,null,null,null,null,null,null,null,null,null,null,null,null,null,null,0,{"$f":"'AHD Dev Budget'!D67","v":0},{"$f":"'AHD Dev Budget'!E67","v":0},null,0,0]
[null,{"$f":"'AHD Dev Budget'!B68","v":"Other Perm. Financing Costs (Specify)"},{"$f":"'AHD Dev Budget'!C68","v":0},null,null,null,null,null,null,null,null,null,null,null,null,null,null,null,null,null,null,0,{"$f":"'AHD Dev Budget'!D68","v":0},{"$f":"'AHD Dev Budget'!E68","v":0},null,1351,0]
[null,{"$f":"'AHD Dev Budget'!B69","v":"Other Perm. Financing Costs (Specify)"},{"$f":"'AHD Dev Budget'!C69","v":0},null,null,null,null,null,null,null,null,null,null,null,null,null,null,null,null,null,null,0,{"$f":"'AHD Dev Budget'!D69","v":0},{"$f":"'AHD Dev Budget'!E69","v":0},null,450,0]
[null,{"$f":"'AHD Dev Budget'!B70","v":"Total Permanent Financing Costs"},{"$f":"'AHD Dev Budget'!C70","v":0},null,{"$f":"SUM(E70:E76)","v":0},{"$f":"SUM(F70:F76)","v":0},0,0,0,0,0,0,0,0,0,{"$f":"SUM(P70:P76)","v":0},0,{"$f":"SUM(R70:R76)","v":0},0,0,0,0,{"$f":"SUM(W70:W76)","v":0},0,{"$f":"SUM(Y70:Y76)","v":0},{"$f":"SUM(Z70:Z76)","v":3879},{"$f":"SUM(AA70:AA76)","v":0}]
[null,{"$f":"'AHD Dev Budget'!B71","v":"Subtotals Forward"},{"$f":"'AHD Dev Budget'!C71","v":0},null,{"$f":"SUM(E11+E14+E16+E17+E18+E32+E33+E47+E52+E53+E67+E77)","v":0},{"$f":"SUM(F11+F14+F16+F17+F18+F32+F33+F47+F52+F53+F67+F77)","v":0},0,0,0,0,0,0,0,0,0,{"$f":"SUM(P11+P14+P16+P17+P18+P32+P33+P47+P52+P53+P67+P77)","v":0},0,{"$f":"SUM(R11+R14+R16+R17+R18+R32+R33+R47+R52+R53+R67+R77)","v":0},0,0,0,0,{"$f":"SUM(W11+W14+W16+W17+W18+W32+W33+W47+W52+W53+W67+W77)","v":0},0,{"$f":"SUM(Y11+Y14+Y16+Y17+Y18+Y32+Y33+Y47+Y52+Y53+Y67+Y77)","v":1800000},{"$f":"SUM(Z11+Z14+Z16+Z17+Z18+Z32+Z33+Z47+Z52+Z53+Z67+Z77)","v":895440},{"$f":"SUM(AA11+AA14+AA16+AA17+AA18+AA32+AA33+AA47+AA52+AA53+AA67+AA77)","v":0}]
[]
[null,{"$f":"'AHD Dev Budget'!B72","v":"LEGAL FEES"}]
[null,{"$f":"'AHD Dev Budget'!B73","v":"Legal Paid by Applicant"},{"$f":"'AHD Dev Budget'!C73","v":0},null,null,null,null,null,null,null,null,null,null,null,null,null,null,null,null,null,null,{"$f":"SUM(E81:U81)","v":0},{"$f":"'AHD Dev Budget'!D73","v":0},{"$f":"'AHD Dev Budget'!E73","v":0},null,1952,{"$f":"W81-V81","v":0}]
[null,{"$f":"'AHD Dev Budget'!B74","v":"Other Attorney Costs (Specify)"},{"$f":"'AHD Dev Budget'!C74","v":0},null,null,null,null,null,null,null,null,null,null,null,null,null,null,null,null,null,null,{"$f":"SUM(E82:U82)","v":0},{"$f":"'AHD Dev Budget'!D74","v":0},{"$f":"'AHD Dev Budget'!E74","v":0},null,2128,{"$f":"W82-V82","v":0}]
[null,{"$f":"'AHD Dev Budget'!B75","v":"Other Attorney Costs (Specify)"},{"$f":"'AHD Dev Budget'!C75","v":0},null,null,null,null,null,null,null,null,null,null,null,null,null,null,null,null,null,null,{"$f":"SUM(E83:U83)","v":0},{"$f":"'AHD Dev Budget'!D75","v":0},{"$f":"'AHD Dev Budget'!E75","v":0},null,541,{"$f":"W83-V83","v":0}]
[null,{"$f":"'AHD Dev Budget'!B76","v":"Other Attorney Costs (Specify)"},{"$f":"'AHD Dev Budget'!C76","v":0},null,null,null,null,null,null,null,null,null,null,null,null,null,null,null,null,null,null,{"$f":"SUM(E84:U84)","v":0},{"$f":"'AHD Dev Budget'!D76","v":0},{"$f":"'AHD Dev Budget'!E76","v":0},null,0,{"$f":"W84-V84","v":0}]
[null,{"$f":"'AHD Dev Budget'!B77","v":"Total Attorney Costs"},{"$f":"'AHD Dev Budget'!C77","v":0},null,{"$f":"SUM(E80:E84)","v":0},{"$f":"SUM(F80:F84)","v":0},0,0,0,0,0,0,0,0,0,{"$f":"SUM(P80:P84)","v":0},0,0,0,0,0,0,{"$f":"SUM(W80:W84)","v":0},0,{"$f":"SUM(Y80:Y84)","v":0},4621,0]
[]
[null,{"$f":"'AHD Dev Budget'!B78","v":"RESERVES"}]
[null,{"$f":"'AHD Dev Budget'!B79","v":"Operating Reserve"},{"$f":"'AHD Dev Budget'!C79","v":0},null,null,null,null,null,null,null,null,null,null,null,null,null,null,null,null,null,null,{"$f":"SUM(E88:U88)","v":0},{"$f":"'AHD Dev Budget'!D79","v":0},{"$f":"'AHD Dev Budget'!E79","v":0},null,8740,{"$f":"W88-V88","v":0}]
[null,{"$f":"'AHD Dev Budget'!B80","v":"Replacement Reserve"},{"$f":"'AHD Dev Budget'!C80","v":0},null,null,null,null,null,null,null,null,null,null,null,null,null,null,null,null,null,null,0,{"$f":"'AHD Dev Budget'!D80","v":0},{"$f":"'AHD Dev Budget'!E80","v":0},null,null,0]
[null,{"$f":"'AHD Dev Budget'!B81","v":"Transition Reserve Pool Fee"},{"$f":"'AHD Dev Budget'!C81","v":0},null,null,null,null,null,null,null,null,null,null,null,null,null,null,null,null,null,null,0,{"$f":"'AHD Dev Budget'!D81","v":0},{"$f":"'AHD Dev Budget'!E81","v":0},null,null,0]
[null,{"$f":"'AHD Dev Budget'!B82","v":"Rent Reserve"},{"$f":"'AHD Dev Budget'!C82","v":0},null,null,null,null,null,null,null,null,null,null,null,null,null,null,null,null,null,null,0,{"$f":"'AHD Dev Budget'!D82","v":0},{"$f":"'AHD Dev Budget'!E82","v":0},null,null,0]
[null,{"$f":"'AHD Dev Budget'!B83","v":"Other Reserve Costs (Specify)"},{"$f":"'AHD Dev Budget'!C83","v":0},null,null,null,null,null,null,null,null,null,null,null,null,null,null,null,null,null,null,0,{"$f":"'AHD Dev Budget'!D83","v":0},{"$f":"'AHD Dev Budget'!E83","v":0},null,null,0]
[null,{"$f":"'AHD Dev Budget'!B84","v":"Other Reserve Costs (Specify)"},{"$f":"'AHD Dev Budget'!C84","v":0},null,null,null,null,null,null,null,null,null,null,null,null,null,null,null,null,null,null,0,{"$f":"'AHD Dev Budget'!D84","v":0},{"$f":"'AHD Dev Budget'!E84","v":0},null,null,0]
[null,{"$f":"'AHD Dev Budget'!B85","v":"Other Reserve Costs (Specify)"},{"$f":"'AHD Dev Budget'!C85","v":0},null,null,null,null,null,null,null,null,null,null,null,null,null,null,null,null,null,null,0,{"$f":"'AHD Dev Budget'!D85","v":0},{"$f":"'AHD Dev Budget'!E85","v":0},null,null,0]
[null,{"$f":"'AHD Dev Budget'!B86","v":"Total Reserve Costs"},{"$f":"'AHD Dev Budget'!C86","v":0},null,{"$f":"SUM(E88:E94)","v":0},0,0,0,0,0,0,0,0,0,0,{"$f":"SUM(P88:P94)","v":0},0,0,0,0,0,0,{"$f":"SUM(W88:W94)","v":0},0,{"$f":"SUM(Y88:Y94)","v":0},8740,0]
[]
[null,{"$f":"'AHD Dev Budget'!B87","v":"CONTINGENCY COSTS"}]
[null,{"$f":"'AHD Dev Budget'!B88","v":"Construction Hard Cost Contingency "},{"$f":"'AHD Dev Budget'!C88","v":0},null,null,null,null,null,null,null,null,null,null,null,null,null,null,null,null,null,null,{"$f":"SUM(E98:U98)","v":0},{"$f":"'AHD Dev Budget'!D88","v":0},{"$f":"'AHD Dev Budget'!E88","v":0},null,90000,{"$f":"W98-V98","v":0}]
[null,{"$f":"'AHD Dev Budget'!B89","v":"Soft Cost Contingency"},{"$f":"'AHD Dev Budget'!C89","v":0},null,null,null,null,null,null,null,null,null,null,null,null,null,null,null,null,null,null,{"$f":"SUM(E99:U99)","v":0},{"$f":"'AHD Dev Budget'!D89","v":0},{"$f":"'AHD Dev Budget'!E89","v":0},null,10900,{"$f":"W99-V99","v":0}]
[null,{"$f":"'AHD Dev Budget'!B90","v":"Total Contingency Costs"},{"$f":"'AHD Dev Budget'!C90","v":0},null,{"$f":"SUM(E98:E99)","v":0},0,0,0,0,0,0,0,0,0,0,{"$f":"SUM(P98:P99)","v":0},0,0,0,0,0,0,{"$f":"SUM(W98:W99)","v":0},0,{"$f":"SUM(Y98:Y99)","v":0},100900,0]
[]
[null,{"$f":"'AHD Dev Budget'!B91","v":"OTHER PROJECT COSTS"}]
[null,{"$f":"'AHD Dev Budget'!B92","v":"TCAC App/Allocation/Monitoring Fees"},{"$f":"'AHD Dev Budget'!C92","v":0},null,null,null,null,null,null,null,null,null,null,null,null,null,null,null,null,null,null,{"$f":"SUM(E103:U103)","v":0},{"$f":"'AHD Dev Budget'!D92","v":0},{"$f":"'AHD Dev Budget'!E92","v":0},null,0,{"$f":"W103-V103","v":0}]
[null,{"$f":"'AHD Dev Budget'!B93","v":"Environmental Audit"},{"$f":"'AHD Dev Budget'!C93","v":0},null,null,null,null,null,null,null,null,null,null,null,null,null,null,null,null,null,null,0,{"$f":"'AHD Dev Budget'!D93","v":0},{"$f":"'AHD Dev Budget'!E93","v":0},null,6778,0]
[null,{"$f":"'AHD Dev Budget'!B94","v":"Local Development Impact Fees"},{"$f":"'AHD Dev Budget'!C94","v":0},null,null,null,null,null,null,null,null,null,null,null,null,null,null,null,null,null,null,0,{"$f":"'AHD Dev Budget'!D94","v":0},{"$f":"'AHD Dev Budget'!E94","v":0},null,53803,0]
[null,{"$f":"'AHD Dev Budget'!B95","v":"Permit Processing Fees"},{"$f":"'AHD Dev Budget'!C95","v":0},null,null,null,null,null,null,null,null,null,null,null,null,null,null,null,null,null,null,0,{"$f":"'AHD Dev Budget'!D95","v":0},{"$f":"'AHD Dev Budget'!E95","v":0},null,72865,0]
[null,{"$f":"'AHD Dev Budget'!B96","v":"Capital Fees"},{"$f":"'AHD Dev Budget'!C96","v":0},null,null,null,null,null,null,null,null,null,null,null,null,null,null,null,null,null,null,0,{"$f":"'AHD Dev Budget'!D96","v":0},{"$f":"'AHD Dev Budget'!E96","v":0},null,0,0]
[null,{"$f":"'AHD Dev Budget'!B97","v":"Marketing"},{"$f":"'AHD Dev Budget'!C97","v":0},null,null,null,null,null,null,null,null,null,null,null,null,null,null,null,null,null,null,0,{"$f":"'AHD Dev Budget'!D97","v":0},{"$f":"'AHD Dev Budget'!E97","v":0},null,0,0]
[null,{"$f":"'AHD Dev Budget'!B98","v":"Furnishings"},{"$f":"'AHD Dev Budget'!C98","v":0},null,null,null,null,null,null,null,null,null,null,null,null,null,null,null,null,null,null,0,{"$f":"'AHD Dev Budget'!D98","v":0},{"$f":"'AHD Dev Budget'!E98","v":0},null,0,0]
[null,{"$f":"'AHD Dev Budget'!B99","v":"Market Study"},{"$f":"'AHD Dev Budget'!C99","v":0},null,null,null,null,null,null,null,null,null,null,null,null,null,null,null,null,null,null,0,{"$f":"'AHD Dev Budget'!D99","v":0},{"$f":"'AHD Dev Budget'!E99","v":0},null,0,0]
[null,{"$f":"'AHD Dev Budget'!B100","v":"Accounting/Reimbursable"},{"$f":"'AHD Dev Budget'!C100","v":0},null,null,null,null,null,null,null,null,null,null,null,null,null,null,null,null,null,null,0,{"$f":"'AHD Dev Budget'!D100","v":0},{"$f":"'AHD Dev Budget'!E100","v":0},null,0,0]
[null,{"$f":"'AHD Dev Budget'!B101","v":"Appraisal Costs"},{"$f":"'AHD Dev Budget'!C101","v":0},null,null,null,null,null,null,null,null,null,null,null,null,null,null,null,null,null,null,0,{"$f":"'AHD Dev Budget'!D101","v":0},{"$f":"'AHD Dev Budget'!E101","v":0},null,225,0]
[null,{"$f":"'AHD Dev Budget'!B102","v":"Broadband Readiness"},{"$f":"'AHD Dev Budget'!C102","v":0},null,null,null,null,null,null,null,null,null,null,null,null,null,null,null,null,null,null,0,{"$f":"'AHD Dev Budget'!D102","v":0},{"$f":"'AHD Dev Budget'!E102","v":0},null,0,0]
[null,{"$f":"'AHD Dev Budget'!B103","v":"Other Costs (Specify)"},{"$f":"'AHD Dev Budget'!C103","v":0},null,null,null,null,null,null,null,null,null,null,null,null,null,null,null,null,null,null,0,{"$f":"'AHD Dev Budget'!D103","v":0},{"$f":"'AHD Dev Budget'!E103","v":0},null,10681,0]
[null,{"$f":"'AHD Dev Budget'!B104","v":"Other Costs (Specify)"},{"$f":"'AHD Dev Budget'!C104","v":0},null,null,null,null,null,null,null,null,null,null,null,null,null,null,null,null,null,null,0,{"$f":"'AHD Dev Budget'!D104","v":0},{"$f":"'AHD Dev Budget'!E104","v":0},null,1742,0]
[null,{"$f":"'AHD Dev Budget'!B105","v":"Other Costs (Specify)"},{"$f":"'AHD Dev Budget'!C105","v":0},null,null,null,null,null,null,null,null,null,null,null,null,null,null,null,null,null,null,0,{"$f":"'AHD Dev Budget'!D105","v":0},{"$f":"'AHD Dev Budget'!E105","v":0},null,2931,0]
[null,{"$f":"'AHD Dev Budget'!B106","v":"Other Costs (Specify)"},{"$f":"'AHD Dev Budget'!C106","v":0},null,null,null,null,null,null,null,null,null,null,null,null,null,null,null,null,null,null,0,{"$f":"'AHD Dev Budget'!D106","v":0},{"$f":"'AHD Dev Budget'!E106","v":0},null,0,0]
[null,{"$f":"'AHD Dev Budget'!B107","v":"Other Costs (Specify)"},{"$f":"'AHD Dev Budget'!C107","v":0},null,null,null,null,null,null,null,null,null,null,null,null,null,null,null,null,null,null,0,{"$f":"'AHD Dev Budget'!D107","v":0},{"$f":"'AHD Dev Budget'!E107","v":0},null,0,0]
[null,{"$f":"'AHD Dev Budget'!B108","v":"Total Other Costs"},{"$f":"'AHD Dev Budget'!C108","v":0},null,{"$f":"SUM(E103:E118)","v":0},{"$f":"SUM(F103:F118)","v":0},0,0,0,0,0,0,0,0,0,{"$f":"SUM(P103:P118)","v":0},0,{"$f":"SUM(R103:R118)","v":0},0,0,0,0,{"$f":"SUM(W103:W118)","v":0},0,{"$f":"SUM(Y103:Y118)","v":0},149025,0]
[null,{"$f":"'AHD Dev Budget'!B109","v":"SUBTOTAL PROJECT COST"},{"$f":"'AHD Dev Budget'!C109","v":0},null,{"$f":"SUM(E78+E85+E95+E100+E119)","v":0},{"$f":"SUM(F78+F85+F95+F100+F119)","v":0},0,0,0,0,0,0,0,0,0,{"$f":"SUM(P78+P85+P95+P100+P119)","v":0},0,{"$f":"SUM(R78+R85+R95+R100+R119)","v":0},0,0,0,0,{"$f":"SUM(W78+W85+W95+W100+W119)","v":0},0,{"$f":"SUM(Y78+Y85+Y95+Y100+Y119)","v":1800000},{"$f":"SUM(Z78+Z85+Z95+Z100+Z119)","v":1158726},{"$f":"SUM(AA78+AA85+AA95+AA100+AA119)","v":0}]
[]
[null,{"$f":"'AHD Dev Budget'!B110","v":"DEVELOPER COSTS"}]
[null,{"$f":"'AHD Dev Budget'!B111","v":"Developer Overhead/Profit"},{"$f":"'AHD Dev Budget'!C111","v":0},null,null,null,null,null,null,null,null,null,null,null,null,null,null,null,null,null,null,{"$f":"SUM(E123:U123)","v":0},{"$f":"'AHD Dev Budget'!D111","v":0},{"$f":"'AHD Dev Budget'!E111","v":0},null,69064,{"$f":"W123-V123","v":0}]
[null,{"$f":"'AHD Dev Budget'!B112","v":"Consultant/Processing Agent"},{"$f":"'AHD Dev Budget'!C112","v":0},null,null,null,null,null,null,null,null,null,null,null,null,null,null,null,null,null,null,0,{"$f":"'AHD Dev Budget'!D112","v":0},{"$f":"'AHD Dev Budget'!E112","v":0},null,null,0]
[null,{"$f":"'AHD Dev Budget'!B113","v":"Project Administration"},{"$f":"'AHD Dev Budget'!C113","v":0},null,null,null,null,null,null,null,null,null,null,null,null,null,null,null,null,null,null,0,{"$f":"'AHD Dev Budget'!D113","v":0},{"$f":"'AHD Dev Budget'!E113","v":0},null,null,0]
[null,{"$f":"'AHD Dev Budget'!B114","v":"Broker Fees Paid  to a Related Party"},{"$f":"'AHD Dev Budget'!C114","v":0},null,null,null,null,null,null,null,null,null,null,null,null,null,null,null,null,null,null,0,{"$f":"'AHD Dev Budget'!D114","v":0},{"$f":"'AHD Dev Budget'!E114","v":0},null,null,0]
[null,{"$f":"'AHD Dev Budget'!B115","v":"Construction Oversight by Developer"},{"$f":"'AHD Dev Budget'!C115","v":0},null,null,null,null,null,null,null,null,null,null,null,null,null,null,null,null,null,null,0,{"$f":"'AHD Dev Budget'!D115","v":0},{"$f":"'AHD Dev Budget'!E115","v":0},null,null,0]
[null,{"$f":"'AHD Dev Budget'!B116","v":"Other Developer Costs (Specify)"},{"$f":"'AHD Dev Budget'!C116","v":0},null,null,null,null,null,null,null,null,null,null,null,null,null,null,null,null,null,null,0,{"$f":"'AHD Dev Budget'!D116","v":0},{"$f":"'AHD Dev Budget'!E116","v":0},null,null,0]
[null,{"$f":"'AHD Dev Budget'!B117","v":"Total Developer Costs"},{"$f":"'AHD Dev Budget'!C117","v":0},{"$f":"SUM(D123:D128)","v":0},{"$f":"SUM(E123:E128)","v":0},0,0,0,0,0,0,0,0,0,0,{"$f":"SUM(P123:P128)","v":0},0,{"$f":"SUM(R123:R128)","v":0},0,0,0,0,{"$f":"SUM(W123:W128)","v":0},0,{"$f":"SUM(Y123:Y128)","v":0},69064,0]
[null,{"$f":"'AHD Dev Budget'!B118","v":"TOTAL PROJECT COST"},{"$f":"'AHD Dev Budget'!C118","v":0},{"$f":"SUM(D120+D129)","v":0},{"$f":"SUM(E120+E129)","v":0},0,0,0,0,0,0,0,0,0,0,{"$f":"SUM(P120+P129)","v":0},{"$f":"SUM(Q120+Q129)","v":0},{"$f":"SUM(R120+R129)","v":0},0,0,{"$f":"SUM(U120+U129)","v":0},{"$f":"SUM(V120+V129)","v":0},{"$f":"SUM(W120+W129)","v":0},{"$f":"SUM(X120+X129)","v":0},{"$f":"SUM(Y120+Y129)","v":1800000},1227790,{"$f":"SUM(AA120+AA129)","v":0}]
[]
[null,"HOUSING RELATED-INFRASTRUCTURE (HRI)"]
[null,"Site acquisition of HRI including easements and right of ways",null,null,null,null,null,null,null,null,null,null,null,null,null,null,null,null,null,null,null,{"$f":"SUM(D133:U133)","v":0}]
[null,"Other Site Acquisition (Specify):",null,null,null,null,null,null,null,null,null,null,null,null,null,null,null,null,null,null,null,{"$f":"SUM(D134:U134)","v":0}]
[null,"TOTAL SITE ACQUISITION (Not Parking)",null,{"$f":"SUM(D133:D134)","v":0},0,0,0,0,0,0,0,0,0,0,0,0,0,{"$f":"SUM(R133:R134)","v":0},{"$f":"SUM(S133:S134)","v":0},0,{"$f":"SUM(U133:U134)","v":0},{"$f":"SUM(V133:V134)","v":0}]
[]
[null,"Clearing and Grubbing",null,null,null,null,null,null,null,null,null,null,null,null,null,null,null,null,null,null,null,{"$f":"SUM(D137:U137)","v":0}]
[null,"Demolition",null,null,null,null,null,null,null,null,null,null,null,null,null,null,null,null,null,null,null,0]
[null,"Excavation",null,null,null,null,null,null,null,null,null,null,null,null,null,null,null,null,null,null,null,0]
[null,"Grading (not grading for housing & mixed use structural improvements)",null,null,null,null,null,null,null,null,null,null,null,null,null,null,null,null,null,null,null,0]
[null,"Soil Stabilization (Lime, etc.)",null,null,null,null,null,null,null,null,null,null,null,null,null,null,null,null,null,null,null,0]
[null,"Erosion/Weed Control",null,null,null,null,null,null,null,null,null,null,null,null,null,null,null,null,null,null,null,0]
[null,"Dewatering",null,null,null,null,null,null,null,null,null,null,null,null,null,null,null,null,null,null,null,0]
[null,"Other Site Preparation (Specify):",null,null,null,null,null,null,null,null,null,null,null,null,null,null,null,null,null,null,null,0]
[null,"Other Site Preparation (Specify):",null,null,null,null,null,null,null,null,null,null,null,null,null,null,null,null,null,null,null,0]
[null,"TOTAL SITE PREPARATION",null,{"$f":"SUM(D137:D145)","v":0},{"$f":"SUM(E137:E145)","v":0},0,0,0,0,0,0,0,0,0,0,{"$f":"SUM(P137:P145)","v":0},0,0,0,0,0,0]
[]
[null,"Sanitary Sewer",null,null,null,null,null,null,null,null,null,null,null,null,null,null,null,null,null,null,null,{"$f":"SUM(D148:U148)","v":0}]
[null,"Potable Water",null,null,null,null,null,null,null,null,null,null,null,null,null,null,null,null,null,null,null,0]
[null,"Non-Potable Water",null,null,null,null,null,null,null,null,null,null,null,null,null,null,null,null,null,null,null,0]
[null,"Storm Drain",null,null,null,null,null,null,null,null,null,null,null,null,null,null,null,null,null,null,null,0]
[null,"Detention Basin/Culverts",null,null,null,null,null,null,null,null,null,null,null,null,null,null,null,null,null,null,null,0]
[null,"Joint Trench:",null,null,null,null,null,null,null,null,null,null,null,null,null,null,null,null,null,null,null,0]
[null,"Other Site Utilities (Specify):",null,null,null,null,null,null,null,null,null,null,null,null,null,null,null,null,null,null,null,0]
[null,"TOTAL SITE UTILITIES",null,{"$f":"SUM(D148:D154)","v":0},{"$f":"SUM(E148:E154)","v":0},0,0,0,0,0,0,0,0,0,0,{"$f":"SUM(P148:P154)","v":0},0,0,0,0,0,0]
[]
[null,"Aggregate Base",null,null,null,null,null,null,null,null,null,null,null,null,null,null,null,null,null,null,null,{"$f":"SUM(D157:U157)","v":0}]
[null,"Asphalt Pavement",null,null,null,null,null,null,null,null,null,null,null,null,null,null,null,null,null,null,null,0]
[null,"Curb, Gutter, Sidewalk",null,null,null,null,null,null,null,null,null,null,null,null,null,null,null,null,null,null,null,0]
[null,"Street Lights",null,null,null,null,null,null,null,null,null,null,null,null,null,null,null,null,null,null,null,0]
[null,"Striping/Signage/Barricades",null,null,null,null,null,null,null,null,null,null,null,null,null,null,null,null,null,null,null,0]
[null,"Traffic Mitigation",null,null,null,null,null,null,null,null,null,null,null,null,null,null,null,null,null,null,null,0]
[null,"Other Surface Improvements (Specify):",null,null,null,null,null,null,null,null,null,null,null,null,null,null,null,null,null,null,null,0]
[null,"TOTAL SURFACE IMPROVEMENTS",null,{"$f":"SUM(D157:D163)","v":0},{"$f":"SUM(E157:E163)","v":0},0,0,0,0,0,0,0,0,0,0,{"$f":"SUM(P157:P163)","v":0},0,0,0,0,0,0]
[]
[null,"Urban Greening (Specify):",null,null,null,null,null,null,null,null,null,null,null,null,null,null,null,null,null,null,null,{"$f":"SUM(D166:U166)","v":0}]
[null,"Urban Greening (Specify):",null,null,null,null,null,null,null,null,null,null,null,null,null,null,null,null,null,null,null,{"$f":"SUM(D167:U167)","v":0}]
[null,"Urban Greening (Specify):",null,null,null,null,null,null,null,null,null,null,null,null,null,null,null,null,null,null,null,{"$f":"SUM(D168:U168)","v":0}]
[null,"Urban Greening (Specify):",null,null,null,null,null,null,null,null,null,null,null,null,null,null,null,null,null,null,null,{"$f":"SUM(D169:U169)","v":0}]
[null,"TOTAL URBAN GREENING",null,{"$f":"SUM(D166:D169)","v":0},{"$f":"SUM(E166:E169)","v":0},0,0,0,0,0,0,0,0,0,0,0,0,0,0,0,0,0]
[]
[null,"Irrigation",null,null,null,null,null,null,null,null,null,null,null,null,null,null,null,null,null,null,null,{"$f":"SUM(D172:U172)","v":0}]
[null,"Concrete Work",null,null,null,null,null,null,null,null,null,null,null,null,null,null,null,null,null,null,null,0]
[null,"Landscaping",null,null,null,null,null,null,null,null,null,null,null,null,null,null,null,null,null,null,null,0]
[null,"Playground Facilities and Tot Lots",null,null,null,null,null,null,null,null,null,null,null,null,null,null,null,null,null,null,null,0]
[null,"Walking/Bike Path",null,null,null,null,null,null,null,null,null,null,null,null,null,null,null,null,null,null,null,0]
[null,"Drinking Fountains",null,null,null,null,null,null,null,null,null,null,null,null,null,null,null,null,null,null,null,0]
[null,"Structures",null,null,null,null,null,null,null,null,null,null,null,null,null,null,null,null,null,null,null,0]
[null,"Lighting ",null,null,null,null,null,null,null,null,null,null,null,null,null,null,null,null,null,null,null,0]
[null,"Open Space ",null,null,null,null,null,null,null,null,null,null,null,null,null,null,null,null,null,null,null,0]
[null,"Other Landscape and Amenities (Specify):",null,null,null,null,null,null,null,null,null,null,null,null,null,null,null,null,null,null,null,0]
[null,"TOTAL LANDSCAPE AND AMENITIES",null,{"$f":"SUM(D172:D181)","v":0},{"$f":"SUM(E172:E181)","v":0},0,0,0,0,0,0,0,0,0,0,0,0,0,0,0,0,0]
[]
[null,"Wetland Mitigation",null,null,null,null,null,null,null,null,null,null,null,null,null,null,null,null,null,null,null,{"$f":"SUM(D184:U184)","v":0}]
[null,"Endangered Species",null,null,null,null,null,null,null,null,null,null,null,null,null,null,null,null,null,null,null,{"$f":"SUM(D185:U185)","v":0}]
[null,"Tree Mitigation",null,null,null,null,null,null,null,null,null,null,null,null,null,null,null,null,null,null,null,{"$f":"SUM(D186:U186)","v":0}]
[null,"Environmental Remediation ",null,null,null,null,null,null,null,null,null,null,null,null,null,null,null,null,null,null,null,{"$f":"SUM(D187:U187)","v":0}]
[null,"Other Env. Mitigation/Remediation (Specify):",null,null,null,null,null,null,null,null,null,null,null,null,null,null,null,null,null,null,null,{"$f":"SUM(D188:U188)","v":0}]
[null,"TOTAL ENV. MITIGATION/REMEDIATION",null,{"$f":"SUM(D184:D188)","v":0},{"$f":"SUM(E184:E188)","v":0},{"$f":"SUM(F184:F188)","v":0},0,0,0,0,0,0,0,0,0,{"$f":"SUM(P184:P188)","v":0},0,0,0,0,0,0]
[]
[null,"Residential Parking Structures",null,null,null,null,null,null,null,null,null,null,null,null,null,null,null,null,null,null,null,{"$f":"SUM(D191:U191)","v":0}]
[null,"Grading  ",null,null,null,null,null,null,null,null,null,null,null,null,null,null,null,null,null,null,null,0]
[null,"Foundation Work",null,null,null,null,null,null,null,null,null,null,null,null,null,null,null,null,null,null,null,0]
[null,"Site Work",null,null,null,null,null,null,null,null,null,null,null,null,null,null,null,null,null,null,null,0]
[null,"Other Replacement Parking Costs (Specify): ",null,null,null,null,null,null,null,null,null,null,null,null,null,null,null,null,null,null,null,0]
[null,"Other Replacement Parking Costs (Specify): ",null,null,null,null,null,null,null,null,null,null,null,null,null,null,null,null,null,null,null,0]
[null,"TOTAL REPLACEMENT PARKING",null,{"$f":"SUM(D191:D196)","v":0},{"$f":"SUM(E191:E196)","v":0},0,0,0,0,0,{"$f":"SUM(K191:K196)","v":0},0,0,0,0,{"$f":"SUM(P191:P196)","v":0},0,0,0,0,0,0]
[]
[null,"Residential Parking Structures",null,null,null,null,null,null,null,null,null,null,null,null,null,null,null,null,null,null,null,{"$f":"SUM(D199:U199)","v":0}]
[null,"Grading  ",null,null,null,null,null,null,null,null,null,null,null,null,null,null,null,null,null,null,null,0]
[null,"Foundation Work",null,null,null,null,null,null,null,null,null,null,null,null,null,null,null,null,null,null,null,0]
[null,"Site Work",null,null,null,null,null,null,null,null,null,null,null,null,null,null,null,null,null,null,null,0]
[null,"Other Residential Parking Costs (Specify): ",null,null,null,null,null,null,null,null,null,null,null,null,null,null,null,null,null,null,null,0]
[null,"Other Residential Parking Costs (Specify): ",null,null,null,null,null,null,null,null,null,null,null,null,null,null,null,null,null,null,null,0]
[null,"TOTAL RESIDENTIAL PARKING",null,{"$f":"SUM(D199:D204)","v":0},{"$f":"SUM(E199:E204)","v":0},{"$f":"SUM(F199:F204)","v":0},0,0,0,0,0,0,0,0,0,{"$f":"SUM(P199:P204)","v":0},0,0,0,0,0,0]
[]
[null,"Access Plazas",null,null,null,null,null,null,null,null,null,null,null,null,null,null,null,null,null,null,null,{"$f":"SUM(D207:U207)","v":0}]
[null,"Pathways",null,null,null,null,null,null,null,null,null,null,null,null,null,null,null,null,null,null,null,0]
[null,"Bus Shelters",null,null,null,null,null,null,null,null,null,null,null,null,null,null,null,null,null,null,null,0]
[null,"Transit Shelters",null,null,null,null,null,null,null,null,null,null,null,null,null,null,null,null,null,null,null,0]
[null,"Pedestrian Facilities",null,null,null,null,null,null,null,null,null,null,null,null,null,null,null,null,null,null,null,0]
[null,"Bicycle Facilities",null,null,null,null,null,null,null,null,null,null,null,null,null,null,null,null,null,null,null,0]
[null,"Other Transit Costs (Specify):",null,null,null,null,null,null,null,null,null,null,null,null,null,null,null,null,null,null,null,0]
[null,"TOTAL TRANSIT",null,{"$f":"SUM(D207:D213)","v":0},{"$f":"SUM(E207:E213)","v":0},0,0,0,0,0,0,0,0,0,0,{"$f":"SUM(P207:P213)","v":0},0,null,null,null,0,0]
[]
[null,"Drainage",null,null,null,null,null,null,null,null,null,null,null,null,null,null,null,null,null,null,null,{"$f":"SUM(D216:U216)","v":0}]
[null,"Parks & Recreation",null,null,null,null,null,null,null,null,null,null,null,null,null,null,null,null,null,null,null,0]
[null,"Streets/Signals",null,null,null,null,null,null,null,null,null,null,null,null,null,null,null,null,null,null,null,0]
[null,"Traffic Fees",null,null,null,null,null,null,null,null,null,null,null,null,null,null,null,null,null,null,null,0]
[null,"Waste Water",null,null,null,null,null,null,null,null,null,null,null,null,null,null,null,null,null,null,null,0]
[null,"Water Facility",null,null,null,null,null,null,null,null,null,null,null,null,null,null,null,null,null,null,null,0]
[null,"Other Impact Fees (Specify):",null,null,null,null,null,null,null,null,null,null,null,null,null,null,null,null,null,null,null,0]
[null,"Other Impact Fees (non-AHSC eligible)",null,null,null,null,null,null,null,null,null,null,null,null,null,null,null,null,null,null,null,0]
[null,"TOTAL IMPACT FEES",null,{"$f":"SUM(D216:D223)","v":0},{"$f":"SUM(E216:E223)","v":0},0,0,0,0,0,0,0,0,0,0,{"$f":"SUM(P216:P223)","v":0},0,0,0,0,0,0]
[]
[null,"Engineering",null,null,null,null,null,null,null,null,null,null,null,null,null,null,null,null,null,null,null,{"$f":"SUM(D226:U226)","v":0}]
[null,"Design",null,null,null,null,null,null,null,null,null,null,null,null,null,null,null,null,null,null,null,{"$f":"SUM(D227:U227)","v":0}]
[null,"Contractor Fee",null,null,null,null,null,null,null,null,null,null,null,null,null,null,null,null,null,null,null,{"$f":"SUM(D228:U228)","v":0}]
[null,"Other Soft Costs (Specify):",null,null,null,null,null,null,null,null,null,null,null,null,null,null,null,null,null,null,null,{"$f":"SUM(D229:U229)","v":0}]
[null,"TOTAL SOFT COSTS",null,{"$f":"SUM(D226:D229)","v":0},{"$f":"SUM(E226:E229)","v":0},{"$f":"SUM(F226:F229)","v":0},0,0,0,0,0,0,0,0,0,0,0,0,0,0,0,0]
[]
[null,"Employment Reporting",null,null,null,null,null,null,null,null,null,null,null,null,null,null,null,null,null,null,null,{"$f":"SUM(D232:U232)","v":0}]
[null,"Other Costs (Specify):",null,null,null,null,null,null,null,null,null,null,null,null,null,null,null,null,null,null,null,{"$f":"SUM(D233:U233)","v":0}]
[null,"Other Costs (Specify):",null,null,null,null,null,null,null,null,null,null,null,null,null,null,null,null,null,null,null,{"$f":"SUM(D234:U234)","v":0}]
[null,"TOTAL OTHER ASSET COSTS",null,{"$f":"SUM(D232:D234)","v":0},{"$f":"SUM(E232:E234)","v":0},0,0,0,0,0,0,0,0,0,0,0,0,{"$f":"SUM(R232:R234)","v":0},{"$f":"SUM(S232:S234)","v":0},{"$f":"SUM(T232:T234)","v":0},{"$f":"SUM(U232:U234)","v":0},{"$f":"SUM(V232:V234)","v":0}]
[]
[null,"HRI TOTAL PROJECT COSTS",null,{"$f":"SUM(D135,D146,D155,D164,D170,D182,D189,D197,D205,D214,D224,D230,D235)","v":0},{"$f":"SUM(E135,E146,E155,E164,E170,E182,E189,E197,E205,E214,E224,E230,E235)","v":0},0,0,0,0,0,0,0,0,0,0,0,0,{"$f":"SUM(R135,R146,R155,R164,R170,R182,R189,R197,R205,R214,R224,R230,R235)","v":0},0,0,0,{"$f":"SUM(V135,V146,V155,V164,V170,V182,V189,V197,V205,V214,V224,V230,V235)","v":0},{"$f":"SUM(W135,W146,W155,W164,W170,W182,W189,W197,W205,W214,W224,W230,W235)","v":0},0,0,0]
[null,"AHD TOTAL PROJECT COSTS",{"$f":"C130","v":0},0,0,0,0,0,0,0,0,0,0,0,0,0,0,{"$f":"R130","v":0},0,0,{"$f":"U130","v":0},0,0,0,1800000,1227790]
[null,{"$f":"IF(AND(vmAHD=\"Yes\",vmHRI=\"Yes\"),\"TOTAL AHD & HRI PROJECT COSTS\",IF(AND(vmAHD=\"Yes\",vmHRI=\"No\"),\"TOTAL AHD PROJECT COSTS\",IF(AND(vmAHD=\"No\",vmHRI=\"Yes\"),\"TOTAL HRI PROJECT COSTS\",\"\")))","v":""},null,{"$f":"D238+D237","v":0},{"$f":"E238+E237","v":0},{"$f":"F238+F237","v":0},0,0,0,0,0,0,0,0,0,{"$f":"P238+P237","v":0},0,{"$f":"R238+R237","v":0},0,0,0,0,{"$f":"W238+W237","v":0},0,1800000,1227790]
[]
[null,"Provide Urban Greening Details and explain unusual or extraordinary circumstances that have resulted in higher than expected Project costs; provide a justification as to why these costs are reasonable. "]
[]
[]
[]
[null,"End of Document"]

{"sheet":"Operating","index":14,"n_rows":143,"n_cols":9,"rows_kept":143,"cut":false,"hidden":true,"merged":[[140,1,140,3],[128,1,128,2],[132,1,132,2],[133,1,133,2],[135,1,135,2],[138,1,138,3],[139,1,139,3],[126,1,126,2],[112,1,112,2],[113,1,113,2],[114,1,114,2],[115,1,115,2],[116,1,116,2],[118,1,118,2],[119,1,119,2],[122,1,122,2],[123,1,123,2],[124,1,124,2],[125,1,125,2],[129,1,129,2],[130,1,130,2],[131,1,131,2],[137,1,137,3],[127,1,127,2],[77,1,77,2],[78,1,78,2],[101,1,101,2],[103,1,103,2],[104,1,104,2],[105,1,105,2],[106,1,106,2],[107,1,107,2],[108,1,108,2],[38,1,38,2],[1,1,1,6],[3,1,3,5],[24,1,24,5],[25,1,25,2],[26,1,26,2],[27,1,27,2],[28,1,28,2],[32,1,32,2],[33,1,33,2],[29,1,29,2],[19,1,19,2],[16,5,17,5],[20,1,20,2],[21,1,21,2],[22,1,22,2],[15,1,15,2],[16,1,16,2],[17,1,17,2],[18,1,18,2],[31,1,31,5],[62,1,62,2],[63,1,63,2],[64,1,64,2],[36,1,36,2],[55,1,55,2],[111,1,111,3],[121,1,121,3],[102,1,102,3],[92,1,92,3],[79,1,79,3],[72,1,72,3],[56,1,56,3],[68,1,68,2],[57,1,57,2],[58,1,58,2],[59,1,59,2],[60,1,60,2],[61,1,61,2],[70,1,70,2],[71,1,71,2],[73,1,73,2],[74,1,74,2],[75,1,75,2],[76,1,76,2],[142,1,142,6],[134,1,134,2],[120,1,120,2],[117,1,117,2],[110,1,110,2],[80,1,80,2],[81,1,81,2],[96,1,96,2],[83,1,83,2],[84,1,84,2],[85,1,85,2],[87,1,87,2],[88,1,88,2],[89,1,89,2],[90,1,90,2],[91,1,91,2],[93,1,93,2],[94,1,94,2],[95,1,95,2],[109,1,109,2],[97,1,97,2],[98,1,98,2],[99,1,99,2],[100,1,100,2],[65,1,65,2],[66,1,66,2],[67,1,67,2],[82,1,82,2],[69,1,69,2],[34,1,34,2],[35,1,35,2],[54,1,54,2],[39,1,39,2],[40,1,40,2],[41,1,41,2],[42,1,42,2],[43,1,43,2],[47,1,47,2],[48,1,48,2],[49,1,49,2],[50,1,50,2],[51,1,51,2],[52,1,52,2],[53,1,53,2],[37,1,37,2],[44,1,44,2],[45,1,45,2],[46,1,46,2]]}
[]
[null,"Annual Income and Expenses"]
[]
[null,"Employee Information",null,null,null,null,"Comments"]
[null,"No.","FTE","Employee Job Title","Salary/Wages","Value of Free Rent"]
[null,null,null,"On-Site Manager(s)"]
[null,null,null,"On-Site Assistant Manager(s)"]
[null,null,null,"Supportive Services Staff Supervisor(s)"]
[null,null,null,"Supportive Services Coordinator, On-Site"]
[null,null,null,"Other Supportive Services Staff (inc. Case Manager)"]
[null,null,null,"On-Site Maintenance Employee(s)"]
[null,null,null,"On-Site Leasing Agent/Administrative Employee(s)"]
[null,null,null,"On-Site Security Employee(s)"]
[null,null,null,"Other (specify)"]
[null,null,null,"Other (specify)"]
[null,null,null,"Total Salaries and Value of Free Rent Units",{"$f":"SUM(E6:E15)","v":0},{"$f":"SUM(F6:F15)","v":0}]
[null,6711,null,"Payroll Taxes",null,"Show free rent as an expense?"]
[null,6722,null,"Workers Compensation",null,null,null,null,"Count free rent as an "]
[null,6723,null,"Employee Benefits",null,null,null,null,"expense?"]
[null,null,null,"Employee(s) Payroll Taxes, Workers Comp. & Benefits",{"$f":"SUM(E17:E19)","v":0},null,null,null,{"$f":"IF(F19=\"Yes\",1,0)","v":0}]
[null,null,null,"Total Employee(s) Expenses",{"$f":"E20+E16","v":0}]
[]
[]
[]
[null,"Employee Units"]
[null,"Income Limit",null,"Job Title(s) of Employee(s) Living On-Site","Unit Type\n(No. of bdrms.)","Square Footage",null,"Income Limit","Job Title(s) of Employee(s) Living On-Site"]
[null,null,null,null,null,null,null,0.6,"On-Site Manager(s)"]
[null,null,null,null,null,null,null,0.55000000000000004,"On-Site Assistant Manager(s)"]
[null,null,null,null,null,null,null,0.5,"On-Site Maintenance Employee(s)"]
[null,null,null,null,"Total Square Footage",{"$f":"SUM(F27:F29)","v":0},null,"None","On-Site Leasing Agent/Administrative Employee(s)"]
[]
[null,"Annual Operating Budget",null,null,null,null,null,"Other","On-Site Security Employee(s)"]
[null," Acct. No.",null,"Revenue - Income","Residential ","Commercial ","Comments",null,"Services Coordinator"]
[null,"5120/5140",null,"Rent Revenue - Gross Potential",null,{"$f":"SUM('Project Overview'!AJ602,'Project Overview'!AJ603,'Project Overview'!AJ604,'Project Overview'!AJ605)","v":0}]
[null,null,null,"Restricted Unit Rents",{"$f":"'Cash Flow'!D5","v":0}]
[null,null,null,"Unrestricted Unit Rents",{"$f":"'Cash Flow'!D6","v":0}]
[null,5121,null,"Tenant Assistance Payments"]
[null,null,null,{"$f":"'Max Funds & Unit Mix'!AB4","v":"Subsidy Program Name (Specify)"},{"$f":"'Max Funds & Unit Mix'!AN27*12","v":0}]
[null,null,null,{"$f":"'Max Funds & Unit Mix'!AD4","v":"Subsidy Program Name (Specify)"},{"$f":"'Max Funds & Unit Mix'!AO27*12","v":0}]
[null,null,null,"Operating Subsidies"]
[null,null,null,"Other (specify)"]
[null,5910,null,"Laundry and Vending Revenue",{"$f":"'Project Overview'!$K$598","v":0}]
[null,5170,null,"Parking Spaces",{"$f":"'Project Overview'!$K$602","v":0},{"$f":"'Project Overview'!$K$606","v":0}]
[null,5990,null,"Miscellaneous/Other Rent Revenue ",{"$f":"SUM('Project Overview'!$AJ$597,'Project Overview'!$AJ$598,'Project Overview'!$AJ$599,'Project Overview'!$AJ$600)","v":0},0]
[null,null,null,"Gross Potential Income (GPI)",{"$f":"SUM(E34:E44)","v":0},{"$f":"SUM(F34:F44)","v":0}]
[]
[null,null,null,"Vacancy Rate:  Restricted Units",0.05]
[null,null,null,"Vacancy Rate:  Unrestricted Units",0.05]
[null,null,null,"Vacancy Rate:  Tenant Assistance Payments",0.05]
[null,null,null,{"$f":"\"Vacancy Rate:  \" & D41","v":"Vacancy Rate:  Other (specify)"},0.05]
[null,null,null,"Vacancy Rate:  Laundry & Vending & Other Income  ",0.05]
[null,null,null,"Vacancy Rate:  Commercial Income ",null,0.5]
[null,"5220/5240",null,"Vacancy Loss(es)",{"$f":"(E35*E47)+(E36*E48)+((E38+E39)*E49)+(E41*E50)+((E42+E43+E44)*E51)","v":0},{"$f":"+F45*F52","v":0}]
[null,null,null,"Effective Gross Income (EGI)",{"$f":"+E45-E53","v":0},{"$f":"+F45-F53","v":0}]
[null," Acct. No.",null,"Expenses","Residential ","Commercial ","Comments"]
[]
[null,"Administrative Expenses: 6200/6300"]
[null,6203,null,"Conventions and Meetings"]
[null,6210,null,"Advertising and Marketing"]
[null,6250,null,"Other Renting Expenses"]
[null,6310,null,"Office/Administrative Salaries -- from above",{"$f":"E12","v":0}]
[null,6311,null,"Office Expenses"]
[null,6312,null,"Office or Model Apartment Rent"]
[null,6320,null,"Management Fee"]
[null,6330,null,"Site/Resident Manager(s) Salaries -- from above",{"$f":"E6+E7","v":0}]
[null,6331,null,"Administrative Free Rent Unit  -- from above",{"$f":"IF(I20=1,F6+F7+F12,0)","v":0}]
[null,6340,null,"Legal Expense -- Project"]
[null,6350,null,"Audit Expense"]
[null,6351,null,"Bookkeeping Fees/Accounting Services"]
[null,6390,null,"Miscellaneous Administrative Expenses"]
[null,"6263T",null,"  Total Administrative Expenses",{"$f":"SUM(E58:E70)","v":0},{"$f":"SUM(F58:F70)","v":0}]
[null," Acct. No.",null,"Expenses","Residential ","Commercial ","Comments"]
[null,"Utilities Expenses: 6400"]
[null,6450,null,"Electricity"]
[null,6451,null,"Water"]
[null,6452,null,"Gas"]
[null,6453,null,"Sewer"]
[null,null,null,"Other Utilities (specify)"]
[null,"6400T",null,"  Total Utilities Expenses",{"$f":"SUM(E74:E78)","v":0},{"$f":"SUM(F74:F78)","v":0}]
[null,"Operating and Maintenance Expenses: 6500",null,null,null,null,"Comments"]
[null,6510,null,"Payroll -- from above",{"$f":"E11+E13+E14+E15","v":0}]
[null,6515,null,"Supplies "]
[null,6520,null,"Contracts"]
[null,6521,null,"Operating & Maintenance Free Rent Unit -- from above",{"$f":"IF(I20=1,F11+F14+F15,0)","v":0}]
[null,6525,null,"Garbage and Trash Removal"]
[null,6530,null,"Security Contract"]
[null,6531,null,"Security Free Rent Unit -- from above",{"$f":"IF(I20=1,F13,0)","v":0}]
[null,6546,null,"Heating/Cooling Repairs and Maintenance"]
[null,6548,null,"Snow Removal"]
[null,6570,null,"Vehicle & Maintenance Equipment Operation/Reports"]
[null,6590,null,"Miscellaneous Operating and Maintenance Expenses"]
[null,"6500T",null,"TOTAL Operating & Maintenance Expenses",{"$f":"SUM(E81:E91)","v":0},{"$f":"SUM(F81:F91)","v":0}]
[null,"Taxes and Insurance: 6700",null,null,null,null,"Comments"]
[null,6710,null,"Real Estate Taxes"]
[null,6711,null,"Payroll Taxes (Project's Share) -- from above",{"$f":"E17","v":0}]
[null,6720,null,"Property and Liability Insurance (Hazard)"]
[null,6729,null,"Other Insurance (e.g. Earthquake)"]
[null,6721,null,"Fidelity Bond Insurance"]
[null,6722,null,"Worker's Compensation -- from above",{"$f":"E18","v":0}]
[null,6723,null,"Health Insurance/Other Employee Benefits--from above",{"$f":"E19","v":0}]
[null,6790,null,"Miscellaneous Taxes, Licenses, Permits & Insurance"]
[null,"6700T",null,"  Total Taxes and Insurance",{"$f":"SUM(E94:E101)","v":0},{"$f":"SUM(F94:F101)","v":0}]
[null,"Supportive Services Costs: 6900",null,null,null,null,"Comments"]
[null,6990,null,"Staff Supervisor(s) Salaries - from above",{"$f":"E8","v":0}]
[null,6990,null,"Services Coordinator Salaries, On-Site - from above",{"$f":"E9","v":0}]
[null,6990,null,"Other Supportive Services Staff Salaries - from above",{"$f":"E10","v":0}]
[null,6990,null,"Supportive Services Admin Overhead"]
[null,6990,null,"Other Supportive Services Costs (specify)"]
[null,6990,null,"Other Supportive Services Costs (specify)"]
[null,"6900T",null,"  Total Supportive Services Costs",{"$f":"SUM(E104:E109)","v":0},{"$f":"SUM(F104:F109)","v":0}]
[null,null,null,"Total Operating Expenses",{"$f":"E71+E79+E92+E102+E110","v":0},{"$f":"F71+F79+F92+F102+F110","v":0},"Comments"]
[null,"Funded Reserves: 7200",null,null,"Residential","Commercial"]
[null,7210,null,"Required Replacement Reserve Deposits",{"$f":"'HCD Reserves Calculator'!$AJ$10","v":0}]
[null,7220,null,"Other Reserves (specify)"]
[null,7230,null,"Other Reserves (specify)"]
[null,7240,null,"Other Reserves (specify)"]
[null,null,null,"Total Reserves",{"$f":"SUM(E113:E116)","v":0},{"$f":"SUM(F113:F116)","v":0}]
[null,null,null,"Ground Lease","Residential","Commercial"]
[null,null,null,"Ground Lease",0,0]
[null,null,null,"Total Ground Lease",{"$f":"SUM(E119:E119)","v":0},{"$f":"SUM(F119:F119)","v":0}]
[null,null,null,"Net Operating Income",{"$f":"E54-E111-E117-E120","v":0},{"$f":"F54-F111-F117-F120","v":0}]
[null,"Financial Expenses: 6800",null,null,null,null,"Comments"]
[null,6820,null,"1st Mortgage Debt Service"]
[null,6830,null,"2nd Mortgage Debt Service "]
[null,6840,null,"3rd Mortgage Debt Service"]
[null,6890,null,"AHSC .42% Fee"]
[null,6890,null,"Other HCD .42% (Specify)"]
[null,6890,null,"Other HCD .42% (Specify)"]
[null,6890,null,"Bond Issuer Fee"]
[null,6890,null,"Miscellaneous Financial Expenses (specify)"]
[null,6890,null,"Miscellaneous Financial Expenses (specify)"]
[null,6890,null,"Miscellaneous Financial Expenses (specify)"]
[null,6890,null,"Miscellaneous Financial Expenses (specify)"]
[null,"6800T",null,"Total Financial Expenses",{"$f":"SUM(E123:E133)","v":0},{"$f":"SUM(F123:F133)","v":0}]
[null,null,null," Cash Flow",{"$f":"+E121-E134","v":0},{"$f":"+F121-F134","v":0}]
[null,7190,null,"Asset Management/Similar Fees"]
[]
[null,"Total Operating Expenses Per Unit ",null,null,"Per Year","Per Month"]
[null,"Without any Adjustments",null,null,{"$f":"IFERROR(E111/'Max Funds & Unit Mix'!E27,0)","v":0},{"$f":"+E139/12","v":0}]
[null,"With the Value of Rent-Free Units Included",null,null,{"$f":"IFERROR(IF(I20=1,+(F16+E111)/'Max Funds & Unit Mix'!E27,E111/'Max Funds & Unit Mix'!E27),0)","v":0},{"$f":"+E140/12","v":0}]
[null,"Without  RE Taxes, Social Services Coordinator or Social \n   Services/Social Programs and With the Value of Rent Fee Units \n   Included",null,null,{"$f":"IFERROR((IF(I20=1,+((F16+E111)-(E94+E110))/'Max Funds & Unit Mix'!E27,(E111-(E94+E110))/'Max Funds & Unit Mix'!E27)),0)","v":0},{"$f":"+E141/12","v":0}]
[]
[null,"End of Document"]

{"sheet":"Threshold Requirements","index":15,"n_rows":420,"n_cols":39,"rows_kept":420,"cut":false,"hidden":false,"merged":[[115,1,115,3],[115,4,115,11],[115,12,115,31],[115,32,115,36],[115,37,115,38],[116,1,116,3],[116,4,116,11],[116,12,116,31],[116,32,116,36],[116,37,116,38],[120,1,120,3],[120,4,120,11],[120,12,120,31],[120,32,120,36],[120,37,120,38],[121,1,121,3],[121,4,121,11],[121,12,121,31],[121,32,121,36],[121,37,121,38],[301,20,301,38],[307,20,307,38],[312,20,312,38],[319,20,319,38],[324,20,324,38],[330,20,330,38],[335,20,335,38],[341,20,341,38],[346,20,346,38],[244,8,244,9],[244,4,244,7],[269,4,269,9],[269,10,269,11],[269,12,269,17],[269,18,269,19],[269,20,269,23],[269,25,269,28],[281,4,281,36],[269,30,269,36],[269,37,269,38],[260,36,260,38],[261,4,261,9],[261,10,261,11],[261,12,261,17],[253,23,253,38],[259,23,259,38],[267,23,267,38],[257,4,257,38],[252,4,252,38],[254,16,254,31],[255,4,255,9],[255,10,255,11],[16,32,16,35],[16,20,16,31],[31,4,31,11],[31,12,31,31],[31,32,31,36],[31,37,31,38],[32,1,32,3],[32,4,32,11],[32,12,32,31],[32,32,32,36],[32,37,32,38],[139,3,139,13],[241,1,241,3],[241,4,241,11],[241,12,241,31],[241,32,241,36],[241,37,241,38],[232,37,232,38],[234,5,234,38],[235,5,235,15],[235,16,235,28],[235,29,235,36],[235,37,235,38],[236,5,236,9],[236,10,236,11],[237,5,237,25],[237,26,237,33],[237,34,237,38],[223,1,223,3],[223,37,223,38],[223,12,223,31],[223,32,223,36],[417,1,417,16],[417,17,417,18],[318,4,318,15],[318,16,318,31],[318,32,318,35],[318,36,318,38],[335,10,335,11],[336,4,336,38],[333,4,333,11],[407,37,407,38],[311,16,311,31],[319,10,319,11],[379,4,379,36],[380,5,380,36],[376,3,376,36],[354,37,355,38],[323,36,323,38],[319,12,319,17],[345,4,345,15],[345,16,345,31],[345,32,345,35],[345,36,345,38],[314,12,314,31],[314,1,314,3],[355,4,355,22],[312,18,312,19],[363,3,363,36],[363,37,363,38],[382,37,382,38],[382,30,382,36],[357,1,357,3],[357,4,357,10],[4,1,4,36],[5,2,5,36],[6,3,6,36],[97,3,97,36],[97,37,97,38],[101,3,101,10],[310,23,310,38],[317,23,317,38],[322,23,322,38],[328,23,328,38],[333,23,333,38],[339,23,339,38],[267,12,267,22],[268,4,268,15],[268,16,268,31],[268,32,268,35],[268,36,268,38],[264,1,264,3],[313,4,313,38],[316,4,316,22],[327,4,327,22],[328,4,328,11],[256,18,256,21],[256,23,256,29],[256,30,256,31],[246,4,246,36],[246,37,246,38],[247,5,247,36],[248,5,248,36],[249,5,249,36],[311,4,311,15],[339,12,339,22],[255,12,255,17],[255,18,255,19],[254,32,254,35],[267,4,267,11],[250,5,250,36],[254,36,254,38],[255,20,255,23],[253,4,253,11],[253,12,253,22],[263,4,263,38],[264,4,264,11],[264,12,264,31],[264,32,264,36],[264,37,264,38],[260,32,260,35],[260,16,260,31],[255,37,255,38],[255,25,255,28],[255,30,255,36],[260,4,260,15],[266,4,266,38],[256,4,256,8],[256,9,256,17],[259,4,259,11],[259,12,259,22],[261,18,261,19],[261,20,261,23],[261,25,261,28],[261,30,261,36],[261,37,261,38],[262,18,262,21],[262,23,262,29],[262,30,262,31],[1,1,1,38],[419,1,419,38],[411,1,411,38],[412,1,412,9],[412,17,412,18],[413,1,413,9],[413,17,413,18],[414,1,414,16],[414,17,414,18],[415,1,415,16],[415,17,415,18],[416,1,416,16],[416,17,416,18],[243,3,243,36],[280,4,280,36],[243,37,243,38],[254,4,254,15],[238,5,238,25],[238,26,238,33],[238,34,238,38],[239,5,239,38],[240,5,240,38],[230,5,230,38],[231,5,231,38],[232,1,232,3],[232,4,232,11],[232,12,232,31],[232,32,232,36],[225,5,225,38],[226,5,226,15],[226,16,226,28],[226,29,226,36],[226,37,226,38],[227,5,227,9],[227,10,227,11],[228,5,228,25],[228,26,228,33],[228,34,228,38],[229,5,229,25],[229,26,229,33],[229,34,229,38],[206,5,206,38],[216,5,216,38],[217,5,217,15],[217,16,217,28],[217,29,217,36],[217,37,217,38],[218,5,218,9],[218,10,218,11],[219,5,219,25],[219,26,219,33],[219,34,219,38],[220,5,220,25],[220,26,220,33],[220,34,220,38],[221,5,221,38],[222,5,222,38],[223,4,223,11],[214,12,214,31],[214,32,214,36],[214,37,214,38],[213,1,213,3],[213,4,213,11],[213,12,213,31],[213,32,213,36],[213,37,213,38],[214,4,214,11],[214,1,214,3],[211,5,211,38],[212,5,212,38],[208,5,208,9],[208,10,208,11],[209,34,209,38],[210,34,210,38],[209,26,209,33],[210,26,210,33],[210,5,210,25],[209,5,209,25],[196,1,196,3],[196,4,196,11],[196,12,196,31],[196,32,196,36],[193,12,193,14],[207,37,207,38],[207,29,207,36],[207,16,207,28],[207,5,207,15],[201,5,201,36],[186,3,186,38],[187,38,189,38],[193,25,193,34],[193,3,193,11],[193,15,193,24],[194,3,194,38],[195,3,195,38],[189,26,189,37],[187,35,188,37],[188,26,188,27],[188,28,188,32],[189,9,189,16],[193,35,193,37],[192,28,192,32],[192,33,192,34],[192,35,192,37],[202,4,202,36],[203,5,203,36],[204,5,204,36],[196,37,196,38],[192,23,192,25],[192,6,192,8],[187,33,188,34],[187,3,188,5],[189,3,189,5],[190,3,190,5],[191,3,191,5],[189,17,189,20],[189,21,189,22],[189,23,189,25],[190,23,190,25],[190,26,190,27],[192,9,192,16],[192,17,192,20],[192,21,192,22],[192,26,192,27],[187,6,188,8],[189,6,189,8],[191,35,191,37],[190,17,190,20],[190,6,190,8],[190,21,190,22],[190,28,190,32],[187,9,188,16],[187,17,188,20],[191,23,191,25],[191,9,191,16],[191,17,191,20],[191,21,191,22],[191,26,191,27],[191,33,191,34],[190,33,190,34],[190,35,190,37],[191,28,191,32],[177,28,177,32],[177,33,177,34],[177,6,177,8],[175,23,176,25],[175,26,175,32],[175,33,176,34],[177,3,177,5],[178,35,178,37],[178,26,178,27],[178,28,178,32],[178,33,178,34],[178,3,178,5],[178,23,178,25],[178,6,178,8],[192,3,192,5],[181,25,181,34],[181,3,181,11],[181,15,181,24],[182,3,182,38],[183,3,183,38],[181,35,181,37],[181,12,181,14],[184,1,184,3],[184,4,184,11],[184,12,184,31],[184,32,184,36],[184,37,184,38],[190,9,190,16],[191,6,191,8],[187,21,188,22],[187,23,188,25],[187,26,187,32],[165,35,165,37],[165,3,165,5],[165,33,165,34],[165,26,165,27],[167,21,167,22],[167,23,167,25],[167,26,167,27],[168,35,168,37],[168,28,168,32],[166,6,166,8],[167,9,167,16],[166,23,166,25],[163,17,164,20],[167,3,167,5],[180,3,180,5],[180,6,180,8],[180,23,180,25],[180,26,180,27],[180,28,180,32],[180,33,180,34],[180,35,180,37],[179,23,179,25],[178,21,178,22],[175,3,176,5],[175,35,176,37],[175,6,176,8],[175,9,176,16],[175,17,176,20],[175,21,176,22],[177,21,177,22],[177,23,177,25],[177,26,177,27],[177,9,177,16],[177,35,177,37],[177,17,177,20],[163,21,164,22],[163,23,164,25],[165,28,165,32],[164,26,164,27],[163,6,164,8],[165,6,165,8],[165,17,165,20],[165,23,165,25],[167,17,167,20],[179,28,179,32],[178,9,178,16],[178,17,178,20],[163,38,165,38],[169,25,169,34],[169,3,169,11],[169,15,169,24],[170,3,170,38],[171,3,171,38],[174,3,174,38],[176,26,176,27],[176,28,176,32],[175,38,177,38],[163,3,164,5],[165,21,165,22],[166,17,166,20],[165,9,165,16],[163,33,164,34],[166,35,166,37],[167,6,167,8],[21,37,21,38],[22,1,22,3],[22,37,22,38],[21,4,21,11],[22,4,22,11],[48,12,48,31],[48,32,48,36],[27,32,27,33],[37,32,37,33],[41,12,41,31],[41,32,41,36],[41,37,41,38],[26,5,26,18],[26,20,26,30],[28,3,28,37],[29,3,29,37],[167,28,167,32],[166,21,166,22],[166,33,166,34],[166,26,166,27],[167,33,167,34],[166,28,166,32],[166,9,166,16],[78,12,78,17],[78,18,78,38],[143,33,143,38],[143,3,143,11],[143,12,143,13],[143,14,143,23],[155,3,155,19],[162,3,162,38],[158,3,158,38],[30,37,30,38],[33,4,33,11],[33,1,33,3],[33,32,33,36],[46,3,46,37],[47,3,47,37],[48,37,48,38],[21,12,21,31],[22,12,22,31],[21,32,21,36],[22,32,22,36],[31,1,31,3],[18,3,18,37],[19,3,19,37],[20,1,20,3],[20,4,20,11],[78,3,78,8],[78,9,78,11],[69,3,69,8],[69,9,69,11],[69,12,69,17],[69,18,69,38],[63,18,63,38],[64,18,64,38],[65,18,65,38],[66,18,66,38],[58,3,58,8],[56,3,56,8],[56,9,56,11],[56,12,56,17],[62,3,62,8],[21,1,21,3],[55,3,55,8],[55,9,55,11],[55,12,55,17],[80,3,80,8],[80,9,80,11],[80,12,80,17],[80,18,80,38],[72,12,72,17],[72,18,72,38],[70,18,70,38],[71,3,71,8],[71,9,71,11],[71,12,71,17],[71,18,71,38],[72,3,72,8],[73,3,73,8],[73,9,73,11],[73,12,73,17],[73,18,73,38],[64,9,64,11],[58,12,58,17],[58,18,58,38],[59,3,59,8],[59,9,59,11],[59,12,59,17],[58,9,58,11],[77,18,77,38],[57,18,57,38],[62,12,62,17],[63,12,63,17],[64,12,64,17],[65,12,65,17],[49,1,49,3],[49,4,49,11],[49,12,49,31],[49,32,49,36],[63,3,63,8],[64,3,64,8],[65,3,65,8],[66,3,66,8],[25,3,25,37],[35,3,35,38],[38,3,38,37],[39,3,39,37],[40,1,40,3],[40,4,40,11],[40,12,40,31],[40,32,40,36],[40,37,40,38],[41,1,41,3],[41,4,41,11],[49,37,49,38],[33,12,33,31],[30,1,30,3],[30,4,30,11],[30,12,30,31],[26,31,26,33],[43,3,43,38],[44,3,44,4],[44,5,44,18],[44,20,44,30],[61,3,61,38],[54,3,54,38],[57,12,57,17],[93,37,93,38],[123,3,123,36],[124,4,124,36],[98,3,98,8],[98,10,98,16],[154,3,154,36],[154,37,154,38],[198,3,198,36],[15,3,15,37],[16,3,16,4],[16,5,16,18],[17,3,17,4],[17,5,17,10],[17,12,17,18],[17,20,17,25],[17,26,17,27],[17,28,17,31],[17,32,17,33],[55,18,55,38],[56,18,56,38],[57,3,57,8],[57,9,57,11],[93,1,93,3],[156,37,156,38],[156,4,156,11],[37,20,37,25],[37,26,37,27],[37,28,37,31],[75,3,75,38],[77,3,77,8],[77,9,77,11],[77,12,77,17],[48,1,48,3],[48,4,48,11],[51,37,51,38],[51,3,51,36],[45,3,45,4],[45,5,45,10],[45,12,45,18],[45,20,45,25],[45,26,45,27],[45,28,45,31],[155,37,155,38],[152,3,152,36],[152,37,152,38],[59,18,59,38],[106,12,106,31],[106,32,106,36],[110,37,110,38],[79,12,79,17],[79,18,79,38],[149,10,149,12],[149,13,149,14],[62,9,62,11],[63,9,63,11],[79,3,79,8],[79,9,79,11],[90,3,90,36],[90,37,90,38],[93,4,93,11],[93,12,93,31],[93,32,93,36],[91,37,91,38],[92,37,92,38],[125,4,125,36],[125,37,125,38],[133,5,133,36],[133,37,133,38],[6,37,6,38],[3,1,3,38],[7,1,7,3],[7,4,7,11],[7,12,7,31],[7,32,7,36],[7,37,7,38],[9,37,9,38],[9,3,9,36],[11,3,11,36],[11,37,11,38],[44,31,44,33],[36,3,36,4],[36,5,36,18],[36,20,36,30],[37,3,37,4],[37,5,37,10],[37,12,37,18],[20,12,20,31],[20,32,20,36],[20,37,20,38],[23,1,23,3],[23,4,23,11],[33,37,33,38],[126,32,126,36],[126,37,126,38],[128,4,128,36],[129,5,129,36],[131,16,131,17],[131,5,131,15],[131,37,131,38],[130,37,130,38],[130,5,130,36],[132,5,132,38],[143,24,143,25],[141,37,141,38],[141,3,141,36],[143,26,143,32],[144,3,144,8],[144,9,144,11],[144,13,144,22],[144,23,144,24],[134,5,134,15],[134,16,134,17],[134,19,134,26],[134,27,134,28],[131,19,131,26],[142,3,142,38],[273,4,273,11],[273,12,273,22],[274,4,274,15],[274,16,274,31],[274,32,274,35],[274,36,274,38],[149,25,149,27],[149,28,149,35],[149,36,149,38],[149,8,149,9],[278,4,278,11],[278,12,278,31],[146,3,146,36],[147,4,147,36],[147,37,147,38],[148,1,148,19],[148,20,148,38],[180,21,180,22],[180,9,180,16],[180,17,180,20],[163,26,163,32],[163,9,164,16],[179,6,179,8],[179,33,179,34],[179,35,179,37],[179,26,179,27],[179,9,179,16],[179,17,179,20],[179,3,179,5],[179,21,179,22],[168,6,168,8],[164,28,164,32],[372,1,372,3],[372,37,372,38],[372,4,372,11],[372,12,372,31],[372,32,372,36],[371,3,371,36],[371,37,371,38],[150,4,150,36],[150,37,150,38],[160,12,160,31],[160,32,160,36],[160,37,160,38],[172,37,172,38],[168,9,168,16],[167,35,167,37],[172,1,172,3],[172,4,172,11],[172,12,172,31],[172,32,172,36],[284,36,284,38],[156,12,156,31],[156,32,156,36],[156,1,156,3],[199,4,199,36],[159,3,159,36],[285,4,285,9],[314,37,314,38],[289,32,289,35],[289,36,289,38],[290,4,290,9],[290,10,290,11],[160,1,160,3],[312,12,312,17],[291,4,291,38],[293,4,293,22],[294,4,294,11],[294,12,294,22],[295,4,295,15],[295,16,295,31],[295,32,295,35],[275,20,275,23],[275,25,275,28],[275,30,275,36],[275,37,275,38],[294,23,294,38],[282,4,282,22],[277,4,277,38],[276,18,276,21],[276,23,276,29],[276,30,276,31],[285,12,285,17],[286,4,286,38],[288,4,288,11],[288,12,288,22],[288,23,288,38],[285,18,285,19],[283,23,283,38],[278,37,278,38],[283,4,283,11],[283,12,283,22],[285,10,285,11],[285,20,285,38],[290,20,290,38],[296,20,296,38],[106,37,106,38],[109,37,109,38],[273,23,273,38],[284,4,284,15],[284,16,284,31],[284,32,284,35],[295,36,295,38],[296,12,296,17],[296,18,296,19],[289,4,289,15],[289,16,289,31],[275,4,275,9],[346,10,346,11],[348,4,348,11],[348,12,348,31],[348,32,348,36],[348,37,348,38],[319,4,319,9],[299,4,299,11],[299,12,299,22],[300,4,300,15],[300,16,300,31],[300,32,300,35],[297,4,297,38],[324,12,324,17],[324,18,324,19],[149,15,149,17],[149,18,149,19],[314,32,314,36],[314,4,314,11],[346,4,346,9],[299,23,299,38],[364,32,364,36],[91,3,91,36],[92,3,92,36],[94,3,94,38],[95,3,95,38],[104,3,104,36],[104,37,104,38],[105,1,105,3],[105,4,105,11],[105,12,105,31],[105,32,105,36],[105,37,105,38],[106,1,106,3],[106,4,106,11],[131,30,131,36],[131,27,131,28],[290,18,290,19],[276,4,276,8],[100,3,100,36],[100,37,100,38],[103,3,103,37],[118,3,118,37],[119,3,119,36],[119,37,119,38],[111,1,111,3],[111,4,111,11],[111,12,111,31],[111,32,111,36],[111,37,111,38],[113,3,113,37],[114,3,114,36],[114,37,114,38],[198,37,198,38],[301,4,301,9],[384,5,384,15],[384,16,384,17],[384,19,384,26],[384,27,384,28],[384,30,384,36],[384,37,384,38],[387,4,387,35],[387,37,387,38],[335,12,335,17],[335,18,335,19],[370,2,370,36],[374,3,374,36],[374,37,374,38],[356,4,356,16],[350,3,350,36],[350,37,350,38],[342,4,342,38],[348,1,348,3],[368,32,368,36],[368,37,368,38],[358,4,358,36],[356,17,356,19],[382,16,382,17],[382,19,382,26],[382,27,382,28],[377,4,377,36],[364,1,364,3],[364,37,364,38],[364,4,364,11],[364,12,364,31],[110,12,110,31],[110,32,110,36],[126,1,126,3],[262,4,262,8],[262,9,262,17],[270,4,270,8],[270,23,270,29],[270,30,270,31],[275,10,275,11],[275,12,275,17],[275,18,275,19],[168,23,168,25],[109,3,109,36],[149,20,149,22],[149,1,149,5],[149,23,149,24],[200,5,200,36],[160,4,160,11],[126,4,126,11],[126,12,126,31],[168,21,168,22],[169,12,169,14],[168,33,168,34],[168,26,168,27],[270,9,270,17],[270,18,270,21],[169,35,169,37],[163,35,164,37],[166,3,166,5],[168,17,168,20],[168,3,168,5],[271,4,271,38],[357,11,357,30],[360,4,360,38],[357,37,357,38],[354,4,354,36],[368,1,368,3],[368,4,368,11],[368,12,368,31],[347,4,347,38],[355,25,355,35],[346,12,346,17],[323,4,323,15],[134,30,134,36],[134,37,134,38],[135,5,135,38],[137,2,137,36],[138,3,138,36],[138,37,138,38],[245,4,245,36],[290,12,290,17],[317,4,317,11],[278,1,278,3],[357,31,357,36],[305,4,305,11],[305,12,305,22],[307,4,307,9],[307,10,307,11],[308,4,308,38],[311,32,311,35],[307,18,307,19],[352,3,352,36],[352,37,352,38],[353,4,353,36],[378,37,378,38],[383,37,383,38],[381,5,381,36],[383,5,383,36],[381,37,381,38],[382,5,382,15],[367,3,367,36],[367,37,367,38],[301,12,301,17],[301,18,301,19],[296,4,296,9],[296,10,296,11],[358,37,358,38],[359,4,359,36],[359,37,359,38],[302,4,302,38],[319,18,319,19],[301,10,301,11],[320,4,320,38],[300,36,300,38],[334,36,334,38],[307,12,307,17],[305,23,305,38],[304,4,304,22],[306,36,306,38],[317,12,317,22],[310,4,310,11],[310,12,310,22],[311,36,311,38],[312,4,312,9],[346,18,346,19],[340,4,340,15],[407,3,407,36],[312,10,312,11],[306,4,306,15],[306,16,306,31],[306,32,306,35],[409,4,409,36],[398,37,398,38],[400,3,400,36],[400,37,400,38],[402,3,402,36],[403,3,403,38],[402,37,402,38],[405,3,405,36],[405,37,405,38],[394,4,394,36],[394,37,394,38],[395,1,395,3],[395,4,395,11],[395,12,395,31],[395,32,395,36],[395,37,395,38],[398,3,398,36],[397,3,397,36],[389,4,389,38],[390,4,390,36],[408,4,408,36],[377,37,377,38],[378,4,378,36],[386,4,386,36],[391,4,391,36],[391,37,391,38],[392,4,392,10],[393,4,393,36],[385,5,385,38],[388,4,388,14],[388,15,388,16],[388,18,388,25],[388,26,388,27],[388,37,388,38],[388,29,388,36],[340,36,340,38],[338,4,338,22],[323,16,323,31],[323,32,323,35],[344,4,344,11],[341,4,341,9],[341,10,341,11],[322,4,322,11],[322,12,322,22]],"merged_total":1079,"flags":["merged_cut"]}
[]
[null,"Program Threshold Requirements"]
[]
[null,"§106 Threshold Requirements"]
[null,"Application Threshold Requirements: In addition to requirements detailed in §102 through §105, to be eligible for AHSC Program funding, an application shall demonstrate to the Department all the following requirements."]
[null,"(a)","By the time of application submission, the Project shall meet the following requirements:"]
[null,null,"(1)","Applicant(s) certifies that the proposed Project supports the implementation of the applicable Sustainable Community Strategy (SCS) or Alternative Planning Strategy (APS) as confirmed by the Metropolitan Planning Organization (MPO), or the equivalent regional planning agency, as required by Public Resources Code section 75210 et seq. The application must be consistent with activities or strategies identified in the SCS, APS, or equivalent planning document that demonstrates a per capita reduction in VMT and GHG."]
[null,"File Name:",null,null,{"$f":"'Upload Checklist'!$B$102","v":"29. SCS Consistency Confirmation "},null,null,null,null,null,null,null,{"$f":"'Upload Checklist'!$C$102","v":"Document from MPO identified above confirming consistency with SCS, or alternative planning strategy in non-MPO regions, per §106(a)."},null,null,null,null,null,null,null,null,null,null,null,null,null,null,null,null,null,null,null,"Uploaded to HCD?"]
[]
[null,null,"(2)","Applicant(s) certifies that the proposed Project must be consistent with the State Planning Priorities established pursuant to §65041.1 of the Government Code."]
[]
[null,null,"(3)","Applicant(s) certifies the completion and approval or adoption of environmental clearances required under the California Environmental Quality Act (CEQA). For Projects receiving federal funds subject to review under the National Environmental Policy Act (NEPA), a copy of the Project’s Authority to Use Grant Funds must be provided prior to the construction loan closing. It is not necessary to have the Authority to Use Grant Funds at application stage. Applicants must also affirm all applicable time periods for filing appeals or lawsuits will have lapsed within 30 days after the application due date with lawsuits or appeals resolved."]
[null,null,null,"(A)","STI or TRA components of a Project are not required to certify completion and demonstration of approval of environmental clearances (NEPA or CEQA) as stated in §106(a)(3) above until prior to the initial disbursement of grant funds."]
[null,null,null,"(B)","Applicants are not required to complete any necessary environmental clearances prompted exclusively by rental and/or operating subsidies prior to the AHSC application deadline."]
[]
[null,null,null,"AHD environmental clearances"]
[null,null,null,"NEPA:",null,"Is Federal funding proposed that will trigger NEPA requirements?",null,null,null,null,null,null,null,null,null,null,null,null,null,null,"If available, enter date of \"Authority to Use Grant Funds\""]
[null,null,null,"CEQA:",null,"Project approved \"by-right\"?",null,null,null,null,null,null,"Is Project Categorically Exempt?",null,null,null,null,null,null,null,"Negative Declaration date",null,null,null,null,null,null,null,"Final EIR date"]
[null,null,null,"Discuss below any special NEPA and/or CEQA Special Circumstances or exemptions and provide estimated/actual completion dates of all necessary environmental clearances."]
[]
[null,"File Name:",null,null,{"$f":"'Upload Checklist'!$B$103","v":"30. AHD Environmental"},null,null,null,null,null,null,null,{"$f":"'Upload Checklist'!$C$103","v":"Copy of all environmental clearances (e.g. Environmental Impact Report) or Notice of Exemption."},null,null,null,null,null,null,null,null,null,null,null,null,null,null,null,null,null,null,null,"Uploaded to HCD?"]
[null,"File Name:",null,null,{"$f":"'Upload Checklist'!$B$104","v":"31. AHD Phase I Environmental Site Assessment"},null,null,null,null,null,null,null,{"$f":"'Upload Checklist'!$C$104","v":"Submit a Phase I ESA, prepared or updated no earlier than 12 months prior to the application submittal date. If the Phase I ESA reveals known or potential contamination, a Phase II ESA will be required.\nTribal Entity Applications are exempt from this requirement."},null,null,null,null,null,null,null,null,null,null,null,null,null,null,null,null,null,null,null,"Uploaded to HCD?"]
[null,"File Name:",null,null,{"$f":"'Upload Checklist'!$B$105","v":"32. AHD Phase II Environmental Site Assessment"},null,null,null,null,null,null,null,{"$f":"'Upload Checklist'!$C$105","v":"Submit a Phase II ESA prepared or updated no earlier than 12 months prior to the application submittal date if the Phase I ESA reveals known or potential contamination. \nTribal Entity Applications are exempt from this requirement."},null,null,null,null,null,null,null,null,null,null,null,null,null,null,null,null,null,null,null,"Uploaded to HCD?"]
[null,"File Name:",null,null,{"$f":"'Upload Checklist'!$B$106","v":"33. AHD Auth to Use Grant Funds"},null,null,null,null,null,null,null,{"$f":"'Upload Checklist'!$C$106","v":"If NEPA applies and available at time of application, please provide copy of HUD 7015.16 . If not available now, it must be provided prior to construction loan closing."},null,null,null,null,null,null,null,null,null,null,null,null,null,null,null,null,null,null,null,"Uploaded to HCD?"]
[]
[null,null,null,"HRI environmental clearances"]
[null,null,null,"NEPA:",null,"Is Federal funding proposed that will trigger NEPA requirements?",null,null,null,null,null,null,null,null,null,null,null,null,null,null,"If Yes, enter date of \"Authority to Use Grant Funds\""]
[null,null,null,"CEQA:",null,"Project approved \"by-right\"?",null,null,null,null,null,null,"Is Project Categorically Exempt?",null,null,null,null,null,null,null,"Negative Declaration date",null,null,null,null,null,null,null,"Final EIR date"]
[null,null,null,"Discuss below any special NEPA and/or CEQA Special Circumstances or exemptions and provide estimated/actual completion dates of all necessary environmental clearances."]
[]
[null,"File Name:",null,null,{"$f":"'Upload Checklist'!B107","v":"34. HRI Environmental"},null,null,null,null,null,null,null,{"$f":"'Upload Checklist'!C107","v":"Copy of all environmental reports and clearances (e.g. EIR, Phase 1 Notice of Exemption)."},null,null,null,null,null,null,null,null,null,null,null,null,null,null,null,null,null,null,null,"Uploaded to HCD?"]
[null,"File Name:",null,null,{"$f":"'Upload Checklist'!B108","v":"35. HRI Phase I Environmental Site Assessment"},null,null,null,null,null,null,null,{"$f":"'Upload Checklist'!C108","v":"Submit a Phase I ESA, prepared or updated no earlier than 12 months prior to the application submittal date, indicating that site is free from severe adverse environmental conditions. If the Phase I ESA reveals known or potential contamination, a Phase II ESA will be required.\nTribal Entity Applications are exempt from this requirement."},null,null,null,null,null,null,null,null,null,null,null,null,null,null,null,null,null,null,null,"Uploaded to HCD?"]
[null,"File Name:",null,null,{"$f":"'Upload Checklist'!B109","v":"36. HRI Phase II Environmental Site Assessment"},null,null,null,null,null,null,null,{"$f":"'Upload Checklist'!C109","v":"Submit a Phase II ESA prepared or updated no earlier than 12 months prior to the application submittal date if the Phase I ESA reveals known or potential contamination. \nTribal Entity Applications are exempt from this requirement."},null,null,null,null,null,null,null,null,null,null,null,null,null,null,null,null,null,null,null,"Uploaded to HCD?"]
[null,"File Name:",null,null,{"$f":"'Upload Checklist'!B110","v":"37. HRI Auth to Use Grant Funds"},null,null,null,null,null,null,null,{"$f":"'Upload Checklist'!C110","v":"For NEPA only, copy of the HUD 7015.16 \"Authority To Use Grant Funds\" or clarify the current status of the issuance of the HUD form."},null,null,null,null,null,null,null,null,null,null,null,null,null,null,null,null,null,null,null,"Uploaded to HCD?"]
[]
[null,null,null,"STI environmental clearances"]
[null,null,null,"NEPA:",null,"Is Federal funding proposed that will trigger NEPA requirements?",null,null,null,null,null,null,null,null,null,null,null,null,null,null,"If Yes, enter date of \"Authority to Use Grant Funds\""]
[null,null,null,"CEQA:",null,"Project approved \"by-right\"?",null,null,null,null,null,null,"Is Project Categorically Exempt?",null,null,null,null,null,null,null,"Negative Declaration date",null,null,null,null,null,null,null,"Final EIR date"]
[null,null,null,"Discuss below any special NEPA and/or CEQA Special Circumstances or exemptions and provide estimated/actual completion dates of all necessary environmental clearances."]
[]
[null,"File Name:",null,null,{"$f":"'Upload Checklist'!$B$111","v":"38. STI Environmental"},null,null,null,null,null,null,null,{"$f":"'Upload Checklist'!$C$111","v":"If available at time of application, copy of all environmental clearances (e.g. Environmental Impact Report) or Notice of Exemption."},null,null,null,null,null,null,null,null,null,null,null,null,null,null,null,null,null,null,null,"Uploaded to HCD?"]
[null,"File Name:",null,null,{"$f":"'Upload Checklist'!$B$112","v":"39. STI Auth to Use Grant Funds"},null,null,null,null,null,null,null,{"$f":"'Upload Checklist'!$C$112","v":"For NEPA only, copy of the HUD 7015.16 \"Authority To Use Grant Funds\" or clarify the current status of the issuance of the HUD form."},null,null,null,null,null,null,null,null,null,null,null,null,null,null,null,null,null,null,null,"Uploaded to HCD?"]
[]
[null,null,null,"TRA environmental clearances"]
[null,null,null,"NEPA:",null,"Is Federal funding proposed that will trigger NEPA requirements?",null,null,null,null,null,null,null,null,null,null,null,null,null,null,"If Yes, enter date of \"Authority to Use Grant Funds\""]
[null,null,null,"CEQA:",null,"Project approved \"by-right\"?",null,null,null,null,null,null,"Is Project Categorically Exempt?",null,null,null,null,null,null,null,"Negative Declaration date",null,null,null,null,null,null,null,"Final EIR date"]
[null,null,null,"Discuss below any special NEPA and/or CEQA Special Circumstances or exemptions and provide estimated/actual completion dates of all necessary environmental clearances."]
[]
[null,"File Name:",null,null,{"$f":"'Upload Checklist'!$B$113","v":"40. TRA Environmental"},null,null,null,null,null,null,null,{"$f":"'Upload Checklist'!$C$113","v":"If available at time of application, copy of all environmental clearances (e.g. Environmental Impact Report) or Notice of Exemption."},null,null,null,null,null,null,null,null,null,null,null,null,null,null,null,null,null,null,null,"Uploaded to HCD?"]
[null,"File Name:",null,null,{"$f":"'Upload Checklist'!$B$114","v":"41. TRA Auth to Use Grant Funds"},null,null,null,null,null,null,null,{"$f":"'Upload Checklist'!$C$114","v":"For NEPA only, copy of the HUD 7015.16 \"Authority To Use Grant Funds\" or clarify the current status of the issuance of the HUD form."},null,null,null,null,null,null,null,null,null,null,null,null,null,null,null,null,null,null,null,"Uploaded to HCD?"]
[]
[null,null,"(4)","Applicant(s) certifies that all discretionary local land use approvals have been obtained, and any applications for streamlined ministerial approval under Government Code §65913.4 have been submitted to the relevant local government;"]
[null,null,null,"(A)","This requirement is not applicable where a Tribal Entity Applicant is proposing a Project located in Indian Country. "]
[]
[null,null,null,"AHD discretionary local land use approvals"]
[null,null,null,"Agency / Issuer",null,null,null,null,null,"Land Use Approval Date ",null,null,"Approval Type",null,null,null,null,null,"Comments"]
[]
[]
[]
[]
[]
[null,null,null,"HRI discretionary local land use approvals"]
[null,null,null,"Agency / Issuer",null,null,null,null,null,"Land Use Approval Date ",null,null,"Approval Type",null,null,null,null,null,"Comments"]
[]
[]
[]
[]
[]
[null,null,null,"STI discretionary local land use approvals"]
[null,null,null,"Agency / Issuer",null,null,null,null,null,"Land Use Approval Date ",null,null,"Approval Type",null,null,null,null,null,"Comments"]
[]
[]
[]
[]
[]
[null,null,null,"TRA discretionary local land use approvals"]
[null,null,null,"Agency / Issuer",null,null,null,null,null,"Land Use Approval Date ",null,null,"Approval Type",null,null,null,null,null,"Comments"]
[]
[]
[]
[]
[]
[null,null,"(5)","Applicant(s) certifies that as of the date of application, the Applicant(s), the Project, or the real property on which the Project is proposed may not be party to or the subject of any claim or action in the state or federal courts that affects or potentially affects the feasibility of the Project. Further, the Applicant(s) shall disclose and describe any claim or action undertaken by or against the Applicant(s), the Project or the Property which affects or potentially affects the feasibility of the Project."]
[null,null,null,"Is the Applicant(s), the Project, or the real property on which the Project is proposed the party to or the subject of any claim or action in the state or federal courts that affects or potentially affects the feasibility of the Project?"]
[]
[]
[null,null,"(6)","Applicant(s) certifies that construction of the Project has not commenced as of the application deadline set forth in the NOFA. Any demolition operation conducted under a written order issued by a state or local governmental agency because a facility is structurally unsound and in danger of imminent collapse is exempt from this requirement."]
[null,null,null,"Has there been any demolition operation conducted under a written order issued by a state or local governmental agency because a facility is structurally unsound and in danger of imminent collapse?"]
[null,"File Name:",null,null,{"$f":"'Upload Checklist'!$B$115","v":"42. Project Demolition"},null,null,null,null,null,null,null,{"$f":"'Upload Checklist'!$C$115","v":"Provide a copy of the written order issued by a state or local governmental agency."},null,null,null,null,null,null,null,null,null,null,null,null,null,null,null,null,null,null,null,"Uploaded to HCD?"]
[]
[null,null,"(7)","Applicant(s) certifies to demonstrate consistency with State Relocation Assistance Law (CA Gov Code Sec. 7260-7277)."]
[null,null,null,"Does the Project trigger State Relocation Assistance Law (Title 1, GC, Division 7, Chapter 16, commencing at Section 7260, and Title 25 CCR, Subchapter 1, Chapter 6, commencing at Section 6000)? "]
[null,null,null,"Are costs sufficient, pursuant to the relocation plan and included in the Project's Development Budget?"]
[null,"File Name:",null,null,{"$f":"'Upload Checklist'!$B$116","v":"43. Relocation Plan"},null,null,null,null,null,null,null,{"$f":"'Upload Checklist'!$C$116","v":"Applicants must provide a Relocation Plan."},null,null,null,null,null,null,null,null,null,null,null,null,null,null,null,null,null,null,null,"Uploaded to HCD?"]
[null,null,null,"Provide a narrative explanation, in the box below, supporting why relocation is not required. \"N/A\" or \"Vacant Land\" is not sufficient. "]
[]
[]
[null,null,"(8)","Applicant(s) certifies that Applications that include a Locality as an Applicant must at the time of application, have submitted their housing element annual progress reports to the Department as required by Government Code §65400 for the current and prior year."]
[null,null,null,"Housing Element information",null,null,null,null,null,null,"Submission date for current year",null,null,null,null,null,null,null,null,null,null,"Submission date for prior year"]
[]
[null,null,"(9)","Applicant(s) certifies to demonstrate that costs for any Project or component thereof will not result in loss or conversion of agricultural or other working lands or natural resource lands for other uses. The Project site must not be designated as Agricultural Land according to the California Department of Conservation’s Farmland Mapping and Monitoring Program (FMMP) Tool (California Important Farmland Finder). An exemption to the FMMP designation may be allowed for applications that submit documentation that substantiates a description of an Infill Site."]
[null,null,null,"(California Important Farmland Finder)"]
[]
[null,null,null,"AHD "]
[null,null,null,"Applicant(s) certifies that the AHD will not result in the loss or conversion of agricultural or other working lands, or natural resource lands for other uses according the Dept. of Conservation's Farmland Mapping and Monitoring Program (FMMP) website?"]
[null,"File Name:",null,null,{"$f":"'Upload Checklist'!$B$117","v":"44. AHD No Ag"},null,null,null,null,null,null,null,{"$f":"'Upload Checklist'!$C$117","v":"Demonstrate the AHD site is not within land designated as agricultural land per FMMP tool."},null,null,null,null,null,null,null,null,null,null,null,null,null,null,null,null,null,null,null,"Uploaded to HCD?"]
[null,"File Name:",null,null,{"$f":"'Upload Checklist'!$B$118","v":"45. AHD Ag Infill"},null,null,null,null,null,null,null,{"$f":"'Upload Checklist'!$C$118","v":"Applicants seeking an exemption to the FMMP determination must demonstrate that the AHD Project site qualifies as an Infill Site (as defined in Appendix A)."},null,null,null,null,null,null,null,null,null,null,null,null,null,null,null,null,null,null,null,"Uploaded to HCD?"]
[]
[null,null,null,"HRI"]
[null,null,null,"Applicant(s) certifies that the HRI will not result in the loss or conversion of agricultural or other working lands, or natural resource lands for other uses according the Dept. of Conservation's Farmland Mapping and Monitoring Program (FMMP) website?"]
[null,"File Name:",null,null,{"$f":"'Upload Checklist'!$B$119","v":"46. HRI No Ag"},null,null,null,null,null,null,null,{"$f":"'Upload Checklist'!$C$119","v":"Demonstrate the HRI site is not within land designated as agricultural land per FMMP tool."},null,null,null,null,null,null,null,null,null,null,null,null,null,null,null,null,null,null,null,"Uploaded to HCD?"]
[null,"File Name:",null,null,{"$f":"'Upload Checklist'!$B$120","v":"47. HRI Ag Infill"},null,null,null,null,null,null,null,{"$f":"'Upload Checklist'!$C$120","v":"Applicants seeking an exemption to the FMMP determination must demonstrate that the HRI Project site qualifies as an Infill Site (as defined in Appendix A)."},null,null,null,null,null,null,null,null,null,null,null,null,null,null,null,null,null,null,null,"Uploaded to HCD?"]
[]
[null,null,null,"STI"]
[null,null,null,"Applicant(s) certifies that the STI will not result in the loss or conversion of agricultural or other working lands, or natural resource lands for other uses according the Dept. of Conservation's Farmland Mapping and Monitoring Program (FMMP) website?"]
[null,"File Name:",null,null,{"$f":"'Upload Checklist'!$B$121","v":"48. STI No Ag"},null,null,null,null,null,null,null,{"$f":"'Upload Checklist'!$C$121","v":"Demonstrate the HRI site is not within land designated as agricultural land per FMMP tool."},null,null,null,null,null,null,null,null,null,null,null,null,null,null,null,null,null,null,null,"Uploaded to HCD?"]
[null,"File Name:",null,null,{"$f":"'Upload Checklist'!$B$122","v":"49. STI Ag Infill"},null,null,null,null,null,null,null,{"$f":"'Upload Checklist'!$C$122","v":"Applicants seeking an exemption to the FMMP determination must demonstrate that the HRI Project site qualifies as an Infill Site (as defined in Appendix A)."},null,null,null,null,null,null,null,null,null,null,null,null,null,null,null,null,null,null,null,"Uploaded to HCD?"]
[]
[null,null,null,"TRA"]
[null,null,null,"Applicant(s) certifies that the TRA will not result in the loss or conversion of agricultural or other working lands, or natural resource lands for other uses according the Dept. of Conservation's Farmland Mapping and Monitoring Program (FMMP) website?"]
[null,"File Name:",null,null,{"$f":"'Upload Checklist'!$B$123","v":"50. TRA No Ag"},null,null,null,null,null,null,null,{"$f":"'Upload Checklist'!$C$123","v":"Demonstrate the HRI site is not within land designated as agricultural land per FMMP tool."},null,null,null,null,null,null,null,null,null,null,null,null,null,null,null,null,null,null,null,"Uploaded to HCD?"]
[null,"File Name:",null,null,{"$f":"'Upload Checklist'!$B$124","v":"51. TRA Ag Infill"},null,null,null,null,null,null,null,{"$f":"'Upload Checklist'!$C$124","v":"Applicants seeking an exemption to the FMMP determination must demonstrate that the HRI Project site qualifies as an Infill Site (as defined in Appendix A)."},null,null,null,null,null,null,null,null,null,null,null,null,null,null,null,null,null,null,null,"Uploaded to HCD?"]
[]
[null,null,"(10)","Applications requesting AHSC Program funding for Sustainable Transportation Infrastructure, Transportation Related Amenities, or both must satisfy all the following:"]
[null,null,null,"(A)","Where approval by a local public works department, or other responsible local agency, is required for the Project, the application must include a statement from that entity indicating that the Sustainable Transportation Infrastructure and/or Transportation Related Amenities Capital Project(s) is consistent with all applicable local rules, regulations, codes, policies, and plans enforced or implemented by that entity."]
[null,null,null,null,"Is approval by a local public works department, or other responsible local agency, required for the STI and/or TRA Capital Project?"]
[null,"File Name:",null,null,{"$f":"'Upload Checklist'!$B$125","v":"52. STI-TRA Local Approvals"},null,null,null,null,null,null,null,{"$f":"'Upload Checklist'!$C$125","v":"Statement from entity indicating the STI and/or TRA Capital Project is consistent with all applicable local rules, regulations, codes, policies and plans enforced or implemented by that entity."},null,null,null,null,null,null,null,null,null,null,null,null,null,null,null,null,null,null,null,"Uploaded to HCD?"]
[]
[null,null,null,"(B)","If the Sustainable Transportation Infrastructure and/or Transportation Related Amenities Capital Project(s) involves the demolition of existing units that are affordable to lower-income households, the application must demonstrate the replacement of demolished units, comparable in size, of equal or greater affordability and equal to or greater than the number of the demolished Affordable Units located within comparable access to transit and include first right of return to displaced residents."]
[null,null,null,null,"(i)","The no net loss requirements contained in §106(c)(3)(D) of these Guidelines apply to Sustainable Transportation Infrastructure or Transportation Related Amenities Capital Projects occurring on a property which includes a parcel, or any portion of a parcel, on which (1) residential dwelling units affordable to lower income households currently exist, or (2) there have been dwelling units restricted to lower-income households that have been vacated or demolished within the five year period preceding the application"]
[null,null,null,null,null,"Will the proposed STI/TRA Project involve the demolition of existing residential units?"]
[null,null,null,null,null,"Number of bedrooms in the demolished structures?",null,null,null,null,null,null,null,null,null,null,null,null,null,"Number of bedrooms in new Project?",null,null,null,null,null,null,null,null,null,null,"Project meets requirement?",null,null,null,null,null,null,{"$f":"IF(AND($Q$132=\"\",$AB$132=\"\"),\"\",IF($AB$132>=$Q$132,TRUE,FALSE))","v":""}]
[]
[null,null,null,null,null,"Will the proposed STI/TRA Project involve the demolition of existing units which (1) residential dwelling units affordable to lower income households currently exist, or (2) there have been dwelling units restricted to lower-income households that have been vacated or demolished within the five year period preceding the application?"]
[null,null,null,null,null,"Number of bedrooms in the demolished structures?",null,null,null,null,null,null,null,null,null,null,null,null,null,"Number of bedrooms in new Project?",null,null,null,null,null,null,null,null,null,null,"Project meets requirement?",null,null,null,null,null,null,{"$f":"IF(AND($Q$135=\"\",$AB$135=\"\"),\"\",IF($AB$135>=ROUND($Q$135*0.75,0),TRUE,FALSE))","v":""}]
[]
[]
[null,"(b)","Applicants must also demonstrate the following at the time of application, unless otherwise indicated:"]
[null,null,"(1)","Applicant(s) certifies that the proposed Project will achieve a reduction in GHG emissions through fewer VMT, pursuant to the most recent AHSC Program Quantification Methodology, available on the California Air Resources Board’s Climate Change Investments (CCI) Quantification, Benefits and Reporting Materials webpage. This must be evidenced by a completed GHG Benefits Calculator tool, described in the AHSC Application, displaying VMT and GHG reductions for each Project component."]
[null,null,null,"CCI Quantification, Benefits, and Reporting Materials"]
[]
[null,null,"(2)","Applicant(s) certifies that all proposed Affordable Housing Developments located in a jurisdiction that has fare-based transit must provide at least one (1) transit pass or card to each Restricted Unit for at least 3 years. If the transit agency does not provide passes with unlimited rides, the card or pass should have a minimum value of 40 average commute length rides a month as determined by the transit agency. These passes or cards may be funded with AHSC Program funding pursuant to §103(f)."]
[]
[null,null,null,"# of passes or cards that will be provided:",null,null,null,null,null,null,null,null,null,null,"Is there at least one pass per Restricted Unit?",null,null,null,null,null,null,null,null,null,{"$f":"IF($M$144>='Max Funds & Unit Mix'!$H$27,TRUE,FALSE)","v":true},null,"Type of transit passes provided:"]
[null,null,null,"Annual Transit Passes Value",null,null,null,null,null,null,null,null,null,"Duration of Funding for Transit Passes (years)?"]
[]
[null,null,"(3)","The Project must:"]
[null,null,null,"(A)","Applicant(s) certifies to incorporate more than one Urban Greening feature with dedicated maintenance for at least two years. The awardee is ultimately responsible for the maintenance of the Urban Greening features in the Project, even if municipal ordinance assigns responsibility for their maintenance to adjacent property owners. Applicants must propose at least $200,000 in reasonable direct Urban Greening costs."]
[]
[null,"Urban Greening costs:",null,null,null,null,null,null,"AHD:",null,{"$f":"SUM('AHD Dev Budget'!$C$25,'AHD Dev Budget'!$C$39)","v":0},null,null,"HRI:",null,{"$f":"'AHD-HRI S&U Budget'!$V$170","v":0},null,null,"STI:",null,{"$f":"'STI S&U Budget'!$H$215","v":0},null,null,"TRA:",null,{"$f":"'TRA S&U Budget'!$H$239","v":0},null,null,"Meets threshold requirement?",null,null,null,null,null,null,null,{"$f":"IF(SUM($K$150,$P$150,$U$150,$Z$150)>=200000,TRUE,FALSE)","v":false}]
[null,null,null,"(B)","Applicant(s) certifies to include adequate lighting in accordance with local, state, and federal design standards and requirements for all publicly accessible components of the Project including active transportation routes and transit stations or stops."]
[]
[null,null,"(4)","Applicant(s) certifies that the application must be sufficiently complete to assess the feasibility of the proposed project and its compliance with AHSC Program and application requirements."]
[]
[null,null,"(5)","Applicant(s) certifies to demonstrate that the Project is financially feasible as evidenced by documentation including, but not limited to, Enforceable Funding Commitments, a market study, which for rental AHDs meets the requirements specified in the TCAC Regulations §10322(h)(10), project pro-forma, sources and uses statement, proposed operating budget, multi-year pro-forma, or other feasibility documentation that is standard industry practice for the type of proposed Affordable Housing Development."]
[null,null,null,"Does the Market study demonstrate that the Project is financially feasible?"]
[null,"File Name:",null,null,{"$f":"'Upload Checklist'!$B$126","v":"53. AHD-HRI Market Study"},null,null,null,null,null,null,null,{"$f":"'Upload Checklist'!$C$126","v":"Provide a completed market study prepared within one year of the application due date."},null,null,null,null,null,null,null,null,null,null,null,null,null,null,null,null,null,null,null,"Uploaded to HCD?"]
[]
[null,null,null,"AHD/HRI Enforceable Funding Commitments"]
[null,null,null,"Make sure to submit all \"Enforceable Funding Commitments\" for the proposed AHD and/or HRI project as stated at the \"Dev Sources\" sheet/tab."]
[null,"File Name:",null,null,{"$f":"'Upload Checklist'!$B$127","v":"54. EFC AHD HRI1; EFC AHD HRI2; EFC AHD HRI3; etc."},null,null,null,null,null,null,null,{"$f":"'Upload Checklist'!$C$127","v":"Documentation for the 0 permanent sources, plus Equity Investor if known at time of application."},null,null,null,null,null,null,null,null,null,null,null,null,null,null,null,null,null,null,null,"Uploaded to HCD?"]
[]
[null,null,null,"STI Enforceable Funding Commitments"]
[null,null,null,"Committed by Application time?",null,null,"Commitment Date",null,null,"Source Name\n(listed in order of lien priority)",null,null,null,null,null,null,null,"Source Type",null,null,null,"Lien\nNo.",null,"Amount",null,null,"Interest Rate",null,null,null,null,null,null,"Term - \n# of months",null,"Required\nDebt Service",null,null,"Balloon?"]
[null,null,null,null,null,null,null,null,null,null,null,null,null,null,null,null,null,null,null,null,null,null,null,null,null,null,"Rate",null,"Type"]
[null,null,null,"Yes",null,null,null,null,null,"AHSC STI Grant",null,null,null,null,null,null,null,"State-HCD"]
[]
[]
[]
[null,null,null,"Total Committed Non-AHSC STI Funds",null,null,null,null,null,null,null,null,{"$f":"SUMIF($D$167:$D$169,\"Yes\",$X$167:$X$169)","v":0},null,null,null,null,null,null,null,null,null,null,null,null,"TOTAL (must equal STI Budget Amount)",null,null,null,null,null,null,null,null,null,{"$f":"SUM($X$166:$Z$169)","v":0},null,null,{"$f":"COUNTIF($D$167:$E$169,\"Yes\")","v":0}]
[null,null,null,"Provide a description of unusual or extraordinary circumstances that have resulted in higher than expected Project costs and provide a justification as to why these costs are reasonable. "]
[null,null,null,"N/A"]
[null,"File Name:",null,null,{"$f":"'Upload Checklist'!$B$128","v":"55. EFC STI1; EFC STI2; EFC STI3; etc."},null,null,null,null,null,null,null,{"$f":"'Upload Checklist'!$C$128","v":"Supporting documentation for the 0 non-AHSC STI funding commitments."},null,null,null,null,null,null,null,null,null,null,null,null,null,null,null,null,null,null,null,"Uploaded to HCD?"]
[]
[null,null,null,"TRA Enforceable Funding Commitments"]
[null,null,null,"Committed by Full App Deadline?",null,null,"Commitment Date",null,null,"Source Name\n(listed in order of lien priority)",null,null,null,null,null,null,null,"Source Type",null,null,null,"Lien\nNo.",null,"Amount",null,null,"Interest Rate",null,null,null,null,null,null,"Term - \n# of months",null,"Required\nDebt Service",null,null,"Balloon?"]
[null,null,null,null,null,null,null,null,null,null,null,null,null,null,null,null,null,null,null,null,null,null,null,null,null,null,"Rate",null,"Type"]
[null,null,null,"Yes",null,null,null,null,null,"AHSC TRA Grant",null,null,null,null,null,null,null,"State-HCD"]
[]
[]
[]
[null,null,null,"Total Committed Non-AHSC TRA Funds",null,null,null,null,null,null,null,null,{"$f":"SUMIF($D$179:$D$181,\"Yes\",$X$179:$X$181)","v":0},null,null,null,null,null,null,null,null,null,null,null,null,"TOTAL (must equal TRA Budget Amt)",null,null,null,null,null,null,null,null,null,{"$f":"SUM($X$178:$Z$181)","v":0},null,null,{"$f":"COUNTIF($D$179:$E$181,\"Yes\")","v":0}]
[null,null,null,"Provide a description of unusual or extraordinary circumstances that have resulted in higher than expected Project costs and provide a justification as to why these costs are reasonable. "]
[]
[null,"File Name:",null,null,{"$f":"'Upload Checklist'!$B$129","v":"56. EFC TRA1; EFC TRA2; EFC TRA3; etc."},null,null,null,null,null,null,null,{"$f":"'Upload Checklist'!$C$129","v":"Supporting documentation for the 0 non-AHSC TRA funding commitments."},null,null,null,null,null,null,null,null,null,null,null,null,null,null,null,null,null,null,null,"Uploaded to HCD?"]
[]
[null,null,null,"PGM Enforceable Funding Commitments"]
[null,null,null,"Committed by Full App Deadline?",null,null,"Commitment Date",null,null,"Source Name\n(listed in order of lien priority)",null,null,null,null,null,null,null,"Source Type",null,null,null,"Lien\nNo.",null,"Amount",null,null,"Interest Rate",null,null,null,null,null,null,"Term - \n# of months",null,"Required\nDebt Service",null,null,"Balloon?"]
[null,null,null,null,null,null,null,null,null,null,null,null,null,null,null,null,null,null,null,null,null,null,null,null,null,null,"Rate",null,"Type"]
[null,null,null,"Yes",null,null,null,null,null,"AHSC PGM Grant",null,null,null,null,null,null,null,"State-HCD",null,null,null,null,null,null,null,null,"Transit Passes will not contribute to $600k PGM cap."]
[]
[]
[]
[null,null,null,"Total Committed Non-AHSC PGM Funds",null,null,null,null,null,null,null,null,{"$f":"SUMIF($D$191:$D$193,\"Yes\",$X$191:$X$193)","v":0},null,null,null,null,null,null,null,null,null,null,null,null,"TOTAL (must equal PGM Budget Amount)",null,null,null,null,null,null,null,null,null,{"$f":"SUM(X190:Z193)","v":0},null,null,{"$f":"COUNTIF($D$191:$D$193,\"Yes\")","v":0}]
[null,null,null,"Provide a description of unusual or extraordinary circumstances that have resulted in higher than expected Project costs and provide a justification as to why these costs are reasonable. "]
[]
[null,"File Name:",null,null,{"$f":"'Upload Checklist'!$B$130","v":"57. EFC PGM1; EFC PGM2; EFC PGM3; etc."},null,null,null,null,null,null,null,{"$f":"'Upload Checklist'!$C$130","v":"Supporting documentation for the 0 non-AHSC PGM funding commitments."},null,null,null,null,null,null,null,null,null,null,null,null,null,null,null,null,null,null,null,"Uploaded to HCD?"]
[]
[null,null,"(6)","The Applicant or Locality serving as the Developer of a particular component of the Project must demonstrate Site Control of the property on which that Project component will be located as set forth at UMR §8303 and §8316 with the additional requirement that the Applicant shall maintain site control through the award date."]
[null,null,null,"(A)","The following shall apply to Capital Projects:"]
[null,null,null,null,"(i)","Where Site Control is in the name of another entity, the Applicant shall provide documentation, in form and substance reasonably satisfactory to the Department (e.g., a purchase and sale agreement, an option, a leasehold interest/option, a disposition and development agreement, an exclusive right to negotiate with a Public Agency for the acquisition of the site), which clearly demonstrates that the Applicant has an acceptable form of right to acquire or lease the Project property."]
[null,null,null,null,"(ii)","Where Site Control will be satisfied by a long-term ground lease, the Department will require the execution and recordation of the Department’s form lease rider at the time of permanent loan closing, which shall be entered into by and among the ground lessor, the ground lessee, the Department, and any other applicable parties. In all cases, the lease rider shall be recorded against the fee interest in the Project property."]
[null,null,null,"(B)","For Capital Projects developed in Indian Country, the following exceptions apply:"]
[null,null,null,null,"(i)","Where Site Control is a ground lease, the lease agreement between the Tribal Entity and the Project owner is for a period not less than 50 years; and"]
[null,null,null,null,"(ii)","An attorney’s opinion regarding chain of title and current title status is acceptable in lieu of a title report."]
[]
[null,null,null,null,null,"AHD  Site Control"]
[null,null,null,null,null,"Form of site control (See Site Control in Appendix A)",null,null,null,null,null,null,null,null,null,null,null,null,null,null,null,null,null,null,null,null,null,null,null,"Most recent document execution date"]
[null,null,null,null,null,"Ground Lease planned?"]
[null,null,null,null,null,"Lessor",null,null,null,null,null,null,null,null,null,null,null,null,null,null,null,null,null,null,null,null,"Term",null,null,null,null,null,null,null,"Annual Payment"]
[]
[null,null,null,null,null,"Below, describe property transfers occurring in connection with development of the Project."]
[]
[null,"File Name:",null,null,{"$f":"'Upload Checklist'!$B$131","v":"58. AHD Site Control"},null,null,null,null,null,null,null,{"$f":"'Upload Checklist'!$C$131","v":"Appropriate documentation to demonstrate the form of site control indicated above."},null,null,null,null,null,null,null,null,null,null,null,null,null,null,null,null,null,null,null,"Uploaded to HCD?"]
[null,"File Name:",null,null,{"$f":"'Upload Checklist'!$B$132","v":"59. AHD Preliminary Title Report"},null,null,null,null,null,null,null,{"$f":"'Upload Checklist'!$C$132","v":"PTR, that is no more than 6 months old for the AHD Project."},null,null,null,null,null,null,null,null,null,null,null,null,null,null,null,null,null,null,null,"Uploaded to HCD?"]
[]
[null,null,null,null,null,"HRI  Site Control"]
[null,null,null,null,null,"Form of site control (See Site Control in Appendix A)",null,null,null,null,null,null,null,null,null,null,null,null,null,null,null,null,null,null,null,null,null,null,null,"Most recent document execution date"]
[null,null,null,null,null,"Ground Lease planned?"]
[null,null,null,null,null,"Lessor",null,null,null,null,null,null,null,null,null,null,null,null,null,null,null,null,null,null,null,null,"Term",null,null,null,null,null,null,null,"Annual Payment"]
[]
[null,null,null,null,null,"Below, describe property transfers occurring in connection with development of the Project."]
[]
[null,"File Name:",null,null,{"$f":"'Upload Checklist'!$B$133","v":"60. HRI Site Control"},null,null,null,null,null,null,null,{"$f":"'Upload Checklist'!$C$133","v":"Appropriate documentation to demonstrate the form of site control indicated above."},null,null,null,null,null,null,null,null,null,null,null,null,null,null,null,null,null,null,null,"Uploaded to HCD?"]
[]
[null,null,null,null,null,"STI  Site Control"]
[null,null,null,null,null,"Form of site control (See Site Control in Appendix A)",null,null,null,null,null,null,null,null,null,null,null,null,null,null,null,null,null,null,null,null,null,null,null,"Most recent document execution date"]
[null,null,null,null,null,"Ground Lease planned?"]
[null,null,null,null,null,"Lessor",null,null,null,null,null,null,null,null,null,null,null,null,null,null,null,null,null,null,null,null,"Term",null,null,null,null,null,null,null,"Annual Payment"]
[]
[null,null,null,null,null,"Below, describe property transfers occurring in connection with development of the Project."]
[]
[null,"File Name:",null,null,{"$f":"'Upload Checklist'!$B$134","v":"61. STI Site Control"},null,null,null,null,null,null,null,{"$f":"'Upload Checklist'!$C$134","v":"Appropriate documentation to demonstrate the form of site control indicated above."},null,null,null,null,null,null,null,null,null,null,null,null,null,null,null,null,null,null,null,"Uploaded to HCD?"]
[]
[null,null,null,null,null,"TRA  Site Control"]
[null,null,null,null,null,"Form of site control (See Site Control in Appendix A)",null,null,null,null,null,null,null,null,null,null,null,null,null,null,null,null,null,null,null,null,null,null,null,"Most recent document execution date"]
[null,null,null,null,null,"Ground Lease planned?"]
[null,null,null,null,null,"Lessor",null,null,null,null,null,null,null,null,null,null,null,null,null,null,null,null,null,null,null,null,"Term",null,null,null,null,null,null,null,"Annual Payment"]
[]
[null,null,null,null,null,"Below, describe property transfers occurring in connection with development of the Project."]
[]
[null,"File Name:",null,null,{"$f":"'Upload Checklist'!$B$135","v":"62. TRA Site Control"},null,null,null,null,null,null,null,{"$f":"'Upload Checklist'!$C$135","v":"Appropriate documentation to demonstrate the form of site control indicated above."},null,null,null,null,null,null,null,null,null,null,null,null,null,null,null,null,null,null,null,"Uploaded to HCD?"]
[]
[null,null,"(7)","Applicants certifies to demonstrate experience by providing evidence of at least two projects that are each similar to each proposed AHSC Capital Project (AHD, HRI, STI, and TRA) in scope and size, which have been completed by the Applicant serving as the Developer of that Project component, during the ten years preceding the application due date. Experience is attributable to entities only, not individual persons. Experience cannot be satisfied by relying on projects completed by a non-applicant entity under the rationale that an individual, or subset of individuals now employed by, or contracted by, the Applicant asserting experience was employed by the non-applicant entity at the time that project was developed."]
[null,null,null,null,"App due date",null,null,null,"2024-03-19"]
[null,null,null,"(A)","For AHD components, completed projects submitted to demonstrate experience must include a functionally equivalent number of units, type of construction, number of stories, and amenities. Quantities used for demonstration of experience may not be cumulative across multiple projects."]
[null,null,null,"(B)","AHD Applicant(s) certifies to demonstrate capacity to acquire, develop, and own affordable rental or homeownership housing at the time of application that is consistent with the housing tenure proposed in the Application. For purposes of this subdivision, an entity has capacity if it has adequate staff, capital, assets, and other resources to meet the operational needs of the AHD; to maintain the fiscal integrity of the AHD; and to satisfy all legal requirements and obligations in connection with the AHD. Evidence of capacity must be reasonably acceptable to the Department in form and substance. The Department will exercise reasonable discretion in determining capacity. In all cases, the Department will review organizational documents of each Applicant entity. Where necessary to clarify ambiguities in the application, the Department may request any of the following subsequent to Application submittal: "]
[null,null,null,null,"(i)","Staff rosters, which include the job titles and duty statements of all staff positions, and payroll records; "]
[null,null,null,null,"(ii)","Certified audited financial statements for the past three (3) consecutive years;"]
[null,null,null,null,"(iii)","Certificates of Good Standing from the California Secretary of State, the California Franchise Tax Board, or the relevant regulatory agencies of foreign jurisdictions; and "]
[null,null,null,null,"(iv)","Any other documentary evidence that reasonably supports the Applicant’s ability to satisfy the capacity requirement."]
[]
[null,null,null,null,"AHD requisite experience"]
[null,null,null,null,"Requisite experience project name #1"]
[null,null,null,null,"Name of Applicant demonstrating requisite experience",null,null,null,null,null,null,null,null,null,null,null,null,null,null,null,null,null,null,null,null,null,null,null,null,null,null,null,"Completion Date"]
[null,null,null,null,"Meets ten year requirement?",null,null,null,null,null,{"$f":"IF(AK255=\"\",FALSE,IF(YEARFRAC($AK$255,AppDueDate,3)<=10,TRUE,FALSE))","v":false},null,"Project tenure (in years)",null,null,null,null,null,{"$f":"IF(AK255=\"\",\"\",YEARFRAC(AK255,AppDueDate,3))","v":""},null,"Number of units",null,null,null,null,"Units per Acre",null,null,null,null,"Total commercial (square feet)"]
[null,null,null,null,"Type of construction",null,null,null,null,null,null,null,null,null,null,null,null,null,"Number of stories",null,null,null,null,"Total residential (square feet)"]
[]
[]
[null,null,null,null,"Requisite experience project name #2"]
[null,null,null,null,"Name of Applicant demonstrating requisite experience",null,null,null,null,null,null,null,null,null,null,null,null,null,null,null,null,null,null,null,null,null,null,null,null,null,null,null,"Completion Date"]
[null,null,null,null,"Meets ten year requirement?",null,null,null,null,null,{"$f":"IF(AK261=\"\",FALSE,IF(YEARFRAC($AK$261,AppDueDate,3)<=10,TRUE,FALSE))","v":false},null,"Project tenure (in years)",null,null,null,null,null,{"$f":"IF($AK$261=\"\",\"\",YEARFRAC($AK$261,AppDueDate,3))","v":""},null,"Number of units",null,null,null,null,"Units per Acre",null,null,null,null,"Commercial (square feet)"]
[null,null,null,null,"Type of construction",null,null,null,null,null,null,null,null,null,null,null,null,null,"Number of stories",null,null,null,null,"Total residential (square feet)"]
[]
[null,"File Name:",null,null,{"$f":"'Upload Checklist'!$B$136","v":"63. Past Exp AHD1, Past Exp AHD2"},null,null,null,null,null,null,null,{"$f":"'Upload Checklist'!$C$136","v":"Certificates of Occupancy for two recently completed affordable housing developments."},null,null,null,null,null,null,null,null,null,null,null,null,null,null,null,null,null,null,null,"Uploaded to HCD?"]
[]
[null,null,null,null,"HRI requisite experience"]
[null,null,null,null,"Requisite experience project name #1"]
[null,null,null,null,"Name of Applicant demonstrating requisite experience",null,null,null,null,null,null,null,null,null,null,null,null,null,null,null,null,null,null,null,null,null,null,null,null,null,null,null,"Completion Date"]
[null,null,null,null,"Meets ten year requirement?",null,null,null,null,null,{"$f":"IF(AK269=\"\",FALSE,IF(YEARFRAC($AK$269,AppDueDate,3)<=10,TRUE,FALSE))","v":false},null,"Project tenure (in years)",null,null,null,null,null,{"$f":"IF($AK$269=\"\",\"\",YEARFRAC($AK$269,AppDueDate,3))","v":""},null,"Number of units",null,null,null,null,"Units per Acre",null,null,null,null,"Commercial (square feet)"]
[null,null,null,null,"Type of construction",null,null,null,null,null,null,null,null,null,null,null,null,null,"Number of stories",null,null,null,null,"Total residential (square feet)"]
[]
[]
[null,null,null,null,"Requisite experience project name #2"]
[null,null,null,null,"Name of Applicant demonstrating requisite experience",null,null,null,null,null,null,null,null,null,null,null,null,null,null,null,null,null,null,null,null,null,null,null,null,null,null,null,"Completion Date"]
[null,null,null,null,"Meets ten year requirement?",null,null,null,null,null,{"$f":"IF(AK275=\"\",FALSE,IF(YEARFRAC($AK$275,AppDueDate,3)<=10,TRUE,FALSE))","v":false},null,"Project tenure (in years)",null,null,null,null,null,{"$f":"IF($AK$275=\"\",\"\",YEARFRAC($AK$275,AppDueDate,3))","v":""},null,"Number of units",null,null,null,null,"Units per Acre",null,null,null,null,"Commercial (square feet)"]
[null,null,null,null,"Type of construction",null,null,null,null,null,null,null,null,null,null,null,null,null,"Number of stories",null,null,null,null,"Total residential (square feet)"]
[]
[null,"File Name:",null,null,{"$f":"'Upload Checklist'!$B$137","v":"64. Past Exp HRI1, Past Exp HRI2"},null,null,null,null,null,null,null,{"$f":"'Upload Checklist'!$C$137","v":"Certificates of Occupancy for two recently completed affordable housing developments."},null,null,null,null,null,null,null,null,null,null,null,null,null,null,null,null,null,null,null,"Uploaded to HCD?"]
[]
[null,null,null,"(C)","For STI or TRA components only, an Applicant may demonstrate the requisite experience in §106(b)(7) by using the past experience of work completed of a Locality or transportation agency non-applicant so long as the Applicant can provide an executed agreement with that specific Locality or transportation agency non-applicant for the completion of the STI or TRA components of the AHSC Project for which funding is sought, thereby demonstrating that the Locality or transportation agency will be serving as the STI or TRA Developer for that Capital Project."]
[null,null,null,null,"Note: Past experience projects may be repeated for multiple STI and/or TRA projects so long as they are of similar scope and scale."]
[null,null,null,"STI",{"$f":"CONCATENATE(\"Requisite experience for \",'Project Overview'!$F$47,\" STI Capital Project\")","v":"Requisite experience for  STI Capital Project"}]
[null,null,null,null,"Requisite experience project name #1"]
[null,null,null,null,"Name of Applicant demonstrating requisite experience",null,null,null,null,null,null,null,null,null,null,null,null,null,null,null,null,null,null,null,null,null,null,null,null,null,null,null,"Completion Date"]
[null,null,null,null,"Meets ten year requirement?",null,null,null,null,null,{"$f":"IF(AK285=\"\",FALSE,IF(YEARFRAC($AK$285,AppDueDate,3)<=10,TRUE,FALSE))","v":false},null,"Project tenure (in years)",null,null,null,null,null,{"$f":"IF($AK$285=\"\",\"\",YEARFRAC($AK$285,AppDueDate,3))","v":""}]
[]
[]
[null,null,null,null,"Requisite experience project name #2"]
[null,null,null,null,"Name of Applicant demonstrating requisite experience",null,null,null,null,null,null,null,null,null,null,null,{"$f":"Q285","v":0},null,null,null,null,null,null,null,null,null,null,null,null,null,null,null,"Completion Date"]
[null,null,null,null,"Meets ten year requirement?",null,null,null,null,null,{"$f":"IF(AK290=\"\",FALSE,IF(YEARFRAC($AK$290,AppDueDate,3)<=10,TRUE,FALSE))","v":false},null,"Project tenure (in years)",null,null,null,null,null,{"$f":"IF($AK$290=\"\",\"\",YEARFRAC($AK$290,AppDueDate,3))","v":""}]
[]
[]
[null,null,null,"STI",{"$f":"CONCATENATE(\"Requisite experience for \",'Project Overview'!$F$55,\" STI Capital Project\")","v":"Requisite experience for  STI Capital Project"}]
[null,null,null,null,"Requisite experience project name #1"]
[null,null,null,null,"Name of Applicant demonstrating requisite experience",null,null,null,null,null,null,null,null,null,null,null,null,null,null,null,null,null,null,null,null,null,null,null,null,null,null,null,"Completion Date"]
[null,null,null,null,"Meets ten year requirement?",null,null,null,null,null,{"$f":"IF(AK296=\"\",FALSE,IF(YEARFRAC(AK296,AppDueDate,3)<=10,TRUE,FALSE))","v":false},null,"Project tenure (in years)",null,null,null,null,null,{"$f":"IF($AK$296=\"\",\"\",YEARFRAC($AK$296,AppDueDate,3))","v":""}]
[]
[]
[null,null,null,null,"Requisite experience project name #2"]
[null,null,null,null,"Name of Applicant demonstrating requisite experience",null,null,null,null,null,null,null,null,null,null,null,{"$f":"Q296","v":0},null,null,null,null,null,null,null,null,null,null,null,null,null,null,null,"Completion Date"]
[null,null,null,null,"Meets ten year requirement?",null,null,null,null,null,{"$f":"IF(AK301=\"\",FALSE,IF(YEARFRAC(AK301,AppDueDate,3)<=10,TRUE,FALSE))","v":false},null,"Project tenure (in years)",null,null,null,null,null,{"$f":"IF($AK$301=\"\",\"\",YEARFRAC($AK$301,AppDueDate,3))","v":""}]
[]
[]
[null,null,null,"STI",{"$f":"CONCATENATE(\"Requisite experience for \",'Project Overview'!$F$63,\" STI Capital Project\")","v":"Requisite experience for  STI Capital Project"}]
[null,null,null,null,"Requisite experience project name #1"]
[null,null,null,null,"Name of Applicant demonstrating requisite experience",null,null,null,null,null,null,null,null,null,null,null,null,null,null,null,null,null,null,null,null,null,null,null,null,null,null,null,"Completion Date"]
[null,null,null,null,"Meets ten year requirement?",null,null,null,null,null,{"$f":"IF(AK307=\"\",FALSE,IF(YEARFRAC(AK307,AppDueDate,3)<=10,TRUE,FALSE))","v":false},null,"Project tenure (in years)",null,null,null,null,null,{"$f":"IF($AK$307=\"\",\"\",YEARFRAC($AK$307,AppDueDate,3))","v":""}]
[]
[]
[null,null,null,null,"Requisite experience project name #2"]
[null,null,null,null,"Name of Applicant demonstrating requisite experience",null,null,null,null,null,null,null,null,null,null,null,{"$f":"Q307","v":0},null,null,null,null,null,null,null,null,null,null,null,null,null,null,null,"Completion Date"]
[null,null,null,null,"Meets ten year requirement?",null,null,null,null,null,{"$f":"IF(AK312=\"\",FALSE,IF(YEARFRAC(AK312,AppDueDate,3)<=10,TRUE,FALSE))","v":false},null,"Project tenure (in years)",null,null,null,null,null,{"$f":"IF($AK$312=\"\",\"\",YEARFRAC($AK$312,AppDueDate,3))","v":""}]
[]
[null,"File Name:",null,null,{"$f":"'Upload Checklist'!$B$138","v":"65. Past Exp STI1, Past Exp STI2"},null,null,null,null,null,null,null,{"$f":"'Upload Checklist'!$C$138","v":"Where the party making improvements funded by AHSC is not a public entity, an executed agreement from a public agency certifying the satisfactory completion of similar infrastructure improvements."},null,null,null,null,null,null,null,null,null,null,null,null,null,null,null,null,null,null,null,"Uploaded to HCD?"]
[]
[null,null,null,"TRA",{"$f":"CONCATENATE(\"Requisite experience for \",'Project Overview'!$F$79,\" TRA Capital Project\")","v":"Requisite experience for  TRA Capital Project"}]
[null,null,null,null,"Requisite experience project name #1"]
[null,null,null,null,"Name of Applicant demonstrating requisite experience",null,null,null,null,null,null,null,null,null,null,null,null,null,null,null,null,null,null,null,null,null,null,null,null,null,null,null,"Completion Date"]
[null,null,null,null,"Meets ten year requirement?",null,null,null,null,null,{"$f":"IF(AK319=\"\",FALSE,IF(YEARFRAC($AK$319,AppDueDate,3)<=10,TRUE,FALSE))","v":false},null,"Project tenure (in years)",null,null,null,null,null,{"$f":"IF($AK$319=\"\",\"\",YEARFRAC($AK$319,AppDueDate,3))","v":""}]
[]
[]
[null,null,null,null,"Requisite experience project name #2"]
[null,null,null,null,"Name of Applicant demonstrating requisite experience",null,null,null,null,null,null,null,null,null,null,null,{"$f":"Q319","v":0},null,null,null,null,null,null,null,null,null,null,null,null,null,null,null,"Completion Date"]
[null,null,null,null,"Meets ten year requirement?",null,null,null,null,null,{"$f":"IF(AK324=\"\",FALSE,IF(YEARFRAC($AK$324,AppDueDate,3)<=10,TRUE,FALSE))","v":false},null,"Project tenure (in years)",null,null,null,null,null,{"$f":"IF($AK$324=\"\",\"\",YEARFRAC($AK$324,AppDueDate,3))","v":""}]
[]
[]
[null,null,null,"TRA",{"$f":"CONCATENATE(\"Requisite experience for \",'Project Overview'!$F$87,\" TRA Capital Project\")","v":"Requisite experience for  TRA Capital Project"}]
[null,null,null,null,"Requisite experience project name #1"]
[null,null,null,null,"Name of Applicant demonstrating requisite experience",null,null,null,null,null,null,null,null,null,null,null,null,null,null,null,null,null,null,null,null,null,null,null,null,null,null,null,"Completion Date"]
[null,null,null,null,"Meets ten year requirement?",null,null,null,null,null,{"$f":"IF(AK330=\"\",FALSE,IF(YEARFRAC($AK$319,AppDueDate,3)<=10,TRUE,FALSE))","v":false},null,"Project tenure (in years)",null,null,null,null,null,{"$f":"IF(AK330=\"\",\"\",YEARFRAC($AK$275,AppDueDate,3))","v":""}]
[]
[]
[null,null,null,null,"Requisite experience project name #2"]
[null,null,null,null,"Name of Applicant demonstrating requisite experience",null,null,null,null,null,null,null,null,null,null,null,{"$f":"Q330","v":0},null,null,null,null,null,null,null,null,null,null,null,null,null,null,null,"Completion Date"]
[null,null,null,null,"Meets ten year requirement?",null,null,null,null,null,{"$f":"IF(AK335=\"\",FALSE,IF(YEARFRAC($AK$324,AppDueDate,3)<=10,TRUE,FALSE))","v":false},null,"Project tenure (in years)",null,null,null,null,null,{"$f":"IF(AK335=\"\",\"\",YEARFRAC($AK$275,AppDueDate,3))","v":""}]
[]
[]
[null,null,null,"TRA",{"$f":"CONCATENATE(\"Requisite experience for \",'Project Overview'!$F$95,\" TRA Capital Project\")","v":"Requisite experience for  TRA Capital Project"}]
[null,null,null,null,"Requisite experience project name #1"]
[null,null,null,null,"Name of Applicant demonstrating requisite experience",null,null,null,null,null,null,null,null,null,null,null,null,null,null,null,null,null,null,null,null,null,null,null,null,null,null,null,"Completion Date"]
[null,null,null,null,"Meets ten year requirement?",null,null,null,null,null,{"$f":"IF(AK341=\"\",FALSE,IF(YEARFRAC($AK$319,AppDueDate,3)<=10,TRUE,FALSE))","v":false},null,"Project tenure (in years)",null,null,null,null,null,{"$f":"IF(AK341=\"\",\"\",YEARFRAC($AK$275,AppDueDate,3))","v":""}]
[]
[]
[null,null,null,null,"Requisite experience project name #2"]
[null,null,null,null,"Name of Applicant demonstrating requisite experience",null,null,null,null,null,null,null,null,null,null,null,{"$f":"Q341","v":0},null,null,null,null,null,null,null,null,null,null,null,null,null,null,null,"Completion Date"]
[null,null,null,null,"Meets ten year requirement?",null,null,null,null,null,{"$f":"IF(AK346=\"\",FALSE,IF(YEARFRAC($AK$324,AppDueDate,3)<=10,TRUE,FALSE))","v":false},null,"Project tenure (in years)",null,null,null,null,null,{"$f":"IF(AK346=\"\",\"\",YEARFRAC($AK$275,AppDueDate,3))","v":""}]
[]
[null,"File Name:",null,null,{"$f":"'Upload Checklist'!$B$139","v":"66. Past Exp TRA1, Past Exp TRA2"},null,null,null,null,null,null,null,{"$f":"'Upload Checklist'!$C$139","v":"Where the party making improvements funded by AHSC in not a public entity, an executed agreement from a public agency certifying the satisfactory completion of similar infrastructure improvements."},null,null,null,null,null,null,null,null,null,null,null,null,null,null,null,null,null,null,null,"Uploaded to HCD?"]
[]
[null,null,"(8)","Applicant(s) certifies for TOD and ICP projects, the High Quality Transit or Qualifying Transit, respectively, must be serving the Transit Station/Stop at the time of application submittal. For RIPA projects, the Qualifying Transit or High Quality Transit must be serving the Transit Station/Stop by the time a certificate of occupancy is provided. For all Project Area Types, the AHD and High Quality Transit’s Transit Station/Stop or Qualifying Transit’s Transit Station/Stop, as applicable, must be connected by a Pedestrian Access Route no greater than 0.50 miles at the time of certificate of occupancy issuance. Improvements to complete the Pedestrian Access Route between the AHD and the Transit Station/Stop may be included as part of the Project’s STI/TRA components so long as they are completed by the time a certificate of occupancy is issued."]
[]
[null,null,"(9)","Applicant(s) certifies that the housing element for the jurisdiction in which the Project is located must be in substantial compliance by the date of award recommendation. A jurisdiction’s current housing element compliance status can be obtained by referencing the Department’s website. Projects located on Trust Land, as defined under Indian Country, are exempt from this requirement."]
[null,null,null,"(A)","For the purposes of this section alone, jurisdictions that are undergoing Department review of their housing element at the time of award and jurisdictions which are receiving Department technical assistance to bring their housing element into compliance at the time of award, shall both be deemed to be in a presumptive state of substantial compliance by the Department. All awards premised on presumptive substantial compliance shall include conditions in their respective standard agreements requiring that prior to funds disbursement the subject jurisdiction must have received a final housing element certification letter from the Department."]
[null,null,null,null,"Is the Project located within a jurisdiction which currently has an adopted housing element in substantial compliance with Art.10.6 (§65580) Ch. 3 Div. 1 of Title 7  (Gov. Code §65585)?"]
[null,null,null,null,"A jurisdiction’s current housing element compliance status is obtainable thru HCD’s website.",null,null,null,null,null,null,null,null,null,null,null,null,null,null,null,null,null,null,null,null,{"$f":"IF(AND(AL359=\"No\",AL360=\"No\"),\"Applicant does not meet requirement\",\"\")","v":""}]
[null,null,null,null,"Please provide date of HCD compliance determination"]
[null,"File Name::",null,null,{"$f":"'Upload Checklist'!$B$140","v":"67. HE Determination letter"},null,null,null,null,null,null,{"$f":"'Upload Checklist'!$C$140","v":"Provide HCD's determination letter."},null,null,null,null,null,null,null,null,null,null,null,null,null,null,null,null,null,null,null,"Uploaded to HCD Portal?"]
[null,null,null,null,"Will the jurisdiction be under Department review of their housing element at the time of award? "]
[null,null,null,null,"Will the jurisdiction be receiving Department technical assistance to bring their housing element into compliance at the time of award? "]
[]
[]
[null,null,"(10)","Applicants must affirm that the proposed Affordable Housing Development, or Mixed Use Development in the case that non-residential uses are included, are powered entirely through electricity with no connections to natural gas infrastructure. Only zero-emission generators are AHSC Program Eligible Costs. Projects required to include fossil fuel-based backup power by regulation or code should consider the cleanest and most renewable technology first, starting with gaseous fuel (e.g., RNG, NG, LPG), and then Tier 4 compliant diesel. If a fossil fuel-based generator is installed, be advised that procurement, site preparation, installation, or operation of such units is not an AHSC Program Eligible Cost."]
[null,null,null,"Applicant(s) certifies that the Project will be powered entirely through electricity with no connections to natural gas infrastructure as described above?"]
[null,"File Name::",null,null,{"$f":"'Upload Checklist'!$B$141","v":"68. All Electric Design"},null,null,null,null,null,null,null,{"$f":"'Upload Checklist'!$C$141","v":"Document affirming that the proposed Affordable Housing Development, or Mixed-Use Development in the case that non-residential uses are included, are powered entirely through electricity with no connections to natural gas infrastructure."},null,null,null,null,null,null,null,null,null,null,null,null,null,null,null,null,null,null,null,"Uploaded to HCD?"]
[]
[null,null,"(11)","Applicants certifies that the AHD will offer high speed broadband internet service to residents, with speeds listed in §106(c)(8) to each Restricted Unit for a minimum of three (3) years, free of charge to the tenants, and available within six (6) months of the AHD’s placed-in-service date. This service may be funded by the AHSC Program pursuant to §103(f)."]
[null,null,null,"Using AHSC to fully fund required internet service?"]
[null,"File Name:",null,null,{"$f":"'Upload Checklist'!$B$142","v":"69. Internet Service (other funding source)"},null,null,null,null,null,null,null,{"$f":"'Upload Checklist'!$C$142","v":"If using another funding source to fund the required internet service, name the other source and the amount with developer Applicant signature."},null,null,null,null,null,null,null,null,null,null,null,null,null,null,null,null,null,null,null,"Uploaded to HCD?"]
[]
[null,"(c)","All Applicants must affirm:"]
[null,null,"(1)","Applicants of all proposed rental Affordable Housing Developments must certify that the development will be smoke free and demonstrate compliance by submitting a draft of the development’s Smoke Free Housing lease addendum."]
[null,"File Name:",null,null,{"$f":"'Upload Checklist'!$B$143","v":"70. SFH Lease Addendum"},null,null,null,null,null,null,null,{"$f":"'Upload Checklist'!$C$143","v":"Submit a draft of the development’s Smoke Free Housing lease addendum."},null,null,null,null,null,null,null,null,null,null,null,null,null,null,null,null,null,null,null,"Uploaded to HCD?"]
[]
[null,null,"(2)","Applications must integrate applicable climate adaptation measures as described in §107 Narrative Based Policy Scoring (b)."]
[]
[null,null,"(3)","Applications requesting AHSC Program funding for Affordable Housing Developments and Housing Related Infrastructure Capital Projects must also demonstrate to the satisfaction of the Department all the following:"]
[null,null,null,"(A)","Applicant(s) certifies that the rental Affordable Housing Developments must meet the underwriting standards in the UMRs and MHP Guidelines §7312 and §7312.1."]
[null,null,null,"(B)","Applicant(s) certifies that the Affordable Housing Development, Housing Related Infrastructure, or both are infeasible without AHSC Program funds, and other committed funds are not and will not be supplanted by AHSC Program funds."]
[null,null,null,"(C)","Proposed Projects involving new construction or Substantial Rehabilitation and requiring the demolition of existing residential units are eligible only if the number of bedrooms in the new Project is at least equal to the number of bedrooms in the demolished structures, with equal or greater affordability. The new Affordable Units may exist on separate parcels provided all parcels are part of the same Project meeting the requirements of the UMRs §8303 (b)."]
[null,null,null,null,"(i)","The Department may approve Projects involving new construction or Substantial Rehabilitation and requiring the demolition of existing residential units that result in a number of bedrooms less than the number in the demolished structures where it determines that such approvals will substantially improve the livability of the remaining units, or serve some other compelling public policy objective, as long as the reduction does not result in more than 25 percent fewer units upon Project completion."]
[null,null,null,null,null,"Will the proposed Project involve new construction or Substantial Rehabilitation and requiring the demolition of existing residential units?"]
[null,null,null,null,null,"Number of bedrooms in the demolished structures?",null,null,null,null,null,null,null,null,null,null,null,null,null,"Number of bedrooms in new Project?",null,null,null,null,null,null,null,null,null,null,"Project meets requirement?",null,null,null,null,null,null,{"$f":"IF(AND($Q$383=\"\",$AB$383=\"\"),\"\",IF($AB$383>=$Q$383,TRUE,FALSE))","v":""}]
[null,null,null,null,null,"Will the proposed Project involve new construction or Substantial Rehabilitation and requiring the demolition of existing residential units that result in a number of bedrooms less than the number in the demolished structures?"]
[null,null,null,null,null,"Number of bedrooms in the demolished structures?",null,null,null,null,null,null,null,null,null,null,null,null,null,"Number of bedrooms in new Project?",null,null,null,null,null,null,null,null,null,null,"Project meets requirement?",null,null,null,null,null,null,{"$f":"IF(AND($Q$385=\"\",$AB$385=\"\"),\"\",IF($AB$385>=ROUND($Q$385*0.75,0),TRUE,FALSE))","v":""}]
[]
[null,null,null,"(D)","If the Affordable Housing Development, Housing Related Infrastructure, or both Capital Projects involves the demolition of existing units that are affordable to lower-income households, the application must demonstrate the replacement of demolished units, comparable in size, of equal or greater affordability and equal to or greater than the number of the demolished Affordable Units located within comparable access to transit and include first right of return to displaced residents."]
[null,null,null,null,"Will the proposed Project involve the demolition of existing units that are affordable to lower-income households?"]
[null,null,null,null,"Number of bedrooms in the demolished structures?",null,null,null,null,null,null,null,null,null,null,null,null,null,"Number of bedrooms in new Project?",null,null,null,null,null,null,null,null,null,null,"Project meets requirement?",null,null,null,null,null,null,null,{"$f":"IF(AND($P$389=\"\",$AA$389=\"\"),\"\",IF($AA$389>=$P$389,TRUE,FALSE))","v":""}]
[]
[null,null,null,"(E)","Applicants must demonstrate the proposed Affordable Housing Development is consistent with State and Federal Fair Housing requirements including duties to affirmatively further fair housing. "]
[null,null,null,null,"Applicant(s) certifies to adopt a written non-discrimination policy to comply with all applicable state and federal law, including, without limitation, the requirements of Title VI of the Civil Rights Act of 1964 (42 USC Section 2000d et seq.); the Americans with Disabilities Act of 1990; the Fair Housing Act; the Fair Housing Amendments Act of 1988; the California Fair Employment and Housing Act; the Unruh Civil Rights Act; GC Section 11135; Rehabilitation Act of 1973 Section 504; and all regulations promulgated pursuant to those statutes (including 24 CFR Part 100, 24 CFR Part 8, and 28 CFR Part 35)?"]
[null,null,null,null,"affirmatively further fair housing"]
[null,null,null,"(F)","Where approval by a local public works department, or other responsible local agency, is required for the Housing Related Infrastructure Capital Project, the application must include a statement from that department indicating that the Housing Related Infrastructure Capital Project is consistent with all applicable local rules, regulations, codes, policies, and plans enforced or implemented by that department."]
[null,null,null,null,"Is approval by a local public works department, or other responsible local agency, required for the Housing Related Infrastructure Capital Project?"]
[null,"File Name:",null,null,{"$f":"'Upload Checklist'!$B$144","v":"71. HRI Local Approvals"},null,null,null,null,null,null,null,{"$f":"'Upload Checklist'!$C$144","v":"Statement from entity indicating the HRI Capital Project is consistent with all applicable local rules, regulations, codes, policies and plans enforced or implemented by that entity."},null,null,null,null,null,null,null,null,null,null,null,null,null,null,null,null,null,null,null,"Uploaded to HCD?"]
[]
[null,null,"(4)","Applications requesting AHSC Program funding for Program Costs must also demonstrate to the satisfaction of the Department that Program Costs are infeasible without AHSC Program funds, and other committed funds are not being supplanted by AHSC Program funds."]
[null,null,null,"Applicant(s) certifies that Program Costs are infeasible without AHSC Program funds, and other committed funds are not being supplanted by AHSC Program funds."]
[]
[null,null,"(5)","Applicant(s) acknowledges that all proposed Project components are subject to all applicable codes, including the California Building Standards Code (CCR, Title 24). "]
[]
[null,null,"(6)","The application must demonstrate that outreach and education on reducing potential health impacts of air pollution will be provided to residents of Affordable Housing Developments. "]
[]
[]
[null,null,"(7)","Applicant(s) certifies that the Affordable Housing Developments will meet the Americans with Disabilities Act (ADA), fair housing, nondiscrimination, Pet Friendly Housing Act, physical accessibility, and Violence Against Women Act (VAWA), requirements pursuant to MHP Guidelines Section 7314 (a)-(d). Projects must also provide a preference for accessible units to persons with disabilities requiring the features of the accessible units in accordance with TCAC regulations (California Code of Regulations (CCR), Title 4, Section 10337(b)(2), as may be amended and renumbered from time to time). The Applicant or Developer of the Project must ensure that any other applicable federal, state, and local accessibility requirements are met."]
[]
[null,null,"(8)","Applicant(s) certifies that the Affordable Housing Development and Housing Related Infrastructure components must be capable of accommodating broadband internet service with at least a speed of 100 megabits (50 megabits for rural) per second for downloading and 20 megabits (10 megabits for rural) per second for uploading."]
[null,null,null,"(A)","Affordable Housing Development and Housing Related Infrastructure components must provide a conduit from the public right of way or property line and provide pathways, wiring, cables, and other necessary infrastructure extended to each unit and public common space to provide a broadband internet connection."]
[null,null,null,"(B)","For some rural areas, other technologies like fixed wireless, might offer the highest caliber connection. All Applicants should consult with their local jurisdictions about their broadband internet infrastructure planning, as well as existing broadband internet service providers in the area."]
[]
[null,"In addition to the Threshold Requirements above, Applicant(s) acknowledge, understand, and agree to comply with the following sections of the 2023 AHSC Guidelines."]
[null,"§108 Application Process"]
[null,"§109 Legal Documents"]
[null,"§110 Reporting Requirements"]
[null,"§111 Performance Requirements"]
[null,"§112 Defaults and Cancellations"]
[null,"§114 Transition Reserves "]
[]
[null,"End of Document"]

{"sheet":"HCD Reserves Calculator","index":16,"n_rows":59,"n_cols":36,"rows_kept":59,"cut":false,"hidden":false,"merged":[[34,1,34,10],[34,11,34,20],[49,1,49,11],[48,1,48,11],[48,12,48,14],[49,12,49,14],[50,1,50,11],[50,12,50,14],[53,1,53,9],[53,10,53,13],[51,1,51,11],[51,12,51,14],[37,4,37,11],[37,12,37,15],[44,5,44,11],[44,12,44,15],[45,1,45,11],[45,12,45,15],[38,8,38,11],[38,12,38,15],[39,8,39,11],[39,12,39,15],[40,8,40,11],[41,8,41,11],[45,20,45,30],[45,31,45,34],[37,23,37,30],[37,31,37,34],[47,1,47,7],[47,8,47,19],[40,20,40,22],[40,23,40,26],[40,27,40,30],[40,31,40,34],[41,20,41,22],[41,23,41,26],[41,27,41,30],[41,31,41,34],[42,20,42,22],[42,23,42,26],[42,27,42,30],[42,31,42,34],[37,20,37,22],[38,20,38,22],[38,23,38,26],[38,27,38,30],[38,31,38,34],[39,20,39,22],[41,1,41,3],[42,1,42,3],[43,1,43,3],[39,31,39,34],[43,20,43,22],[43,23,43,26],[43,27,43,30],[43,31,43,34],[44,24,44,30],[44,31,44,34],[39,23,39,26],[39,27,39,30],[1,1,1,38],[3,1,3,4],[3,5,3,25],[3,26,3,33],[3,34,3,38],[5,1,5,38],[8,1,9,1],[8,2,8,34],[8,35,8,38],[9,2,9,34],[9,35,9,38],[6,1,7,1],[6,2,6,30],[6,31,6,34],[6,35,6,38],[7,2,7,30],[7,31,7,34],[7,35,7,38],[13,35,14,38],[14,3,14,14],[14,15,14,19],[15,3,15,26],[15,27,15,30],[15,31,15,34],[15,35,15,38],[11,1,11,38],[12,1,14,2],[12,3,12,30],[12,31,12,34],[12,35,12,38],[13,3,13,14],[13,15,13,19],[13,20,14,26],[13,27,14,30],[13,31,14,34],[15,1,15,2],[10,1,10,38],[19,3,19,26],[19,27,19,30],[19,31,19,34],[19,35,19,38],[20,3,20,26],[20,27,20,30],[20,31,20,34],[20,35,20,38],[16,1,29,2],[16,3,16,38],[17,3,17,26],[17,27,17,30],[17,31,17,34],[17,35,17,38],[18,3,18,26],[18,27,18,30],[18,31,18,34],[18,35,18,38],[23,3,23,26],[23,27,23,30],[23,31,23,34],[23,35,23,38],[24,3,24,26],[24,27,24,30],[24,31,24,34],[24,35,24,38],[21,3,21,26],[21,27,21,30],[21,31,21,34],[21,35,21,38],[22,3,22,26],[22,27,22,30],[22,31,22,34],[22,35,22,38],[27,3,27,26],[27,27,27,30],[27,31,27,34],[27,35,27,38],[25,3,25,26],[25,27,25,30],[25,31,25,34],[25,35,25,38],[26,3,26,26],[26,27,26,30],[26,31,26,34],[26,35,26,38],[29,3,29,26],[29,27,29,30],[29,31,29,34],[29,35,29,38],[30,1,30,30],[30,31,30,34],[30,35,30,38],[28,3,28,26],[28,27,28,30],[28,31,28,34],[28,35,28,38],[56,1,56,38],[58,1,58,38],[31,1,31,38],[32,1,32,38],[33,1,33,5],[35,35,35,38],[35,1,35,34],[37,1,37,3],[38,1,38,3],[39,1,39,3],[55,1,55,38],[38,4,38,7],[39,4,39,7],[40,4,40,7],[41,4,41,7],[42,4,42,7],[43,4,43,7],[42,8,42,11],[43,8,43,11],[40,12,40,15],[41,12,41,15],[42,12,42,15],[43,12,43,15],[40,1,40,3]]}
[]
[null,"HCD Reserve Requirements"]
[]
[null,"Project Name",null,null,null,{"$f":"ProjectName","v":0},null,null,null,null,null,null,null,null,null,null,null,null,null,null,null,null,null,null,null,null,"Number of Project Units:",null,null,null,null,null,null,null,{"$f":"TotalUnits","v":0}]
[]
[null,"Replacement Reserve Calculator UMR §8309"]
[null,"(a)","0.6% of New construction costs (structures excluding contractor profit, overhead, and general requirements and insurance):",null,null,null,null,null,null,null,null,null,null,null,null,null,null,null,null,null,null,null,null,null,null,null,null,null,null,null,null,{"$f":"SUM('AHD-HRI S&U Budget'!C36:C46)-'AHD-HRI S&U Budget'!C38-'AHD-HRI S&U Budget'!C39-'AHD-HRI S&U Budget'!C40-'AHD-HRI S&U Budget'!C42","v":0},null,null,null,{"$f":"$AF$7*0.006","v":0}]
[null,null,"$500 per unit: (This is a placeholder for rehab projects and may be subject to higher amount)",null,null,null,null,null,null,null,null,null,null,null,null,null,null,null,null,null,null,null,null,null,null,null,null,null,null,null,null,500,null,null,null,{"$f":"$AI$4*AF8","v":0}]
[null,"(b)","Replacement Reserve Amount = New construction: lesser of (a) and (b); Rehab: (b)",null,null,null,null,null,null,null,null,null,null,null,null,null,null,null,null,null,null,null,null,null,null,null,null,null,null,null,null,null,null,null,null,{"$f":"IF(IsAcquisition,AJ8,MIN($AJ$7:$AM$8))","v":0}]
[null,null,"HCD Required Replacement Reserve Amount - included in \"Operating budget\" tab",null,null,null,null,null,null,null,null,null,null,null,null,null,null,null,null,null,null,null,null,null,null,null,null,null,null,null,null,null,null,null,null,{"$f":"AJ9","v":0}]
[]
[null,"Operating Reserve Calculator"]
[null,1,null,"Total Operating Expenses Excluding On-Site Service Coordinator Salaries. \nOperating Budget Cell (E111) minus Operating Budget Cell (E105)",null,null,null,null,null,null,null,null,null,null,null,null,null,null,null,null,null,null,null,null,null,null,null,null,null,null,null,"TAX CREDIT Project 3 Month Reserve Required",null,null,null,"NON-TAX CREDIT Project 4 Month Reserve Required"]
[null,null,null,"(a) Total Operating Expenses:",null,null,null,null,null,null,null,null,null,null,null,{"$f":"Operating!E111","v":0},null,null,null,null,"Amount subject to reserve calculation: (a - b)",null,null,null,null,null,null,{"$f":"SUM($P$14-$P$15)","v":0},null,null,null,{"$f":"$AB$14/12*3","v":0},null,null,null,{"$f":"$AB$14/12*4","v":0}]
[null,null,null,"(b) Minus: On-Site Service Coordinator Salaries:",null,null,null,null,null,null,null,null,null,null,null,{"$f":"Operating!E105","v":0}]
[null,2,null,"Replacement Reserve amount from above: (Cell AJ10)",null,null,null,null,null,null,null,null,null,null,null,null,null,null,null,null,null,null,null,null,null,null,null,{"$f":"$AJ$10","v":0},null,null,null,{"$f":"$AB$16/12*3","v":0},null,null,null,{"$f":"$AB$16/12*4","v":0}]
[null,3,null,"Debt Service (including all HCD 0.42% Fees and Bond Issuer Fee)"]
[null,null,null,"\nName of Lender\n               Operating Budget cells (D123 to D132)",null,null,null,null,null,null,null,null,null,null,null,null,null,null,null,null,null,null,null,null,null,null,null,"Annual Debt\nService Amount",null,null,null,"TAX CREDIT Project 3 Month Reserve Required",null,null,null,"NON-TAX CREDIT Project 4 Month Reserve Required"]
[null,null,null,{"$f":"Operating!D123","v":"1st Mortgage Debt Service"},null,null,null,null,null,null,null,null,null,null,null,null,null,null,null,null,null,null,null,null,null,null,null,{"$f":"Operating!E123","v":0},null,null,null,{"$f":"IFERROR(AB19/12*3,0)","v":0},null,null,null,{"$f":"IFERROR(AB19/12*4,0)","v":0}]
[null,null,null,{"$f":"Operating!D124","v":"2nd Mortgage Debt Service "},null,null,null,null,null,null,null,null,null,null,null,null,null,null,null,null,null,null,null,null,null,null,null,{"$f":"Operating!E124","v":0},null,null,null,{"$f":"IFERROR(AB20/12*3,0)","v":0},null,null,null,{"$f":"IFERROR(AB20/12*4,0)","v":0}]
[null,null,null,{"$f":"Operating!D125","v":"3rd Mortgage Debt Service"},null,null,null,null,null,null,null,null,null,null,null,null,null,null,null,null,null,null,null,null,null,null,null,{"$f":"Operating!E125","v":0},null,null,null,{"$f":"IFERROR(AB21/12*3,0)","v":0},null,null,null,0]
[null,null,null,{"$f":"Operating!D126","v":"AHSC .42% Fee"},null,null,null,null,null,null,null,null,null,null,null,null,null,null,null,null,null,null,null,null,null,null,null,{"$f":"Operating!E126","v":0},null,null,null,{"$f":"IFERROR(AB22/12*3,0)","v":0},null,null,null,{"$f":"IFERROR(AB22/12*4,0)","v":0}]
[null,null,null,{"$f":"Operating!D127","v":"Other HCD .42% (Specify)"},null,null,null,null,null,null,null,null,null,null,null,null,null,null,null,null,null,null,null,null,null,null,null,{"$f":"Operating!E127","v":0},null,null,null,{"$f":"IFERROR(AB23/12*3,0)","v":0},null,null,null,{"$f":"IFERROR(AB23/12*4,0)","v":0}]
[null,null,null,{"$f":"Operating!D129","v":"Bond Issuer Fee"},null,null,null,null,null,null,null,null,null,null,null,null,null,null,null,null,null,null,null,null,null,null,null,{"$f":"Operating!E129","v":0},null,null,null,{"$f":"IFERROR(AB24/12*3,0)","v":0},null,null,null,{"$f":"IFERROR(AB24/12*4,0)","v":0}]
[null,null,null,{"$f":"Operating!D130","v":"Miscellaneous Financial Expenses (specify)"},null,null,null,null,null,null,null,null,null,null,null,null,null,null,null,null,null,null,null,null,null,null,null,{"$f":"Operating!E130","v":0},null,null,null,{"$f":"IFERROR(AB25/12*3,0)","v":0},null,null,null,0]
[null,null,null,{"$f":"Operating!D131","v":"Miscellaneous Financial Expenses (specify)"},null,null,null,null,null,null,null,null,null,null,null,null,null,null,null,null,null,null,null,null,null,null,null,{"$f":"Operating!E131","v":0},null,null,null,0,null,null,null,{"$f":"IFERROR(AB26/12*4,0)","v":0}]
[null,null,null,{"$f":"Operating!D132","v":"Miscellaneous Financial Expenses (specify)"},null,null,null,null,null,null,null,null,null,null,null,null,null,null,null,null,null,null,null,null,null,null,null,{"$f":"Operating!E132","v":0},null,null,null,{"$f":"IFERROR(AB27/12*3,0)","v":0},null,null,null,{"$f":"IFERROR(AB27/12*4,0)","v":0}]
[null,null,null,{"$f":"Operating!D133","v":"Miscellaneous Financial Expenses (specify)"},null,null,null,null,null,null,null,null,null,null,null,null,null,null,null,null,null,null,null,null,null,null,null,{"$f":"Operating!E133","v":0},null,null,null,0,null,null,null,0]
[null,null,null,"Other (Specify)",null,null,null,null,null,null,null,null,null,null,null,null,null,null,null,null,null,null,null,null,null,null,null,null,null,null,null,{"$f":"IFERROR(AB29/12*3,0)","v":0},null,null,null,0]
[null,null,null,"Totals",null,null,null,null,null,null,null,null,null,null,null,null,null,null,null,null,null,null,null,null,null,null,null,{"$f":"SUM(AB19:AE29)","v":0},null,null,null,{"$f":"SUM(AF19:AI29)","v":0},null,null,null,{"$f":"SUM(AJ19:AM29)","v":0}]
[null,"UMR Required Operating Reserve Amount:",null,null,null,null,null,null,null,null,null,null,null,null,null,null,null,null,null,null,null,null,null,null,null,null,null,null,null,null,null,{"$f":"AF14+AF16+AF30","v":0},null,null,null,{"$f":"AJ14+AJ16+AJ30","v":0}]
[null,"If Reserve amounts are different than the required amount, enter Reserve amounts and how they are calculated below:"]
[]
[]
[null,"Transition Reserve Pool Fee Calculator",null,null,null,null,null,null,null,null,null,"Pooled Transition Reserve Policy"]
[null,"Does the Project propose use of Project-based rental assistance?"]
[]
[null,"Subsidy #1",null,null,{"$f":"IF('Max Funds & Unit Mix'!AB4<>\"Subsidy Program Name (Specify)\",'Max Funds & Unit Mix'!AB4,\"None\")","v":"None"},null,null,null,null,null,null,null,"Contract Term: (enter in years)",null,null,null,null,null,null,null,"Subsidy #2",null,null,{"$f":"IF('Max Funds & Unit Mix'!AD4<>\"Subsidy Program Name (Specify)\",'Max Funds & Unit Mix'!AD4,\"None\")","v":"None"},null,null,null,null,null,null,null,"Contract Term: (enter in years)"]
[null,"Bedroom Size",null,null,"Number of Units",null,null,null,"Net Contract Rent",null,null,null,"Annual Subsidy",null,null,null,null,null,null,null,"Bedroom Size",null,null,"Number of Units",null,null,null,"Net Contract Rent",null,null,null,"Annual Subsidy"]
[null,0,null,null,null,null,null,null,null,null,null,null,{"$f":"E40*I40*12","v":0},null,null,null,null,null,null,null,0,null,null,null,null,null,null,null,null,null,null,{"$f":"X40*AB40*12","v":0}]
[null,1,null,null,null,null,null,null,null,null,null,null,{"$f":"E41*I41*12","v":0},null,null,null,null,null,null,null,1,null,null,null,null,null,null,null,null,null,null,{"$f":"X41*AB41*12","v":0}]
[null,2,null,null,null,null,null,null,null,null,null,null,0,null,null,null,null,null,null,null,2,null,null,null,null,null,null,null,null,null,null,0]
[null,3,null,null,null,null,null,null,null,null,null,null,0,null,null,null,null,null,null,null,3,null,null,null,null,null,null,null,null,null,null,0]
[null,4,null,null,null,null,null,null,null,null,null,null,{"$f":"E44*I44*12","v":0},null,null,null,null,null,null,null,4,null,null,null,null,null,null,null,null,null,null,{"$f":"X44*AB44*12","v":0}]
[null,null,null,null,null,"Maximum Total Annual Subsidy",null,null,null,null,null,null,{"$f":"SUM(M40:P44)","v":0},null,null,null,null,null,null,null,null,null,null,null,"Maximum Total Annual Subsidy",null,null,null,null,null,null,{"$f":"SUM(AF40:AI44)","v":0}]
[null,"Pooled transition reserve fee for Subsidy #1 (15% of maximum total annual subsidy)",null,null,null,null,null,null,null,null,null,null,{"$f":"M45*0.15","v":0},null,null,null,null,null,null,null,"Pooled transition reserve fee for Subsidy #2 (15% of maximum total annual subsidy)",null,null,null,null,null,null,null,null,null,null,{"$f":"AF45*0.15","v":0}]
[]
[null,"Local Operating Subsidy Name:"]
[null,"Total Operating Subsidy Amount"]
[null,"Number of years included in total operating subsidy"]
[null,"One year's worth of operating subsidy",null,null,null,null,null,null,null,null,null,null,{"$f":"IF(M49=0,0,M49/M50)","v":0}]
[null,"Pooled transition reserve fee for Subsidy (15% of one year's worth of operating subsidy)",null,null,null,null,null,null,null,null,null,null,{"$f":"M51*0.15","v":0}]
[]
[null,"Total Pooled Transition Reserve Fee",null,null,null,null,null,null,null,null,{"$f":"SUM(M46,AF46,M52)","v":0}]
[]
[null,"Applicant comments:"]
[]
[]
[null,"End of Document"]

{"sheet":"Cash Flow","index":17,"n_rows":78,"n_cols":43,"rows_kept":78,"cut":false,"hidden":true,"merged":[[72,1,72,2],[2,8,2,9],[77,1,77,16]]}
[]
[null,"Cash Flow Analysis"]
[null,"Is Income from Restricted Units based on Restricted or Proposed Rents?",null,null,null,null,null,null,null,null,{"$f":"IF(I3<>\"Proposed Rents\",1,0)","v":1}]
[null,"Income From Housing Units","Inflation","Year 1","Year 2","Year 3","Year 4","Year 5","Year 6","Year 7","Year 8","Year 9","Year 10","Year 11","Year 12","Year 13","Year 14","Year 15","Year 16","Year 17","Year 18","Year 19","Year 20","Year 21","Year 22","Year 23","Year 24","Year 25","Year 26","Year 27","Year 28","Year 29","Year 30","Year 31","Year 32","Year 33","Year 34","Year 35","Year 36","Year 37","Year 38","Year 39","Year 40"]
[null,"Restricted Unit  Rents",2.5000000000000001E-2,{"$f":"IF(K3=1,'Max Funds & Unit Mix'!AI3,'Max Funds & Unit Mix'!AL4)","v":0},{"$f":"D5*(1+$C$5)","v":0},0,0,0,0,0,0,0,0,0,0,0,0,{"$f":"Q5*(1+$C$5)","v":0},{"$f":"R5*(1+$C$5)","v":0},0,0,0,0,0,0,0,0,0,0,0,0,0,0,0,0,0,0,0,0,0,0,0,0]
[null,"Unrestricted Units",2.5000000000000001E-2,{"$f":"'Max Funds & Unit Mix'!AM5","v":0},{"$f":"D6*(1+$C$6)","v":0},0,0,0,0,0,0,0,0,0,0,0,0,{"$f":"Q6*(1+$C$6)","v":0},{"$f":"R6*(1+$C$6)","v":0},0,0,0,0,0,0,0,0,0,0,0,0,0,0,0,0,0,0,0,0,0,0,0,0]
[null,"Tenant Assistance Payments"]
[null,{"$f":"Operating!D38","v":"Subsidy Program Name (Specify)"},2.5000000000000001E-2,{"$f":"Operating!E38","v":0},{"$f":"D8*(1+$C$8)","v":0},{"$f":"E8*(1+$C$8)","v":0},{"$f":"F8*(1+$C$8)","v":0},0,0,0,0,0,0,0,0,0,0,{"$f":"Q8*(1+$C$8)","v":0},{"$f":"R8*(1+$C$8)","v":0},0,0,0,0,0,0,0,0,0,0,0,0,0,0,0,0,0,0,0,0,0,0,0,0]
[null,{"$f":"Operating!D39","v":"Subsidy Program Name (Specify)"},2.5000000000000001E-2,{"$f":"Operating!E39","v":0},{"$f":"D9*(1+$C$9)","v":0},{"$f":"E9*(1+$C$9)","v":0},{"$f":"F9*(1+$C$9)","v":0},0,0,0,0,0,0,0,0,0,0,{"$f":"Q9*(1+$C$9)","v":0},{"$f":"R9*(1+$C$9)","v":0},0,0,0,0,0,0,0,0,0,0,0,0,0,0,0,0,0,0,0,0,0,0,0,0]
[null,"Operating Subsidies",0.02,{"$f":"Operating!E40","v":0},{"$f":"D10*(1+$C$10)","v":0},{"$f":"E10*(1+$C$10)","v":0},0,0,0,0,0,0,0,0,0,0,0,{"$f":"Q10*(1+$C$10)","v":0},{"$f":"R10*(1+$C$10)","v":0},0,0,0,0,0,0,0,0,0,0,0,0,0,0,0,0,0,0,0,0,0,0,0,0]
[null,{"$f":"Operating!D41","v":"Other (specify)"},{"$f":"C8","v":2.5000000000000001E-2},0,0,0,0,0,0,0,0,0,0,0,0,0,0,0,0,0,0,0,0,0,0,0,0,0,0,0,0,0,0,0,0,0,0,0,0,0,0,0,0]
[null,"Gross Potential Income - Housing",null,{"$f":"SUM(D5:D11)","v":0},0,0,0,0,0,0,0,0,0,0,0,0,0,0,0,0,0,0,0,0,0,0,0,0,0,0,0,0,0,0,0,0,0,0,0,0,0,0,0]
[]
[null,"Other Income"]
[null,"Laundry & Vending",2.5000000000000001E-2,{"$f":"Operating!E42","v":0},{"$f":"D15*(1+$C$15)","v":0},0,0,0,0,0,0,0,0,0,0,0,0,{"$f":"Q15*(1+$C$15)","v":0},{"$f":"R15*(1+$C$15)","v":0},0,0,0,0,0,0,0,0,0,0,0,0,0,0,0,0,0,0,0,0,0,0,0,0]
[null,"Other Income    ",2.5000000000000001E-2,{"$f":"Operating!E43+Operating!E44","v":0},{"$f":"D16*(1+$C$16)","v":0},0,0,0,0,0,0,0,0,0,0,0,0,{"$f":"Q16*(1+$C$16)","v":0},{"$f":"R16*(1+$C$16)","v":0},0,0,0,0,0,0,0,0,0,0,0,0,0,0,0,0,0,0,0,0,0,0,0,0]
[null,"Commercial Income",2.5000000000000001E-2,{"$f":"Operating!F45","v":0},{"$f":"D17*(1+$C$17)","v":0},0,0,0,0,0,0,0,0,0,0,0,0,{"$f":"Q17*(1+$C$17)","v":0},{"$f":"R17*(1+$C$17)","v":0},0,0,0,0,0,0,0,0,0,0,0,0,0,0,0,0,0,0,0,0,0,0,0,0]
[null,"Gross Potential Income - Other",null,{"$f":"SUM(D15:D17)","v":0},0,0,0,0,0,0,0,0,0,0,0,0,0,0,0,0,0,0,0,0,0,0,0,0,0,0,0,0,0,0,0,0,0,0,0,0,0,0,0]
[]
[null,"Gross Potential Income - Total",null,{"$f":"D12+D18","v":0},0,0,0,0,0,0,0,0,0,0,0,0,0,0,0,0,0,0,0,0,0,0,0,0,0,0,0,0,0,0,0,0,0,0,0,0,0,0,0]
[null," "]
[null,"Vacancy Assumptions"]
[null,"Restricted Units",{"$f":"Operating!E47","v":0.05},{"$f":"$C23*D5","v":0},0,0,0,0,0,0,0,0,0,0,0,0,0,0,0,0,0,0,0,0,0,0,0,0,0,0,0,0,0,0,0,0,0,0,0,0,0,0,0]
[null,"Unrestricted Units",{"$f":"Operating!E48","v":0.05},{"$f":"$C24*D6","v":0},0,0,0,0,0,0,0,0,0,0,0,0,0,0,0,0,0,0,0,0,0,0,0,0,0,0,0,0,0,0,0,0,0,0,0,0,0,0,0]
[null,"Tenant Assistance Payments",{"$f":"Operating!E49","v":0.05},{"$f":"$C25*(D8+D9)","v":0},0,0,0,0,0,0,0,0,0,0,0,0,0,0,0,0,0,0,0,0,0,0,0,0,0,0,0,0,0,0,0,0,0,0,0,0,0,0,0]
[null,{"$f":"Operating!D41","v":"Other (specify)"},{"$f":"Operating!E50","v":0.05},{"$f":"$C26*D11","v":0},0,0,0,0,0,0,0,0,0,0,0,0,0,0,0,0,0,0,0,0,0,0,0,0,0,0,0,0,0,0,0,0,0,0,0,0,0,0,0]
[null,"Laundry/Vending/Other Income ",{"$f":"Operating!E51","v":0.05},{"$f":"$C27*(D15+D16)","v":0},{"$f":"$C27*(E15+E16)","v":0},0,0,0,0,0,0,0,0,0,0,0,0,0,0,0,0,0,0,0,0,0,0,0,0,0,0,0,0,0,0,0,0,0,0,0,0,0,0]
[null,"Commercial Income ",{"$f":"Operating!F52","v":0.5},{"$f":"$C28*D17","v":0},{"$f":"$C28*E17","v":0},0,0,0,0,0,0,0,0,0,0,0,0,0,0,0,0,0,0,0,0,0,0,0,0,0,0,0,0,0,0,0,0,0,0,0,0,0,0]
[null,"Total Vacancy Loss",null,{"$f":"SUM(D23:D28)","v":0},{"$f":"SUM(E23:E28)","v":0},0,0,0,0,0,0,0,0,0,0,0,0,0,0,0,0,0,0,0,0,0,0,0,0,0,0,0,0,0,0,0,0,0,0,0,0,0,0]
[]
[null,"Effective Gross Income",null,{"$f":"D20-D29","v":0},0,0,0,0,0,0,0,0,0,0,0,0,0,0,0,0,0,0,0,0,0,0,0,0,0,0,0,0,0,0,0,0,0,0,0,0,0,0,0]
[]
[null,"Operating Expenses & Reserve Deposits"]
[null,"Residential Exp. (w/o Real Estate Taxes & Sup. Services)",3.5000000000000003E-2,{"$f":"Operating!E111-Operating!E94-Operating!E110","v":0},{"$f":"(1+$C$34)*D34","v":0},0,0,0,0,0,0,0,0,0,0,0,0,{"$f":"(1+$C$34)*Q34","v":0},{"$f":"(1+$C$34)*R34","v":0},0,0,0,0,0,0,0,0,0,0,0,0,0,0,0,0,0,0,0,0,0,0,0,0]
[null,"Real Estate Taxes",0.02,{"$f":"Operating!E94","v":0},{"$f":"(1+$C$35)*D35","v":0},{"$f":"(1+$C$35)*E35","v":0},0,0,0,0,0,0,0,0,0,0,0,{"$f":"(1+$C$35)*Q35","v":0},{"$f":"(1+$C$35)*R35","v":0},0,0,0,0,0,0,0,0,0,0,0,0,0,0,0,0,0,0,0,0,0,0,0,0]
[null,"Supportive Services Costs",2.5000000000000001E-2,{"$f":"Operating!E110","v":0},{"$f":"(1+$C$36)*D36","v":0},{"$f":"(1+$C$36)*E36","v":0},{"$f":"(1+$C$36)*F36","v":0},0,0,0,0,0,0,0,0,0,0,0,0,0,0,0,0,0,0,0,0,0,0,0,0,0,0,0,0,0,0,0,0,0,0,0,0]
[null,"Replacement Reserve",0,{"$f":"Operating!E113+Operating!F113","v":0},{"$f":"(1+$C$37)*D37","v":0},0,0,0,0,0,0,0,0,0,0,0,0,{"$f":"(1+$C$37)*Q37","v":0},{"$f":"(1+$C$37)*R37","v":0},0,0,0,0,0,0,0,0,0,0,0,0,0,0,0,0,0,0,0,0,0,0,0,0]
[null,"Other Reserves",0,{"$f":"Operating!E114+Operating!E115+Operating!E116+Operating!F114+Operating!F115+Operating!F116","v":0},{"$f":"(1+$C$38)*D38","v":0},{"$f":"(1+$C$38)*E38","v":0},0,0,0,0,0,0,0,0,0,0,0,{"$f":"(1+$C$38)*Q38","v":0},{"$f":"(1+$C$38)*R38","v":0},0,0,0,0,0,0,0,0,0,0,0,0,0,0,0,0,0,0,0,0,0,0,0,0]
[null,"Ground Lease",0.02,{"$f":"Operating!E119+Operating!F119","v":0},{"$f":"(1+$C$39)*D39","v":0},{"$f":"(1+$C$39)*E39","v":0},0,0,0,0,0,0,0,0,0,0,0,{"$f":"(1+$C$39)*Q39","v":0},{"$f":"(1+$C$39)*R39","v":0},0,0,0,0,0,0,0,0,0,0,0,0,0,0,0,0,0,0,0,0,0,0,0,0]
[null,"Commercial Expenses",3.5000000000000003E-2,{"$f":"Operating!F111","v":0},{"$f":"(1+$C$40)*D40","v":0},0,0,0,0,0,0,0,0,0,0,0,0,{"$f":"(1+$C$40)*Q40","v":0},{"$f":"(1+$C$40)*R40","v":0},0,0,0,0,0,0,0,0,0,0,0,0,0,0,0,0,0,0,0,0,0,0,0,0]
[null,"Total Expenses & Reserves",null,{"$f":"SUM(D34:D40)","v":0},0,0,0,0,0,0,0,0,0,0,0,0,0,0,0,0,0,0,0,0,0,0,0,0,0,0,0,0,0,0,0,0,0,0,0,0,0,0,0]
[]
[null,"Net Operating Income",null,{"$f":"D31-D41","v":0},0,0,0,0,0,0,0,0,0,0,0,0,0,0,0,0,0,0,0,0,0,0,0,0,0,0,0,0,0,0,0,0,0,0,0,0,0,0,0]
[]
[null,"Debt Service"]
[null,"1st Mortgage Debt Service",null,{"$f":"Operating!E123+Operating!F123","v":0},{"$f":"$D$46","v":0},0,0,0,0,0,0,0,0,0,0,0,0,0,0,0,0,0,0,0,0,0,0,0,0,0,0,0,0,0,0,0,0,0,0,0,0,0,0]
[null,"Bridge Loan (repaid from Investor equity)",null,0,0,0,0,0,0,0,0,0,0,0,0,0,0,0,0,0,0,0,0,0,0,0,0,0,0,0,0,0,0,0,0,0,0,0,0,0,0,0,0]
[null,"2nd Mortgage Debt Service",null,{"$f":"Operating!E124+Operating!F124","v":0},{"$f":"$D$48","v":0},0,0,0,0,0,0,0,0,0,0,0,0,0,0,0,0,0,0,0,0,0,0,0,0,0,0,0,0,0,0,0,0,0,0,0,0,0,0]
[null,"3rd Mortgage Debt Service",null,{"$f":"Operating!E125+Operating!F125","v":0},{"$f":"$D$49","v":0},{"$f":"$D$49","v":0},0,0,0,0,0,0,0,0,0,0,0,0,0,0,0,0,0,0,0,0,0,0,0,0,0,0,0,0,0,0,0,0,0,0,0,0,0]
[null,"AHSC .42% Fee",null,{"$f":"Operating!E126+Operating!F126","v":0},{"$f":"$D$50","v":0},{"$f":"$D$50","v":0},0,0,0,0,0,0,0,0,0,0,0,0,0,0,0,0,0,0,0,0,0,0,0,0,0,0,0,0,0,0,0,0,0,0,0,0,0]
[null,{"$f":"Operating!$D$127","v":"Other HCD .42% (Specify)"},null,{"$f":"Operating!E127+Operating!F127","v":0},{"$f":"$D$51","v":0},{"$f":"$D$51","v":0},{"$f":"$D$51","v":0},0,0,0,0,0,0,0,0,0,0,0,0,0,0,0,0,0,0,0,0,0,0,0,0,0,0,0,0,0,0,0,0,0,0,0,0]
[null,{"$f":"Operating!$D$128","v":"Other HCD .42% (Specify)"},null,{"$f":"Operating!E128+Operating!F128","v":0},{"$f":"$D$52","v":0},{"$f":"$D$52","v":0},{"$f":"$D$52","v":0},0,0,0,0,0,0,0,0,0,0,0,0,0,0,0,0,0,0,0,0,0,0,0,0,0,0,0,0,0,0,0,0,0,0,0,0]
[null,{"$f":"Operating!$D$129","v":"Bond Issuer Fee"},null,{"$f":"Operating!E129+Operating!F129","v":0},{"$f":"$D$53","v":0},{"$f":"$D$53","v":0},0,0,0,0,0,0,0,0,0,0,0,0,0,0,0,0,0,0,0,0,0,0,0,0,0,0,0,0,0,0,0,0,0,0,0,0,0]
[null,{"$f":"Operating!$D$130","v":"Miscellaneous Financial Expenses (specify)"},null,{"$f":"Operating!E130+Operating!F130","v":0},{"$f":"$D$54","v":0},{"$f":"$D$54","v":0},0,0,0,0,0,0,0,0,0,0,0,0,0,0,0,0,0,0,0,0,0,0,0,0,0,0,0,0,0,0,0,0,0,0,0,0,0]
[null,{"$f":"Operating!$D$131","v":"Miscellaneous Financial Expenses (specify)"},null,{"$f":"Operating!E131+Operating!F131","v":0},{"$f":"$D$55","v":0},{"$f":"$D$55","v":0},0,0,0,0,0,0,0,0,0,0,0,0,0,0,0,0,0,0,0,0,0,0,0,0,0,0,0,0,0,0,0,0,0,0,0,0,0]
[null,{"$f":"Operating!$D$132","v":"Miscellaneous Financial Expenses (specify)"},null,{"$f":"Operating!E132+Operating!F132","v":0},{"$f":"$D$56","v":0},{"$f":"$D$56","v":0},0,0,0,0,0,0,0,0,0,0,0,0,0,0,0,0,0,0,0,0,0,0,0,0,0,0,0,0,0,0,0,0,0,0,0,0,0]
[null,"Total Required Debt Service",null,{"$f":"SUM(D46:D56)-D47","v":0},{"$f":"SUM(E46:E56)-E47","v":0},0,0,0,0,0,0,0,0,0,0,0,0,0,0,0,0,0,0,0,0,0,0,0,0,0,0,0,0,0,0,0,0,0,0,0,0,0,0]
[]
[null,"Cash Flow after all debt service",null,{"$f":"D43-D57","v":0},0,0,0,0,0,0,0,0,0,0,0,0,0,0,0,0,0,0,0,0,0,0,0,0,0,0,0,0,0,0,0,0,0,0,0,0,0,0,0]
[]
[null,"Debt Service Coverage Ratio (DSCR)",null,{"$f":"IF(D57<=0,0,((D43/D57)))","v":0},0,0,0,0,0,0,0,0,0,0,0,0,0,0,0,0,0,0,0,0,0,0,0,0,0,0,0,0,0,0,0,0,0,0,0,0,0,0,0]
[null,"Use of Cash Flow After Debt Service - HCD Projects"]
[null,"Asset Mgmt./ Similar Fees",null,{"$f":"IF(D59>=D72,D72,MAX(0,D59))","v":0},0,0,0,0,0,0,0,0,0,0,0,0,0,0,0,0,0,0,0,0,0,0,0,0,0,0,0,0,0,0,0,0,0,0,0,0,0,0,0]
[null,"Deferred Developer Fee prior to Distributions & residual receipt payments",null,{"$f":"IF(D59-D63<=$D$75,MAX(0,D59-D63),$D$75)","v":0},{"$f":"IF(D73+E59-E63<=$D$75,MAX(0,E59-E63),$D$75-D73)","v":0},0,0,0,0,0,0,0,0,0,0,0,0,0,0,0,0,0,0,0,0,0,0,0,0,0,0,0,0,0,0,0,0,0,0,0,0,0,0]
[null,"Cash Available for Residual Receipts Loans and Sponsor Distributions",null,{"$f":"MAX(0,D59-D63-D64)","v":0},0,0,0,0,0,0,0,0,0,0,0,0,0,0,0,0,0,0,0,0,0,0,0,0,0,0,0,0,0,0,0,0,0,0,0,0,0,0,0]
[null,"Sponsor Distributions",0.5,{"$f":"$C66*D65","v":0},{"$f":"+$C66*E65","v":0},0,0,0,0,0,0,0,0,0,0,0,0,0,0,0,0,0,0,0,0,0,0,0,0,0,0,0,0,0,0,0,0,0,0,0,0,0,0]
[null,"HCD Residual Payment",0.5,{"$f":"$C67*D65","v":0},{"$f":"+$C67*E65","v":0},0,0,0,0,0,0,0,0,0,0,0,0,0,0,0,0,0,0,0,0,0,0,0,0,0,0,0,0,0,0,0,0,0,0,0,0,0,0]
[null,"Other Residual Payments (Specify)",0,{"$f":"$C68*D65","v":0},{"$f":"+$C68*E65","v":0},0,0,0,0,0,0,0,0,0,0,0,0,0,0,0,0,0,0,0,0,0,0,0,0,0,0,0,0,0,0,0,0,0,0,0,0,0,0]
[null,"Other Residual Payments (Specify)",0,{"$f":"$C69*D65","v":0},{"$f":"+$C69*E65","v":0},0,0,0,0,0,0,0,0,0,0,0,0,0,0,0,0,0,0,0,0,0,0,0,0,0,0,0,0,0,0,0,0,0,0,0,0,0,0]
[null,"Other Residual Payments (Specify)",0,{"$f":"$C70*D65","v":0},{"$f":"+$C70*E65","v":0},0,0,0,0,0,0,0,0,0,0,0,0,0,0,0,0,0,0,0,0,0,0,0,0,0,0,0,0,0,0,0,0,0,0,0,0,0,0]
[null,"Other Residual Payments (Specify)",0,{"$f":"$C71*D65","v":0},{"$f":"+$C71*E65","v":0},0,0,0,0,0,0,0,0,0,0,0,0,0,0,0,0,0,0,0,0,0,0,0,0,0,0,0,0,0,0,0,0,0,0,0,0,0,0]
[null,"Max Asset Mgmt/Similar Fees ",3.5000000000000003E-2,{"$f":"Operating!E136","v":0},{"$f":"(1+$C$72)*D72","v":0},{"$f":"(1+$C$72)*E72","v":0},0,0,0,0,0,0,0,0,0,0,0,{"$f":"(1+$C$72)*Q72","v":0},0,0,0,0,0,0,0,0,0,0,0,0,0,0,0,0,0,0,0,0,0,0,0,0,0]
[null,"Cumulative paid Deferred Dev. Fee ",null,{"$f":"+D64","v":0},{"$f":"+D73+E64","v":0},0,0,0,0,0,0,0,0,0,0,0,0,0,0,0,0,0,0,0,0,0,0,0,0,0,0,0,0,0,0,0,0,0,0,0,0,0,0]
[]
[null,"Total Deferred Developer Fee budgeted for payment prior to distributions and residual receipt payments"]
[]
[]
[null,"End of Document"]

{"sheet":"High-Cost Verification","index":18,"n_rows":61,"n_cols":49,"rows_kept":61,"cut":false,"hidden":true,"merged":[[50,24,50,30],[52,2,52,37],[48,1,50,1],[48,2,49,30],[48,31,48,32],[48,33,48,37],[49,31,50,37],[50,2,50,4],[50,5,50,6],[50,7,50,11],[50,12,50,17],[50,18,50,23],[46,2,46,30],[46,31,46,32],[46,33,46,37],[47,2,47,30],[47,31,47,32],[47,33,47,37],[43,1,44,1],[43,2,44,30],[43,31,43,32],[43,33,43,37],[44,31,44,37],[45,2,45,30],[45,31,45,32],[45,33,45,37],[33,31,33,32],[34,2,35,30],[34,31,34,32],[35,31,35,32],[40,1,42,1],[40,2,41,30],[40,31,40,32],[40,33,40,37],[41,31,42,37],[42,2,42,9],[42,10,42,16],[42,17,42,26],[42,27,42,30],[28,2,29,30],[28,31,28,32],[29,31,29,32],[30,2,31,30],[30,31,30,32],[31,31,31,32],[22,2,23,30],[22,31,22,32],[22,33,39,37],[23,31,23,32],[24,2,25,30],[24,31,24,32],[25,31,25,32],[26,2,27,30],[26,31,26,32],[27,31,27,32],[36,2,37,30],[36,31,36,32],[37,31,37,32],[38,2,39,30],[38,31,38,32],[39,31,39,32],[32,2,33,30],[32,31,32,32],[20,2,20,30],[20,31,20,32],[20,33,20,37],[21,2,21,30],[21,31,21,32],[21,33,21,37],[18,2,18,30],[18,31,18,32],[18,33,18,37],[19,2,19,30],[19,31,19,32],[19,33,19,37],[16,1,17,1],[16,2,16,30],[16,31,16,32],[16,33,16,37],[17,2,17,30],[17,31,17,32],[17,33,17,37],[12,28,13,37],[13,1,13,7],[13,8,13,9],[13,10,13,13],[13,14,13,16],[15,1,15,13],[15,31,15,32],[15,33,15,37],[11,1,11,7],[11,8,11,12],[11,13,11,14],[11,15,11,18],[11,19,11,32],[11,33,11,37],[9,1,9,7],[9,8,9,12],[9,13,9,14],[9,15,9,18],[9,19,10,32],[9,33,10,37],[10,1,10,7],[10,8,10,12],[10,13,10,14],[10,15,10,18],[4,38,4,39],[6,1,6,7],[6,8,6,12],[6,13,6,14],[6,15,6,18],[6,19,6,32],[6,33,6,37],[8,1,8,7],[8,8,8,12],[8,13,8,14],[8,15,8,18],[8,19,8,32],[8,33,8,37],[7,1,7,7],[7,8,7,12],[7,13,7,14],[7,15,7,18],[7,19,7,32],[7,33,7,37],[1,1,1,37],[3,1,3,4],[3,5,3,19],[3,20,3,21],[3,22,3,27],[3,28,3,35],[3,36,3,37],[4,1,4,4],[4,5,4,8]]}
[]
[null,"2023 TCAC Threshold Basis Limit (TBL) for HCD Developer Fee UMR §8312(b)&(c) and HCD High Cost Test for HCD Limits on Development Costs 2017 UMR §8311(a) & (b) Complete all yellow shaded cells."]
[null,null,null,null,null,null,null,null,null,null,null,null,null,null,null,null,null,null,null,null,null,null,null,null,null,null,null,null,null,null,null,null,null,null,null,null,null,null,null,null,null,null,null,"1/9/2023 Table","SRO & STUDIO","1 BEDROOM","2 BEDROOMS","3 BEDROOMS","4+ BEDROOMS"]
[null,"Project Name:",null,null,null,{"$f":"IF(ProjectName>0,ProjectName,\"\")","v":""},null,null,null,null,null,null,null,null,null,null,null,null,null,null,"County: ",null,{"$f":"IF(County>0,County,IF(County2>0,County2,\"\"))","v":""},null,null,null,null,null,"Project's Proposed Tax Credits:",null,null,null,null,null,null,null,{"$f":"IF(Taxcredit>0,Taxcredit,\"\")","v":""},null,null,null,null,null,null,"Alameda",473390,545814,658400,842752,938878]
[null,"HCD Phase:",null,null,null,{"$f":"'Developer Fee'!$F$5","v":"Origination"},null,null,null,null,null,null,null,null,null,null,null,null,null,null,null,null,null,null,null,null,null,null,null,null,null,null,null,null,null,null,null,null,null,null,null,null,null,"Alpine",352022,405878,489600,626688,698170]
[null,null,null,null,null,null,null,null,null,null,null,null,null,null,null,null,null,null,null,null,null,null,null,null,null,null,null,null,null,null,null,null,null,null,null,null,null,null,null,null,null,null,null,"Amador",352022,405878,489600,626688,698170]
[null,"Unit Size",null,null,null,null,null,null,"2023 TCAC Threshold Basis Limits (TBL)",null,null,null,null,"# of Units",null,"Basis x\nNumber of Units",null,null,null,"TOTAL UNADJUSTED THRESHOLD BASIS LIMIT (TBL):",null,null,null,null,null,null,null,null,null,null,null,null,null,{"$f":"SUM(P8:S12)","v":0},null,null,null,null,null,null,2,7,null,"Butte",319236,368076,444000,568320,633144]
[null,"SRO/Studio",null,null,null,null,null,null,{"$f":"IFERROR(IF($W$4=\"\",\"\",IF($AK$4=\"9%\",VLOOKUP($W$4,$AR$3:$AW$61,$AP$7),VLOOKUP($W$4,$AR$3:$AW$61,$AO$7))),0)","v":""},null,null,null,null,{"$f":"SUMIF('Max Funds & Unit Mix'!$B$7:$B$26,0,'Max Funds & Unit Mix'!$E$7:$E$26)","v":0},null,{"$f":"IF(ISERROR(($I$8*$N$8)),0,($I$8*$N$8))","v":0},null,null,null,"TOTAL HCD ADJ. THRESHOLD BASIS LIMIT:",null,null,null,null,null,null,null,null,null,null,null,null,null,{"$f":"$AH$17+$AH$18+$AH$19+$AH$20+$AH$21+$AH$46+$AH$7+$AH$22+$AH$41+IF(AF44=\"Yes\",$AH$44,0)+$AH$49+$AH$47+$AH$48","v":0},null,null,null,null,null,null,{"$f":"$AO$7+1","v":3},{"$f":"$AP$7+1","v":8},null,"Calaveras",352022,405878,489600,626688,698170]
[null,"1 Bedroom",null,null,null,null,null,null,{"$f":"IFERROR(IF($W$4=\"\",\"\",IF($AK$4=\"9%\",VLOOKUP($W$4,$AR$3:$AW$61,$AP$8),VLOOKUP($W$4,$AR$3:$AW$61,$AO$8))),0)","v":""},null,null,null,null,{"$f":"SUMIF('Max Funds & Unit Mix'!$B$7:$B$26,1,'Max Funds & Unit Mix'!$E$7:$E$26)","v":0},null,{"$f":"IF(ISERROR(($I$9*$N$9)),0,($I$9*$N$9))","v":0},null,null,null,{"$f":"IF($F$5=\"Perm Close\",\"Adjusted Threshold Basis Limit multiplied by 170%:\",\"Adjusted Threshold Basis Limit multiplied by 160%:\")","v":"Adjusted Threshold Basis Limit multiplied by 160%:"},null,null,null,null,null,null,null,null,null,null,null,null,null,{"$f":"IF($F$5=\"Perm Close\",$AH$8*1.7,$AH$8*1.6)","v":0},null,null,null,null,null,null,{"$f":"$AO$8+1","v":4},{"$f":"$AP$8+1","v":9},null,"Colusa",352022,405878,489600,626688,698170]
[null,"2 Bedrooms",null,null,null,null,null,null,{"$f":"IFERROR(IF($W$4=\"\",\"\",IF($AK$4=\"9%\",VLOOKUP($W$4,$AR$3:$AW$61,$AP$9),VLOOKUP($W$4,$AR$3:$AW$61,$AO$9))),0)","v":""},null,null,null,null,{"$f":"SUMIF('Max Funds & Unit Mix'!$B$7:$B$26,2,'Max Funds & Unit Mix'!$E$7:$E$26)","v":0},null,{"$f":"IF(ISERROR(($I$10*$N$10)),0,($I$10*$N$10))","v":0},null,null,null,{"$f":"IF($F$4=\"\",CONCATENATE(\"HCD HIGH COST TEST RESULT: \",$F$4),CONCATENATE(\"HCD HIGH COST TEST RESULT FOR: \",$F$4))","v":"HCD HIGH COST TEST RESULT: "},null,null,null,null,null,null,null,null,null,null,null,null,null,{"$f":"IF($AH$8=0,0,$AH$12/$AH$8)","v":0},null,null,null,null,null,null,{"$f":"$AO$9+1","v":5},{"$f":"$AP$9+1","v":10},null,"Contra Costa",473390,545814,658400,842752,938878]
[null,"3 Bedrooms",null,null,null,null,null,null,{"$f":"IFERROR(IF($W$4=\"\",\"\",IF($AK$4=\"9%\",VLOOKUP($W$4,$AR$3:$AW$61,$AP$10),VLOOKUP($W$4,$AR$3:$AW$61,$AO$10))),0)","v":""},null,null,null,null,{"$f":"SUMIF('Max Funds & Unit Mix'!$B$7:$B$26,3,'Max Funds & Unit Mix'!$E$7:$E$26)","v":0},null,{"$f":"IF(ISERROR(($I$11*$N$11)),0,($I$11*$N$11))","v":0},null,null,null,null,null,null,null,null,null,null,null,null,null,null,null,null,null,null,null,null,null,null,null,null,{"$f":"$AO$10+1","v":6},{"$f":"$AP$10+1","v":11},null,"Del Norte",352022,405878,489600,626688,698170]
[null,"4+ Bedrooms",null,null,null,null,null,null,{"$f":"IFERROR(IF($W$4=\"\",\"\",IF($AK$4=\"9%\",VLOOKUP($W$4,$AR$3:$AW$61,$AP$11),VLOOKUP($W$4,$AR$3:$AW$61,$AO$11))),0)","v":""},null,null,null,null,{"$f":"SUMIF('Max Funds & Unit Mix'!$B$7:$B$26,4,'Max Funds & Unit Mix'!$E$7:$E$26)+SUMIF('Max Funds & Unit Mix'!$B$7:$B$26,5,'Max Funds & Unit Mix'!$E$7:$E$26)","v":0},null,{"$f":"IF(ISERROR(($I$12*$N$12)),0,($I$12*$N$12))","v":0},null,null,null,"Total Eligible Basis",null,null,null,null,null,null,null,null,null,null,null,null,null,{"$f":"SUM('AHD Dev Budget'!F119,'AHD Dev Budget'!G119)","v":0},null,null,null,null,null,null,null,null,null,"El Dorado",331890,382666,461600,590848,658242]
[null,null,null,null,null,null,null,null,null,null,null,null,null,null,null,null,null,null,null,null,null,null,null,null,null,null,null,null,{"$f":"IF($AH$12=0,\"\",IF($AH$12<=$AH$9,\"Costs Reasonable\",IF($F$5=\"Perm Close\",\"Costs too high > 170%\",\"Costs too high > 160%\")))","v":""},null,null,null,null,null,null,null,null,null,null,null,null,null,null,"Fresno",307732,354812,428000,547840,610328]
[null,"Manager Units in Project:",null,null,null,null,null,null,{"$f":"SUMIF('Max Funds & Unit Mix'!$D$7:$D$26,\"Manager\",'Max Funds & Unit Mix'!$E$7:$E$26)","v":0},null,"TOTAL UNITS:",null,null,null,{"$f":"SUM($N$8:$O$12)","v":0},null,null,null,null,null,null,null,null,null,null,null,null,null,null,null,null,null,null,null,null,null,null,null,null,null,null,null,null,"Glenn",352022,405878,489600,626688,698170]
[null,null,null,null,null,null,null,null,null,null,null,null,null,null,null,null,null,null,null,null,null,null,null,null,null,null,null,null,null,null,null,null,null,null,null,null,null,null,null,null,null,null,null,"Humboldt",352022,405878,489600,626688,698170]
[null,"ADJUSTMENTS Cal Code of Reg §10327(c)(5)(A-F)",null,null,null,null,null,null,null,null,null,null,null,null,null,null,null,null,null,null,null,null,null,null,null,null,null,null,null,null,null,null,null,null,null,null,null,null,null,null,null,null,null,"Imperial",314634,362770,437600,560128,624018]
[null,"(A)","Adjustment for Projects paid in whole or part out of public funds subject to a legal requirement for the payment of state or federal prevailing wages or financed in part by a labor-affiliated organization requiring the employment of construction workers who are paid at least state or federal prevailing wages (20%).",null,null,null,null,null,null,null,null,null,null,null,null,null,null,null,null,null,null,null,null,null,null,null,null,null,null,null,null,null,null,{"$f":"ROUND(IF($AF$17=\"yes\",$AH$7*0.2,0),0)","v":0},null,null,null,null,null,null,null,null,null,"Inyo",352022,405878,489600,626688,698170]
[null,null,"For Projects certifies that (1) they are subject to a Project labor agreement within the meaning of §2500(b)(1) of the Public Contract Code, or (2) they will use a skilled and trained workforce as defined by §25536.7 of the Health and Safety Code to perform all onsite work within an apprenticeable occupation in the building and construction trades (5%).",null,null,null,null,null,null,null,null,null,null,null,null,null,null,null,null,null,null,null,null,null,null,null,null,null,null,null,null,null,null,{"$f":"ROUND(IF($AF$18=\"yes\",$AH$7*0.05,0),0)","v":0},null,null,null,null,null,null,null,null,null,"Kern",307732,354812,428000,547840,610328]
[null,"(B)","For New construction Projects required to provide parking beneath residential units (not \"tuck under\" parking) or through construction of an on-site parking structure of two or more levels (10%).",null,null,null,null,null,null,null,null,null,null,null,null,null,null,null,null,null,null,null,null,null,null,null,null,null,null,null,null,null,null,{"$f":"ROUND(IF($AF$19=\"yes\",$AH$7*0.1,0),0)","v":0},null,null,null,null,null,null,null,null,null,"Kings",307732,354812,428000,547840,610328]
[null,"(C)","For Projects where a day care center is part of the development (2%).",null,null,null,null,null,null,null,null,null,null,null,null,null,null,null,null,null,null,null,null,null,null,null,null,null,null,null,null,null,null,{"$f":"ROUND(IF($AF$20=\"yes\",$AH$7*0.02,0),0)","v":0},null,null,null,null,null,null,null,null,null,"Lake",352022,405878,489600,626688,698170]
[null,"(D)","For Projects where 100 percent of the units are for Special Needs populations (2%).",null,null,null,null,null,null,null,null,null,null,null,null,null,null,null,null,null,null,null,null,null,null,null,null,null,null,null,null,null,null,{"$f":"ROUND(IF($AF$21=\"yes\",$AH$7*0.02,0),0)","v":0},null,null,null,null,null,null,null,null,null,"Lassen",352022,405878,489600,626688,698170]
[null,"(E)","Project applying under §10325 or §10326 of the TCAC regulations that includes one or more of the features below (up to 10%).",null,null,null,null,null,null,null,null,null,null,null,null,null,null,null,null,null,null,null,null,null,null,null,null,null,null,null,null,null,null,{"$f":"IF(SUM($AF$23:$AG$40)>0.005,MIN(0.1,SUM($AF$23:$AG$40))*$AH$7,0)","v":0},null,null,null,null,null,null,null,null,null,"Los Angeles",437727,504695,608800,779264,868149]
[null,null,"(1) Project shall have onsite renewable generation estimated to produce 50% or more of annual tenant electricity use. If the combined available roof area of the Project structures, including carports, is insufficient for provision of 50% of annual electricity use, then the Project shall have onsite renewable generation based on at least 90% of the available solar accessible roof area. Available solar accessible area is defined as roof area less north facing roof area for sloped roofs, equipment, solar thermal hot water and required local or state fire department set-backs and access routes. A Project not availing itself of the 90% roof area exception may also receive an increase under paragraph (2) only if the renewable generation used to calculate each basis increase does not overlap (5%).",null,null,null,null,null,null,null,null,null,null,null,null,null,null,null,null,null,null,null,null,null,null,null,null,null,null,null,null,null,null,null,null,null,null,null,null,null,null,null,null,"Madera",307732,354812,428000,547840,610328]
[null,null,null,null,null,null,null,null,null,null,null,null,null,null,null,null,null,null,null,null,null,null,null,null,null,null,null,null,null,null,null,{"$f":"IF($AF$23=\"Yes\",0.05,0)","v":0},null,null,null,null,null,null,null,null,null,null,null,"Marin",384234,443018,534400,684032,762054]
[null,null,"(2) Project shall have onsite renewable generation estimated to produce 75% or more of annual common area electricity use. If the combined available roof area of the Project structures, including carports, is insufficient for provision of 75% of annual electricity use, then the Project shall have onsite renewable generation based on at least 90% of the available solar accessible roof area. Available solar accessible area is defined as roof area less north facing roof area for sloped roofs, equipment, solar thermal hot water and required local or state fire department set-backs and access routes. A Project not availing itself of the 90% roof area exception may also receive an increase under paragraph (1) only if the renewable generation used to calculate each basis increase does not overlap (2%).",null,null,null,null,null,null,null,null,null,null,null,null,null,null,null,null,null,null,null,null,null,null,null,null,null,null,null,null,null,null,null,null,null,null,null,null,null,null,null,null,"Mariposa",352022,405878,489600,626688,698170]
[null,null,null,null,null,null,null,null,null,null,null,null,null,null,null,null,null,null,null,null,null,null,null,null,null,null,null,null,null,null,null,{"$f":"IF($AF$25=\"Yes\",0.02,0)","v":0},null,null,null,null,null,null,null,null,null,null,null,"Mendocino",352022,405878,489600,626688,698170]
[null,null,"(3) Newly constructed Project buildings shall be 15% or more energy efficient than the 2019 Energy Efficiency Standards (California Code of Regulations, Part 6 of Title 24) by at least 5 EDR points for energy efficiency alone (not counting solar); except that if the local building department has determined that building permit applications submitted on or before December 31, 2019 are complete, then newly constructed Project buildings shall be fifteen percent (15%) or more energy efficient than the 2016 Energy Efficiency Standards (California Code of Regulations, Part 6 of Title 24) (4%).",null,null,null,null,null,null,null,null,null,null,null,null,null,null,null,null,null,null,null,null,null,null,null,null,null,null,null,null,null,null,null,null,null,null,null,null,null,null,null,null,"Merced",307732,354812,428000,547840,610328]
[null,null,null,null,null,null,null,null,null,null,null,null,null,null,null,null,null,null,null,null,null,null,null,null,null,null,null,null,null,null,null,{"$f":"IF($AF$27=\"Yes\",0.04,0)","v":0},null,null,null,null,null,null,null,null,null,null,null,"Modoc",352022,405878,489600,626688,698170]
[null,null,"(4) Rehab Project buildings shall have 80% decrease in estimated annual energy use (or improvement in energy efficiency) in the HERS II post rehabilitation (4%).",null,null,null,null,null,null,null,null,null,null,null,null,null,null,null,null,null,null,null,null,null,null,null,null,null,null,null,null,null,null,null,null,null,null,null,null,null,null,null,null,"Mono",352022,405878,489600,626688,698170]
[null,null,null,null,null,null,null,null,null,null,null,null,null,null,null,null,null,null,null,null,null,null,null,null,null,null,null,null,null,null,null,{"$f":"IF($AF$29=\"Yes\",0.04,0)","v":0},null,null,null,null,null,null,null,null,null,null,null,"Monterey",387110,446334,538400,689152,767758]
[null,null,"(5) Irrigate only with reclaimed water, greywater, or rainwater (excepting water used for Community Gardens) or irrigate with reclaimed water, grey water, or rainwater in an amount that annually equals or exceeds 20,000 gallons or 300 gallons per unit, whichever is less (1%).",null,null,null,null,null,null,null,null,null,null,null,null,null,null,null,null,null,null,null,null,null,null,null,null,null,null,null,null,null,null,null,null,null,null,null,null,null,null,null,null,"Napa",384234,443018,534400,684032,762054]
[null,null,null,null,null,null,null,null,null,null,null,null,null,null,null,null,null,null,null,null,null,null,null,null,null,null,null,null,null,null,null,{"$f":"IF($AF$31=\"Yes\",0.01,0)","v":0},null,null,null,null,null,null,null,null,null,null,null,"Nevada",352022,405878,489600,626688,698170]
[null,null,"(6) Community Gardens of at least 60 square feet per unit. Permanent site improvements that provide a viable growing space within the Project including solar access, fencing, watering systems, secure storage space for tools, and pedestrian access (1%).",null,null,null,null,null,null,null,null,null,null,null,null,null,null,null,null,null,null,null,null,null,null,null,null,null,null,null,null,null,null,null,null,null,null,null,null,null,null,null,null,"Orange",396888,457608,552000,706560,787152]
[null,null,null,null,null,null,null,null,null,null,null,null,null,null,null,null,null,null,null,null,null,null,null,null,null,null,null,null,null,null,null,{"$f":"IF($AF$33=\"Yes\",0.01,0)","v":0},null,null,null,null,null,null,null,null,null,null,null,"Placer",331890,382666,461600,590848,658242]
[null,null,"(7) Install bamboo, stained concrete, cork, salvaged or FSC-Certified wood, natural linoleum, natural rubber, or ceramic tile in all kitchens, living rooms, and bathrooms (where no VOC adhesives or backing is also used) (1%).",null,null,null,null,null,null,null,null,null,null,null,null,null,null,null,null,null,null,null,null,null,null,null,null,null,null,null,null,null,null,null,null,null,null,null,null,null,null,null,null,"Plumas",352022,405878,489600,626688,698170]
[null,null,null,null,null,null,null,null,null,null,null,null,null,null,null,null,null,null,null,null,null,null,null,null,null,null,null,null,null,null,null,{"$f":"IF($AF$35=\"Yes\",0.01,0)","v":0},null,null,null,null,null,null,null,null,null,null,null,"Riverside",314634,362770,437600,560128,624018]
[null,null,"(8) Install bamboo, stained concrete, cork, salvaged or FSC-Certified wood, or natural linoleum, natural rubber, or ceramic tile in all interior floor space other than units (where no VOC adhesives or backing is also used) (2%).",null,null,null,null,null,null,null,null,null,null,null,null,null,null,null,null,null,null,null,null,null,null,null,null,null,null,null,null,null,null,null,null,null,null,null,null,null,null,null,null,"Sacramento",331890,382666,461600,590848,658242]
[null,null,null,null,null,null,null,null,null,null,null,null,null,null,null,null,null,null,null,null,null,null,null,null,null,null,null,null,null,null,null,{"$f":"IF($AF$37=\"Yes\",0.02,0)","v":0},null,null,null,null,null,null,null,null,null,null,null,"San Benito",352022,405878,489600,626688,698170]
[null,null,"(9) For new construction Projects only, meet all requirements of the U.S. Environmental Protection Agency Indoor Air Plus Program (2%).",null,null,null,null,null,null,null,null,null,null,null,null,null,null,null,null,null,null,null,null,null,null,null,null,null,null,null,null,null,null,null,null,null,null,null,null,null,null,null,null,"San Bernardino",314634,362770,437600,560128,624018]
[null,null,null,null,null,null,null,null,null,null,null,null,null,null,null,null,null,null,null,null,null,null,null,null,null,null,null,null,null,null,null,{"$f":"IF($AF$39=\"Yes\",0.02,0)","v":0},null,null,null,null,null,null,null,null,null,null,null,"San Diego",353173,407205,491200,628736,700451]
[null,"(F)","Project requires seismic upgrading of existing structures, and/or requires toxic or other environmental mitigation as certified by the Project architect/ engineer (lesser of costs or 15% basis adjustment).",null,null,null,null,null,null,null,null,null,null,null,null,null,null,null,null,null,null,null,null,null,null,null,null,null,null,null,null,null,null,{"$f":"IF($AF$41=\"Yes\",MIN($AB$43,$AH$7*0.15),0)","v":0},null,null,null,null,null,null,null,null,null,"San Francisco",689665,795177,959200,1227776,1367819]
[null,null,null,null,null,null,null,null,null,null,null,null,null,null,null,null,null,null,null,null,null,null,null,null,null,null,null,null,null,null,null,null,null,null,null,null,null,null,null,null,null,null,null,"San Joaquin",307732,354812,428000,547840,610328]
[null,null,"If Yes, select type of work:",null,null,null,null,null,null,null,null,null,null,null,null,null,null,"Enter Certified Costs of Work:",null,null,null,null,null,null,null,null,null,null,null,null,null,null,null,null,null,null,null,null,null,null,null,null,null,"San Luis Obispo",387110,446334,538400,689152,767758]
[null,"(G)","Local development impact fees required to be paid to local government entities. Certification from local entities assessing fees also required.  WAIVED IMPACT FEES ARE INELIGIBLE.",null,null,null,null,null,null,null,null,null,null,null,null,null,null,null,null,null,null,null,null,null,null,null,null,null,null,null,null,null,null,null,null,null,null,null,null,null,null,null,null,"San Mateo",532060,613460,740000,947200,1055240]
[null,null,null,null,null,null,null,null,null,null,null,null,null,null,null,null,null,null,null,null,null,null,null,null,null,null,null,null,null,null,null,{"$f":"IF($AF$44=\"yes\",\"Please Enter Amount Above:\",0)","v":0},null,null,null,null,null,null,null,null,null,null,null,"Santa Barbara",387110,446334,538400,689152,767758]
[null,"(H)","Projects where at least 95% of the Project's upper floor units are serviced by an elevator (10%).",null,null,null,null,null,null,null,null,null,null,null,null,null,null,null,null,null,null,null,null,null,null,null,null,null,null,null,null,null,null,{"$f":"ROUND(IF($AF$46=\"yes\",($AH$7*0.1),0),0)","v":0},null,null,null,null,null,null,null,null,null,"Santa Clara",532060,613460,740000,947200,1055240]
[null,"(I)","Projects wherein at least 95% of the building(s) is constructed as Type I as defined in the California Building Code, in which case, the Type III 10% increase below is not allowed (15%).",null,null,null,null,null,null,null,null,null,null,null,null,null,null,null,null,null,null,null,null,null,null,null,null,null,null,null,null,null,null,{"$f":"ROUND(IF(AF47=\"Yes\",(AH7*0.15),0),0)","v":0},null,null,null,null,null,null,null,null,null,"Santa Cruz",387110,446334,538400,689152,767758]
[null,"(J)","Projects wherein at least 95% of the building(s) is constructed as (1) a Type III as defined in the California Building Code, or (2) a Type III/Type I combination, in which case, the Type I 15% increase above is not be allowed (10%).",null,null,null,null,null,null,null,null,null,null,null,null,null,null,null,null,null,null,null,null,null,null,null,null,null,null,null,null,null,null,{"$f":"ROUND(IF(AND(AF47=\"Yes\",AF48=\"Yes\"),0,IF(AF48=\"Yes\",(AH7*0.1),0)),0)","v":0},null,null,null,null,null,null,null,null,null,"Shasta",319236,368076,444000,568320,633144]
[null,"\n(K)","Projects within a county with an unadjusted 9% threshold basis limit for a 2-bedroom unit equal or less than $500,000 and within a census tract designated on the TCAC/HCD Opportunity Map as Highest or High Resource (10%).",null,null,null,null,null,null,null,null,null,null,null,null,null,null,null,null,null,null,null,null,null,null,null,null,null,null,null,null,{"$f":"IF(AND($F$51=\"Yes\",OR($Y$51=\"Highest Resource\",$Y$51=\"High Resource\")),\"Yes\",\"No\")","v":"No"},null,{"$f":"ROUND(IF(AND($F$51=\"Yes\",OR($Y$51=\"High Resource\",$Y$51=\"Highest Resource\"),$AF$49=\"Yes\"),$AH$7*0.1,0),0)","v":0},null,null,null,null,null,null,null,null,null,"Sierra",352022,405878,489600,626688,698170]
[null,null,null,null,null,null,null,null,null,null,null,null,null,null,null,null,null,null,null,null,null,null,null,null,null,null,null,null,null,null,null,null,null,null,null,null,null,null,null,null,null,null,null,"Siskiyou",352022,405878,489600,626688,698170]
[null,null,"County Eligibility:",null,null,{"$f":"IFERROR(IF(VLOOKUP($W$4,$AR$3:$AW$61,$AO$9,FALSE)<=500000,\"Yes\",\"No\"),\"\")","v":""},null,"TCAC/HCD Opportunity Area Map Tract ID #:",null,null,null,null,null,null,null,null,null,null,"Opportunity Map Resource Level:",null,null,null,null,null,null,null,null,null,null,null,null,null,null,null,null,null,null,null,null,null,null,null,null,"Solano",384234,443018,534400,684032,762054]
[null,null,null,null,null,null,null,null,null,null,null,null,null,null,null,null,null,null,null,null,null,null,null,null,null,null,null,null,null,null,null,null,null,null,null,null,null,null,null,null,null,null,null,"Sonoma",384234,443018,534400,684032,762054]
[null,null,"End of Document",null,null,null,null,null,null,null,null,null,null,null,null,null,null,null,null,null,null,null,null,null,null,null,null,null,null,null,null,null,null,null,null,null,null,null,null,null,null,null,null,"Stanislaus",307732,354812,428000,547840,610328]
[null,null,null,null,null,null,null,null,null,null,null,null,null,null,null,null,null,null,null,null,null,null,null,null,null,null,null,null,null,null,null,null,null,null,null,null,null,null,null,null,null,null,null,"Sutter",331890,382666,461600,590848,658242]
[null,null,null,null,null,null,null,null,null,null,null,null,null,null,null,null,null,null,null,null,null,null,null,null,null,null,null,null,null,null,null,null,null,null,null,null,null,null,null,null,null,null,null,"Tehama",352022,405878,489600,626688,698170]
[null,null,null,null,null,null,null,null,null,null,null,null,null,null,null,null,null,null,null,null,null,null,null,null,null,null,null,null,null,null,null,null,null,null,null,null,null,null,null,null,null,null,null,"Trinity",352022,405878,489600,626688,698170]
[null,null,null,null,null,null,null,null,null,null,null,null,null,null,null,null,null,null,null,null,null,null,null,null,null,null,null,null,null,null,null,null,null,null,null,null,null,null,null,null,null,null,null,"Tulare",307732,354812,428000,547840,610328]
[null,null,null,null,null,null,null,null,null,null,null,null,null,null,null,null,null,null,null,null,null,null,null,null,null,null,null,null,null,null,null,null,null,null,null,null,null,null,null,null,null,null,null,"Tuolumne",352022,405878,489600,626688,698170]
[null,null,null,null,null,null,null,null,null,null,null,null,null,null,null,null,null,null,null,null,null,null,null,null,null,null,null,null,null,null,null,null,null,null,null,null,null,null,null,null,null,null,null,"Ventura",387110,446334,538400,689152,767758]
[null,null,null,null,null,null,null,null,null,null,null,null,null,null,null,null,null,null,null,null,null,null,null,null,null,null,null,null,null,null,null,null,null,null,null,null,null,null,null,null,null,null,null,"Yolo",331890,382666,461600,590848,658242]
[null,null,null,null,null,null,null,null,null,null,null,null,null,null,null,null,null,null,null,null,null,null,null,null,null,null,null,null,null,null,null,null,null,null,null,null,null,null,null,null,null,null,null,"Yuba",331890,382666,461600,590848,658242]

{"sheet":"AHSC Loan Limits","index":19,"n_rows":581,"n_cols":34,"rows_kept":581,"cut":false,"hidden":true,"merged":[[0,24,0,33],[0,13,0,22]]}
["County","AMI","Efficiency","1 BR","2 BR","3 BR","4+ BR","Efficiency","1 BR","2 BR","3 BR","4+ BR",null,"Round amounts at right to get whole numbers",null,null,null,null,null,null,null,null,null,null,"Raw income limits (not rounded)"]
["ALAMEDA60%","60%",95000,95000,95000,95000,95000,175000,175000,175000,175000,175000,null,{"$f":"ROUND(Y2,0)","v":95000},{"$f":"ROUND(Z2,0)","v":95000},{"$f":"ROUND(AA2,0)","v":95000},{"$f":"ROUND(AB2,0)","v":95000},{"$f":"ROUND(AC2,0)","v":95000},{"$f":"ROUND(AD2,0)","v":175000},{"$f":"ROUND(AE2,0)","v":175000},{"$f":"ROUND(AF2,0)","v":175000},{"$f":"ROUND(AG2,0)","v":175000},{"$f":"ROUND(AH2,0)","v":175000},null,95000,95000,95000,95000,95000,175000,175000,175000,175000,175000]
["ALAMEDA55%","55%",111565,112574,116175,119488,122369,191565,192574,196175,199488,202369,null,{"$f":"ROUND(Y3,0)","v":111565},112574,116175,119488,122369,191565,192574,196175,199488,202369,null,111565.43988396585,112573.77100733768,116174.95359080852,119488.04156760169,122368.98763437835,191565.43988396585,192573.77100733767,196174.95359080852,199488.04156760167,202368.98763437837]
["ALAMEDA50%","50%",127987,130292,137350,143976,149594,207987,210292,217350,223976,229594,null,127987,130292,137350,143976,149594,207987,210292,217350,223976,229594,null,127986.83246459285,130291.58931801419,137349.90718161705,143976.08313520337,149593.92796541788,207986.83246459285,210291.58931801419,217349.90718161705,223976.08313520337,229593.92796541788]
["ALAMEDA45%","45%",144408,147865,158525,168320,176819,224408,227865,238525,248320,256819,null,144408,147865,158525,168320,176819,224408,227865,238525,248320,256819,null,144408.22504521988,147865.36032535185,158524.86077242554,168320.07739946622,176818.8682964574,224408.22504521988,227865.36032535185,238524.86077242554,248320.07739946622,256818.8682964574]
["ALAMEDA40%","40%",160830,165439,179556,192808,204044,240830,245439,259556,272808,284044,null,160830,165439,179556,192808,204044,240830,245439,259556,272808,284044,null,160829.61762584688,165439.13133268955,179555.76705989521,192808.11896706792,204043.80862749694,240829.61762584688,245439.13133268955,259555.76705989521,272808.11896706792,284043.80862749694]
["ALAMEDA35%","35%",177395,183157,200731,217296,231413,257395,263157,280731,297296,311413,null,177395,183157,200731,217296,231413,257395,263157,280731,297296,311413,null,177395.05750981273,183156.94964336607,200730.7206507037,217296.16053466959,231412.79626187525,257395.05750981273,263156.94964336604,280730.7206507037,297296.16053466959,311412.79626187525]
["ALAMEDA30%","30%",193816,200731,221906,241640,258638,273816,280731,301906,321640,338638,null,193816,200731,221906,241640,258638,273816,280731,301906,321640,338638,null,193816.45009043973,200730.7206507037,221905.67424151226,241640.15479893243,258637.73659291479,273816.45009043976,280730.7206507037,301905.67424151226,321640.15479893243,338637.73659291479]
["ALAMEDA25%","25%",210238,218449,243081,266128,285863,290238,298449,323081,346128,365863,null,210238,218449,243081,266128,285863,290238,298449,323081,346128,365863,null,210237.84267106676,218448.53896138025,243080.62783232075,266128.1963665341,285862.67692395428,290237.84267106676,298448.53896138025,323080.62783232075,346128.1963665341,365862.67692395428]
["ALAMEDA20%","20%",226659,236022,264256,290616,313088,306659,316022,344256,370616,393088,null,226659,236022,264256,290616,313088,306659,316022,344256,370616,393088,null,226659.23525169378,236022.30996871795,264255.5814231293,290616.23793413583,313087.61725499388,306659.23525169375,316022.30996871798,344255.5814231293,370616.23793413583,393087.61725499388]
["ALAMEDA15%","15%",243225,253596,285431,314960,340457,323225,333596,365431,394960,420457,null,243225,253596,285431,314960,340457,323225,333596,365431,394960,420457,null,243224.67513565958,253596.08097605564,285430.53501393774,314960.23219839868,340456.60488937219,323224.67513565958,333596.08097605564,365430.53501393774,394960.23219839868,420456.60488937219]
["ALPINE60%","60%",95000,95000,95000,95000,95000,175000,175000,175000,175000,175000,null,95000,95000,95000,95000,95000,175000,175000,175000,175000,175000,null,95000,95000,95000,95000,95000,175000,175000,175000,175000,175000]
["ALPINE55%","55%",105515,106236,108540,110557,112430,185515,186236,188540,190557,192430,null,105515,106236,108540,110557,112430,185515,186236,188540,190557,192430,null,105515.45314373483,106235.68966042901,108540.44651385034,110557.10876059401,112429.72370399884,185515.45314373483,186235.68966042902,188540.44651385036,190557.10876059401,192429.72370399884]
["ALPINE50%","50%",116031,117471,121937,126258,129859,196031,197471,201937,206258,209859,null,116031,117471,121937,126258,129859,196031,197471,201937,206258,209859,null,116030.90628746968,117471.37932085802,121936.84572436186,126258.26482452685,129859.44740799769,196030.90628746967,197471.37932085802,201936.84572436186,206258.26482452685,209859.44740799768]
["ALPINE45%","45%",126546,128707,135477,141815,147289,206546,208707,215477,221815,227289,null,126546,128707,135477,141815,147289,206546,208707,215477,221815,227289,null,126546.35943120452,128707.06898128703,135477.29223821219,141815.37358512089,147289.17111199655,206546.35943120453,208707.06898128701,215477.29223821219,221815.37358512089,227289.17111199655]
["ALPINE40%","40%",136918,139943,148874,157372,164575,216918,219943,228874,237372,244575,null,136918,139943,148874,157372,164575,216918,219943,228874,237372,244575,null,136917.76527160054,139942.75864171603,148873.69144872372,157372.48234571487,164574.84751265653,216917.76527160054,219942.75864171603,228873.69144872372,237372.48234571487,244574.84751265653]
["ALPINE35%","35%",147433,151178,162414,172930,182005,227433,231178,242414,252930,262005,null,147433,151178,162414,172930,182005,227433,231178,242414,252930,262005,null,147433.21841533537,151178.44830214506,162414.13796257405,172929.59110630889,182004.57121665537,227433.21841533537,231178.44830214506,242414.13796257405,252929.59110630889,262004.57121665537]
["ALPINE30%","30%",157949,162414,175955,188487,199434,237949,242414,255955,268487,279434,null,157949,162414,175955,188487,199434,237949,242414,255955,268487,279434,null,157948.67155907021,162414.13796257405,175954.58447642438,188486.6998669029,199434.29492065424,237948.67155907021,242414.13796257405,255954.58447642438,268486.6998669029,279434.29492065427]
["ALPINE25%","25%",168464,173650,189351,204188,216864,248464,253650,269351,284188,296864,null,168464,173650,189351,204188,216864,248464,253650,269351,284188,296864,null,168464.12470280507,173649.82762300305,189350.98368693591,204187.85593083577,216864.01862465311,248464.12470280507,253649.82762300305,269350.98368693591,284187.85593083577,296864.01862465311]
["ALPINE20%","20%",178980,184886,202891,219745,234150,258980,264886,282891,299745,314150,null,178980,184886,202891,219745,234150,258980,264886,282891,299745,314150,null,178979.57784653991,184885.51728343207,202891.43020078624,219744.96469142975,234149.69502531309,258979.57784653991,264885.51728343207,282891.43020078621,299744.96469142975,314149.69502531306]
["ALPINE15%","15%",189495,196121,216432,235302,251579,269495,276121,296432,315302,331579,null,189495,196121,216432,235302,251579,269495,276121,296432,315302,331579,null,189495.03099027471,196121.20694386109,216431.87671463657,235302.07345202376,251579.41872931193,269495.03099027474,276121.20694386109,296431.87671463657,315302.07345202379,331579.4187293119]
["AMADOR60%","60%",95000,95000,95000,95000,95000,175000,175000,175000,175000,175000,null,95000,95000,95000,95000,95000,175000,175000,175000,175000,175000,null,95000,95000,95000,95000,95000,175000,175000,175000,175000,175000]
["AMADOR55%","55%",104939,105660,107820,109693,111421,184939,185660,187820,189693,191421,null,104939,105660,107820,109693,111421,184939,185660,187820,189693,191421,null,104939.2639303795,105659.50044707367,107820.20999715617,109692.82494056101,111421.39258062701,184939.2639303795,185659.50044707366,187820.20999715617,189692.82494056103,191421.392580627]
["AMADOR50%","50%",114879,116175,120496,124386,127843,194879,196175,200496,204386,207843,null,114879,116175,120496,124386,127843,194879,196175,200496,204386,207843,null,114878.52786075902,116174.95359080852,120496.37269097351,124385.64988112202,127842.78516125403,194878.527860759,196174.95359080852,200496.37269097351,204385.64988112202,207842.78516125403]
["AMADOR45%","45%",124818,126834,133317,139223,144264,204818,206834,213317,219223,224264,null,124818,126834,133317,139223,144264,204818,206834,213317,219223,224264,null,124817.79179113852,126834.45403788218,133316.58268812968,139222.52212502185,144264.17774188105,204817.79179113853,206834.45403788218,213316.58268812968,219222.52212502185,224264.17774188105]
["AMADOR40%","40%",134613,137494,145993,153915,160686,214613,217494,225993,233915,240686,null,134613,137494,145993,153915,160686,214613,217494,225993,233915,240686,null,134613.0084181792,137493.95448495587,145992.74538194702,153915.34706558287,160685.57032250805,214613.0084181792,217493.95448495587,225992.74538194702,233915.34706558287,240685.57032250805]
["AMADOR35%","35%",144552,148153,158813,168608,177251,224552,228153,238813,248608,257251,null,144552,148153,158813,168608,177251,224552,228153,238813,248608,257251,null,144552.2723485587,148153.45493202953,158812.95537910319,168608.1720061439,177251.01020647387,224552.2723485587,228153.45493202953,238812.95537910319,248608.1720061439,257251.01020647387]
["AMADOR30%","30%",154492,158813,171633,183445,193672,234492,238813,251633,263445,273672,null,154492,158813,171633,183445,193672,234492,238813,251633,263445,273672,null,154491.53627893821,158812.95537910319,171633.16537625939,183445.04425004369,193672.4027871009,234491.53627893821,238812.95537910319,251633.16537625939,263445.04425004369,273672.40278710087]
["AMADOR25%","25%",164431,169328,184309,198138,210094,244431,249328,264309,278138,290094,null,164431,169328,184309,198138,210094,244431,249328,264309,278138,290094,null,164430.80020931771,169328.40852283806,184309.32807007674,198137.86919060472,210093.79536772793,244430.80020931771,249328.40852283806,264309.32807007676,278137.86919060472,290093.79536772793]
["AMADOR20%","20%",174370,179988,197130,212831,226515,254370,259988,277130,292831,306515,null,174370,179988,197130,212831,226515,254370,259988,277130,292831,306515,null,174370.06413969721,179987.90896991175,197129.53806723293,212830.69413116574,226515.18794835493,254370.06413969721,259987.90896991175,277129.53806723293,292830.69413116574,306515.18794835493]
["AMADOR15%","15%",184309,190647,209950,227668,242937,264309,270647,289950,307668,322937,null,184309,190647,209950,227668,242937,264309,270647,289950,307668,322937,null,184309.32807007674,190647.40941698541,209949.74806438904,227667.56637506559,242936.58052898195,264309.32807007676,270647.40941698541,289949.74806438904,307667.56637506559,322936.58052898198]
["BUTTE60%","60%",95000,95000,95000,95000,95000,175000,175000,175000,175000,175000,null,95000,95000,95000,95000,95000,175000,175000,175000,175000,175000,null,95000,95000,95000,95000,95000,175000,175000,175000,175000,175000]
["BUTTE55%","55%",103931,104507,106524,108252,109837,183931,184507,186524,188252,189837,null,103931,104507,106524,108252,109837,183931,184507,186524,188252,189837,null,103930.93280700767,104507.12202036301,106523.78426710668,108252.35190717268,109836.87224389984,183930.93280700769,184507.12202036299,186523.78426710668,188252.35190717268,189836.87224389985]
["BUTTE50%","50%",112862,114014,117904,121505,124530,192862,194014,197904,201505,204530,null,112862,114014,117904,121505,124530,192862,194014,197904,201505,204530,null,112861.86561401535,114014.24404072601,117903.52123087451,121504.70381434535,124529.69718446086,192861.86561401535,194014.24404072601,197903.52123087452,201504.70381434535,204529.69718446085]
["BUTTE45%","45%",121793,123665,129427,134757,139367,201793,203665,209427,214757,219367,null,121793,123665,129427,134757,139367,201793,203665,209427,214757,219367,null,121792.79842102302,123665.41336442786,129427.30549798119,134757.05572151803,139366.5694283607,201792.79842102301,203665.41336442786,209427.3054979812,214757.05572151803,219366.5694283607]
["BUTTE40%","40%",130580,133173,140807,148009,154059,210580,213173,220807,228009,234059,null,130580,133173,140807,148009,154059,210580,213173,220807,228009,234059,null,130579.68392469187,133172.53538479086,140807.04246174902,148009.40762869071,154059.39436892173,210579.68392469187,213172.53538479086,220807.04246174902,228009.40762869071,234059.39436892173]
["BUTTE35%","35%",139511,142680,152331,161262,168896,219511,222680,232331,241262,248896,null,139511,142680,152331,161262,168896,219511,222680,232331,241262,248896,null,139510.61673169953,142679.65740515388,152330.82672885573,161261.75953586338,168896.26661282155,219510.61673169953,222679.65740515388,232330.82672885573,241261.75953586338,248896.26661282155]
["BUTTE30%","30%",148442,152331,163855,174514,183733,228442,232331,243855,254514,263733,null,148442,152331,163855,174514,183733,228442,232331,243855,254514,263733,null,148441.54953870719,152330.82672885573,163854.61099596237,174514.11144303606,183733.1388567214,228441.54953870719,232330.82672885573,243854.61099596237,254514.11144303606,263733.1388567214]
["BUTTE25%","25%",157372,161838,175234,187766,198426,237372,241838,255234,267766,278426,null,157372,161838,175234,187766,198426,237372,241838,255234,267766,278426,null,157372.48234571487,161837.94874921872,175234.34795973022,187766.46335020871,198425.96379728243,237372.48234571487,241837.94874921872,255234.34795973022,267766.46335020871,278425.96379728243]
["BUTTE20%","20%",166303,171345,186758,201019,213263,246303,251345,266758,281019,293263,null,166303,171345,186758,201019,213263,246303,251345,266758,281019,293263,null,166303.41515272256,171345.07076958171,186758.13222683693,201018.81525738141,213262.83604118225,246303.41515272256,251345.07076958171,266758.13222683693,281018.81525738141,293262.83604118228]
["BUTTE15%","15%",175234,180996,198282,214271,228100,255234,260996,278282,294271,308100,null,175234,180996,198282,214271,228100,255234,260996,278282,294271,308100,null,175234.34795973022,180996.24009328356,198281.91649394354,214271.16716455406,228099.7082850821,255234.34795973022,260996.24009328356,278281.91649394354,294271.16716455406,308099.70828508213]
["CALAVERAS60%","60%",95000,95000,95000,95000,95000,175000,175000,175000,175000,175000,null,95000,95000,95000,95000,95000,175000,175000,175000,175000,175000,null,95000,95000,95000,95000,95000,175000,175000,175000,175000,175000]
["CALAVERAS55%","55%",105083,105948,108108,109981,111854,185083,185948,188108,189981,191854,null,105083,105948,108108,109981,111854,185083,185948,188108,189981,191854,null,105083.31123371834,105947.59505375134,108108.30460383385,109980.91954723868,111853.53449064351,185083.31123371836,185947.59505375134,188108.30460383385,189980.91954723868,191853.53449064351]
["CALAVERAS50%","50%",115311,116751,121073,125106,128563,195311,196751,201073,205106,208563,null,115311,116751,121073,125106,128563,195311,196751,201073,205106,208563,null,115310.66977077551,116751.14280416384,121072.56190432885,125105.88639781618,128563.02167794819,195310.66977077551,196751.14280416386,201072.56190432885,205105.88639781618,208563.02167794819]
["CALAVERAS45%","45%",125394,127699,134181,140087,145417,205394,207699,214181,220087,225417,null,125394,127699,134181,140087,145417,205394,207699,214181,220087,225417,null,125393.98100449385,127698.73785791518,134180.8665081627,140086.80594505486,145416.55616859172,205393.98100449386,207698.7378579152,214180.8665081627,220086.80594505486,225416.55616859172]
["CALAVERAS40%","40%",135477,138502,147145,155212,162126,215477,218502,227145,235212,242126,null,135477,138502,147145,155212,162126,215477,218502,227145,235212,242126,null,135477.29223821219,138502.28560832769,147145.12380865769,155211.77279563237,162126.04335589637,215477.29223821219,218502.28560832769,227145.12380865769,235211.77279563237,242126.04335589637]
["CALAVERAS35%","35%",145705,149306,160253,170337,178980,225705,229306,240253,250337,258980,null,145705,149306,160253,170337,178980,225705,229306,240253,250337,258980,null,145704.65077526937,149305.8333587402,160253.42841249154,170336.73964620987,178979.57784653991,225704.65077526937,229305.8333587402,240253.42841249154,250336.73964620987,258979.57784653991]
["CALAVERAS30%","30%",155788,160253,173218,185318,195833,235788,240253,253218,265318,275833,null,155788,160253,173218,185318,195833,235788,240253,253218,265318,275833,null,155787.9620089877,160253.42841249154,173217.68571298657,185317.65919344855,195833.11233718344,235787.9620089877,240253.42841249154,253217.68571298657,265317.65919344855,275833.11233718344]
["CALAVERAS25%","25%",166015,171057,186326,200443,212543,246015,251057,266326,280443,292543,null,166015,171057,186326,200443,212543,246015,251057,266326,280443,292543,null,166015.32054604488,171056.97616290406,186325.99031682039,200442.62604402608,212542.59952448809,246015.32054604488,251056.97616290406,266325.99031682039,280442.62604402611,292542.59952448809]
["CALAVERAS20%","20%",176099,182005,199290,215424,229396,256099,262005,279290,295424,309396,null,176099,182005,199290,215424,229396,256099,262005,279290,295424,309396,null,176098.63177976321,182004.57121665537,199290.24761731538,215423.54559126473,229396.1340151316,256098.63177976321,262004.57121665537,279290.24761731538,295423.54559126473,309396.13401513163]
["CALAVERAS15%","15%",186182,192808,212399,230549,246250,266182,272808,292399,310549,326250,null,186182,192808,212399,230549,246250,266182,272808,292399,310549,326250,null,186181.94301348156,192808.11896706792,212398.55222114924,230548.51244184226,246249.6685057751,266181.94301348156,272808.11896706792,292398.55222114921,310548.51244184223,326249.6685057751]
["COLUSA60%","60%",95000,95000,95000,95000,95000,175000,175000,175000,175000,175000,null,95000,95000,95000,95000,95000,175000,175000,175000,175000,175000,null,95000,95000,95000,95000,95000,175000,175000,175000,175000,175000]
["COLUSA55%","55%",103931,104507,106380,108108,109549,183931,184507,186380,188108,189549,null,103931,104507,106380,108108,109549,183931,184507,186380,188108,189549,null,103930.93280700767,104507.12202036301,106379.73696376785,108108.30460383385,109548.77763722217,183930.93280700769,184507.12202036299,186379.73696376785,188108.30460383385,189548.77763722217]
["COLUSA50%","50%",112718,113870,117759,121217,124242,192718,193870,197759,201217,204242,null,112718,113870,117759,121217,124242,192718,193870,197759,201217,204242,null,112717.81831067652,113870.19673738717,117759.47392753568,121216.60920766769,124241.6025777832,192717.81831067652,193870.19673738719,197759.4739275357,201216.6092076677,204241.6025777832]
["COLUSA45%","45%",121505,123377,129139,134325,138790,201505,203377,209139,214325,218790,null,121505,123377,129139,134325,138790,201505,203377,209139,214325,218790,null,121504.70381434535,123377.31875775018,129139.21089130352,134324.91381150152,138790.38021500537,201504.70381434535,203377.31875775018,209139.21089130352,214324.91381150152,218790.38021500537]
["COLUSA40%","40%",130292,132740,140375,147289,153339,210292,212740,220375,227289,233339,null,130292,132740,140375,147289,153339,210292,212740,220375,227289,233339,null,130291.58931801419,132740.39347477435,140374.90055173251,147289.17111199655,153339.15785222754,210291.58931801419,212740.39347477435,220374.90055173251,227289.17111199655,233339.15785222754]
["COLUSA35%","35%",139223,142248,151755,160397,168032,219223,222248,231755,240397,248032,null,139223,142248,151755,160397,168032,219223,222248,231755,240397,248032,null,139222.52212502185,142247.51549513737,151754.63751550036,160397.47571583037,168031.98279278853,219222.52212502185,222247.51549513737,231754.63751550036,240397.47571583037,248031.98279278853]
["COLUSA30%","30%",148009,151755,163134,173506,182581,228009,231755,243134,253506,262581,null,148009,151755,163134,173506,182581,228009,231755,243134,253506,262581,null,148009.40762869071,151754.63751550036,163134.37447926821,173505.78031966422,182580.76043001073,228009.40762869071,231754.63751550036,243134.37447926821,253505.78031966422,262580.76043001073]
["COLUSA25%","25%",156796,161118,174514,186614,197274,236796,241118,254514,266614,277274,null,156796,161118,174514,186614,197274,236796,241118,254514,266614,277274,null,156796.29313235954,161117.71223252453,174514.11144303606,186614.08492349804,197273.58537057176,236796.29313235954,241117.71223252453,254514.11144303606,266614.08492349804,277273.58537057176]
["COLUSA20%","20%",165583,170625,185750,199722,211822,245583,250625,265750,279722,291822,null,165583,170625,185750,199722,211822,245583,250625,265750,279722,291822,null,165583.17863602837,170624.83425288755,185749.80110346506,199722.38952733192,211822.3630077939,245583.17863602837,250624.83425288755,265749.80110346503,279722.38952733192,291822.3630077939]
["COLUSA15%","15%",174514,180132,197130,212831,226371,254514,260132,277130,292831,306371,null,174514,180132,197130,212831,226371,254514,260132,277130,292831,306371,null,174514.11144303606,180131.95627325057,197129.53806723293,212830.69413116574,226371.1406450161,254514.11144303606,260131.95627325057,277129.53806723293,292830.69413116574,306371.1406450161]
["CONTRA COSTA60%","60%",95000,95000,95000,95000,95000,175000,175000,175000,175000,175000,null,95000,95000,95000,95000,95000,175000,175000,175000,175000,175000,null,95000,95000,95000,95000,95000,175000,175000,175000,175000,175000]
["CONTRA COSTA55%","55%",111565,112574,116175,119488,122369,191565,192574,196175,199488,202369,null,111565,112574,116175,119488,122369,191565,192574,196175,199488,202369,null,111565.43988396585,112573.77100733768,116174.95359080852,119488.04156760169,122368.98763437835,191565.43988396585,192573.77100733767,196174.95359080852,199488.04156760167,202368.98763437837]
["CONTRA COSTA50%","50%",127987,130292,137350,143976,149594,207987,210292,217350,223976,229594,null,127987,130292,137350,143976,149594,207987,210292,217350,223976,229594,null,127986.83246459285,130291.58931801419,137349.90718161705,143976.08313520337,149593.92796541788,207986.83246459285,210291.58931801419,217349.90718161705,223976.08313520337,229593.92796541788]
["CONTRA COSTA45%","45%",144408,147865,158525,168320,176819,224408,227865,238525,248320,256819,null,144408,147865,158525,168320,176819,224408,227865,238525,248320,256819,null,144408.22504521988,147865.36032535185,158524.86077242554,168320.07739946622,176818.8682964574,224408.22504521988,227865.36032535185,238524.86077242554,248320.07739946622,256818.8682964574]
["CONTRA COSTA40%","40%",160830,165439,179556,192808,204044,240830,245439,259556,272808,284044,null,160830,{"$f":"ROUND(Z66,0)","v":165439},{"$f":"ROUND(AA66,0)","v":179556},{"$f":"ROUND(AB66,0)","v":192808},{"$f":"ROUND(AC66,0)","v":204044},{"$f":"ROUND(AD66,0)","v":240830},{"$f":"ROUND(AE66,0)","v":245439},{"$f":"ROUND(AF66,0)","v":259556},{"$f":"ROUND(AG66,0)","v":272808},{"$f":"ROUND(AH66,0)","v":284044},null,160829.61762584688,165439.13133268955,179555.76705989521,192808.11896706792,204043.80862749694,240829.61762584688,245439.13133268955,259555.76705989521,272808.11896706792,284043.80862749694]
["CONTRA COSTA35%","35%",177395,183157,200731,217296,231413,257395,263157,280731,297296,311413,null,{"$f":"ROUND(Y67,0)","v":177395},183157,200731,217296,231413,257395,263157,280731,297296,311413,null,177395.05750981273,183156.94964336607,200730.7206507037,217296.16053466959,231412.79626187525,257395.05750981273,263156.94964336604,280730.7206507037,297296.16053466959,311412.79626187525]
["CONTRA COSTA30%","30%",193816,200731,221906,241640,258638,273816,280731,301906,321640,338638,null,193816,200731,221906,241640,258638,273816,280731,301906,321640,338638,null,193816.45009043973,200730.7206507037,221905.67424151226,241640.15479893243,258637.73659291479,273816.45009043976,280730.7206507037,301905.67424151226,321640.15479893243,338637.73659291479]
["CONTRA COSTA25%","25%",210238,218449,243081,266128,285863,290238,298449,323081,346128,365863,null,210238,218449,243081,266128,285863,290238,298449,323081,346128,365863,null,210237.84267106676,218448.53896138025,243080.62783232075,266128.1963665341,285862.67692395428,290237.84267106676,298448.53896138025,323080.62783232075,346128.1963665341,365862.67692395428]
["CONTRA COSTA20%","20%",226659,236022,264256,290616,313088,306659,316022,344256,370616,393088,null,226659,236022,264256,290616,313088,306659,316022,344256,370616,393088,null,226659.23525169378,236022.30996871795,264255.5814231293,290616.23793413583,313087.61725499388,306659.23525169375,316022.30996871798,344255.5814231293,370616.23793413583,393087.61725499388]
["CONTRA COSTA15%","15%",243225,253596,285431,314960,340457,323225,333596,365431,394960,420457,null,243225,253596,285431,314960,340457,323225,333596,365431,394960,420457,null,243224.67513565958,253596.08097605564,285430.53501393774,314960.23219839868,340456.60488937219,323224.67513565958,333596.08097605564,365430.53501393774,394960.23219839868,420456.60488937219]
["DEL NORTE60%","60%",95000,95000,95000,95000,95000,175000,175000,175000,175000,175000,null,95000,95000,95000,95000,95000,175000,175000,175000,175000,175000,null,95000,95000,95000,95000,95000,175000,175000,175000,175000,175000]
["DEL NORTE55%","55%",103931,104507,106380,108108,109549,183931,184507,186380,188108,189549,null,103931,104507,106380,108108,109549,183931,184507,186380,188108,189549,null,103930.93280700767,104507.12202036301,106379.73696376785,108108.30460383385,109548.77763722217,183930.93280700769,184507.12202036299,186379.73696376785,188108.30460383385,189548.77763722217]
["DEL NORTE50%","50%",112718,113870,117759,121217,124242,192718,193870,197759,201217,204242,null,112718,113870,117759,121217,124242,192718,193870,197759,201217,204242,null,112717.81831067652,113870.19673738717,117759.47392753568,121216.60920766769,124241.6025777832,192717.81831067652,193870.19673738719,197759.4739275357,201216.6092076677,204241.6025777832]
["DEL NORTE45%","45%",121505,123377,129139,134325,138790,201505,203377,209139,214325,218790,null,121505,123377,129139,134325,138790,201505,203377,209139,214325,218790,null,121504.70381434535,123377.31875775018,129139.21089130352,134324.91381150152,138790.38021500537,201504.70381434535,203377.31875775018,209139.21089130352,214324.91381150152,218790.38021500537]
["DEL NORTE40%","40%",130292,132740,140375,147289,153339,210292,212740,220375,227289,233339,null,130292,132740,140375,147289,153339,210292,212740,220375,227289,233339,null,130291.58931801419,132740.39347477435,140374.90055173251,147289.17111199655,153339.15785222754,210291.58931801419,212740.39347477435,220374.90055173251,227289.17111199655,233339.15785222754]
["DEL NORTE35%","35%",139223,142248,151755,160397,168032,219223,222248,231755,240397,248032,null,139223,142248,151755,160397,168032,219223,222248,231755,240397,248032,null,139222.52212502185,142247.51549513737,151754.63751550036,160397.47571583037,168031.98279278853,219222.52212502185,222247.51549513737,231754.63751550036,240397.47571583037,248031.98279278853]
["DEL NORTE30%","30%",148009,151755,163134,173506,182581,228009,231755,243134,253506,262581,null,148009,151755,163134,173506,182581,228009,231755,243134,253506,262581,null,148009.40762869071,151754.63751550036,163134.37447926821,173505.78031966422,182580.76043001073,228009.40762869071,231754.63751550036,243134.37447926821,253505.78031966422,262580.76043001073]
["DEL NORTE25%","25%",156796,161118,174514,186614,197274,236796,241118,254514,266614,277274,null,156796,161118,174514,186614,197274,236796,241118,254514,266614,277274,null,156796.29313235954,161117.71223252453,174514.11144303606,186614.08492349804,197273.58537057176,236796.29313235954,241117.71223252453,254514.11144303606,266614.08492349804,277273.58537057176]
["DEL NORTE20%","20%",165583,170625,185750,199722,211822,245583,250625,265750,279722,291822,null,165583,170625,185750,199722,211822,245583,250625,265750,279722,291822,null,165583.17863602837,170624.83425288755,185749.80110346506,199722.38952733192,211822.3630077939,245583.17863602837,250624.83425288755,265749.80110346503,279722.38952733192,291822.3630077939]
["DEL NORTE15%","15%",174514,180132,197130,212831,226371,254514,260132,277130,292831,306371,null,174514,180132,197130,212831,226371,254514,260132,277130,292831,306371,null,174514.11144303606,180131.95627325057,197129.53806723293,212830.69413116574,226371.1406450161,254514.11144303606,260131.95627325057,277129.53806723293,292830.69413116574,306371.1406450161]
["EL DORADO60%","60%",95000,95000,95000,95000,95000,175000,175000,175000,175000,175000,null,95000,95000,95000,95000,95000,175000,175000,175000,175000,175000,null,95000,95000,95000,95000,95000,175000,175000,175000,175000,175000]
["EL DORADO55%","55%",105948,106668,108973,111277,113150,185948,186668,188973,191277,193150,null,105948,106668,108973,111277,113150,185948,186668,188973,191277,193150,null,105947.59505375134,106667.8315704455,108972.58842386684,111277.34527728817,113149.96022069301,185947.59505375134,186667.8315704455,188972.58842386684,191277.34527728817,193149.960220693]
["EL DORADO50%","50%",116751,118336,122945,127411,131156,196751,198336,202945,207411,211156,null,116751,118336,122945,127411,131156,196751,198336,202945,207411,211156,null,116751.14280416384,118335.66314089102,122945.17684773367,127410.64325123752,131155.8731380472,196751.14280416386,198335.663140891,202945.17684773367,207410.64325123752,211155.8731380472]
["EL DORADO45%","45%",127699,130003,136918,143544,149162,207699,210003,216918,223544,229162,null,127699,130003,136918,143544,149162,207699,210003,216918,223544,229162,null,127698.73785791518,130003.49471133653,136917.76527160054,143543.94122518686,149161.78605540138,207698.7378579152,210003.49471133653,216917.76527160054,223543.94122518686,229161.78605540138]
["EL DORADO40%","40%",138502,141671,150890,159677,167168,218502,221671,230890,239677,247168,null,138502,141671,150890,159677,167168,218502,221671,230890,239677,247168,null,138502.28560832769,141671.32628178204,150890.35369546735,159677.23919913621,167167.69897275555,218502.28560832769,221671.32628178204,230890.35369546735,239677.23919913621,247167.69897275555]
["EL DORADO35%","35%",149450,153339,165007,175955,185318,229450,233339,245007,255955,265318,null,149450,153339,165007,175955,185318,229450,233339,245007,255955,265318,null,149449.88066207903,153339.15785222754,165006.98942267307,175954.58447642438,185317.65919344855,229449.88066207903,233339.15785222754,245006.98942267307,255954.58447642438,265317.65919344855]
["EL DORADO30%","30%",160397,165007,178980,192088,203324,240397,245007,258980,272088,283324,null,160397,165007,178980,192088,203324,240397,245007,258980,272088,283324,null,160397.47571583037,165006.98942267307,178979.57784653991,192087.88245037373,203323.57211080275,240397.47571583037,245006.98942267307,258979.57784653991,272087.88245037373,283323.57211080275]
["EL DORADO25%","25%",171201,176675,192952,208221,221329,251201,256675,272952,288221,301329,null,171201,176675,192952,208221,221329,251201,256675,272952,288221,301329,null,171201.02346624288,176674.82099311857,192952.16627040674,208221.18042432307,221329.48502815695,251201.02346624288,256674.82099311857,272952.16627040674,288221.18042432307,301329.48502815695]
["EL DORADO20%","20%",182149,188343,206925,224354,239335,262149,268343,286925,304354,319335,null,182149,188343,206925,224354,239335,262149,268343,286925,304354,319335,null,182148.61851999423,188342.65256356407,206924.75469427358,224354.47839827242,239335.3979455111,262148.6185199942,268342.65256356407,286924.75469427358,304354.47839827242,319335.3979455111]
["EL DORADO15%","15%",193096,200010,220897,240632,257485,273096,280010,300897,320632,337485,null,193096,200010,220897,240632,257485,273096,280010,300897,320632,337485,null,193096.21357374557,200010.48413400957,220897.34311814042,240631.82367556059,257485.35816620413,273096.21357374557,280010.48413400957,300897.34311814042,320631.82367556059,337485.35816620413]
["FRESNO60%","60%",95000,95000,95000,95000,95000,175000,175000,175000,175000,175000,null,95000,95000,95000,95000,95000,175000,175000,175000,175000,175000,null,95000,95000,95000,95000,95000,175000,175000,175000,175000,175000]
["FRESNO55%","55%",103931,104507,106380,108108,109549,183931,184507,186380,188108,189549,null,103931,104507,106380,108108,109549,183931,184507,186380,188108,189549,null,103930.93280700767,104507.12202036301,106379.73696376785,108108.30460383385,109548.77763722217,183930.93280700769,184507.12202036299,186379.73696376785,188108.30460383385,189548.77763722217]
["FRESNO50%","50%",112718,113870,117759,121217,124242,192718,193870,197759,201217,204242,null,112718,113870,117759,121217,124242,192718,193870,197759,201217,204242,null,112717.81831067652,113870.19673738717,117759.47392753568,121216.60920766769,124241.6025777832,192717.81831067652,193870.19673738719,197759.4739275357,201216.6092076677,204241.6025777832]
["FRESNO45%","45%",121505,123377,129139,134325,138790,201505,203377,209139,214325,218790,null,121505,123377,129139,134325,138790,201505,203377,209139,214325,218790,null,121504.70381434535,123377.31875775018,129139.21089130352,134324.91381150152,138790.38021500537,201504.70381434535,203377.31875775018,209139.21089130352,214324.91381150152,218790.38021500537]
["FRESNO40%","40%",130292,132740,140375,147289,153339,210292,212740,220375,227289,233339,null,130292,132740,140375,147289,153339,210292,212740,220375,227289,233339,null,130291.58931801419,132740.39347477435,140374.90055173251,147289.17111199655,153339.15785222754,210291.58931801419,212740.39347477435,220374.90055173251,227289.17111199655,233339.15785222754]
["FRESNO35%","35%",139223,142248,151755,160397,168032,219223,222248,231755,240397,248032,null,139223,142248,151755,160397,168032,219223,222248,231755,240397,248032,null,139222.52212502185,142247.51549513737,151754.63751550036,160397.47571583037,168031.98279278853,219222.52212502185,222247.51549513737,231754.63751550036,240397.47571583037,248031.98279278853]
["FRESNO30%","30%",148009,151755,163134,173506,182581,228009,231755,243134,253506,262581,null,148009,151755,163134,173506,182581,228009,231755,243134,253506,262581,null,148009.40762869071,151754.63751550036,163134.37447926821,173505.78031966422,182580.76043001073,228009.40762869071,231754.63751550036,243134.37447926821,253505.78031966422,262580.76043001073]
["FRESNO25%","25%",156796,161118,174514,186614,197274,236796,241118,254514,266614,277274,null,156796,161118,174514,186614,197274,236796,241118,254514,266614,277274,null,156796.29313235954,161117.71223252453,174514.11144303606,186614.08492349804,197273.58537057176,236796.29313235954,241117.71223252453,254514.11144303606,266614.08492349804,277273.58537057176]
["FRESNO20%","20%",165583,170625,185750,199722,211822,245583,250625,265750,279722,291822,null,165583,170625,185750,199722,211822,245583,250625,265750,279722,291822,null,165583.17863602837,170624.83425288755,185749.80110346506,199722.38952733192,211822.3630077939,245583.17863602837,250624.83425288755,265749.80110346503,279722.38952733192,291822.3630077939]
["FRESNO15%","15%",174514,180132,197130,212831,226371,254514,260132,277130,292831,306371,null,174514,180132,197130,212831,226371,254514,260132,277130,292831,306371,null,174514.11144303606,180131.95627325057,197129.53806723293,212830.69413116574,226371.1406450161,254514.11144303606,260131.95627325057,277129.53806723293,292830.69413116574,306371.1406450161]
["GLENN60%","60%",95000,95000,95000,95000,95000,175000,175000,175000,175000,175000,null,95000,95000,95000,95000,95000,175000,175000,175000,175000,175000,null,95000,95000,95000,95000,95000,175000,175000,175000,175000,175000]
["GLENN55%","55%",103931,104507,106380,108108,109549,183931,184507,186380,188108,189549,null,103931,104507,106380,108108,109549,183931,184507,186380,188108,189549,null,103930.93280700767,104507.12202036301,106379.73696376785,108108.30460383385,109548.77763722217,183930.93280700769,184507.12202036299,186379.73696376785,188108.30460383385,189548.77763722217]
["GLENN50%","50%",112718,113870,117759,121217,124242,192718,193870,197759,201217,204242,null,112718,113870,117759,121217,124242,192718,193870,197759,201217,204242,null,112717.81831067652,113870.19673738717,117759.47392753568,121216.60920766769,124241.6025777832,192717.81831067652,193870.19673738719,197759.4739275357,201216.6092076677,204241.6025777832]
["GLENN45%","45%",121505,123377,129139,134325,138790,201505,203377,209139,214325,218790,null,121505,123377,129139,134325,138790,201505,203377,209139,214325,218790,null,121504.70381434535,123377.31875775018,129139.21089130352,134324.91381150152,138790.38021500537,201504.70381434535,203377.31875775018,209139.21089130352,214324.91381150152,218790.38021500537]
["GLENN40%","40%",130292,132740,140375,147289,153339,210292,212740,220375,227289,233339,null,130292,132740,140375,147289,153339,210292,212740,220375,227289,233339,null,130291.58931801419,132740.39347477435,140374.90055173251,147289.17111199655,153339.15785222754,210291.58931801419,212740.39347477435,220374.90055173251,227289.17111199655,233339.15785222754]
["GLENN35%","35%",139223,142248,151755,160397,168032,219223,222248,231755,240397,248032,null,139223,142248,151755,160397,168032,219223,222248,231755,240397,248032,null,139222.52212502185,142247.51549513737,151754.63751550036,160397.47571583037,168031.98279278853,219222.52212502185,222247.51549513737,231754.63751550036,240397.47571583037,248031.98279278853]
["GLENN30%","30%",148009,151755,163134,173506,182581,228009,231755,243134,253506,262581,null,148009,151755,163134,173506,182581,228009,231755,243134,253506,262581,null,148009.40762869071,151754.63751550036,163134.37447926821,173505.78031966422,182580.76043001073,228009.40762869071,231754.63751550036,243134.37447926821,253505.78031966422,262580.76043001073]
["GLENN25%","25%",156796,161118,174514,186614,197274,236796,241118,254514,266614,277274,null,156796,161118,174514,186614,197274,236796,241118,254514,266614,277274,null,156796.29313235954,161117.71223252453,174514.11144303606,186614.08492349804,197273.58537057176,236796.29313235954,241117.71223252453,254514.11144303606,266614.08492349804,277273.58537057176]
["GLENN20%","20%",165583,170625,185750,199722,211822,245583,250625,265750,279722,291822,null,165583,170625,185750,199722,211822,245583,250625,265750,279722,291822,null,165583.17863602837,170624.83425288755,185749.80110346506,199722.38952733192,211822.3630077939,245583.17863602837,250624.83425288755,265749.80110346503,279722.38952733192,291822.3630077939]
["GLENN15%","15%",174514,180132,197130,212831,226371,254514,260132,277130,292831,306371,null,174514,180132,197130,212831,226371,254514,260132,277130,292831,306371,null,174514.11144303606,180131.95627325057,197129.53806723293,212830.69413116574,226371.1406450161,254514.11144303606,260131.95627325057,277129.53806723293,292830.69413116574,306371.1406450161]
["HUMBOLDT60%","60%",95000,95000,95000,95000,95000,175000,175000,175000,175000,175000,null,95000,95000,95000,95000,95000,175000,175000,175000,175000,175000,null,95000,95000,95000,95000,95000,175000,175000,175000,175000,175000]
["HUMBOLDT55%","55%",103931,104507,106380,108108,109549,183931,184507,186380,188108,189549,null,103931,104507,106380,108108,109549,183931,184507,186380,188108,189549,null,103930.93280700767,104507.12202036301,106379.73696376785,108108.30460383385,109548.77763722217,183930.93280700769,184507.12202036299,186379.73696376785,188108.30460383385,189548.77763722217]
["HUMBOLDT50%","50%",112718,113870,117759,121217,124242,192718,193870,197759,201217,204242,null,112718,113870,117759,121217,124242,192718,193870,197759,201217,204242,null,112717.81831067652,113870.19673738717,117759.47392753568,121216.60920766769,124241.6025777832,192717.81831067652,193870.19673738719,197759.4739275357,201216.6092076677,204241.6025777832]
["HUMBOLDT45%","45%",121505,123377,129139,134325,138790,201505,203377,209139,214325,218790,null,121505,123377,129139,134325,138790,201505,203377,209139,214325,218790,null,121504.70381434535,123377.31875775018,129139.21089130352,134324.91381150152,138790.38021500537,201504.70381434535,203377.31875775018,209139.21089130352,214324.91381150152,218790.38021500537]
["HUMBOLDT40%","40%",130292,132740,140375,147289,153339,210292,212740,220375,227289,233339,null,130292,132740,140375,147289,153339,210292,212740,220375,227289,233339,null,130291.58931801419,132740.39347477435,140374.90055173251,147289.17111199655,153339.15785222754,210291.58931801419,212740.39347477435,220374.90055173251,227289.17111199655,233339.15785222754]
["HUMBOLDT35%","35%",139223,142248,151755,160397,168032,219223,222248,231755,240397,248032,null,139223,142248,151755,160397,168032,219223,222248,231755,240397,248032,null,139222.52212502185,142247.51549513737,151754.63751550036,160397.47571583037,168031.98279278853,219222.52212502185,222247.51549513737,231754.63751550036,240397.47571583037,248031.98279278853]
["HUMBOLDT30%","30%",148009,151755,163134,173506,182581,228009,231755,243134,253506,262581,null,148009,151755,163134,173506,182581,228009,231755,243134,253506,262581,null,148009.40762869071,151754.63751550036,163134.37447926821,173505.78031966422,182580.76043001073,228009.40762869071,231754.63751550036,243134.37447926821,253505.78031966422,262580.76043001073]
["HUMBOLDT25%","25%",156796,161118,174514,186614,197274,236796,241118,254514,266614,277274,null,156796,161118,174514,186614,197274,236796,241118,254514,266614,277274,null,156796.29313235954,161117.71223252453,174514.11144303606,186614.08492349804,197273.58537057176,236796.29313235954,241117.71223252453,254514.11144303606,266614.08492349804,277273.58537057176]
["HUMBOLDT20%","20%",165583,170625,185750,199722,211822,245583,250625,265750,279722,291822,null,165583,170625,185750,199722,211822,245583,250625,265750,279722,291822,null,165583.17863602837,170624.83425288755,185749.80110346506,199722.38952733192,211822.3630077939,245583.17863602837,250624.83425288755,265749.80110346503,279722.38952733192,291822.3630077939]
["HUMBOLDT15%","15%",174514,180132,197130,212831,226371,254514,260132,277130,292831,306371,null,174514,180132,197130,212831,226371,254514,260132,277130,292831,306371,null,174514.11144303606,180131.95627325057,197129.53806723293,212830.69413116574,226371.1406450161,254514.11144303606,260131.95627325057,277129.53806723293,292830.69413116574,306371.1406450161]
["IMPERIAL60%","60%",95000,95000,95000,95000,95000,175000,175000,175000,175000,175000,null,95000,95000,95000,95000,95000,175000,175000,175000,175000,175000,null,95000,95000,95000,95000,95000,175000,175000,175000,175000,175000]
["IMPERIAL55%","55%",103931,104507,106380,108108,109549,183931,184507,186380,188108,189549,null,103931,104507,106380,108108,109549,183931,184507,186380,188108,189549,null,103930.93280700767,104507.12202036301,106379.73696376785,108108.30460383385,109548.77763722217,183930.93280700769,184507.12202036299,186379.73696376785,188108.30460383385,189548.77763722217]
["IMPERIAL50%","50%",112718,113870,117759,121217,124242,192718,193870,197759,201217,204242,null,112718,113870,117759,121217,124242,192718,193870,197759,201217,204242,null,112717.81831067652,113870.19673738717,117759.47392753568,121216.60920766769,124241.6025777832,192717.81831067652,193870.19673738719,197759.4739275357,201216.6092076677,204241.6025777832]
["IMPERIAL45%","45%",121505,123377,129139,134325,138790,201505,203377,209139,214325,218790,null,121505,123377,129139,134325,138790,201505,203377,209139,214325,218790,null,121504.70381434535,123377.31875775018,129139.21089130352,134324.91381150152,138790.38021500537,201504.70381434535,203377.31875775018,209139.21089130352,214324.91381150152,218790.38021500537]
["IMPERIAL40%","40%",130292,132740,140375,147289,153339,210292,212740,220375,227289,233339,null,130292,132740,140375,147289,153339,210292,212740,220375,227289,233339,null,130291.58931801419,132740.39347477435,140374.90055173251,147289.17111199655,153339.15785222754,210291.58931801419,212740.39347477435,220374.90055173251,227289.17111199655,233339.15785222754]
["IMPERIAL35%","35%",139223,142248,151755,160397,168032,219223,222248,231755,240397,248032,null,139223,142248,151755,160397,168032,219223,222248,231755,240397,248032,null,139222.52212502185,142247.51549513737,151754.63751550036,160397.47571583037,168031.98279278853,219222.52212502185,222247.51549513737,231754.63751550036,240397.47571583037,248031.98279278853]
["IMPERIAL30%","30%",148009,151755,163134,173506,182581,228009,231755,243134,253506,262581,null,148009,151755,163134,173506,182581,228009,231755,243134,253506,262581,null,148009.40762869071,151754.63751550036,163134.37447926821,173505.78031966422,182580.76043001073,228009.40762869071,231754.63751550036,243134.37447926821,253505.78031966422,262580.76043001073]
["IMPERIAL25%","25%",156796,161118,174514,186614,197274,236796,241118,254514,266614,277274,null,156796,161118,174514,186614,197274,236796,241118,254514,266614,277274,null,156796.29313235954,161117.71223252453,174514.11144303606,186614.08492349804,197273.58537057176,236796.29313235954,241117.71223252453,254514.11144303606,266614.08492349804,277273.58537057176]
["IMPERIAL20%","20%",165583,170625,185750,199722,211822,245583,250625,265750,279722,291822,null,165583,{"$f":"ROUND(Z130,0)","v":170625},{"$f":"ROUND(AA130,0)","v":185750},{"$f":"ROUND(AB130,0)","v":199722},{"$f":"ROUND(AC130,0)","v":211822},{"$f":"ROUND(AD130,0)","v":245583},{"$f":"ROUND(AE130,0)","v":250625},{"$f":"ROUND(AF130,0)","v":265750},{"$f":"ROUND(AG130,0)","v":279722},{"$f":"ROUND(AH130,0)","v":291822},null,165583.17863602837,170624.83425288755,185749.80110346506,199722.38952733192,211822.3630077939,245583.17863602837,250624.83425288755,265749.80110346503,279722.38952733192,291822.3630077939]
["IMPERIAL15%","15%",174514,180132,197130,212831,226371,254514,260132,277130,292831,306371,null,{"$f":"ROUND(Y131,0)","v":174514},180132,197130,212831,226371,254514,260132,277130,292831,306371,null,174514.11144303606,180131.95627325057,197129.53806723293,212830.69413116574,226371.1406450161,254514.11144303606,260131.95627325057,277129.53806723293,292830.69413116574,306371.1406450161]
["INYO60%","60%",95000,95000,95000,95000,95000,175000,175000,175000,175000,175000,null,95000,95000,95000,95000,95000,175000,175000,175000,175000,175000,null,95000,95000,95000,95000,95000,175000,175000,175000,175000,175000]
["INYO55%","55%",104507,105227,107244,109117,110701,184507,185227,187244,189117,190701,null,104507,105227,107244,109117,110701,184507,185227,187244,189117,190701,null,104507.12202036301,105227.35853705718,107244.02078380084,109116.63572720568,110701.15606393284,184507.12202036299,185227.35853705718,187244.02078380084,189116.63572720566,190701.15606393284]
["INYO50%","50%",114014,115311,119344,123233,126402,194014,195311,199344,203233,206402,null,114014,115311,119344,123233,126402,194014,195311,199344,203233,206402,null,114014.24404072601,115310.66977077551,119343.99426426284,123233.27145441136,126402.31212786569,194014.24404072601,195310.66977077551,199343.99426426284,203233.27145441136,206402.31212786568]
["INYO45%","45%",123521,125538,131588,137206,142103,203521,205538,211588,217206,222103,null,123521,125538,131588,137206,142103,203521,205538,211588,217206,222103,null,123521.36606108902,125538.02830783269,131588.01504806368,137205.85987827819,142103.46819179854,203521.36606108901,205538.02830783269,211588.01504806368,217205.85987827819,222103.46819179854]
["INYO40%","40%",132884,135621,143688,151322,157805,212884,215621,223688,231322,237805,null,132884,135621,143688,151322,157805,212884,215621,223688,231322,237805,null,132884.4407781132,135621.33954155102,143687.98852852569,151322.49560548388,157804.62425573138,212884.4407781132,215621.33954155102,223687.98852852569,231322.49560548388,237804.62425573138]
["INYO35%","35%",142392,145705,155932,165439,173506,222392,225705,235932,245439,253506,null,142392,145705,155932,165439,173506,222392,225705,235932,245439,253506,null,142391.5627984762,145704.65077526937,155932.00931232655,165439.13133268955,173505.78031966422,222391.5627984762,225704.65077526937,235932.00931232655,245439.13133268955,253505.78031966422]
["INYO30%","30%",151899,155932,168032,179412,189207,231899,235932,248032,259412,269207,null,151899,155932,168032,179412,189207,231899,235932,248032,259412,269207,null,151898.68481883922,155932.00931232655,168031.98279278853,179411.71975655638,189206.93638359709,231898.68481883922,235932.00931232655,248031.98279278853,259411.71975655638,269206.93638359709]
["INYO25%","25%",161406,166015,180276,193528,204908,241406,246015,260276,273528,284908,null,161406,166015,180276,193528,204908,241406,246015,260276,273528,284908,null,161405.80683920221,166015.32054604488,180276.0035765894,193528.35548376208,204908.0924475299,241405.80683920221,246015.32054604488,260276.0035765894,273528.3554837621,284908.0924475299]
["INYO20%","20%",170769,176243,192376,207645,220609,250769,256243,272376,287645,300609,null,170769,176243,192376,207645,220609,250769,256243,272376,287645,300609,null,170768.88155622641,176242.67908310206,192375.97705705141,207644.99121096777,220609.24851146276,250768.88155622641,256242.67908310206,272375.97705705138,287644.99121096777,300609.24851146276]
["INYO15%","15%",180276,186326,204620,221618,236310,260276,266326,284620,301618,316310,null,180276,186326,204620,221618,236310,260276,266326,284620,301618,316310,null,180276.0035765894,186325.99031682039,204619.99784085224,221617.57963483458,236310.4045753956,260276.0035765894,266325.99031682039,284619.99784085224,301617.57963483455,316310.40457539563]
["KERN60%","60%",95000,95000,95000,95000,95000,175000,175000,175000,175000,175000,null,95000,95000,95000,95000,95000,175000,175000,175000,175000,175000,null,95000,95000,95000,95000,95000,175000,175000,175000,175000,175000]
["KERN55%","55%",103931,104507,106380,108108,109549,183931,184507,186380,188108,189549,null,103931,104507,106380,108108,109549,183931,184507,186380,188108,189549,null,103930.93280700767,104507.12202036301,106379.73696376785,108108.30460383385,109548.77763722217,183930.93280700769,184507.12202036299,186379.73696376785,188108.30460383385,189548.77763722217]
["KERN50%","50%",112718,113870,117759,121217,124242,192718,193870,197759,201217,204242,null,112718,113870,117759,121217,124242,192718,193870,197759,201217,204242,null,112717.81831067652,113870.19673738717,117759.47392753568,121216.60920766769,124241.6025777832,192717.81831067652,193870.19673738719,197759.4739275357,201216.6092076677,204241.6025777832]
["KERN45%","45%",121505,123377,129139,134325,138790,201505,203377,209139,214325,218790,null,121505,123377,129139,134325,138790,201505,203377,209139,214325,218790,null,121504.70381434535,123377.31875775018,129139.21089130352,134324.91381150152,138790.38021500537,201504.70381434535,203377.31875775018,209139.21089130352,214324.91381150152,218790.38021500537]
["KERN40%","40%",130292,132740,140375,147289,153339,210292,212740,220375,227289,233339,null,130292,132740,140375,147289,153339,210292,212740,220375,227289,233339,null,130291.58931801419,132740.39347477435,140374.90055173251,147289.17111199655,153339.15785222754,210291.58931801419,212740.39347477435,220374.90055173251,227289.17111199655,233339.15785222754]
["KERN35%","35%",139223,142248,151755,160397,168032,219223,222248,231755,240397,248032,null,139223,142248,151755,160397,168032,219223,222248,231755,240397,248032,null,139222.52212502185,142247.51549513737,151754.63751550036,160397.47571583037,168031.98279278853,219222.52212502185,222247.51549513737,231754.63751550036,240397.47571583037,248031.98279278853]
["KERN30%","30%",148009,151755,163134,173506,182581,228009,231755,243134,253506,262581,null,148009,151755,163134,173506,182581,228009,231755,243134,253506,262581,null,148009.40762869071,151754.63751550036,163134.37447926821,173505.78031966422,182580.76043001073,228009.40762869071,231754.63751550036,243134.37447926821,253505.78031966422,262580.76043001073]
["KERN25%","25%",156796,161118,174514,186614,197274,236796,241118,254514,266614,277274,null,156796,161118,174514,186614,197274,236796,241118,254514,266614,277274,null,156796.29313235954,161117.71223252453,174514.11144303606,186614.08492349804,197273.58537057176,236796.29313235954,241117.71223252453,254514.11144303606,266614.08492349804,277273.58537057176]
["KERN20%","20%",165583,170625,185750,199722,211822,245583,250625,265750,279722,291822,null,165583,170625,185750,199722,211822,245583,250625,265750,279722,291822,null,165583.17863602837,170624.83425288755,185749.80110346506,199722.38952733192,211822.3630077939,245583.17863602837,250624.83425288755,265749.80110346503,279722.38952733192,291822.3630077939]
["KERN15%","15%",174514,180132,197130,212831,226371,254514,260132,277130,292831,306371,null,174514,180132,197130,212831,226371,254514,260132,277130,292831,306371,null,174514.11144303606,180131.95627325057,197129.53806723293,212830.69413116574,226371.1406450161,254514.11144303606,260131.95627325057,277129.53806723293,292830.69413116574,306371.1406450161]
["KINGS60%","60%",95000,95000,95000,95000,95000,175000,175000,175000,175000,175000,null,95000,95000,95000,95000,95000,175000,175000,175000,175000,175000,null,95000,95000,95000,95000,95000,175000,175000,175000,175000,175000]
["KINGS55%","55%",103931,104507,106380,108108,109549,183931,184507,186380,188108,189549,null,103931,104507,106380,108108,109549,183931,184507,186380,188108,189549,null,103930.93280700767,104507.12202036301,106379.73696376785,108108.30460383385,109548.77763722217,183930.93280700769,184507.12202036299,186379.73696376785,188108.30460383385,189548.77763722217]
["KINGS50%","50%",112718,113870,117759,121217,124242,192718,193870,197759,201217,204242,null,112718,113870,117759,121217,124242,192718,193870,197759,201217,204242,null,112717.81831067652,113870.19673738717,117759.47392753568,121216.60920766769,124241.6025777832,192717.81831067652,193870.19673738719,197759.4739275357,201216.6092076677,204241.6025777832]
["KINGS45%","45%",121505,123377,129139,134325,138790,201505,203377,209139,214325,218790,null,121505,123377,129139,134325,138790,201505,203377,209139,214325,218790,null,121504.70381434535,123377.31875775018,129139.21089130352,134324.91381150152,138790.38021500537,201504.70381434535,203377.31875775018,209139.21089130352,214324.91381150152,218790.38021500537]
["KINGS40%","40%",130292,132740,140375,147289,153339,210292,212740,220375,227289,233339,null,130292,132740,140375,147289,153339,210292,212740,220375,227289,233339,null,130291.58931801419,132740.39347477435,140374.90055173251,147289.17111199655,153339.15785222754,210291.58931801419,212740.39347477435,220374.90055173251,227289.17111199655,233339.15785222754]
["KINGS35%","35%",139223,142248,151755,160397,168032,219223,222248,231755,240397,248032,null,139223,142248,151755,160397,168032,219223,222248,231755,240397,248032,null,139222.52212502185,142247.51549513737,151754.63751550036,160397.47571583037,168031.98279278853,219222.52212502185,222247.51549513737,231754.63751550036,240397.47571583037,248031.98279278853]
["KINGS30%","30%",148009,151755,163134,173506,182581,228009,231755,243134,253506,262581,null,148009,151755,163134,173506,182581,228009,231755,243134,253506,262581,null,148009.40762869071,151754.63751550036,163134.37447926821,173505.78031966422,182580.76043001073,228009.40762869071,231754.63751550036,243134.37447926821,253505.78031966422,262580.76043001073]
["KINGS25%","25%",156796,161118,174514,186614,197274,236796,241118,254514,266614,277274,null,156796,161118,174514,186614,197274,236796,241118,254514,266614,277274,null,156796.29313235954,161117.71223252453,174514.11144303606,186614.08492349804,197273.58537057176,236796.29313235954,241117.71223252453,254514.11144303606,266614.08492349804,277273.58537057176]
["KINGS20%","20%",165583,170625,185750,199722,211822,245583,250625,265750,279722,291822,null,165583,170625,185750,199722,211822,245583,250625,265750,279722,291822,null,165583.17863602837,170624.83425288755,185749.80110346506,199722.38952733192,211822.3630077939,245583.17863602837,250624.83425288755,265749.80110346503,279722.38952733192,291822.3630077939]
["KINGS15%","15%",174514,180132,197130,212831,226371,254514,260132,277130,292831,306371,null,174514,180132,197130,212831,226371,254514,260132,277130,292831,306371,null,174514.11144303606,180131.95627325057,197129.53806723293,212830.69413116574,226371.1406450161,254514.11144303606,260131.95627325057,277129.53806723293,292830.69413116574,306371.1406450161]
["LAKE60%","60%",95000,95000,95000,95000,95000,175000,175000,175000,175000,175000,null,95000,95000,95000,95000,95000,175000,175000,175000,175000,175000,null,95000,95000,95000,95000,95000,175000,175000,175000,175000,175000]
["LAKE55%","55%",103931,104507,106380,108108,109549,183931,184507,186380,188108,189549,null,103931,104507,106380,108108,109549,183931,184507,186380,188108,189549,null,103930.93280700767,104507.12202036301,106379.73696376785,108108.30460383385,109548.77763722217,183930.93280700769,184507.12202036299,186379.73696376785,188108.30460383385,189548.77763722217]
["LAKE50%","50%",112718,113870,117759,121217,124242,192718,193870,197759,201217,204242,null,112718,113870,117759,121217,124242,192718,193870,197759,201217,204242,null,112717.81831067652,113870.19673738717,117759.47392753568,121216.60920766769,124241.6025777832,192717.81831067652,193870.19673738719,197759.4739275357,201216.6092076677,204241.6025777832]
["LAKE45%","45%",121505,123377,129139,134325,138790,201505,203377,209139,214325,218790,null,121505,123377,129139,134325,138790,201505,203377,209139,214325,218790,null,121504.70381434535,123377.31875775018,129139.21089130352,134324.91381150152,138790.38021500537,201504.70381434535,203377.31875775018,209139.21089130352,214324.91381150152,218790.38021500537]
["LAKE40%","40%",130292,132740,140375,147289,153339,210292,212740,220375,227289,233339,null,130292,132740,140375,147289,153339,210292,212740,220375,227289,233339,null,130291.58931801419,132740.39347477435,140374.90055173251,147289.17111199655,153339.15785222754,210291.58931801419,212740.39347477435,220374.90055173251,227289.17111199655,233339.15785222754]
["LAKE35%","35%",139223,142248,151755,160397,168032,219223,222248,231755,240397,248032,null,139223,142248,151755,160397,168032,219223,222248,231755,240397,248032,null,139222.52212502185,142247.51549513737,151754.63751550036,160397.47571583037,168031.98279278853,219222.52212502185,222247.51549513737,231754.63751550036,240397.47571583037,248031.98279278853]
["LAKE30%","30%",148009,151755,163134,173506,182581,228009,231755,243134,253506,262581,null,148009,151755,163134,173506,182581,228009,231755,243134,253506,262581,null,148009.40762869071,151754.63751550036,163134.37447926821,173505.78031966422,182580.76043001073,228009.40762869071,231754.63751550036,243134.37447926821,253505.78031966422,262580.76043001073]
["LAKE25%","25%",156796,161118,174514,186614,197274,236796,241118,254514,266614,277274,null,156796,161118,174514,186614,197274,236796,241118,254514,266614,277274,null,156796.29313235954,161117.71223252453,174514.11144303606,186614.08492349804,197273.58537057176,236796.29313235954,241117.71223252453,254514.11144303606,266614.08492349804,277273.58537057176]
["LAKE20%","20%",165583,170625,185750,199722,211822,245583,250625,265750,279722,291822,null,165583,170625,185750,199722,211822,245583,250625,265750,279722,291822,null,165583.17863602837,170624.83425288755,185749.80110346506,199722.38952733192,211822.3630077939,245583.17863602837,250624.83425288755,265749.80110346503,279722.38952733192,291822.3630077939]
["LAKE15%","15%",174514,180132,197130,212831,226371,254514,260132,277130,292831,306371,null,174514,180132,197130,212831,226371,254514,260132,277130,292831,306371,null,174514.11144303606,180131.95627325057,197129.53806723293,212830.69413116574,226371.1406450161,254514.11144303606,260131.95627325057,277129.53806723293,292830.69413116574,306371.1406450161]
["LASSEN60%","60%",95000,95000,95000,95000,95000,175000,175000,175000,175000,175000,null,95000,95000,95000,95000,95000,175000,175000,175000,175000,175000,null,95000,95000,95000,95000,95000,175000,175000,175000,175000,175000]
["LASSEN55%","55%",103931,104507,106524,108252,109837,183931,184507,186524,188252,189837,null,103931,104507,106524,108252,109837,183931,184507,186524,188252,189837,null,103930.93280700767,104507.12202036301,106523.78426710668,108252.35190717268,109836.87224389984,183930.93280700769,184507.12202036299,186523.78426710668,188252.35190717268,189836.87224389985]
["LASSEN50%","50%",112862,114014,117904,121505,124530,192862,194014,197904,201505,204530,null,112862,114014,117904,121505,124530,192862,194014,197904,201505,204530,null,112861.86561401535,114014.24404072601,117903.52123087451,121504.70381434535,124529.69718446086,192861.86561401535,194014.24404072601,197903.52123087452,201504.70381434535,204529.69718446085]
["LASSEN45%","45%",121793,123665,129427,134757,139367,201793,203665,209427,214757,219367,null,121793,123665,129427,134757,139367,201793,203665,209427,214757,219367,null,121792.79842102302,123665.41336442786,129427.30549798119,134757.05572151803,139366.5694283607,201792.79842102301,203665.41336442786,209427.3054979812,214757.05572151803,219366.5694283607]
["LASSEN40%","40%",130580,133173,140807,148009,154059,210580,213173,220807,228009,234059,null,130580,133173,140807,148009,154059,210580,213173,220807,228009,234059,null,130579.68392469187,133172.53538479086,140807.04246174902,148009.40762869071,154059.39436892173,210579.68392469187,213172.53538479086,220807.04246174902,228009.40762869071,234059.39436892173]
["LASSEN35%","35%",139511,142680,152331,161262,168896,219511,222680,232331,241262,248896,null,139511,142680,152331,161262,168896,219511,222680,232331,241262,248896,null,139510.61673169953,142679.65740515388,152330.82672885573,161261.75953586338,168896.26661282155,219510.61673169953,222679.65740515388,232330.82672885573,241261.75953586338,248896.26661282155]
["LASSEN30%","30%",148442,152331,163855,174514,183733,228442,232331,243855,254514,263733,null,148442,152331,163855,174514,183733,228442,232331,243855,254514,263733,null,148441.54953870719,152330.82672885573,163854.61099596237,174514.11144303606,183733.1388567214,228441.54953870719,232330.82672885573,243854.61099596237,254514.11144303606,263733.1388567214]
["LASSEN25%","25%",157372,161838,175234,187766,198426,237372,241838,255234,267766,278426,null,157372,161838,175234,187766,198426,237372,241838,255234,267766,278426,null,157372.48234571487,161837.94874921872,175234.34795973022,187766.46335020871,198425.96379728243,237372.48234571487,241837.94874921872,255234.34795973022,267766.46335020871,278425.96379728243]
["LASSEN20%","20%",166303,171345,186758,201019,213263,246303,251345,266758,281019,293263,null,166303,171345,186758,201019,213263,246303,251345,266758,281019,293263,null,166303.41515272256,171345.07076958171,186758.13222683693,201018.81525738141,213262.83604118225,246303.41515272256,251345.07076958171,266758.13222683693,281018.81525738141,293262.83604118228]
["LASSEN15%","15%",175234,180996,198282,214271,228100,255234,260996,278282,294271,308100,null,175234,180996,198282,214271,228100,255234,260996,278282,294271,308100,null,175234.34795973022,180996.24009328356,198281.91649394354,214271.16716455406,228099.7082850821,255234.34795973022,260996.24009328356,278281.91649394354,294271.16716455406,308099.70828508213]
["LOS ANGELES60%","60%",95000,95000,95000,95000,95000,175000,175000,175000,175000,175000,null,95000,95000,95000,95000,95000,175000,175000,175000,175000,175000,null,95000,95000,95000,95000,95000,175000,175000,175000,175000,175000]
["LOS ANGELES55%","55%",109261,110269,113294,116175,118480,189261,190269,193294,196175,198480,null,109261,110269,113294,116175,118480,189261,190269,193294,196175,198480,null,109260.6830305445,110269.01415391635,113294.00752403184,116174.95359080852,118479.71044422984,189260.68303054452,190269.01415391633,193294.00752403185,196174.95359080852,198479.71044422986]
["LOS ANGELES50%","50%",123377,125394,131588,137206,142103,203377,205394,211588,217206,222103,null,123377,125394,131588,137206,142103,203377,205394,211588,217206,222103,null,123377.31875775018,125393.98100449385,131588.01504806368,137205.85987827819,142103.46819179854,203377.31875775018,205393.98100449386,211588.01504806368,217205.85987827819,222103.46819179854]
["LOS ANGELES45%","45%",137638,140663,149882,158381,165583,217638,220663,229882,238381,245583,null,137638,140663,149882,158381,165583,217638,220663,229882,238381,245583,null,137638.0017882947,140662.99515841019,149882.02257209553,158380.81346908672,165583.17863602837,217638.0017882947,220662.99515841019,229882.02257209553,238380.81346908672,245583.17863602837]
["LOS ANGELES40%","40%",151755,155788,168032,179412,189063,231755,235788,248032,259412,269063,null,151755,155788,168032,179412,189063,231755,235788,248032,259412,269063,null,151754.63751550036,155787.9620089877,168031.98279278853,179411.71975655638,189062.88908025826,231754.63751550036,235787.9620089877,248031.98279278853,259411.71975655638,269062.88908025826]
["LOS ANGELES35%","35%",166015,171057,186326,200443,212687,246015,251057,266326,280443,292687,null,166015,171057,186326,200443,212687,246015,251057,266326,280443,292687,null,166015.32054604488,171056.97616290406,186325.99031682039,200442.62604402608,212686.64682782692,246015.32054604488,251056.97616290406,266325.99031682039,280442.62604402611,292686.64682782692]
["LOS ANGELES30%","30%",180276,186326,204620,221618,236166,260276,266326,284620,301618,316166,null,180276,186326,204620,221618,236166,260276,266326,284620,301618,316166,null,180276.0035765894,186325.99031682039,204619.99784085224,221617.57963483458,236166.35727205678,260276.0035765894,266325.99031682039,284619.99784085224,301617.57963483455,316166.35727205675]
["LOS ANGELES25%","25%",194393,201451,222914,242648,259790,274393,281451,302914,322648,339790,null,194393,201451,222914,242648,259790,274393,281451,302914,322648,339790,null,194392.63930379506,201450.95716739789,222914.00536488407,242648.48592230427,259790.11501962546,274392.63930379506,281450.95716739789,302914.00536488404,322648.48592230427,339790.11501962546]
["LOS ANGELES20%","20%",208653,216720,241064,263823,283270,288653,296720,321064,343823,363270,null,208653,216720,241064,263823,283270,288653,296720,321064,343823,363270,null,208653.32233433955,216719.97132131425,241063.9655855771,263823.43951311277,283269.82546385529,288653.32233433955,296719.97132131422,321063.96558557707,343823.43951311277,363269.82546385529]
["LOS ANGELES15%","15%",222914,231989,259358,284854,306750,302914,311989,339358,364854,386750,null,222914,231989,259358,284854,306750,302914,311989,339358,364854,386750,null,222914.00536488407,231988.98547523058,259357.97310960898,284854.34580058244,306749.53590808518,302914.00536488404,311988.98547523061,339357.97310960898,364854.34580058244,386749.53590808518]
["MADERA60%","60%",95000,95000,95000,95000,95000,175000,175000,175000,175000,175000,null,95000,95000,95000,95000,95000,175000,175000,175000,175000,175000,null,95000,95000,95000,95000,95000,175000,175000,175000,175000,175000]
["MADERA55%","55%",103931,104507,106380,108108,109549,183931,184507,186380,188108,189549,null,103931,104507,106380,108108,109549,183931,184507,186380,188108,189549,null,103930.93280700767,104507.12202036301,106379.73696376785,108108.30460383385,109548.77763722217,183930.93280700769,184507.12202036299,186379.73696376785,188108.30460383385,189548.77763722217]
["MADERA50%","50%",112718,113870,117759,121217,124242,192718,193870,197759,201217,204242,null,112718,{"$f":"ROUND(Z194,0)","v":113870},{"$f":"ROUND(AA194,0)","v":117759},{"$f":"ROUND(AB194,0)","v":121217},{"$f":"ROUND(AC194,0)","v":124242},{"$f":"ROUND(AD194,0)","v":192718},{"$f":"ROUND(AE194,0)","v":193870},{"$f":"ROUND(AF194,0)","v":197759},{"$f":"ROUND(AG194,0)","v":201217},{"$f":"ROUND(AH194,0)","v":204242},null,112717.81831067652,113870.19673738717,117759.47392753568,121216.60920766769,124241.6025777832,192717.81831067652,193870.19673738719,197759.4739275357,201216.6092076677,204241.6025777832]
["MADERA45%","45%",121505,123377,129139,134325,138790,201505,203377,209139,214325,218790,null,{"$f":"ROUND(Y195,0)","v":121505},123377,129139,134325,138790,201505,203377,209139,214325,218790,null,121504.70381434535,123377.31875775018,129139.21089130352,134324.91381150152,138790.38021500537,201504.70381434535,203377.31875775018,209139.21089130352,214324.91381150152,218790.38021500537]
["MADERA40%","40%",130292,132740,140375,147289,153339,210292,212740,220375,227289,233339,null,130292,132740,140375,147289,153339,210292,212740,220375,227289,233339,null,130291.58931801419,132740.39347477435,140374.90055173251,147289.17111199655,153339.15785222754,210291.58931801419,212740.39347477435,220374.90055173251,227289.17111199655,233339.15785222754]
["MADERA35%","35%",139223,142248,151755,160397,168032,219223,222248,231755,240397,248032,null,139223,142248,151755,160397,168032,219223,222248,231755,240397,248032,null,139222.52212502185,142247.51549513737,151754.63751550036,160397.47571583037,168031.98279278853,219222.52212502185,222247.51549513737,231754.63751550036,240397.47571583037,248031.98279278853]
["MADERA30%","30%",148009,151755,163134,173506,182581,228009,231755,243134,253506,262581,null,148009,151755,163134,173506,182581,228009,231755,243134,253506,262581,null,148009.40762869071,151754.63751550036,163134.37447926821,173505.78031966422,182580.76043001073,228009.40762869071,231754.63751550036,243134.37447926821,253505.78031966422,262580.76043001073]
["MADERA25%","25%",156796,161118,174514,186614,197274,236796,241118,254514,266614,277274,null,156796,161118,174514,186614,197274,236796,241118,254514,266614,277274,null,156796.29313235954,161117.71223252453,174514.11144303606,186614.08492349804,197273.58537057176,236796.29313235954,241117.71223252453,254514.11144303606,266614.08492349804,277273.58537057176]
["MADERA20%","20%",165583,170625,185750,199722,211822,245583,250625,265750,279722,291822,null,165583,170625,185750,199722,211822,245583,250625,265750,279722,291822,null,165583.17863602837,170624.83425288755,185749.80110346506,199722.38952733192,211822.3630077939,245583.17863602837,250624.83425288755,265749.80110346503,279722.38952733192,291822.3630077939]
["MADERA15%","15%",174514,180132,197130,212831,226371,254514,260132,277130,292831,306371,null,174514,180132,197130,212831,226371,254514,260132,277130,292831,306371,null,174514.11144303606,180131.95627325057,197129.53806723293,212830.69413116574,226371.1406450161,254514.11144303606,260131.95627325057,277129.53806723293,292830.69413116574,306371.1406450161]
["MARIN60%","60%",95000,95000,95000,95000,95000,175000,175000,175000,175000,175000,null,95000,95000,95000,95000,95000,175000,175000,175000,175000,175000,null,95000,95000,95000,95000,95000,175000,175000,175000,175000,175000]
["MARIN55%","55%",117039,118480,123233,127699,131300,197039,198480,203233,207699,211300,null,117039,118480,123233,127699,131300,197039,198480,203233,207699,211300,null,117039.23741084151,118479.71044422984,123233.27145441136,127698.73785791518,131299.92044138603,197039.23741084151,198479.71044422986,203233.27145441136,207698.7378579152,211299.92044138603]
["MARIN50%","50%",138934,141959,151467,160253,167744,218934,221959,231467,240253,247744,null,138934,141959,151467,160253,167744,218934,221959,231467,240253,247744,null,138934.42751834419,141959.42088845969,151466.54290882271,160253.42841249154,167743.88818611088,218934.42751834419,221959.42088845969,231466.54290882271,240253.42841249154,247743.88818611088]
["MARIN45%","45%",160830,165439,179700,192808,204044,240830,245439,259700,272808,284044,null,160830,165439,179700,192808,204044,240830,245439,259700,272808,284044,null,160829.61762584688,165439.13133268955,179699.81436323409,192808.11896706792,204043.80862749694,240829.61762584688,245439.13133268955,259699.81436323409,272808.11896706792,284043.80862749694]
["MARIN40%","40%",182725,188919,207789,225363,240344,262725,268919,287789,305363,320344,null,182725,188919,207789,225363,240344,262725,268919,287789,305363,320344,null,182724.80773334956,188918.84177691938,207789.03851430659,225362.80952164426,240343.72906888294,262724.80773334956,268918.84177691938,287789.03851430659,305362.80952164426,320343.72906888294]
["MARIN35%","35%",204764,212543,236022,258062,276788,284764,292543,316022,338062,356788,null,204764,212543,236022,258062,276788,284764,292543,316022,338062,356788,null,204764.04514419107,212542.59952448809,236022.30996871795,258061.54737955943,276787.69681360782,284764.04514419107,292542.59952448809,316022.30996871798,338061.54737955943,356787.69681360782]
["MARIN30%","30%",226659,236022,264256,290616,313088,306659,316022,344256,370616,393088,null,226659,236022,264256,290616,313088,306659,316022,344256,370616,393088,null,226659.23525169378,236022.30996871795,264255.5814231293,290616.23793413583,313087.61725499388,306659.23525169375,316022.30996871798,344255.5814231293,370616.23793413583,393087.61725499388]
["MARIN25%","25%",248554,259502,292489,323171,349532,328554,339502,372489,403171,429532,null,248554,259502,292489,323171,349532,328554,339502,372489,403171,429532,null,248554.42535919644,259502.02041294778,292488.85287754063,323170.92848871218,349531.5849997187,328554.42535919644,339502.02041294775,372488.85287754063,403170.92848871218,429531.5849997187]
["MARIN20%","20%",270450,282982,320578,355726,385832,350450,362982,400578,435726,465832,null,270450,282982,320578,355726,385832,350450,362982,400578,435726,465832,null,270449.61546669912,282981.73085717764,320578.07702861319,355725.61904328852,385831.5054411047,350449.61546669912,362981.73085717764,400578.07702861319,435725.61904328852,465831.5054411047]
["MARIN15%","15%",292489,306461,348811,388424,422131,372489,386461,428811,468424,502131,null,292489,306461,348811,388424,422131,372489,386461,428811,468424,502131,null,292488.85287754063,306461.44130140741,348811.34848302451,388424.35690120369,422131.42588249076,372488.85287754063,386461.44130140741,428811.34848302451,468424.35690120369,502131.42588249076]
["MARIPOSA60%","60%",95000,95000,95000,95000,95000,175000,175000,175000,175000,175000,null,95000,95000,95000,95000,95000,175000,175000,175000,175000,175000,null,95000,95000,95000,95000,95000,175000,175000,175000,175000,175000]
["MARIPOSA55%","55%",103931,104507,106380,108108,109549,183931,184507,186380,188108,189549,null,103931,104507,106380,108108,109549,183931,184507,186380,188108,189549,null,103930.93280700767,104507.12202036301,106379.73696376785,108108.30460383385,109548.77763722217,183930.93280700769,184507.12202036299,186379.73696376785,188108.30460383385,189548.77763722217]
["MARIPOSA50%","50%",112718,113870,117759,121217,124242,192718,193870,197759,201217,204242,null,112718,113870,117759,121217,124242,192718,193870,197759,201217,204242,null,112717.81831067652,113870.19673738717,117759.47392753568,121216.60920766769,124241.6025777832,192717.81831067652,193870.19673738719,197759.4739275357,201216.6092076677,204241.6025777832]
["MARIPOSA45%","45%",121505,123377,129139,134325,138790,201505,203377,209139,214325,218790,null,121505,123377,129139,134325,138790,201505,203377,209139,214325,218790,null,121504.70381434535,123377.31875775018,129139.21089130352,134324.91381150152,138790.38021500537,201504.70381434535,203377.31875775018,209139.21089130352,214324.91381150152,218790.38021500537]
["MARIPOSA40%","40%",130292,132740,140375,147289,153339,210292,212740,220375,227289,233339,null,130292,132740,140375,147289,153339,210292,212740,220375,227289,233339,null,130291.58931801419,132740.39347477435,140374.90055173251,147289.17111199655,153339.15785222754,210291.58931801419,212740.39347477435,220374.90055173251,227289.17111199655,233339.15785222754]
["MARIPOSA35%","35%",139223,142248,151755,160397,168032,219223,222248,231755,240397,248032,null,139223,142248,151755,160397,168032,219223,222248,231755,240397,248032,null,139222.52212502185,142247.51549513737,151754.63751550036,160397.47571583037,168031.98279278853,219222.52212502185,222247.51549513737,231754.63751550036,240397.47571583037,248031.98279278853]
["MARIPOSA30%","30%",148009,151755,163134,173506,182581,228009,231755,243134,253506,262581,null,148009,151755,163134,173506,182581,228009,231755,243134,253506,262581,null,148009.40762869071,151754.63751550036,163134.37447926821,173505.78031966422,182580.76043001073,228009.40762869071,231754.63751550036,243134.37447926821,253505.78031966422,262580.76043001073]
["MARIPOSA25%","25%",156796,161118,174514,186614,197274,236796,241118,254514,266614,277274,null,156796,161118,174514,186614,197274,236796,241118,254514,266614,277274,null,156796.29313235954,161117.71223252453,174514.11144303606,186614.08492349804,197273.58537057176,236796.29313235954,241117.71223252453,254514.11144303606,266614.08492349804,277273.58537057176]
["MARIPOSA20%","20%",165583,170625,185750,199722,211822,245583,250625,265750,279722,291822,null,165583,170625,185750,199722,211822,245583,250625,265750,279722,291822,null,165583.17863602837,170624.83425288755,185749.80110346506,199722.38952733192,211822.3630077939,245583.17863602837,250624.83425288755,265749.80110346503,279722.38952733192,291822.3630077939]
["MARIPOSA15%","15%",174514,180132,197130,212831,226371,254514,260132,277130,292831,306371,null,174514,180132,197130,212831,226371,254514,260132,277130,292831,306371,null,174514.11144303606,180131.95627325057,197129.53806723293,212830.69413116574,226371.1406450161,254514.11144303606,260131.95627325057,277129.53806723293,292830.69413116574,306371.1406450161]
["MENDOCINO60%","60%",95000,95000,95000,95000,95000,175000,175000,175000,175000,175000,null,95000,95000,95000,95000,95000,175000,175000,175000,175000,175000,null,95000,95000,95000,95000,95000,175000,175000,175000,175000,175000]
["MENDOCINO55%","55%",103931,104507,106380,108108,109549,183931,184507,186380,188108,189549,null,103931,104507,106380,108108,109549,183931,184507,186380,188108,189549,null,103930.93280700767,104507.12202036301,106379.73696376785,108108.30460383385,109548.77763722217,183930.93280700769,184507.12202036299,186379.73696376785,188108.30460383385,189548.77763722217]
["MENDOCINO50%","50%",112718,113870,117759,121217,124242,192718,193870,197759,201217,204242,null,112718,113870,117759,121217,124242,192718,193870,197759,201217,204242,null,112717.81831067652,113870.19673738717,117759.47392753568,121216.60920766769,124241.6025777832,192717.81831067652,193870.19673738719,197759.4739275357,201216.6092076677,204241.6025777832]
["MENDOCINO45%","45%",121505,123377,129139,134325,138790,201505,203377,209139,214325,218790,null,121505,123377,129139,134325,138790,201505,203377,209139,214325,218790,null,121504.70381434535,123377.31875775018,129139.21089130352,134324.91381150152,138790.38021500537,201504.70381434535,203377.31875775018,209139.21089130352,214324.91381150152,218790.38021500537]
["MENDOCINO40%","40%",130292,132740,140375,147289,153339,210292,212740,220375,227289,233339,null,130292,132740,140375,147289,153339,210292,212740,220375,227289,233339,null,130291.58931801419,132740.39347477435,140374.90055173251,147289.17111199655,153339.15785222754,210291.58931801419,212740.39347477435,220374.90055173251,227289.17111199655,233339.15785222754]
["MENDOCINO35%","35%",139223,142248,151755,160397,168032,219223,222248,231755,240397,248032,null,139223,142248,151755,160397,168032,219223,222248,231755,240397,248032,null,139222.52212502185,142247.51549513737,151754.63751550036,160397.47571583037,168031.98279278853,219222.52212502185,222247.51549513737,231754.63751550036,240397.47571583037,248031.98279278853]
["MENDOCINO30%","30%",148009,151755,163134,173506,182581,228009,231755,243134,253506,262581,null,148009,151755,163134,173506,182581,228009,231755,243134,253506,262581,null,148009.40762869071,151754.63751550036,163134.37447926821,173505.78031966422,182580.76043001073,228009.40762869071,231754.63751550036,243134.37447926821,253505.78031966422,262580.76043001073]
["MENDOCINO25%","25%",156796,161118,174514,186614,197274,236796,241118,254514,266614,277274,null,156796,161118,174514,186614,197274,236796,241118,254514,266614,277274,null,156796.29313235954,161117.71223252453,174514.11144303606,186614.08492349804,197273.58537057176,236796.29313235954,241117.71223252453,254514.11144303606,266614.08492349804,277273.58537057176]
["MENDOCINO20%","20%",165583,170625,185750,199722,211822,245583,250625,265750,279722,291822,null,165583,170625,185750,199722,211822,245583,250625,265750,279722,291822,null,165583.17863602837,170624.83425288755,185749.80110346506,199722.38952733192,211822.3630077939,245583.17863602837,250624.83425288755,265749.80110346503,279722.38952733192,291822.3630077939]
["MENDOCINO15%","15%",174514,180132,197130,212831,226371,254514,260132,277130,292831,306371,null,174514,180132,197130,212831,226371,254514,260132,277130,292831,306371,null,174514.11144303606,180131.95627325057,197129.53806723293,212830.69413116574,226371.1406450161,254514.11144303606,260131.95627325057,277129.53806723293,292830.69413116574,306371.1406450161]
["MERCED60%","60%",95000,95000,95000,95000,95000,175000,175000,175000,175000,175000,null,95000,95000,95000,95000,95000,175000,175000,175000,175000,175000,null,95000,95000,95000,95000,95000,175000,175000,175000,175000,175000]
["MERCED55%","55%",103931,104507,106380,108108,109549,183931,184507,186380,188108,189549,null,103931,104507,106380,108108,109549,183931,184507,186380,188108,189549,null,103930.93280700767,104507.12202036301,106379.73696376785,108108.30460383385,109548.77763722217,183930.93280700769,184507.12202036299,186379.73696376785,188108.30460383385,189548.77763722217]
["MERCED50%","50%",112718,113870,117759,121217,124242,192718,193870,197759,201217,204242,null,112718,113870,117759,121217,124242,192718,193870,197759,201217,204242,null,112717.81831067652,113870.19673738717,117759.47392753568,121216.60920766769,124241.6025777832,192717.81831067652,193870.19673738719,197759.4739275357,201216.6092076677,204241.6025777832]
["MERCED45%","45%",121505,123377,129139,134325,138790,201505,203377,209139,214325,218790,null,121505,123377,129139,134325,138790,201505,203377,209139,214325,218790,null,121504.70381434535,123377.31875775018,129139.21089130352,134324.91381150152,138790.38021500537,201504.70381434535,203377.31875775018,209139.21089130352,214324.91381150152,218790.38021500537]
["MERCED40%","40%",130292,132740,140375,147289,153339,210292,212740,220375,227289,233339,null,130292,132740,140375,147289,153339,210292,212740,220375,227289,233339,null,130291.58931801419,132740.39347477435,140374.90055173251,147289.17111199655,153339.15785222754,210291.58931801419,212740.39347477435,220374.90055173251,227289.17111199655,233339.15785222754]
["MERCED35%","35%",139223,142248,151755,160397,168032,219223,222248,231755,240397,248032,null,139223,142248,151755,160397,168032,219223,222248,231755,240397,248032,null,139222.52212502185,142247.51549513737,151754.63751550036,160397.47571583037,168031.98279278853,219222.52212502185,222247.51549513737,231754.63751550036,240397.47571583037,248031.98279278853]
["MERCED30%","30%",148009,151755,163134,173506,182581,228009,231755,243134,253506,262581,null,148009,151755,163134,173506,182581,228009,231755,243134,253506,262581,null,148009.40762869071,151754.63751550036,163134.37447926821,173505.78031966422,182580.76043001073,228009.40762869071,231754.63751550036,243134.37447926821,253505.78031966422,262580.76043001073]
["MERCED25%","25%",156796,161118,174514,186614,197274,236796,241118,254514,266614,277274,null,156796,161118,174514,186614,197274,236796,241118,254514,266614,277274,null,156796.29313235954,161117.71223252453,174514.11144303606,186614.08492349804,197273.58537057176,236796.29313235954,241117.71223252453,254514.11144303606,266614.08492349804,277273.58537057176]
["MERCED20%","20%",165583,170625,185750,199722,211822,245583,250625,265750,279722,291822,null,165583,170625,185750,199722,211822,245583,250625,265750,279722,291822,null,165583.17863602837,170624.83425288755,185749.80110346506,199722.38952733192,211822.3630077939,245583.17863602837,250624.83425288755,265749.80110346503,279722.38952733192,291822.3630077939]
["MERCED15%","15%",174514,180132,197130,212831,226371,254514,260132,277130,292831,306371,null,174514,180132,197130,212831,226371,254514,260132,277130,292831,306371,null,174514.11144303606,180131.95627325057,197129.53806723293,212830.69413116574,226371.1406450161,254514.11144303606,260131.95627325057,277129.53806723293,292830.69413116574,306371.1406450161]
["MODOC60%","60%",95000,95000,95000,95000,95000,175000,175000,175000,175000,175000,null,95000,95000,95000,95000,95000,175000,175000,175000,175000,175000,null,95000,95000,95000,95000,95000,175000,175000,175000,175000,175000]
["MODOC55%","55%",103931,104507,106380,108108,109549,183931,184507,186380,188108,189549,null,103931,104507,106380,108108,109549,183931,184507,186380,188108,189549,null,103930.93280700767,104507.12202036301,106379.73696376785,108108.30460383385,109548.77763722217,183930.93280700769,184507.12202036299,186379.73696376785,188108.30460383385,189548.77763722217]
["MODOC50%","50%",112718,113870,117759,121217,124242,192718,193870,197759,201217,204242,null,112718,113870,117759,121217,124242,192718,193870,197759,201217,204242,null,112717.81831067652,113870.19673738717,117759.47392753568,121216.60920766769,124241.6025777832,192717.81831067652,193870.19673738719,197759.4739275357,201216.6092076677,204241.6025777832]
["MODOC45%","45%",121505,123377,129139,134325,138790,201505,203377,209139,214325,218790,null,121505,123377,129139,134325,138790,201505,203377,209139,214325,218790,null,121504.70381434535,123377.31875775018,129139.21089130352,134324.91381150152,138790.38021500537,201504.70381434535,203377.31875775018,209139.21089130352,214324.91381150152,218790.38021500537]
["MODOC40%","40%",130292,132740,140375,147289,153339,210292,212740,220375,227289,233339,null,130292,132740,140375,147289,153339,210292,212740,220375,227289,233339,null,130291.58931801419,132740.39347477435,140374.90055173251,147289.17111199655,153339.15785222754,210291.58931801419,212740.39347477435,220374.90055173251,227289.17111199655,233339.15785222754]
["MODOC35%","35%",139223,142248,151755,160397,168032,219223,222248,231755,240397,248032,null,139223,142248,151755,160397,168032,219223,222248,231755,240397,248032,null,139222.52212502185,142247.51549513737,151754.63751550036,160397.47571583037,168031.98279278853,219222.52212502185,222247.51549513737,231754.63751550036,240397.47571583037,248031.98279278853]
["MODOC30%","30%",148009,151755,163134,173506,182581,228009,231755,243134,253506,262581,null,148009,151755,163134,173506,182581,228009,231755,243134,253506,262581,null,148009.40762869071,151754.63751550036,163134.37447926821,173505.78031966422,182580.76043001073,228009.40762869071,231754.63751550036,243134.37447926821,253505.78031966422,262580.76043001073]
["MODOC25%","25%",156796,161118,174514,186614,197274,236796,241118,254514,266614,277274,null,156796,161118,174514,186614,197274,236796,241118,254514,266614,277274,null,156796.29313235954,161117.71223252453,174514.11144303606,186614.08492349804,197273.58537057176,236796.29313235954,241117.71223252453,254514.11144303606,266614.08492349804,277273.58537057176]
["MODOC20%","20%",165583,170625,185750,199722,211822,245583,250625,265750,279722,291822,null,165583,170625,185750,199722,211822,245583,250625,265750,279722,291822,null,165583.17863602837,170624.83425288755,185749.80110346506,199722.38952733192,211822.3630077939,245583.17863602837,250624.83425288755,265749.80110346503,279722.38952733192,291822.3630077939]
["MODOC15%","15%",174514,180132,197130,212831,226371,254514,260132,277130,292831,306371,null,174514,180132,197130,212831,226371,254514,260132,277130,292831,306371,null,174514.11144303606,180131.95627325057,197129.53806723293,212830.69413116574,226371.1406450161,254514.11144303606,260131.95627325057,277129.53806723293,292830.69413116574,306371.1406450161]
["MONO60%","60%",95000,95000,95000,95000,95000,175000,175000,175000,175000,175000,null,95000,95000,95000,95000,95000,175000,175000,175000,175000,175000,null,95000,95000,95000,95000,95000,175000,175000,175000,175000,175000]
["MONO55%","55%",105227,105948,108108,110125,111854,185227,185948,188108,190125,191854,null,105227,105948,108108,110125,111854,185227,185948,188108,190125,191854,null,105227.35853705718,105947.59505375134,108108.30460383385,110124.9668505775,111853.53449064351,185227.35853705718,185947.59505375134,188108.30460383385,190124.9668505775,191853.53449064351]
["MONO50%","50%",115455,116895,121217,125394,128851,195455,196895,201217,205394,208851,null,115455,116895,121217,125394,128851,195455,196895,201217,205394,208851,null,115454.71707411435,116895.19010750268,121216.60920766769,125393.98100449385,128851.11628462587,195454.71707411436,196895.19010750268,201216.6092076677,205393.98100449386,208851.11628462587]
["MONO45%","45%",125682,127843,134325,140519,145705,205682,207843,214325,220519,225705,null,125682,127843,134325,140519,145705,205682,207843,214325,220519,225705,null,125682.07561117152,127842.78516125403,134324.91381150152,140518.94785507137,145704.65077526937,205682.07561117152,207842.78516125403,214324.91381150152,220518.94785507137,225704.65077526937]
["MONO40%","40%",135765,138790,147433,155644,162558,215765,218790,227433,235644,242558,null,135765,138790,147433,155644,162558,215765,218790,227433,235644,242558,null,135765.38684488984,138790.38021500537,147433.21841533537,155643.91470564887,162558.18526591288,215765.38684488984,218790.38021500537,227433.21841533537,235643.91470564887,242558.18526591288]
["MONO35%","35%",145993,149738,160686,170769,179556,225993,229738,240686,250769,259556,null,145993,149738,160686,170769,179556,225993,229738,240686,250769,259556,null,145992.74538194702,149737.97526875671,160685.57032250805,170768.88155622641,179555.76705989521,225992.74538194702,229737.97526875671,240685.57032250805,250768.88155622641,259555.76705989521]
["MONO30%","30%",156220,160686,173794,185894,196409,236220,240686,253794,265894,276409,null,156220,{"$f":"ROUND(Z258,0)","v":160686},{"$f":"ROUND(AA258,0)","v":173794},{"$f":"ROUND(AB258,0)","v":185894},{"$f":"ROUND(AC258,0)","v":196409},{"$f":"ROUND(AD258,0)","v":236220},{"$f":"ROUND(AE258,0)","v":240686},{"$f":"ROUND(AF258,0)","v":253794},{"$f":"ROUND(AG258,0)","v":265894},{"$f":"ROUND(AH258,0)","v":276409},null,156220.10391900421,160685.57032250805,173793.8749263419,185893.84840680391,196409.30155053874,236220.10391900421,240685.57032250805,253793.8749263419,265893.84840680391,276409.30155053874]
["MONO25%","25%",166447,171633,186902,201163,213407,246447,251633,266902,281163,293407,null,{"$f":"ROUND(Y259,0)","v":166447},171633,186902,201163,213407,246447,251633,266902,281163,293407,null,166447.46245606139,171633.16537625939,186902.17953017575,201162.86256072024,213406.88334452111,246447.46245606139,251633.16537625939,266902.17953017575,281162.86256072024,293406.88334452111]
["MONO20%","20%",176675,182581,200010,216288,230260,256675,262581,280010,296288,310260,null,176675,182581,200010,216288,230260,256675,262581,280010,296288,310260,null,176674.82099311857,182580.76043001073,200010.48413400957,216287.82941129775,230260.41783516458,256674.82099311857,262580.76043001073,280010.48413400957,296287.82941129775,310260.41783516458]
["MONO15%","15%",186902,193528,213119,231413,247114,266902,273528,293119,311413,327114,null,186902,193528,213119,231413,247114,266902,273528,293119,311413,327114,null,186902.17953017575,193528.35548376208,213118.78873784345,231412.79626187525,247113.95232580812,266902.17953017575,273528.3554837621,293118.78873784345,311412.79626187525,327113.95232580812]
["MONTEREY60%","60%",95000,95000,95000,95000,95000,175000,175000,175000,175000,175000,null,95000,95000,95000,95000,95000,175000,175000,175000,175000,175000,null,95000,95000,95000,95000,95000,175000,175000,175000,175000,175000]
["MONTEREY55%","55%",107244,108108,110701,113150,115311,187244,188108,190701,193150,195311,null,107244,108108,110701,113150,115311,187244,188108,190701,193150,195311,null,107244.02078380084,108108.30460383385,110701.15606393284,113149.96022069301,115310.66977077551,187244.02078380084,188108.30460383385,190701.15606393284,193149.960220693,195310.66977077551]
["MONTEREY50%","50%",119488,121217,126402,131300,135477,199488,201217,206402,211300,215477,null,119488,121217,126402,131300,135477,199488,201217,206402,211300,215477,null,119488.04156760169,121216.60920766769,126402.31212786569,131299.92044138603,135477.29223821219,199488.04156760167,201216.6092076677,206402.31212786568,211299.92044138603,215477.29223821219]
["MONTEREY45%","45%",131732,134325,142103,149450,155788,211732,214325,222103,229450,235788,null,131732,134325,142103,149450,155788,211732,214325,222103,229450,235788,null,131732.06235140254,134324.91381150152,142103.46819179854,149449.88066207903,155787.9620089877,211732.06235140254,214324.91381150152,222103.46819179854,229449.88066207903,235787.9620089877]
["MONTEREY40%","40%",143832,147433,157805,167600,175955,223832,227433,237805,247600,255955,null,143832,147433,157805,167600,175955,223832,227433,237805,247600,255955,null,143832.03583186452,147433.21841533537,157804.62425573138,167599.84088277206,175954.58447642438,223832.03583186452,227433.21841533537,237804.62425573138,247599.84088277206,255954.58447642438]
["MONTEREY35%","35%",156076,160542,173650,185750,196265,236076,240542,253650,265750,276265,null,156076,160542,173650,185750,196265,236076,240542,253650,265750,276265,null,156076.05661566538,160541.52301916922,173649.82762300305,185749.80110346506,196265.25424719992,236076.05661566538,240541.52301916922,253649.82762300305,265749.80110346503,276265.25424719992]
["MONTEREY30%","30%",168320,173650,189351,203900,216576,248320,253650,269351,283900,296576,null,168320,173650,189351,203900,216576,248320,253650,269351,283900,296576,null,168320.07739946622,173649.82762300305,189350.98368693591,203899.76132415805,216575.9240179754,248320.07739946622,253649.82762300305,269350.98368693591,283899.76132415805,296575.9240179754]
["MONTEREY25%","25%",180564,186758,205052,222050,236743,260564,266758,285052,302050,316743,null,180564,186758,205052,222050,236743,260564,266758,285052,302050,316743,null,180564.09818326705,186758.13222683693,205052.13975086872,222049.72154485108,236742.54648541211,260564.09818326705,266758.13222683693,285052.13975086872,302049.72154485108,316742.54648541211]
["MONTEREY20%","20%",192808,199866,220753,240200,257053,272808,279866,300753,320200,337053,null,192808,199866,220753,240200,257053,272808,279866,300753,320200,337053,null,192808.11896706792,199866.43683067075,220753.29581480159,240199.68176554408,257053.21625618762,272808.11896706792,279866.43683067075,300753.29581480159,320199.68176554411,337053.21625618765]
["MONTEREY15%","15%",205052,212975,236454,258350,277364,285052,292975,316454,338350,357364,null,205052,212975,236454,258350,277364,285052,292975,316454,338350,357364,null,205052.13975086872,212974.74143450457,236454.45187873443,258349.64198623711,277363.88602696313,285052.13975086872,292974.74143450457,316454.4518787344,338349.64198623714,357363.88602696313]
["NAPA60%","60%",95000,95000,95000,95000,95000,175000,175000,175000,175000,175000,null,95000,95000,95000,95000,95000,175000,175000,175000,175000,175000,null,95000,95000,95000,95000,95000,175000,175000,175000,175000,175000]
["NAPA55%","55%",108684,109693,112574,115311,117615,188684,189693,192574,195311,197615,null,108684,109693,112574,115311,117615,188684,189693,192574,195311,197615,null,108684.49381718918,109692.82494056101,112573.77100733768,115310.66977077551,117615.42662419686,188684.49381718918,189692.82494056103,192573.77100733767,195310.66977077551,197615.42662419684]
["NAPA50%","50%",122369,124242,130148,135477,140231,202369,204242,210148,215477,220231,null,122369,124242,130148,135477,140231,202369,204242,210148,215477,220231,null,122368.98763437835,124241.6025777832,130147.54201467536,135477.29223821219,140230.85324839372,202368.98763437837,204241.6025777832,210147.54201467536,215477.29223821219,220230.85324839372]
["NAPA45%","45%",136053,138934,147721,155788,162846,216053,218934,227721,235788,242846,null,136053,138934,147721,155788,162846,216053,218934,227721,235788,242846,null,136053.48145156752,138934.42751834419,147721.31302201306,155787.9620089877,162846.27987259056,216053.48145156752,218934.42751834419,227721.31302201306,235787.9620089877,242846.27987259056]
["NAPA40%","40%",149594,153483,165151,176099,185462,229594,233483,245151,256099,265462,null,149594,153483,165151,176099,185462,229594,233483,245151,256099,265462,null,149593.92796541788,153483.20515556639,165151.03672601189,176098.63177976321,185461.70649678743,229593.92796541788,233483.20515556639,245151.03672601189,256098.63177976321,265461.70649678743]
["NAPA35%","35%",163278,168176,182725,196409,208221,243278,248176,262725,276409,288221,null,163278,168176,182725,196409,208221,243278,248176,262725,276409,288221,null,163278.42178260704,168176.03009612736,182724.80773334956,196409.30155053874,208221.18042432307,243278.42178260704,248176.03009612736,262724.80773334956,276409.30155053874,288221.18042432307]
["NAPA30%","30%",176963,182869,200299,216720,230837,256963,262869,280299,296720,310837,null,176963,182869,200299,216720,230837,256963,262869,280299,296720,310837,null,176962.91559979622,182868.85503668839,200298.57874068726,216719.97132131425,230836.60704851992,256962.91559979622,262868.85503668839,280298.57874068723,296719.97132131422,310836.60704851989]
["NAPA25%","25%",190647,197418,217872,236887,253452,270647,277418,297872,316887,333452,null,190647,197418,217872,236887,253452,270647,277418,297872,316887,333452,null,190647.40941698541,197417.63267391056,217872.34974802489,236886.59378875094,253452.03367271679,270647.40941698541,277417.63267391059,297872.34974802489,316886.59378875094,333452.03367271682]
["NAPA20%","20%",204332,212110,235446,257197,276067,284332,292110,315446,337197,356067,null,204332,212110,235446,257197,276067,284332,292110,315446,337197,356067,null,204331.90323417456,212110.45761447158,235446.12075536262,257197.26355952644,276067.46029691357,284331.90323417459,292110.45761447155,315446.12075536262,337197.26355952641,356067.46029691357]
["NAPA15%","15%",218016,226803,253020,277508,298683,298016,306803,333020,357508,378683,null,218016,226803,253020,277508,298683,298016,306803,333020,357508,378683,null,218016.39705136372,226803.28255503261,253019.89176270028,277507.93333030189,298682.88692111045,298016.39705136372,306803.28255503264,333019.89176270028,357507.93333030189,378682.88692111045]
["NEVADA60%","60%",95000,95000,95000,95000,95000,175000,175000,175000,175000,175000,null,95000,95000,95000,95000,95000,175000,175000,175000,175000,175000,null,95000,95000,95000,95000,95000,175000,175000,175000,175000,175000]
["NEVADA55%","55%",105948,106668,108973,111133,113006,185948,186668,188973,191133,193006,null,105948,106668,108973,111133,113006,185948,186668,188973,191133,193006,null,105947.59505375134,106667.8315704455,108972.58842386684,111133.29797394935,113005.91291735417,185947.59505375134,186667.8315704455,188972.58842386684,191133.29797394935,193005.91291735417]
["NEVADA50%","50%",116751,118192,122945,127123,131012,196751,198192,202945,207123,211012,null,116751,118192,122945,127123,131012,196751,198192,202945,207123,211012,null,116751.14280416384,118191.61583755218,122945.17684773367,127122.54864455985,131011.82583470836,196751.14280416386,198191.61583755218,202945.17684773367,207122.54864455987,211011.82583470835]
["NEVADA45%","45%",127555,129859,136918,143256,149018,207555,209859,216918,223256,229018,null,127555,129859,136918,143256,149018,207555,209859,216918,223256,229018,null,127554.69055457636,129859.44740799769,136917.76527160054,143255.84661850921,149017.73875206255,207554.69055457634,209859.44740799768,216917.76527160054,223255.84661850921,229017.73875206255]
["NEVADA40%","40%",138358,141383,150746,159389,166880,218358,221383,230746,239389,246880,null,138358,141383,150746,159389,166880,218358,221383,230746,239389,246880,null,138358.23830498886,141383.23167510435,150746.30639212855,159389.14459245856,166879.60436607787,218358.23830498886,221383.23167510435,230746.30639212855,239389.14459245856,246879.60436607787]
["NEVADA35%","35%",149306,153051,164719,175522,184886,229306,233051,244719,255522,264886,null,149306,153051,164719,175522,184886,229306,233051,244719,255522,264886,null,149305.8333587402,153051.06324554986,164718.89481599539,175522.4425664079,184885.51728343207,229305.8333587402,233051.06324554986,244718.89481599539,255522.4425664079,264885.51728343207]
["NEVADA30%","30%",160109,164719,178691,191656,202891,240109,244719,258691,271656,282891,null,160109,164719,178691,191656,202891,240109,244719,258691,271656,282891,null,160109.38110915272,164718.89481599539,178691.48323986222,191655.74054035725,202891.43020078624,240109.38110915272,244718.89481599539,258691.48323986222,271655.74054035725,282891.43020078621]
["NEVADA25%","25%",170913,176243,192664,207645,220897,250913,256243,272664,287645,300897,null,170913,176243,192664,207645,220897,250913,256243,272664,287645,300897,null,170912.92885956523,176242.67908310206,192664.07166372906,207644.99121096777,220897.34311814042,250912.92885956523,256242.67908310206,272664.07166372903,287644.99121096777,300897.34311814042]
["NEVADA20%","20%",181716,187911,206493,223778,238759,261716,267911,286493,303778,318759,null,181716,187911,206493,223778,238759,261716,267911,286493,303778,318759,null,181716.47660997772,187910.51065354759,206492.6127842571,223778.28918491711,238759.20873215576,261716.47660997772,267910.51065354759,286492.6127842571,303778.28918491711,318759.20873215573]
["NEVADA15%","15%",192664,199578,220465,239912,256765,272664,279578,300465,319912,336765,null,192664,199578,220465,239912,256765,272664,279578,300465,319912,336765,null,192664.07166372906,199578.3422239931,220465.20120812391,239911.58715886643,256765.12164950994,272664.07166372903,279578.3422239931,300465.20120812394,319911.58715886646,336765.12164950994]
["ORANGE60%","60%",95000,95000,95000,95000,95000,175000,175000,175000,175000,175000,null,95000,95000,95000,95000,95000,175000,175000,175000,175000,175000,null,95000,95000,95000,95000,95000,175000,175000,175000,175000,175000]
["ORANGE55%","55%",111133,112286,115743,118912,121793,191133,192286,195743,198912,201793,null,111133,112286,115743,118912,121793,191133,192286,195743,198912,201793,null,111133.29797394935,112285.67640066001,115742.81168079202,118911.85235424635,121792.79842102302,191133.29797394935,192285.67640066001,195742.81168079202,198911.85235424634,201792.79842102301]
["ORANGE50%","50%",127267,129571,136486,142968,148586,207267,209571,216486,222968,228586,null,127267,129571,136486,142968,148586,207267,209571,216486,222968,228586,null,127266.59594789869,129571.35280132003,136485.62336158403,142967.75201183153,148585.59684204604,207266.59594789869,209571.35280132003,216485.62336158403,222967.75201183153,228585.59684204604]
["ORANGE45%","45%",143400,146857,157228,166880,175378,223400,226857,237228,246880,255378,null,143400,146857,157228,166880,175378,223400,226857,237228,246880,255378,null,143399.89392184804,146857.02920198004,157228.43504237605,166879.60436607787,175378.39526306908,223399.89392184804,226857.02920198004,237228.43504237605,246879.60436607787,255378.39526306908]
["ORANGE40%","40%",159533,164143,177971,190936,202027,239533,244143,257971,270936,282027,null,159533,164143,177971,190936,202027,239533,244143,257971,270936,282027,null,159533.19189579738,164142.70560264005,177971.24672316806,190935.50402366306,202027.14638075326,239533.19189579738,244142.70560264005,257971.24672316806,270935.50402366306,282027.14638075326]
["ORANGE35%","35%",175811,181572,198858,214991,228820,255811,261572,278858,294991,308820,null,175811,181572,198858,214991,228820,255811,261572,278858,294991,308820,null,175810.53717308555,181572.42930663889,198858.10570729888,214991.40368124825,228819.94480177626,255810.53717308555,261572.42930663889,278858.10570729885,294991.40368124825,308819.94480177626]
["ORANGE30%","30%",191944,198858,219601,238903,255613,271944,278858,299601,318903,335613,null,191944,198858,219601,238903,255613,271944,278858,299601,318903,335613,null,191943.8351470349,198858.10570729888,219600.91738809092,238903.25603549459,255612.74322279927,271943.8351470349,278858.10570729885,299600.91738809092,318903.25603549462,335612.74322279927]
["ORANGE25%","25%",208077,216144,240344,262959,282406,288077,296144,320344,342959,362406,null,208077,216144,240344,262959,282406,288077,296144,320344,342959,362406,null,208077.13312098425,216143.78210795889,240343.72906888294,262959.15569307981,282405.54164382233,288077.13312098425,296143.78210795892,320343.72906888294,342959.15569307981,362405.54164382233]
["ORANGE20%","20%",224210,233429,261087,286871,309054,304210,313429,341087,366871,389054,null,224210,233429,261087,286871,309054,304210,313429,341087,366871,389054,null,224210.43109493359,233429.45850861893,261086.54074967495,286871.00804732612,309054.29276150651,304210.43109493359,313429.45850861893,341086.54074967495,366871.00804732612,389054.29276150651]
["ORANGE15%","15%",240344,250715,281829,310927,335847,320344,330715,361829,390927,415847,null,240344,250715,281829,310927,335847,320344,330715,361829,390927,415847,null,240343.72906888294,250715.13490927895,281829.35243046697,310926.90770491131,335847.09118252946,320343.72906888294,330715.13490927895,361829.35243046697,390926.90770491131,415847.09118252946]
["PLACER60%","60%",95000,95000,95000,95000,95000,175000,175000,175000,175000,175000,null,95000,95000,95000,95000,95000,175000,175000,175000,175000,175000,null,95000,95000,95000,95000,95000,175000,175000,175000,175000,175000]
["PLACER55%","55%",105948,106668,108973,111277,113150,185948,186668,188973,191277,193150,null,105948,106668,108973,111277,113150,185948,186668,188973,191277,193150,null,105947.59505375134,106667.8315704455,108972.58842386684,111277.34527728817,113149.96022069301,185947.59505375134,186667.8315704455,188972.58842386684,191277.34527728817,193149.960220693]
["PLACER50%","50%",116751,118336,122945,127411,131156,196751,198336,202945,207411,211156,null,116751,118336,122945,127411,131156,196751,198336,202945,207411,211156,null,116751.14280416384,118335.66314089102,122945.17684773367,127410.64325123752,131155.8731380472,196751.14280416386,198335.663140891,202945.17684773367,207410.64325123752,211155.8731380472]
["PLACER45%","45%",127699,130003,136918,143544,149162,207699,210003,216918,223544,229162,null,127699,130003,136918,143544,149162,207699,210003,216918,223544,229162,null,127698.73785791518,130003.49471133653,136917.76527160054,143543.94122518686,149161.78605540138,207698.7378579152,210003.49471133653,216917.76527160054,223543.94122518686,229161.78605540138]
["PLACER40%","40%",138502,141671,150890,159677,167168,218502,221671,230890,239677,247168,null,138502,141671,150890,159677,167168,218502,221671,230890,239677,247168,null,138502.28560832769,141671.32628178204,150890.35369546735,159677.23919913621,167167.69897275555,218502.28560832769,221671.32628178204,230890.35369546735,239677.23919913621,247167.69897275555]
["PLACER35%","35%",149450,153339,165007,175955,185318,229450,233339,245007,255955,265318,null,149450,153339,165007,175955,185318,229450,233339,245007,255955,265318,null,149449.88066207903,153339.15785222754,165006.98942267307,175954.58447642438,185317.65919344855,229449.88066207903,233339.15785222754,245006.98942267307,255954.58447642438,265317.65919344855]
["PLACER30%","30%",160397,165007,178980,192088,203324,240397,245007,258980,272088,283324,null,160397,165007,178980,192088,203324,240397,245007,258980,272088,283324,null,160397.47571583037,165006.98942267307,178979.57784653991,192087.88245037373,203323.57211080275,240397.47571583037,245006.98942267307,258979.57784653991,272087.88245037373,283323.57211080275]
["PLACER25%","25%",171201,176675,192952,208221,221329,251201,256675,272952,288221,301329,null,171201,176675,192952,208221,221329,251201,256675,272952,288221,301329,null,171201.02346624288,176674.82099311857,192952.16627040674,208221.18042432307,221329.48502815695,251201.02346624288,256674.82099311857,272952.16627040674,288221.18042432307,301329.48502815695]
["PLACER20%","20%",182149,188343,206925,224354,239335,262149,268343,286925,304354,319335,null,182149,188343,206925,224354,239335,262149,268343,286925,304354,319335,null,182148.61851999423,188342.65256356407,206924.75469427358,224354.47839827242,239335.3979455111,262148.6185199942,268342.65256356407,286924.75469427358,304354.47839827242,319335.3979455111]
["PLACER15%","15%",193096,200010,220897,240632,257485,273096,280010,300897,320632,337485,null,193096,200010,220897,240632,257485,273096,280010,300897,320632,337485,null,193096.21357374557,200010.48413400957,220897.34311814042,240631.82367556059,257485.35816620413,273096.21357374557,280010.48413400957,300897.34311814042,320631.82367556059,337485.35816620413]
["PLUMAS60%","60%",95000,95000,95000,95000,95000,175000,175000,175000,175000,175000,null,95000,95000,95000,95000,95000,175000,175000,175000,175000,175000,null,95000,95000,95000,95000,95000,175000,175000,175000,175000,175000]
["PLUMAS55%","55%",104219,104795,106812,108540,110125,184219,184795,186812,188540,190125,null,104219,104795,106812,108540,110125,184219,184795,186812,188540,190125,null,104219.02741368534,104795.21662704067,106811.87887378434,108540.44651385034,110124.9668505775,184219.02741368534,184795.21662704067,186811.87887378433,188540.44651385036,190124.9668505775]
["PLUMAS50%","50%",113294,114590,118480,122081,125250,193294,194590,198480,202081,205250,null,113294,114590,118480,122081,125250,193294,194590,198480,202081,205250,null,113294.00752403184,114590.43325408135,118479.71044422984,122080.89302770069,125249.93370115502,193294.00752403185,194590.43325408135,198479.71044422986,202080.89302770069,205249.93370115501]
["PLUMAS45%","45%",122369,124386,130148,135621,140375,202369,204386,210148,215621,220375,null,122369,124386,130148,135621,140375,202369,204386,210148,215621,220375,null,122368.98763437835,124385.64988112202,130147.54201467536,135621.33954155102,140374.90055173251,202368.98763437837,204385.64988112202,210147.54201467536,215621.33954155102,220374.90055173251]
["PLUMAS40%","40%",131444,134037,141815,149018,155356,211444,214037,221815,229018,235356,null,131444,134037,141815,149018,155356,211444,214037,221815,229018,235356,null,131443.96774472485,134036.81920482387,141815.37358512089,149017.73875206255,155355.82009897122,211443.96774472485,214036.81920482387,221815.37358512089,229017.73875206255,235355.82009897122]
["PLUMAS35%","35%",140663,143832,153627,162558,170481,220663,223832,233627,242558,250481,null,140663,143832,153627,162558,170481,220663,223832,233627,242558,250481,null,140662.99515841019,143832.03583186452,153627.25245890522,162558.18526591288,170480.7869495487,220662.99515841019,223832.03583186452,233627.25245890522,242558.18526591288,250480.7869495487]
["PLUMAS30%","30%",149738,153627,165295,176099,185606,229738,233627,245295,256099,265606,null,149738,153627,165295,176099,185606,229738,233627,245295,256099,265606,null,149737.97526875671,153627.25245890522,165295.08402935072,176098.63177976321,185605.75380012623,229737.97526875671,233627.25245890522,245295.08402935072,256098.63177976321,265605.75380012626]
["PLUMAS25%","25%",158813,163422,176963,189639,200731,238813,243422,256963,269639,280731,null,158813,163422,176963,189639,200731,238813,243422,256963,269639,280731,null,158812.95537910319,163422.46908594586,176962.91559979622,189639.07829361357,200730.7206507037,238812.95537910319,243422.46908594586,256962.91559979622,269639.07829361357,280730.7206507037]
["PLUMAS20%","20%",167888,173074,188631,203180,215712,247888,253074,268631,283180,295712,null,167888,173074,188631,203180,215712,247888,253074,268631,283180,295712,null,167887.93548944971,173073.63840964771,188630.74717024175,203179.52480746389,215711.64019794244,247887.93548944971,253073.63840964771,268630.74717024178,283179.52480746387,295711.64019794244]
["PLUMAS15%","15%",177107,182869,200443,216720,230837,257107,262869,280443,296720,310837,null,177107,182869,200443,216720,230837,257107,262869,280443,296720,310837,null,177106.96290313505,182868.85503668839,200442.62604402608,216719.97132131425,230836.60704851992,257106.96290313505,262868.85503668839,280442.62604402611,296719.97132131422,310836.60704851989]
["RIVERSIDE60%","60%",95000,95000,95000,95000,95000,175000,175000,175000,175000,175000,null,95000,{"$f":"ROUND(Z322,0)","v":95000},{"$f":"ROUND(AA322,0)","v":95000},{"$f":"ROUND(AB322,0)","v":95000},{"$f":"ROUND(AC322,0)","v":95000},{"$f":"ROUND(AD322,0)","v":175000},{"$f":"ROUND(AE322,0)","v":175000},{"$f":"ROUND(AF322,0)","v":175000},{"$f":"ROUND(AG322,0)","v":175000},{"$f":"ROUND(AH322,0)","v":175000},null,95000,95000,95000,95000,95000,175000,175000,175000,175000,175000]
["RIVERSIDE55%","55%",104507,105227,107244,109117,110845,184507,185227,187244,189117,190845,null,{"$f":"ROUND(Y323,0)","v":104507},105227,107244,109117,110845,184507,185227,187244,189117,190845,null,104507.12202036301,105227.35853705718,107244.02078380084,109116.63572720568,110845.20336727168,184507.12202036299,185227.35853705718,187244.02078380084,189116.63572720566,190845.20336727169]
["RIVERSIDE50%","50%",114014,115455,119488,123233,126546,194014,195455,199488,203233,206546,null,114014,115455,119488,123233,126546,194014,195455,199488,203233,206546,null,114014.24404072601,115454.71707411435,119488.04156760169,123233.27145441136,126546.35943120452,194014.24404072601,195454.71707411436,199488.04156760167,203233.27145441136,206546.35943120453]
["RIVERSIDE45%","45%",123521,125538,131732,137350,142248,203521,205538,211732,217350,222248,null,123521,125538,131732,137350,142248,203521,205538,211732,217350,222248,null,123521.36606108902,125538.02830783269,131732.06235140254,137349.90718161705,142247.51549513737,203521.36606108901,205538.02830783269,211732.06235140254,217349.90718161705,222247.51549513737]
["RIVERSIDE40%","40%",133028,135765,143832,151467,157949,213028,215765,223832,231467,237949,null,133028,135765,143832,151467,157949,213028,215765,223832,231467,237949,null,133028.48808145203,135765.38684488984,143832.03583186452,151466.54290882271,157948.67155907021,213028.48808145203,215765.38684488984,223832.03583186452,231466.54290882271,237948.67155907021]
["RIVERSIDE35%","35%",142536,145993,156076,165583,173794,222536,225993,236076,245583,253794,null,142536,145993,156076,165583,173794,222536,225993,236076,245583,253794,null,142535.61010181502,145992.74538194702,156076.05661566538,165583.17863602837,173793.8749263419,222535.61010181502,225992.74538194702,236076.05661566538,245583.17863602837,253793.8749263419]
["RIVERSIDE30%","30%",152043,156076,168320,179700,189495,232043,236076,248320,259700,269495,null,152043,156076,168320,179700,189495,232043,236076,248320,259700,269495,null,152042.73212217804,156076.05661566538,168320.07739946622,179699.81436323409,189495.03099027471,232042.73212217804,236076.05661566538,248320.07739946622,259699.81436323409,269495.03099027474]
["RIVERSIDE25%","25%",161550,166303,180564,193816,205196,241550,246303,260564,273816,285196,null,161550,166303,180564,193816,205196,241550,246303,260564,273816,285196,null,161549.85414254107,166303.41515272256,180564.09818326705,193816.45009043973,205196.18705420761,241549.85414254107,246303.41515272256,260564.09818326705,273816.45009043976,285196.18705420761]
["RIVERSIDE20%","20%",171057,176531,192664,207933,220897,251057,256531,272664,287933,300897,null,171057,176531,192664,207933,220897,251057,256531,272664,287933,300897,null,171056.97616290406,176530.77368977971,192664.07166372906,207933.08581764542,220897.34311814042,251056.97616290406,256530.77368977971,272664.07166372903,287933.08581764542,300897.34311814042]
["RIVERSIDE15%","15%",180564,186614,204908,222050,236743,260564,266614,284908,302050,316743,null,180564,186614,204908,222050,236743,260564,266614,284908,302050,316743,null,180564.09818326705,186614.08492349804,204908.0924475299,222049.72154485108,236742.54648541211,260564.09818326705,266614.08492349804,284908.0924475299,302049.72154485108,316742.54648541211]
["SACRAMENTO60%","60%",95000,95000,95000,95000,95000,175000,175000,175000,175000,175000,null,95000,95000,95000,95000,95000,175000,175000,175000,175000,175000,null,95000,95000,95000,95000,95000,175000,175000,175000,175000,175000]
["SACRAMENTO55%","55%",105948,106668,108973,111277,113150,185948,186668,188973,191277,193150,null,105948,106668,108973,111277,113150,185948,186668,188973,191277,193150,null,105947.59505375134,106667.8315704455,108972.58842386684,111277.34527728817,113149.96022069301,185947.59505375134,186667.8315704455,188972.58842386684,191277.34527728817,193149.960220693]
["SACRAMENTO50%","50%",116751,118336,122945,127411,131156,196751,198336,202945,207411,211156,null,116751,118336,122945,127411,131156,196751,198336,202945,207411,211156,null,116751.14280416384,118335.66314089102,122945.17684773367,127410.64325123752,131155.8731380472,196751.14280416386,198335.663140891,202945.17684773367,207410.64325123752,211155.8731380472]
["SACRAMENTO45%","45%",127699,130003,136918,143544,149162,207699,210003,216918,223544,229162,null,127699,130003,136918,143544,149162,207699,210003,216918,223544,229162,null,127698.73785791518,130003.49471133653,136917.76527160054,143543.94122518686,149161.78605540138,207698.7378579152,210003.49471133653,216917.76527160054,223543.94122518686,229161.78605540138]
["SACRAMENTO40%","40%",138502,141671,150890,159677,167168,218502,221671,230890,239677,247168,null,138502,141671,150890,159677,167168,218502,221671,230890,239677,247168,null,138502.28560832769,141671.32628178204,150890.35369546735,159677.23919913621,167167.69897275555,218502.28560832769,221671.32628178204,230890.35369546735,239677.23919913621,247167.69897275555]
["SACRAMENTO35%","35%",149450,153339,165007,175955,185318,229450,233339,245007,255955,265318,null,149450,153339,165007,175955,185318,229450,233339,245007,255955,265318,null,149449.88066207903,153339.15785222754,165006.98942267307,175954.58447642438,185317.65919344855,229449.88066207903,233339.15785222754,245006.98942267307,255954.58447642438,265317.65919344855]
["SACRAMENTO30%","30%",160397,165007,178980,192088,203324,240397,245007,258980,272088,283324,null,160397,165007,178980,192088,203324,240397,245007,258980,272088,283324,null,160397.47571583037,165006.98942267307,178979.57784653991,192087.88245037373,203323.57211080275,240397.47571583037,245006.98942267307,258979.57784653991,272087.88245037373,283323.57211080275]
["SACRAMENTO25%","25%",171201,176675,192952,208221,221329,251201,256675,272952,288221,301329,null,171201,176675,192952,208221,221329,251201,256675,272952,288221,301329,null,171201.02346624288,176674.82099311857,192952.16627040674,208221.18042432307,221329.48502815695,251201.02346624288,256674.82099311857,272952.16627040674,288221.18042432307,301329.48502815695]
["SACRAMENTO20%","20%",182149,188343,206925,224354,239335,262149,268343,286925,304354,319335,null,182149,188343,206925,224354,239335,262149,268343,286925,304354,319335,null,182148.61851999423,188342.65256356407,206924.75469427358,224354.47839827242,239335.3979455111,262148.6185199942,268342.65256356407,286924.75469427358,304354.47839827242,319335.3979455111]
["SACRAMENTO15%","15%",193096,200010,220897,240632,257485,273096,280010,300897,320632,337485,null,193096,200010,220897,240632,257485,273096,280010,300897,320632,337485,null,193096.21357374557,200010.48413400957,220897.34311814042,240631.82367556059,257485.35816620413,273096.21357374557,280010.48413400957,300897.34311814042,320631.82367556059,337485.35816620413]
["SAN BENITO60%","60%",95000,95000,95000,95000,95000,175000,175000,175000,175000,175000,null,95000,95000,95000,95000,95000,175000,175000,175000,175000,175000,null,95000,95000,95000,95000,95000,175000,175000,175000,175000,175000]
["SAN BENITO55%","55%",107676,108540,111277,113726,115887,187676,188540,191277,193726,195887,null,107676,108540,111277,113726,115887,187676,188540,191277,193726,195887,null,107676.16269381734,108540.44651385034,111277.34527728817,113726.14943404835,115886.85898413084,187676.16269381734,188540.44651385036,191277.34527728817,193726.14943404833,195886.85898413084]
["SAN BENITO50%","50%",120208,121937,127411,132308,136630,200208,201937,207411,212308,216630,null,120208,121937,127411,132308,136630,200208,201937,207411,212308,216630,null,120208.27808429586,121936.84572436186,127410.64325123752,132308.25156475787,136629.67066492286,200208.27808429586,201936.84572436186,207410.64325123752,212308.25156475787,216629.67066492286]
["SAN BENITO45%","45%",132740,135477,143544,151034,157517,212740,215477,223544,231034,237517,null,132740,135477,143544,151034,157517,212740,215477,223544,231034,237517,null,132740.39347477435,135477.29223821219,143543.94122518686,151034.4009988062,157516.5296490537,212740.39347477435,215477.29223821219,223543.94122518686,231034.4009988062,237516.5296490537]
["SAN BENITO40%","40%",145273,148874,159677,169617,178259,225273,228874,239677,249617,258259,null,145273,148874,159677,169617,178259,225273,228874,239677,249617,258259,null,145272.50886525286,148873.69144872372,159677.23919913621,169616.50312951574,178259.34132984572,225272.50886525286,228873.69144872372,239677.23919913621,249616.50312951574,258259.34132984572]
["SAN BENITO35%","35%",157949,162414,175955,188343,199146,237949,242414,255955,268343,279146,null,157949,162414,175955,188343,199146,237949,242414,255955,268343,279146,null,157948.67155907021,162414.13796257405,175954.58447642438,188342.65256356407,199146.20031397659,237948.67155907021,242414.13796257405,255954.58447642438,268342.65256356407,279146.20031397662]
["SAN BENITO30%","30%",170481,175811,192088,207069,220033,250481,255811,272088,287069,300033,null,170481,175811,192088,207069,220033,250481,255811,272088,287069,300033,null,170480.7869495487,175810.53717308555,192087.88245037373,207068.80199761241,220033.0592981074,250480.7869495487,255810.53717308555,272087.88245037373,287068.80199761241,300033.0592981074]
["SAN BENITO25%","25%",183013,189351,208221,225651,240776,263013,269351,288221,305651,320776,null,183013,189351,208221,225651,240776,263013,269351,288221,305651,320776,null,183012.90234002724,189350.98368693591,208221.18042432307,225650.90412832194,240775.87097889942,263012.90234002727,269350.98368693591,288221.18042432307,305650.90412832191,320775.87097889942]
["SAN BENITO20%","20%",195545,202747,224354,244377,261663,275545,282747,304354,324377,341663,null,195545,202747,224354,244377,261663,275545,282747,304354,324377,341663,null,195545.01773050573,202747.38289744745,224354.47839827242,244377.05356237027,261662.72996303026,275545.01773050573,282747.38289744745,304354.47839827242,324377.05356237025,341662.72996303026]
["SAN BENITO15%","15%",208221,216288,240632,263103,282550,288221,296288,320632,343103,362550,null,208221,216288,240632,263103,282550,288221,296288,320632,343103,362550,null,208221.18042432307,216287.82941129775,240631.82367556059,263103.20299641858,282549.5889471611,288221.18042432307,296287.82941129775,320631.82367556059,343103.20299641858,362549.5889471611]
["SAN BERNARDINO60%","60%",95000,95000,95000,95000,95000,175000,175000,175000,175000,175000,null,95000,95000,95000,95000,95000,175000,175000,175000,175000,175000,null,95000,95000,95000,95000,95000,175000,175000,175000,175000,175000]
["SAN BERNARDINO55%","55%",104507,105227,107244,109117,110845,184507,185227,187244,189117,190845,null,104507,105227,107244,109117,110845,184507,185227,187244,189117,190845,null,104507.12202036301,105227.35853705718,107244.02078380084,109116.63572720568,110845.20336727168,184507.12202036299,185227.35853705718,187244.02078380084,189116.63572720566,190845.20336727169]
["SAN BERNARDINO50%","50%",114014,115455,119488,123233,126546,194014,195455,199488,203233,206546,null,114014,115455,119488,123233,126546,194014,195455,199488,203233,206546,null,114014.24404072601,115454.71707411435,119488.04156760169,123233.27145441136,126546.35943120452,194014.24404072601,195454.71707411436,199488.04156760167,203233.27145441136,206546.35943120453]
["SAN BERNARDINO45%","45%",123521,125538,131732,137350,142248,203521,205538,211732,217350,222248,null,123521,125538,131732,137350,142248,203521,205538,211732,217350,222248,null,123521.36606108902,125538.02830783269,131732.06235140254,137349.90718161705,142247.51549513737,203521.36606108901,205538.02830783269,211732.06235140254,217349.90718161705,222247.51549513737]
["SAN BERNARDINO40%","40%",133028,135765,143832,151467,157949,213028,215765,223832,231467,237949,null,133028,135765,143832,151467,157949,213028,215765,223832,231467,237949,null,133028.48808145203,135765.38684488984,143832.03583186452,151466.54290882271,157948.67155907021,213028.48808145203,215765.38684488984,223832.03583186452,231466.54290882271,237948.67155907021]
["SAN BERNARDINO35%","35%",142536,145993,156076,165583,173794,222536,225993,236076,245583,253794,null,142536,145993,156076,165583,173794,222536,225993,236076,245583,253794,null,142535.61010181502,145992.74538194702,156076.05661566538,165583.17863602837,173793.8749263419,222535.61010181502,225992.74538194702,236076.05661566538,245583.17863602837,253793.8749263419]
["SAN BERNARDINO30%","30%",152043,156076,168320,179700,189495,232043,236076,248320,259700,269495,null,152043,156076,168320,179700,189495,232043,236076,248320,259700,269495,null,152042.73212217804,156076.05661566538,168320.07739946622,179699.81436323409,189495.03099027471,232042.73212217804,236076.05661566538,248320.07739946622,259699.81436323409,269495.03099027474]
["SAN BERNARDINO25%","25%",161550,166303,180564,193816,205196,241550,246303,260564,273816,285196,null,161550,166303,180564,193816,205196,241550,246303,260564,273816,285196,null,161549.85414254107,166303.41515272256,180564.09818326705,193816.45009043973,205196.18705420761,241549.85414254107,246303.41515272256,260564.09818326705,273816.45009043976,285196.18705420761]
["SAN BERNARDINO20%","20%",171057,176531,192664,207933,220897,251057,256531,272664,287933,300897,null,171057,176531,192664,207933,220897,251057,256531,272664,287933,300897,null,171056.97616290406,176530.77368977971,192664.07166372906,207933.08581764542,220897.34311814042,251056.97616290406,256530.77368977971,272664.07166372903,287933.08581764542,300897.34311814042]
["SAN BERNARDINO15%","15%",180564,186614,204908,222050,236743,260564,266614,284908,302050,316743,null,180564,186614,204908,222050,236743,260564,266614,284908,302050,316743,null,180564.09818326705,186614.08492349804,204908.0924475299,222049.72154485108,236742.54648541211,260564.09818326705,266614.08492349804,284908.0924475299,302049.72154485108,316742.54648541211]
["SAN DIEGO60%","60%",95000,95000,95000,95000,95000,175000,175000,175000,175000,175000,null,95000,95000,95000,95000,95000,175000,175000,175000,175000,175000,null,95000,95000,95000,95000,95000,175000,175000,175000,175000,175000]
["SAN DIEGO55%","55%",109549,110557,113726,116607,119200,189549,190557,193726,196607,199200,null,109549,110557,113726,116607,119200,189549,190557,193726,196607,199200,null,109548.77763722217,110557.10876059401,113726.14943404835,116607.09550082502,119199.94696092402,189548.77763722217,190557.10876059401,193726.14943404833,196607.09550082503,199199.94696092402]
["SAN DIEGO50%","50%",124098,126114,132452,138358,143256,204098,206114,212452,218358,223256,null,124098,126114,132452,138358,143256,204098,206114,212452,218358,223256,null,124097.55527444436,126114.21752118802,132452.2988680967,138358.23830498886,143255.84661850921,204097.55527444434,206114.21752118802,212452.2988680967,218358.23830498886,223255.84661850921]
["SAN DIEGO45%","45%",138646,141815,151178,159965,167456,218646,221815,231178,239965,247456,null,138646,141815,151178,159965,167456,218646,221815,231178,239965,247456,null,138646.33291166654,141815.37358512089,151178.44830214506,159965.33380581389,167455.79357943323,218646.33291166654,221815.37358512089,231178.44830214506,239965.33380581389,247455.79357943323]
["SAN DIEGO40%","40%",153195,157372,169905,181572,191512,233195,237372,249905,261572,271512,null,153195,157372,169905,181572,191512,233195,237372,249905,261572,271512,null,153195.11054888871,157372.48234571487,169904.59773619339,181572.42930663889,191511.69323701842,233195.11054888871,237372.48234571487,249904.59773619339,261572.42930663889,271511.69323701842]
["SAN DIEGO35%","35%",167888,172930,188631,203180,215712,247888,252930,268631,283180,295712,null,167888,172930,188631,203180,215712,247888,252930,268631,283180,295712,null,167887.93548944971,172929.59110630889,188630.74717024175,203179.52480746389,215711.64019794244,247887.93548944971,252929.59110630889,268630.74717024178,283179.52480746387,295711.64019794244]
["SAN DIEGO30%","30%",182437,188631,207357,224787,239768,262437,268631,287357,304787,319768,null,182437,188631,207357,224787,239768,262437,268631,287357,304787,319768,null,182436.71312667191,188630.74717024175,207356.89660429009,224786.6203082889,239767.5398555276,262436.71312667191,268630.74717024178,287356.89660429012,304786.6203082889,319767.53985552758]
["SAN DIEGO25%","25%",196985,204188,226083,246538,263967,276985,284188,306083,326538,343967,null,196985,204188,226083,246538,263967,276985,284188,306083,326538,343967,null,196985.49076389405,204187.85593083577,226083.04603833845,246537.76311245278,263967.48681645165,276985.49076389405,284187.85593083577,306083.04603833845,326537.76311245281,343967.48681645165]
["SAN DIEGO20%","20%",211534,219745,244809,268145,288023,291534,299745,324809,348145,368023,null,211534,219745,244809,268145,288023,291534,299745,324809,348145,368023,null,211534.26840111625,219744.96469142975,244809.19547238678,268144.85861327779,288023.38647403684,291534.26840111625,299744.96469142975,324809.19547238678,348144.85861327779,368023.38647403684]
["SAN DIEGO15%","15%",226083,235446,263535,289752,312223,306083,315446,343535,369752,392223,null,226083,235446,263535,289752,312223,306083,315446,343535,369752,392223,null,226083.04603833845,235446.12075536262,263535.34490643512,289751.95411410282,312223.3334349608,306083.04603833845,315446.12075536262,343535.34490643512,369751.95411410282,392223.3334349608]
["SAN FRANCISCO60%","60%",95000,95000,95000,95000,95000,175000,175000,175000,175000,175000,null,95000,95000,95000,95000,95000,175000,175000,175000,175000,175000,null,95000,95000,95000,95000,95000,175000,175000,175000,175000,175000]
["SAN FRANCISCO55%","55%",117039,118480,123233,127699,131300,197039,198480,203233,207699,211300,null,117039,118480,123233,127699,131300,197039,198480,203233,207699,211300,null,117039.23741084151,118479.71044422984,123233.27145441136,127698.73785791518,131299.92044138603,197039.23741084151,198479.71044422986,203233.27145441136,207698.7378579152,211299.92044138603]
["SAN FRANCISCO50%","50%",138934,141959,151467,160253,167744,218934,221959,231467,240253,247744,null,138934,141959,151467,160253,167744,218934,221959,231467,240253,247744,null,138934.42751834419,141959.42088845969,151466.54290882271,160253.42841249154,167743.88818611088,218934.42751834419,221959.42088845969,231466.54290882271,240253.42841249154,247743.88818611088]
["SAN FRANCISCO45%","45%",160830,165439,179700,192808,204044,240830,245439,259700,272808,284044,null,160830,165439,179700,192808,204044,240830,245439,259700,272808,284044,null,160829.61762584688,165439.13133268955,179699.81436323409,192808.11896706792,204043.80862749694,240829.61762584688,245439.13133268955,259699.81436323409,272808.11896706792,284043.80862749694]
["SAN FRANCISCO40%","40%",182725,188919,207789,225363,240344,262725,268919,287789,305363,320344,null,182725,188919,207789,225363,240344,262725,268919,287789,305363,320344,null,182724.80773334956,188918.84177691938,207789.03851430659,225362.80952164426,240343.72906888294,262724.80773334956,268918.84177691938,287789.03851430659,305362.80952164426,320343.72906888294]
["SAN FRANCISCO35%","35%",204764,212543,236022,258062,276788,284764,292543,316022,338062,356788,null,204764,212543,236022,258062,276788,284764,292543,316022,338062,356788,null,204764.04514419107,212542.59952448809,236022.30996871795,258061.54737955943,276787.69681360782,284764.04514419107,292542.59952448809,316022.30996871798,338061.54737955943,356787.69681360782]
["SAN FRANCISCO30%","30%",226659,236022,264256,290616,313088,306659,316022,344256,370616,393088,null,226659,236022,264256,290616,313088,306659,316022,344256,370616,393088,null,226659.23525169378,236022.30996871795,264255.5814231293,290616.23793413583,313087.61725499388,306659.23525169375,316022.30996871798,344255.5814231293,370616.23793413583,393087.61725499388]
["SAN FRANCISCO25%","25%",248554,259502,292489,323171,349532,328554,339502,372489,403171,429532,null,248554,259502,292489,323171,349532,328554,339502,372489,403171,429532,null,248554.42535919644,259502.02041294778,292488.85287754063,323170.92848871218,349531.5849997187,328554.42535919644,339502.02041294775,372488.85287754063,403170.92848871218,429531.5849997187]
["SAN FRANCISCO20%","20%",270450,282982,320578,355726,385832,350450,362982,400578,435726,465832,null,270450,282982,320578,355726,385832,350450,362982,400578,435726,465832,null,270449.61546669912,282981.73085717764,320578.07702861319,355725.61904328852,385831.5054411047,350449.61546669912,362981.73085717764,400578.07702861319,435725.61904328852,465831.5054411047]
["SAN FRANCISCO15%","15%",292489,306461,348811,388424,422131,372489,386461,428811,468424,502131,null,292489,306461,348811,388424,422131,372489,386461,428811,468424,502131,null,292488.85287754063,306461.44130140741,348811.34848302451,388424.35690120369,422131.42588249076,372488.85287754063,386461.44130140741,428811.34848302451,468424.35690120369,502131.42588249076]
["SAN JOAQUIN60%","60%",95000,95000,95000,95000,95000,175000,175000,175000,175000,175000,null,95000,95000,95000,95000,95000,175000,175000,175000,175000,175000,null,95000,95000,95000,95000,95000,175000,175000,175000,175000,175000]
["SAN JOAQUIN55%","55%",104507,105083,107100,109117,110701,184507,185083,187100,189117,190701,null,104507,105083,107100,109117,110701,184507,185083,187100,189117,190701,null,104507.12202036301,105083.31123371834,107099.97348046201,109116.63572720568,110701.15606393284,184507.12202036299,185083.31123371836,187099.97348046201,189116.63572720566,190701.15606393284]
["SAN JOAQUIN50%","50%",113870,115167,119344,123089,126402,193870,195167,199344,203089,206402,null,113870,115167,119344,123089,126402,193870,195167,199344,203089,206402,null,113870.19673738717,115166.62246743668,119343.99426426284,123089.22415107253,126402.31212786569,193870.19673738719,195166.62246743668,199343.99426426284,203089.22415107253,206402.31212786568]
["SAN JOAQUIN45%","45%",123377,125394,131444,137206,142103,203377,205394,211444,217206,222103,null,123377,125394,131444,137206,142103,203377,205394,211444,217206,222103,null,123377.31875775018,125393.98100449385,131443.96774472485,137205.85987827819,142103.46819179854,203377.31875775018,205393.98100449386,211443.96774472485,217205.85987827819,222103.46819179854]
["SAN JOAQUIN40%","40%",132740,135477,143544,151178,157661,212740,215477,223544,231178,237661,null,132740,{"$f":"ROUND(Z386,0)","v":135477},{"$f":"ROUND(AA386,0)","v":143544},{"$f":"ROUND(AB386,0)","v":151178},{"$f":"ROUND(AC386,0)","v":157661},{"$f":"ROUND(AD386,0)","v":212740},{"$f":"ROUND(AE386,0)","v":215477},{"$f":"ROUND(AF386,0)","v":223544},{"$f":"ROUND(AG386,0)","v":231178},{"$f":"ROUND(AH386,0)","v":237661},null,132740.39347477435,135477.29223821219,143543.94122518686,151178.44830214506,157660.57695239253,212740.39347477435,215477.29223821219,223543.94122518686,231178.44830214506,237660.57695239253]
["SAN JOAQUIN35%","35%",142248,145561,155788,165295,173362,222248,225561,235788,245295,253362,null,{"$f":"ROUND(Y387,0)","v":142248},145561,155788,165295,173362,222248,225561,235788,245295,253362,null,142247.51549513737,145560.60347193055,155787.9620089877,165295.08402935072,173361.73301632539,222247.51549513737,225560.60347193055,235787.9620089877,245295.08402935072,253361.73301632539]
["SAN JOAQUIN30%","30%",151755,155788,167888,179268,189063,231755,235788,247888,259268,269063,null,151755,155788,167888,179268,189063,231755,235788,247888,259268,269063,null,151754.63751550036,155787.9620089877,167887.93548944971,179267.67245321756,189062.88908025826,231754.63751550036,235787.9620089877,247887.93548944971,259267.67245321756,269062.88908025826]
["SAN JOAQUIN25%","25%",161118,165871,180132,193384,204764,241118,245871,260132,273384,284764,null,161118,165871,180132,193384,204764,241118,245871,260132,273384,284764,null,161117.71223252453,165871.27324270605,180131.95627325057,193384.30818042328,204764.04514419107,241117.71223252453,245871.27324270605,260131.95627325057,273384.30818042328,284764.04514419107]
["SAN JOAQUIN20%","20%",170625,175955,192232,207357,220321,250625,255955,272232,287357,300321,null,170625,175955,192232,207357,220321,250625,255955,272232,287357,300321,null,170624.83425288755,175954.58447642438,192231.92975371258,207356.89660429009,220321.15390478508,250624.83425288755,255954.58447642438,272231.92975371261,287356.89660429012,300321.15390478505]
["SAN JOAQUIN15%","15%",180132,186182,204332,221474,236022,260132,266182,284332,301474,316022,null,180132,186182,204332,221474,236022,260132,266182,284332,301474,316022,null,180131.95627325057,186181.94301348156,204331.90323417456,221473.53233149575,236022.30996871795,260131.95627325057,266181.94301348156,284331.90323417459,301473.53233149578,316022.30996871798]
["SAN LUIS OBISPO60%","60%",95000,95000,95000,95000,95000,175000,175000,175000,175000,175000,null,95000,95000,95000,95000,95000,175000,175000,175000,175000,175000,null,95000,95000,95000,95000,95000,175000,175000,175000,175000,175000]
["SAN LUIS OBISPO55%","55%",107244,108108,110701,113150,115311,187244,188108,190701,193150,195311,null,107244,108108,110701,113150,115311,187244,188108,190701,193150,195311,null,107244.02078380084,108108.30460383385,110701.15606393284,113149.96022069301,115310.66977077551,187244.02078380084,188108.30460383385,190701.15606393284,193149.960220693,195310.66977077551]
["SAN LUIS OBISPO50%","50%",119488,121217,126402,131300,135621,199488,201217,206402,211300,215621,null,119488,121217,126402,131300,135621,199488,201217,206402,211300,215621,null,119488.04156760169,121216.60920766769,126402.31212786569,131299.92044138603,135621.33954155102,199488.04156760167,201216.6092076677,206402.31212786568,211299.92044138603,215621.33954155102]
["SAN LUIS OBISPO45%","45%",131732,134325,142103,149450,155932,211732,214325,222103,229450,235932,null,131732,134325,142103,149450,155932,211732,214325,222103,229450,235932,null,131732.06235140254,134324.91381150152,142103.46819179854,149449.88066207903,155932.00931232655,211732.06235140254,214324.91381150152,222103.46819179854,229449.88066207903,235932.00931232655]
["SAN LUIS OBISPO40%","40%",143832,147433,157805,167600,176099,223832,227433,237805,247600,256099,null,143832,147433,157805,167600,176099,223832,227433,237805,247600,256099,null,143832.03583186452,147433.21841533537,157804.62425573138,167599.84088277206,176098.63177976321,223832.03583186452,227433.21841533537,237804.62425573138,247599.84088277206,256098.63177976321]
["SAN LUIS OBISPO35%","35%",156076,160542,173650,185894,196409,236076,240542,253650,265894,276409,null,156076,160542,173650,185894,196409,236076,240542,253650,265894,276409,null,156076.05661566538,160541.52301916922,173649.82762300305,185893.84840680391,196409.30155053874,236076.05661566538,240541.52301916922,253649.82762300305,265893.84840680391,276409.30155053874]
["SAN LUIS OBISPO30%","30%",168320,173650,189351,204044,216720,248320,253650,269351,284044,296720,null,168320,173650,189351,204044,216720,248320,253650,269351,284044,296720,null,168320.07739946622,173649.82762300305,189350.98368693591,204043.80862749694,216719.97132131425,248320.07739946622,253649.82762300305,269350.98368693591,284043.80862749694,296719.97132131422]
["SAN LUIS OBISPO25%","25%",180564,186758,205052,222194,237031,260564,266758,285052,302194,317031,null,180564,186758,205052,222194,237031,260564,266758,285052,302194,317031,null,180564.09818326705,186758.13222683693,205052.13975086872,222193.76884818991,237030.64109208976,260564.09818326705,266758.13222683693,285052.13975086872,302193.76884818991,317030.64109208976]
["SAN LUIS OBISPO20%","20%",192808,199866,220753,240344,257197,272808,279866,300753,320344,337197,null,192808,199866,220753,240344,257197,272808,279866,300753,320344,337197,null,192808.11896706792,199866.43683067075,220753.29581480159,240343.72906888294,257197.26355952644,272808.11896706792,279866.43683067075,300753.29581480159,320343.72906888294,337197.26355952641]
["SAN LUIS OBISPO15%","15%",205052,212975,236454,258494,277508,285052,292975,316454,338494,357508,null,205052,212975,236454,258494,277508,285052,292975,316454,338494,357508,null,205052.13975086872,212974.74143450457,236454.45187873443,258493.68928957594,277507.93333030189,285052.13975086872,292974.74143450457,316454.4518787344,338493.68928957591,357507.93333030189]
["SAN MATEO60%","60%",95000,95000,95000,95000,95000,175000,175000,175000,175000,175000,null,95000,95000,95000,95000,95000,175000,175000,175000,175000,175000,null,95000,95000,95000,95000,95000,175000,175000,175000,175000,175000]
["SAN MATEO55%","55%",117039,118480,123233,127699,131300,197039,198480,203233,207699,211300,null,117039,118480,123233,127699,131300,197039,198480,203233,207699,211300,null,117039.23741084151,118479.71044422984,123233.27145441136,127698.73785791518,131299.92044138603,197039.23741084151,198479.71044422986,203233.27145441136,207698.7378579152,211299.92044138603]
["SAN MATEO50%","50%",138934,141959,151467,160253,167744,218934,221959,231467,240253,247744,null,138934,141959,151467,160253,167744,218934,221959,231467,240253,247744,null,138934.42751834419,141959.42088845969,151466.54290882271,160253.42841249154,167743.88818611088,218934.42751834419,221959.42088845969,231466.54290882271,240253.42841249154,247743.88818611088]
["SAN MATEO45%","45%",160830,165439,179700,192808,204044,240830,245439,259700,272808,284044,null,160830,165439,179700,192808,204044,240830,245439,259700,272808,284044,null,160829.61762584688,165439.13133268955,179699.81436323409,192808.11896706792,204043.80862749694,240829.61762584688,245439.13133268955,259699.81436323409,272808.11896706792,284043.80862749694]
["SAN MATEO40%","40%",182725,188919,207789,225363,240344,262725,268919,287789,305363,320344,null,182725,188919,207789,225363,240344,262725,268919,287789,305363,320344,null,182724.80773334956,188918.84177691938,207789.03851430659,225362.80952164426,240343.72906888294,262724.80773334956,268918.84177691938,287789.03851430659,305362.80952164426,320343.72906888294]
["SAN MATEO35%","35%",204764,212543,236022,258062,276788,284764,292543,316022,338062,356788,null,204764,212543,236022,258062,276788,284764,292543,316022,338062,356788,null,204764.04514419107,212542.59952448809,236022.30996871795,258061.54737955943,276787.69681360782,284764.04514419107,292542.59952448809,316022.30996871798,338061.54737955943,356787.69681360782]
["SAN MATEO30%","30%",226659,236022,264256,290616,313088,306659,316022,344256,370616,393088,null,226659,236022,264256,290616,313088,306659,316022,344256,370616,393088,null,226659.23525169378,236022.30996871795,264255.5814231293,290616.23793413583,313087.61725499388,306659.23525169375,316022.30996871798,344255.5814231293,370616.23793413583,393087.61725499388]
["SAN MATEO25%","25%",248554,259502,292489,323171,349532,328554,339502,372489,403171,429532,null,248554,259502,292489,323171,349532,328554,339502,372489,403171,429532,null,248554.42535919644,259502.02041294778,292488.85287754063,323170.92848871218,349531.5849997187,328554.42535919644,339502.02041294775,372488.85287754063,403170.92848871218,429531.5849997187]
["SAN MATEO20%","20%",270450,282982,320578,355726,385832,350450,362982,400578,435726,465832,null,270450,282982,320578,355726,385832,350450,362982,400578,435726,465832,null,270449.61546669912,282981.73085717764,320578.07702861319,355725.61904328852,385831.5054411047,350449.61546669912,362981.73085717764,400578.07702861319,435725.61904328852,465831.5054411047]
["SAN MATEO15%","15%",292489,306461,348811,388424,422131,372489,386461,428811,468424,502131,null,292489,306461,348811,388424,422131,372489,386461,428811,468424,502131,null,292488.85287754063,306461.44130140741,348811.34848302451,388424.35690120369,422131.42588249076,372488.85287754063,386461.44130140741,428811.34848302451,468424.35690120369,502131.42588249076]
["SANTA BARBARA60%","60%",95000,95000,95000,95000,95000,175000,175000,175000,175000,175000,null,95000,95000,95000,95000,95000,175000,175000,175000,175000,175000,null,95000,95000,95000,95000,95000,175000,175000,175000,175000,175000]
["SANTA BARBARA55%","55%",109981,110989,114302,117327,119920,189981,190989,194302,197327,199920,null,109981,110989,114302,117327,119920,189981,190989,194302,197327,199920,null,109980.91954723868,110989.25067061051,114302.33864740368,117327.33201751919,119920.18347761818,189980.91954723868,190989.25067061052,194302.3386474037,197327.33201751919,199920.18347761818]
["SANTA BARBARA50%","50%",124962,127123,133605,139655,144696,204962,207123,213605,219655,224696,null,124962,127123,133605,139655,144696,204962,207123,213605,219655,224696,null,124961.83909447736,127122.54864455985,133604.67729480736,139654.66403503838,144696.31965189753,204961.83909447736,207122.54864455987,213604.67729480736,219654.66403503838,224696.31965189753]
["SANTA BARBARA45%","45%",139943,143112,152907,161982,169617,219943,223112,232907,241982,249617,null,139943,143112,152907,161982,169617,219943,223112,232907,241982,249617,null,139942.75864171603,143111.79931517038,152907.01594221103,161981.99605255754,169616.50312951574,219942.75864171603,223111.79931517038,232907.01594221103,241981.99605255754,249616.50312951574]
["SANTA BARBARA40%","40%",154924,159245,172065,184165,194393,234924,239245,252065,264165,274393,null,154924,159245,172065,184165,194393,234924,239245,252065,264165,274393,null,154923.67818895471,159245.0972891197,172065.3072862759,184165.28076673788,194392.63930379506,234923.67818895471,239245.0972891197,252065.3072862759,264165.28076673788,274392.63930379506]
["SANTA BARBARA35%","35%",170049,175378,191368,206493,219313,250049,255378,271368,286493,299313,null,170049,175378,191368,206493,219313,250049,255378,271368,286493,299313,null,170048.64503953222,175378.39526306908,191367.64593367954,206492.6127842571,219312.82278141327,250048.64503953222,255378.39526306908,271367.64593367954,286492.6127842571,299312.82278141327]
["SANTA BARBARA30%","30%",185030,191368,210670,228820,244233,265030,271368,290670,308820,324233,null,185030,191368,210670,228820,244233,265030,271368,290670,308820,324233,null,185029.5645867709,191367.64593367954,210669.98458108323,228819.94480177626,244233.00625903145,265029.5645867709,271367.64593367954,290669.98458108323,308819.94480177626,324233.00625903148]
["SANTA BARBARA25%","25%",200010,207501,229972,251147,269009,280010,287501,309972,331147,349009,null,200010,207501,229972,251147,269009,280010,287501,309972,331147,349009,null,200010.48413400957,207500.94390762888,229972.32322848693,251147.27681929542,269009.14243331074,280010.48413400957,287500.94390762888,309972.32322848693,331147.27681929542,349009.14243331074]
["SANTA BARBARA20%","20%",214991,223490,249275,273331,293929,294991,303490,329275,353331,373929,null,214991,223490,249275,273331,293929,294991,303490,329275,353331,373929,null,214991.40368124825,223490.1945782394,249274.6618758906,273330.56153347576,293929.32591092901,294991.40368124825,303490.1945782394,329274.66187589057,353330.56153347576,373929.32591092901]
["SANTA BARBARA15%","15%",229972,239623,268577,295658,318850,309972,319623,348577,375658,398850,null,229972,239623,268577,295658,318850,309972,319623,348577,375658,398850,null,229972.32322848693,239623.49255218878,268577.00052329426,295657.89355099492,318849.50938854716,309972.32322848693,319623.49255218881,348577.00052329426,375657.89355099492,398849.50938854716]
["SANTA CLARA60%","60%",95000,95000,95000,95000,95000,175000,175000,175000,175000,175000,null,95000,95000,95000,95000,95000,175000,175000,175000,175000,175000,null,95000,95000,95000,95000,95000,175000,175000,175000,175000,175000]
["SANTA CLARA55%","55%",115023,116319,120640,124530,127987,195023,196319,200640,204530,207987,null,115023,116319,120640,124530,127987,195023,196319,200640,204530,207987,null,115022.57516409784,116319.00089414735,120640.41999431235,124529.69718446086,127986.83246459285,195022.57516409786,196319.00089414735,200640.41999431234,204529.69718446085,207986.83246459285]
["SANTA CLARA50%","50%",134901,137638,146281,154059,160974,214901,217638,226281,234059,240974,null,134901,137638,146281,154059,160974,214901,217638,226281,234059,240974,null,134901.10302485686,137638.0017882947,146280.83998862471,154059.39436892173,160973.6649291857,214901.10302485686,217638.0017882947,226280.83998862471,234059.39436892173,240973.6649291857]
["SANTA CLARA45%","45%",154780,158957,171921,183733,193960,234780,238957,251921,263733,273960,null,154780,158957,171921,183733,193960,234780,238957,251921,263733,273960,null,154779.63088561589,158957.00268244202,171921.25998293704,183733.1388567214,193960.49739377858,234779.63088561589,238957.00268244202,251921.25998293704,263733.1388567214,273960.49739377858]
["SANTA CLARA40%","40%",174658,180276,197418,213263,226947,254658,260276,277418,293263,306947,null,174658,180276,197418,213263,226947,254658,260276,277418,293263,306947,null,174658.15874637489,180276.0035765894,197417.63267391056,213262.83604118225,226947.32985837143,254658.15874637489,260276.0035765894,277417.63267391059,293262.83604118228,306947.32985837141]
["SANTA CLARA35%","35%",194681,201739,223058,242793,259934,274681,281739,303058,322793,339934,null,194681,201739,223058,242793,259934,274681,281739,303058,322793,339934,null,194680.73391047271,201739.05177407557,223058.05266822292,242792.53322564313,259934.16232296429,274680.73391047271,281739.0517740756,303058.05266822292,322792.5332256431,339934.16232296429]
["SANTA CLARA30%","30%",214559,223058,248698,272466,292921,294559,303058,328698,352466,372921,null,214559,223058,248698,272466,292921,294559,303058,328698,352466,372921,null,214559.26177123177,223058.05266822292,248698.47266253526,272466.2777134428,292920.99478755717,294559.26177123177,303058.05266822292,328698.47266253526,352466.2777134428,372920.99478755717]
["SANTA CLARA25%","25%",234438,244377,274339,301996,325908,314438,324377,354339,381996,405908,null,234438,244377,274339,301996,325908,314438,324377,354339,381996,405908,null,234437.78963199077,244377.05356237027,274338.89265684766,301995.97489790362,325907.82725215005,314437.78963199077,324377.05356237025,354338.89265684766,381995.97489790362,405907.82725215005]
["SANTA CLARA20%","20%",254316,265696,299835,331526,358895,334316,345696,379835,411526,438895,null,254316,265696,299835,331526,358895,334316,345696,379835,411526,438895,null,254316.31749274977,265696.05445651768,299835.26534782111,331525.6720823645,358894.65971674287,334316.31749274977,345696.05445651768,379835.26534782111,411525.6720823645,438894.65971674287]
["SANTA CLARA15%","15%",274339,287015,325476,361199,391881,354339,367015,405476,441199,471881,null,274339,287015,325476,361199,391881,354339,367015,405476,441199,471881,null,274338.89265684766,287015.05535066494,325475.68534213351,361199.41657016421,391881.49218133569,354338.89265684766,367015.05535066494,405475.68534213351,441199.41657016421,471881.49218133569]
["SANTA CRUZ60%","60%",95000,95000,95000,95000,95000,175000,175000,175000,175000,175000,null,95000,95000,95000,95000,95000,175000,175000,175000,175000,175000,null,95000,95000,95000,95000,95000,175000,175000,175000,175000,175000]
["SANTA CRUZ55%","55%",111709,112862,116463,119776,122657,191709,192862,196463,199776,202657,null,111709,112862,116463,119776,122657,191709,192862,196463,199776,202657,null,111709.48718730468,112861.86561401535,116463.04819748618,119776.13617427935,122657.08224105602,191709.48718730468,192861.86561401535,196463.04819748618,199776.13617427935,202657.08224105602]
["SANTA CRUZ50%","50%",128419,130868,137926,144552,150314,208419,210868,217926,224552,230314,null,128419,130868,137926,144552,150314,208419,210868,217926,224552,230314,null,128418.97437460936,130867.77853136952,137926.09639497235,144552.2723485587,150314.16448211204,208418.97437460936,210867.77853136952,217926.09639497235,224552.2723485587,230314.16448211204]
["SANTA CRUZ45%","45%",145128,148730,159389,169328,177971,225128,228730,239389,249328,257971,null,145128,148730,159389,169328,177971,225128,228730,239389,249328,257971,null,145128.46156191404,148729.64414538487,159389.14459245856,169328.40852283806,177971.24672316806,225128.46156191404,228729.64414538487,239389.14459245856,249328.40852283806,257971.24672316806]
["SANTA CRUZ40%","40%",161694,166592,180852,194105,205628,241694,246592,260852,274105,285628,null,161694,166592,180852,194105,205628,241694,246592,260852,274105,285628,null,161693.90144587989,166591.50975940021,180852.1927899447,194104.54469711741,205628.32896422406,241693.90144587989,246591.50975940021,260852.1927899447,274104.54469711741,285628.32896422409]
["SANTA CRUZ35%","35%",178403,184453,202315,219025,233285,258403,264453,282315,299025,313285,null,178403,184453,202315,219025,233285,258403,264453,282315,299025,313285,null,178403.38863318454,184453.37537341556,202315.24098743091,219024.72817473559,233285.41120528011,258403.38863318454,264453.37537341553,282315.24098743091,299024.72817473556,313285.41120528011]
["SANTA CRUZ30%","30%",195113,202315,223778,243801,260942,275113,282315,303778,323801,340942,null,195113,202315,223778,243801,260942,275113,282315,303778,323801,340942,null,195112.87582048922,202315.24098743091,223778.28918491711,243800.86434901494,260942.4934463361,275112.87582048925,282315.24098743091,303778.28918491711,323800.86434901494,340942.49344633613]
["SANTA CRUZ25%","25%",211822,220321,245241,268577,288600,291822,300321,325241,348577,368600,null,211822,220321,245241,268577,288600,291822,300321,325241,348577,368600,null,211822.3630077939,220321.15390478508,245241.33738240329,268577.00052329426,288599.57568739215,291822.3630077939,300321.15390478505,325241.33738240332,348577.00052329426,368599.57568739215]
["SANTA CRUZ20%","20%",228532,238183,266704,293353,316257,308532,318183,346704,373353,396257,null,228532,238183,266704,293353,316257,308532,318183,346704,373353,396257,null,228531.85019509861,238183.01951880043,266704.38557988941,293353.13669757359,316256.65792844811,308531.85019509861,318183.01951880043,346704.38557988941,373353.13669757359,396256.65792844811]
["SANTA CRUZ15%","15%",245241,256045,288167,318129,343914,325241,336045,368167,398129,423914,null,245241,256045,288167,318129,343914,325241,336045,368167,398129,423914,null,245241.33738240329,256044.88513281578,288167.43377737561,318129.27287185297,343913.74016950419,325241.33738240332,336044.88513281581,368167.43377737561,398129.27287185297,423913.74016950419]
["SHASTA60%","60%",95000,95000,95000,95000,95000,175000,175000,175000,175000,175000,null,95000,95000,95000,95000,95000,175000,175000,175000,175000,175000,null,95000,95000,95000,95000,95000,175000,175000,175000,175000,175000]
["SHASTA55%","55%",103931,104507,106380,108108,109549,183931,184507,186380,188108,189549,null,103931,104507,106380,108108,109549,183931,184507,186380,188108,189549,null,103930.93280700767,104507.12202036301,106379.73696376785,108108.30460383385,109548.77763722217,183930.93280700769,184507.12202036299,186379.73696376785,188108.30460383385,189548.77763722217]
["SHASTA50%","50%",112718,113870,117759,121217,124242,192718,193870,197759,201217,204242,null,112718,113870,117759,121217,124242,192718,193870,197759,201217,204242,null,112717.81831067652,113870.19673738717,117759.47392753568,121216.60920766769,124241.6025777832,192717.81831067652,193870.19673738719,197759.4739275357,201216.6092076677,204241.6025777832]
["SHASTA45%","45%",121505,123377,129139,134325,138790,201505,203377,209139,214325,218790,null,121505,123377,129139,134325,138790,201505,203377,209139,214325,218790,null,121504.70381434535,123377.31875775018,129139.21089130352,134324.91381150152,138790.38021500537,201504.70381434535,203377.31875775018,209139.21089130352,214324.91381150152,218790.38021500537]
["SHASTA40%","40%",130292,132740,140375,147289,153339,210292,212740,220375,227289,233339,null,130292,132740,140375,147289,153339,210292,212740,220375,227289,233339,null,130291.58931801419,132740.39347477435,140374.90055173251,147289.17111199655,153339.15785222754,210291.58931801419,212740.39347477435,220374.90055173251,227289.17111199655,233339.15785222754]
["SHASTA35%","35%",139223,142248,151755,160397,168032,219223,222248,231755,240397,248032,null,139223,142248,151755,160397,168032,219223,222248,231755,240397,248032,null,139222.52212502185,142247.51549513737,151754.63751550036,160397.47571583037,168031.98279278853,219222.52212502185,222247.51549513737,231754.63751550036,240397.47571583037,248031.98279278853]
["SHASTA30%","30%",148009,151755,163134,173506,182581,228009,231755,243134,253506,262581,null,148009,151755,163134,173506,182581,228009,231755,243134,253506,262581,null,148009.40762869071,151754.63751550036,163134.37447926821,173505.78031966422,182580.76043001073,228009.40762869071,231754.63751550036,243134.37447926821,253505.78031966422,262580.76043001073]
["SHASTA25%","25%",156796,161118,174514,186614,197274,236796,241118,254514,266614,277274,null,156796,161118,174514,186614,197274,236796,241118,254514,266614,277274,null,156796.29313235954,161117.71223252453,174514.11144303606,186614.08492349804,197273.58537057176,236796.29313235954,241117.71223252453,254514.11144303606,266614.08492349804,277273.58537057176]
["SHASTA20%","20%",165583,170625,185750,199722,211822,245583,250625,265750,279722,291822,null,165583,{"$f":"ROUND(Z450,0)","v":170625},{"$f":"ROUND(AA450,0)","v":185750},{"$f":"ROUND(AB450,0)","v":199722},{"$f":"ROUND(AC450,0)","v":211822},{"$f":"ROUND(AD450,0)","v":245583},{"$f":"ROUND(AE450,0)","v":250625},{"$f":"ROUND(AF450,0)","v":265750},{"$f":"ROUND(AG450,0)","v":279722},{"$f":"ROUND(AH450,0)","v":291822},null,165583.17863602837,170624.83425288755,185749.80110346506,199722.38952733192,211822.3630077939,245583.17863602837,250624.83425288755,265749.80110346503,279722.38952733192,291822.3630077939]
["SHASTA15%","15%",174514,180132,197130,212831,226371,254514,260132,277130,292831,306371,null,{"$f":"ROUND(Y451,0)","v":174514},180132,197130,212831,226371,254514,260132,277130,292831,306371,null,174514.11144303606,180131.95627325057,197129.53806723293,212830.69413116574,226371.1406450161,254514.11144303606,260131.95627325057,277129.53806723293,292830.69413116574,306371.1406450161]
["SIERRA60%","60%",95000,95000,95000,95000,95000,175000,175000,175000,175000,175000,null,95000,95000,95000,95000,95000,175000,175000,175000,175000,175000,null,95000,95000,95000,95000,95000,175000,175000,175000,175000,175000]
["SIERRA55%","55%",105227,105948,108108,110125,111854,185227,185948,188108,190125,191854,null,105227,105948,108108,110125,111854,185227,185948,188108,190125,191854,null,105227.35853705718,105947.59505375134,108108.30460383385,110124.9668505775,111853.53449064351,185227.35853705718,185947.59505375134,188108.30460383385,190124.9668505775,191853.53449064351]
["SIERRA50%","50%",115311,116751,121073,125250,128707,195311,196751,201073,205250,208707,null,115311,116751,121073,125250,128707,195311,196751,201073,205250,208707,null,115310.66977077551,116751.14280416384,121072.56190432885,125249.93370115502,128707.06898128703,195310.66977077551,196751.14280416386,201072.56190432885,205249.93370115501,208707.06898128701]
["SIERRA45%","45%",125538,127699,134181,140231,145561,205538,207699,214181,220231,225561,null,125538,127699,134181,140231,145561,205538,207699,214181,220231,225561,null,125538.02830783269,127698.73785791518,134180.8665081627,140230.85324839372,145560.60347193055,205538.02830783269,207698.7378579152,214180.8665081627,220230.85324839372,225560.60347193055]
["SIERRA40%","40%",135621,138502,147145,155356,162270,215621,218502,227145,235356,242270,null,135621,138502,147145,155356,162270,215621,218502,227145,235356,242270,null,135621.33954155102,138502.28560832769,147145.12380865769,155355.82009897122,162270.0906592352,215621.33954155102,218502.28560832769,227145.12380865769,235355.82009897122,242270.0906592352]
["SIERRA35%","35%",145849,149450,160253,170481,179124,225849,229450,240253,250481,259124,null,145849,149450,160253,170481,179124,225849,229450,240253,250481,259124,null,145848.6980786082,149449.88066207903,160253.42841249154,170480.7869495487,179123.62514987873,225848.6980786082,229449.88066207903,240253.42841249154,250480.7869495487,259123.62514987873]
["SIERRA30%","30%",155932,160253,173362,185462,195977,235932,240253,253362,265462,275977,null,155932,160253,173362,185462,195977,235932,240253,253362,265462,275977,null,155932.00931232655,160253.42841249154,173361.73301632539,185461.70649678743,195977.15964052224,235932.00931232655,240253.42841249154,253361.73301632539,265461.70649678743,275977.15964052221]
["SIERRA25%","25%",166159,171201,186326,200587,212831,246159,251201,266326,280587,292831,null,166159,171201,186326,200587,212831,246159,251201,266326,280587,292831,null,166159.36784938374,171201.02346624288,186325.99031682039,200586.67334736491,212830.69413116574,246159.36784938374,251201.02346624288,266325.99031682039,280586.67334736488,292830.69413116574]
["SIERRA20%","20%",176243,182005,199434,215712,229540,256243,262005,279434,295712,309540,null,176243,182005,199434,215712,229540,256243,262005,279434,295712,309540,null,176242.67908310206,182004.57121665537,199434.29492065424,215711.64019794244,229540.18131847042,256242.67908310206,262004.57121665537,279434.29492065427,295711.64019794244,309540.18131847039]
["SIERRA15%","15%",186470,192952,212543,230693,246394,266470,272952,292543,310693,326394,null,186470,192952,212543,230693,246394,266470,272952,292543,310693,326394,null,186470.03762015922,192952.16627040674,212542.59952448809,230692.55974518112,246393.71580911393,266470.03762015922,272952.16627040674,292542.59952448809,310692.55974518112,326393.71580911393]
["SISKIYOU60%","60%",95000,95000,95000,95000,95000,175000,175000,175000,175000,175000,null,95000,95000,95000,95000,95000,175000,175000,175000,175000,175000,null,95000,95000,95000,95000,95000,175000,175000,175000,175000,175000]
["SISKIYOU55%","55%",103931,104507,106380,108108,109549,183931,184507,186380,188108,189549,null,103931,104507,106380,108108,109549,183931,184507,186380,188108,189549,null,103930.93280700767,104507.12202036301,106379.73696376785,108108.30460383385,109548.77763722217,183930.93280700769,184507.12202036299,186379.73696376785,188108.30460383385,189548.77763722217]
["SISKIYOU50%","50%",112718,113870,117759,121217,124242,192718,193870,197759,201217,204242,null,112718,113870,117759,121217,124242,192718,193870,197759,201217,204242,null,112717.81831067652,113870.19673738717,117759.47392753568,121216.60920766769,124241.6025777832,192717.81831067652,193870.19673738719,197759.4739275357,201216.6092076677,204241.6025777832]
["SISKIYOU45%","45%",121505,123377,129139,134325,138790,201505,203377,209139,214325,218790,null,121505,123377,129139,134325,138790,201505,203377,209139,214325,218790,null,121504.70381434535,123377.31875775018,129139.21089130352,134324.91381150152,138790.38021500537,201504.70381434535,203377.31875775018,209139.21089130352,214324.91381150152,218790.38021500537]
["SISKIYOU40%","40%",130292,132740,140375,147289,153339,210292,212740,220375,227289,233339,null,130292,132740,140375,147289,153339,210292,212740,220375,227289,233339,null,130291.58931801419,132740.39347477435,140374.90055173251,147289.17111199655,153339.15785222754,210291.58931801419,212740.39347477435,220374.90055173251,227289.17111199655,233339.15785222754]
["SISKIYOU35%","35%",139223,142248,151755,160397,168032,219223,222248,231755,240397,248032,null,139223,142248,151755,160397,168032,219223,222248,231755,240397,248032,null,139222.52212502185,142247.51549513737,151754.63751550036,160397.47571583037,168031.98279278853,219222.52212502185,222247.51549513737,231754.63751550036,240397.47571583037,248031.98279278853]
["SISKIYOU30%","30%",148009,151755,163134,173506,182581,228009,231755,243134,253506,262581,null,148009,151755,163134,173506,182581,228009,231755,243134,253506,262581,null,148009.40762869071,151754.63751550036,163134.37447926821,173505.78031966422,182580.76043001073,228009.40762869071,231754.63751550036,243134.37447926821,253505.78031966422,262580.76043001073]
["SISKIYOU25%","25%",156796,161118,174514,186614,197274,236796,241118,254514,266614,277274,null,156796,161118,174514,186614,197274,236796,241118,254514,266614,277274,null,156796.29313235954,161117.71223252453,174514.11144303606,186614.08492349804,197273.58537057176,236796.29313235954,241117.71223252453,254514.11144303606,266614.08492349804,277273.58537057176]
["SISKIYOU20%","20%",165583,170625,185750,199722,211822,245583,250625,265750,279722,291822,null,165583,170625,185750,199722,211822,245583,250625,265750,279722,291822,null,165583.17863602837,170624.83425288755,185749.80110346506,199722.38952733192,211822.3630077939,245583.17863602837,250624.83425288755,265749.80110346503,279722.38952733192,291822.3630077939]
["SISKIYOU15%","15%",174514,180132,197130,212831,226371,254514,260132,277130,292831,306371,null,174514,180132,197130,212831,226371,254514,260132,277130,292831,306371,null,174514.11144303606,180131.95627325057,197129.53806723293,212830.69413116574,226371.1406450161,254514.11144303606,260131.95627325057,277129.53806723293,292830.69413116574,306371.1406450161]
["SOLANO60%","60%",95000,95000,95000,95000,95000,175000,175000,175000,175000,175000,null,95000,95000,95000,95000,95000,175000,175000,175000,175000,175000,null,95000,95000,95000,95000,95000,175000,175000,175000,175000,175000]
["SOLANO55%","55%",106668,107532,109981,112430,114302,186668,187532,189981,192430,194302,null,106668,107532,109981,112430,114302,186668,187532,189981,192430,194302,null,106667.8315704455,107532.11539047852,109980.91954723868,112429.72370399884,114302.33864740368,186667.8315704455,187532.11539047852,189980.91954723868,192429.72370399884,194302.3386474037]
["SOLANO50%","50%",118336,120064,124962,129715,133605,198336,200064,204962,209715,213605,null,118336,120064,124962,129715,133605,198336,200064,204962,209715,213605,null,118335.66314089102,120064.23078095702,124961.83909447736,129715.40010465885,133604.67729480736,198335.663140891,200064.23078095703,204961.83909447736,209715.40010465885,213604.67729480736]
["SOLANO45%","45%",130003,132596,139943,147001,152907,210003,212596,219943,227001,232907,null,130003,132596,139943,147001,152907,210003,212596,219943,227001,232907,null,130003.49471133653,132596.34617143552,139942.75864171603,147001.07650531887,152907.01594221103,210003.49471133653,212596.34617143552,219942.75864171603,227001.07650531887,232907.01594221103]
["SOLANO40%","40%",141671,144984,154924,164287,172209,221671,224984,234924,244287,252209,null,141671,144984,154924,164287,172209,221671,224984,234924,244287,252209,null,141671.32628178204,144984.41425857518,154923.67818895471,164286.75290597888,172209.35458961473,221671.32628178204,224984.41425857518,234923.67818895471,244286.75290597888,252209.35458961473]
["SOLANO35%","35%",153339,157517,170049,181716,191656,233339,237517,250049,261716,271656,null,153339,157517,170049,181716,191656,233339,237517,250049,261716,271656,null,153339.15785222754,157516.5296490537,170048.64503953222,181716.47660997772,191655.74054035725,233339.15785222754,237516.5296490537,250048.64503953222,261716.47660997772,271655.74054035725]
["SOLANO30%","30%",165007,170049,185030,199002,210958,245007,250049,265030,279002,290958,null,165007,170049,185030,199002,210958,245007,250049,265030,279002,290958,null,165006.98942267307,170048.64503953222,185029.5645867709,199002.15301063773,210958.07918776092,245006.98942267307,250048.64503953222,265029.5645867709,279002.15301063773,290958.07918776094]
["SOLANO25%","25%",176675,182581,200010,216288,230260,256675,262581,280010,296288,310260,null,176675,182581,200010,216288,230260,256675,262581,280010,296288,310260,null,176674.82099311857,182580.76043001073,200010.48413400957,216287.82941129775,230260.41783516458,256674.82099311857,262580.76043001073,280010.48413400957,296287.82941129775,310260.41783516458]
["SOLANO20%","20%",188343,194969,214991,233574,249563,268343,274969,294991,313574,329563,null,188343,194969,214991,233574,249563,268343,274969,294991,313574,329563,null,188342.65256356407,194968.8285171504,214991.40368124825,233573.50581195779,249562.75648256828,268342.65256356407,274968.82851715037,294991.40368124825,313573.50581195776,329562.75648256828]
["SOLANO15%","15%",200010,207501,229972,251003,268865,280010,287501,309972,331003,348865,null,200010,207501,229972,251003,268865,280010,287501,309972,331003,348865,null,200010.48413400957,207500.94390762888,229972.32322848693,251003.2295159566,268865.09512997197,280010.48413400957,287500.94390762888,309972.32322848693,331003.2295159566,348865.09512997197]
["SONOMA60%","60%",95000,95000,95000,95000,95000,175000,175000,175000,175000,175000,null,95000,95000,95000,95000,95000,175000,175000,175000,175000,175000,null,95000,95000,95000,95000,95000,175000,175000,175000,175000,175000]
["SONOMA55%","55%",109405,110269,113438,116319,118768,189405,190269,193438,196319,198768,null,109405,110269,113438,116319,118768,189405,190269,193438,196319,198768,null,109404.73033388334,110269.01415391635,113438.05482737068,116319.00089414735,118767.80505090751,189404.73033388334,190269.01415391633,193438.05482737068,196319.00089414735,198767.80505090751]
["SONOMA50%","50%",123665,125682,131876,137638,142536,203665,205682,211876,217638,222536,null,123665,125682,131876,137638,142536,203665,205682,211876,217638,222536,null,123665.41336442786,125682.07561117152,131876.10965474136,137638.0017882947,142535.61010181502,203665.41336442786,205682.07561117152,211876.10965474136,217638.0017882947,222535.61010181502]
["SONOMA45%","45%",138070,140951,150314,158813,166303,218070,220951,230314,238813,246303,null,138070,140951,150314,158813,166303,218070,220951,230314,238813,246303,null,138070.14369831118,140951.08976508788,150314.16448211204,158812.95537910319,166303.41515272256,218070.14369831118,220951.08976508788,230314.16448211204,238812.95537910319,246303.41515272256]
["SONOMA40%","40%",152331,156364,168608,180132,189927,232331,236364,248608,260132,269927,null,152331,156364,168608,180132,189927,232331,236364,248608,260132,269927,null,152330.82672885573,156364.15122234303,168608.1720061439,180131.95627325057,189927.17290029122,232330.82672885573,236364.15122234303,248608.1720061439,260131.95627325057,269927.17290029122]
["SONOMA35%","35%",166736,171777,187046,201451,213695,246736,251777,267046,281451,293695,null,166736,171777,187046,201451,213695,246736,251777,267046,281451,293695,null,166735.55706273904,171777.21267959822,187046.22683351455,201450.95716739789,213694.97795119873,246735.55706273904,251777.21267959822,267046.22683351452,281450.95716739789,293694.9779511987]
["SONOMA30%","30%",180996,187046,205484,222626,237463,260996,267046,285484,302626,317463,null,180996,187046,205484,222626,237463,260996,267046,285484,302626,317463,null,180996.24009328356,187046.22683351455,205484.28166088526,222625.91075820642,237462.78300210627,260996.24009328356,267046.22683351452,285484.28166088526,302625.91075820639,317462.78300210624]
["SONOMA25%","25%",195401,202459,223922,243945,261231,275401,282459,303922,323945,341231,null,195401,202459,223922,243945,261231,275401,282459,303922,323945,341231,null,195400.9704271669,202459.28829076973,223922.33648825594,243944.91165235377,261230.58805301378,275400.9704271669,282459.28829076973,303922.33648825594,323944.91165235377,341230.58805301378]
["SONOMA20%","20%",209662,217728,242360,265264,284854,289662,297728,322360,345264,364854,null,209662,217728,242360,265264,284854,289662,297728,322360,345264,364854,null,209661.65345771142,217728.30244468609,242360.39131562659,265263.91254650115,284854.34580058244,289661.65345771145,297728.30244468607,322360.39131562656,345263.91254650115,364854.34580058244]
["SONOMA15%","15%",224066,233141,260798,286439,308622,304066,313141,340798,366439,388622,null,224066,233141,260798,286439,308622,304066,313141,340798,366439,388622,null,224066.38379159474,233141.36390194128,260798.4461429973,286438.8661373097,308622.15085148998,304066.38379159477,313141.36390194128,340798.4461429973,366438.8661373097,388622.15085148998]
["STANISLAUS60%","60%",95000,95000,95000,95000,95000,175000,175000,175000,175000,175000,null,95000,95000,95000,95000,95000,175000,175000,175000,175000,175000,null,95000,95000,95000,95000,95000,175000,175000,175000,175000,175000]
["STANISLAUS55%","55%",103931,104507,106380,108108,109549,183931,184507,186380,188108,189549,null,103931,104507,106380,108108,109549,183931,184507,186380,188108,189549,null,103930.93280700767,104507.12202036301,106379.73696376785,108108.30460383385,109548.77763722217,183930.93280700769,184507.12202036299,186379.73696376785,188108.30460383385,189548.77763722217]
["STANISLAUS50%","50%",112718,113870,117759,121217,124242,192718,193870,197759,201217,204242,null,112718,113870,117759,121217,124242,192718,193870,197759,201217,204242,null,112717.81831067652,113870.19673738717,117759.47392753568,121216.60920766769,124241.6025777832,192717.81831067652,193870.19673738719,197759.4739275357,201216.6092076677,204241.6025777832]
["STANISLAUS45%","45%",121505,123377,129139,134325,138790,201505,203377,209139,214325,218790,null,121505,123377,129139,134325,138790,201505,203377,209139,214325,218790,null,121504.70381434535,123377.31875775018,129139.21089130352,134324.91381150152,138790.38021500537,201504.70381434535,203377.31875775018,209139.21089130352,214324.91381150152,218790.38021500537]
["STANISLAUS40%","40%",130292,132740,140375,147289,153339,210292,212740,220375,227289,233339,null,130292,132740,140375,147289,153339,210292,212740,220375,227289,233339,null,130291.58931801419,132740.39347477435,140374.90055173251,147289.17111199655,153339.15785222754,210291.58931801419,212740.39347477435,220374.90055173251,227289.17111199655,233339.15785222754]
["STANISLAUS35%","35%",139223,142248,151755,160397,168032,219223,222248,231755,240397,248032,null,139223,142248,151755,160397,168032,219223,222248,231755,240397,248032,null,139222.52212502185,142247.51549513737,151754.63751550036,160397.47571583037,168031.98279278853,219222.52212502185,222247.51549513737,231754.63751550036,240397.47571583037,248031.98279278853]
["STANISLAUS30%","30%",148009,151755,163134,173506,182581,228009,231755,243134,253506,262581,null,148009,151755,163134,173506,182581,228009,231755,243134,253506,262581,null,148009.40762869071,151754.63751550036,163134.37447926821,173505.78031966422,182580.76043001073,228009.40762869071,231754.63751550036,243134.37447926821,253505.78031966422,262580.76043001073]
["STANISLAUS25%","25%",156796,161118,174514,186614,197274,236796,241118,254514,266614,277274,null,156796,161118,174514,186614,197274,236796,241118,254514,266614,277274,null,156796.29313235954,161117.71223252453,174514.11144303606,186614.08492349804,197273.58537057176,236796.29313235954,241117.71223252453,254514.11144303606,266614.08492349804,277273.58537057176]
["STANISLAUS20%","20%",165583,170625,185750,199722,211822,245583,250625,265750,279722,291822,null,165583,170625,185750,199722,211822,245583,250625,265750,279722,291822,null,165583.17863602837,170624.83425288755,185749.80110346506,199722.38952733192,211822.3630077939,245583.17863602837,250624.83425288755,265749.80110346503,279722.38952733192,291822.3630077939]
["STANISLAUS15%","15%",174514,180132,197130,212831,226371,254514,260132,277130,292831,306371,null,174514,180132,197130,212831,226371,254514,260132,277130,292831,306371,null,174514.11144303606,180131.95627325057,197129.53806723293,212830.69413116574,226371.1406450161,254514.11144303606,260131.95627325057,277129.53806723293,292830.69413116574,306371.1406450161]
["SUTTER60%","60%",95000,95000,95000,95000,95000,175000,175000,175000,175000,175000,null,95000,95000,95000,95000,95000,175000,175000,175000,175000,175000,null,95000,95000,95000,95000,95000,175000,175000,175000,175000,175000]
["SUTTER55%","55%",103931,104507,106380,108108,109549,183931,184507,186380,188108,189549,null,103931,104507,106380,108108,109549,183931,184507,186380,188108,189549,null,103930.93280700767,104507.12202036301,106379.73696376785,108108.30460383385,109548.77763722217,183930.93280700769,184507.12202036299,186379.73696376785,188108.30460383385,189548.77763722217]
["SUTTER50%","50%",112718,113870,117759,121217,124242,192718,193870,197759,201217,204242,null,112718,113870,117759,121217,124242,192718,193870,197759,201217,204242,null,112717.81831067652,113870.19673738717,117759.47392753568,121216.60920766769,124241.6025777832,192717.81831067652,193870.19673738719,197759.4739275357,201216.6092076677,204241.6025777832]
["SUTTER45%","45%",121505,123377,129139,134325,138790,201505,203377,209139,214325,218790,null,121505,123377,129139,134325,138790,201505,203377,209139,214325,218790,null,121504.70381434535,123377.31875775018,129139.21089130352,134324.91381150152,138790.38021500537,201504.70381434535,203377.31875775018,209139.21089130352,214324.91381150152,218790.38021500537]
["SUTTER40%","40%",130292,132740,140375,147289,153339,210292,212740,220375,227289,233339,null,130292,132740,140375,147289,153339,210292,212740,220375,227289,233339,null,130291.58931801419,132740.39347477435,140374.90055173251,147289.17111199655,153339.15785222754,210291.58931801419,212740.39347477435,220374.90055173251,227289.17111199655,233339.15785222754]
["SUTTER35%","35%",139223,142248,151755,160397,168032,219223,222248,231755,240397,248032,null,139223,142248,151755,160397,168032,219223,222248,231755,240397,248032,null,139222.52212502185,142247.51549513737,151754.63751550036,160397.47571583037,168031.98279278853,219222.52212502185,222247.51549513737,231754.63751550036,240397.47571583037,248031.98279278853]
["SUTTER30%","30%",148009,151755,163134,173506,182581,228009,231755,243134,253506,262581,null,148009,151755,163134,173506,182581,228009,231755,243134,253506,262581,null,148009.40762869071,151754.63751550036,163134.37447926821,173505.78031966422,182580.76043001073,228009.40762869071,231754.63751550036,243134.37447926821,253505.78031966422,262580.76043001073]
["SUTTER25%","25%",156796,161118,174514,186614,197274,236796,241118,254514,266614,277274,null,156796,161118,174514,186614,197274,236796,241118,254514,266614,277274,null,156796.29313235954,161117.71223252453,174514.11144303606,186614.08492349804,197273.58537057176,236796.29313235954,241117.71223252453,254514.11144303606,266614.08492349804,277273.58537057176]
["SUTTER20%","20%",165583,170625,185750,199722,211822,245583,250625,265750,279722,291822,null,165583,170625,185750,199722,211822,245583,250625,265750,279722,291822,null,165583.17863602837,170624.83425288755,185749.80110346506,199722.38952733192,211822.3630077939,245583.17863602837,250624.83425288755,265749.80110346503,279722.38952733192,291822.3630077939]
["SUTTER15%","15%",174514,180132,197130,212831,226371,254514,260132,277130,292831,306371,null,174514,180132,197130,212831,226371,254514,260132,277130,292831,306371,null,174514.11144303606,180131.95627325057,197129.53806723293,212830.69413116574,226371.1406450161,254514.11144303606,260131.95627325057,277129.53806723293,292830.69413116574,306371.1406450161]
["TEHAMA60%","60%",95000,95000,95000,95000,95000,175000,175000,175000,175000,175000,null,95000,95000,95000,95000,95000,175000,175000,175000,175000,175000,null,95000,95000,95000,95000,95000,175000,175000,175000,175000,175000]
["TEHAMA55%","55%",103931,104507,106380,108108,109549,183931,184507,186380,188108,189549,null,103931,104507,106380,108108,109549,183931,184507,186380,188108,189549,null,103930.93280700767,104507.12202036301,106379.73696376785,108108.30460383385,109548.77763722217,183930.93280700769,184507.12202036299,186379.73696376785,188108.30460383385,189548.77763722217]
["TEHAMA50%","50%",112718,113870,117759,121217,124242,192718,193870,197759,201217,204242,null,112718,{"$f":"ROUND(Z514,0)","v":113870},{"$f":"ROUND(AA514,0)","v":117759},{"$f":"ROUND(AB514,0)","v":121217},{"$f":"ROUND(AC514,0)","v":124242},{"$f":"ROUND(AD514,0)","v":192718},{"$f":"ROUND(AE514,0)","v":193870},{"$f":"ROUND(AF514,0)","v":197759},{"$f":"ROUND(AG514,0)","v":201217},{"$f":"ROUND(AH514,0)","v":204242},null,112717.81831067652,113870.19673738717,117759.47392753568,121216.60920766769,124241.6025777832,192717.81831067652,193870.19673738719,197759.4739275357,201216.6092076677,204241.6025777832]
["TEHAMA45%","45%",121505,123377,129139,134325,138790,201505,203377,209139,214325,218790,null,{"$f":"ROUND(Y515,0)","v":121505},123377,129139,134325,138790,201505,203377,209139,214325,218790,null,121504.70381434535,123377.31875775018,129139.21089130352,134324.91381150152,138790.38021500537,201504.70381434535,203377.31875775018,209139.21089130352,214324.91381150152,218790.38021500537]
["TEHAMA40%","40%",130292,132740,140375,147289,153339,210292,212740,220375,227289,233339,null,130292,132740,140375,147289,153339,210292,212740,220375,227289,233339,null,130291.58931801419,132740.39347477435,140374.90055173251,147289.17111199655,153339.15785222754,210291.58931801419,212740.39347477435,220374.90055173251,227289.17111199655,233339.15785222754]
["TEHAMA35%","35%",139223,142248,151755,160397,168032,219223,222248,231755,240397,248032,null,139223,142248,151755,160397,168032,219223,222248,231755,240397,248032,null,139222.52212502185,142247.51549513737,151754.63751550036,160397.47571583037,168031.98279278853,219222.52212502185,222247.51549513737,231754.63751550036,240397.47571583037,248031.98279278853]
["TEHAMA30%","30%",148009,151755,163134,173506,182581,228009,231755,243134,253506,262581,null,148009,151755,163134,173506,182581,228009,231755,243134,253506,262581,null,148009.40762869071,151754.63751550036,163134.37447926821,173505.78031966422,182580.76043001073,228009.40762869071,231754.63751550036,243134.37447926821,253505.78031966422,262580.76043001073]
["TEHAMA25%","25%",156796,161118,174514,186614,197274,236796,241118,254514,266614,277274,null,156796,161118,174514,186614,197274,236796,241118,254514,266614,277274,null,156796.29313235954,161117.71223252453,174514.11144303606,186614.08492349804,197273.58537057176,236796.29313235954,241117.71223252453,254514.11144303606,266614.08492349804,277273.58537057176]
["TEHAMA20%","20%",165583,170625,185750,199722,211822,245583,250625,265750,279722,291822,null,165583,170625,185750,199722,211822,245583,250625,265750,279722,291822,null,165583.17863602837,170624.83425288755,185749.80110346506,199722.38952733192,211822.3630077939,245583.17863602837,250624.83425288755,265749.80110346503,279722.38952733192,291822.3630077939]
["TEHAMA15%","15%",174514,180132,197130,212831,226371,254514,260132,277130,292831,306371,null,174514,180132,197130,212831,226371,254514,260132,277130,292831,306371,null,174514.11144303606,180131.95627325057,197129.53806723293,212830.69413116574,226371.1406450161,254514.11144303606,260131.95627325057,277129.53806723293,292830.69413116574,306371.1406450161]
["TRINITY60%","60%",95000,95000,95000,95000,95000,175000,175000,175000,175000,175000,null,95000,95000,95000,95000,95000,175000,175000,175000,175000,175000,null,95000,95000,95000,95000,95000,175000,175000,175000,175000,175000]
["TRINITY55%","55%",103931,104507,106380,108108,109549,183931,184507,186380,188108,189549,null,103931,104507,106380,108108,109549,183931,184507,186380,188108,189549,null,103930.93280700767,104507.12202036301,106379.73696376785,108108.30460383385,109548.77763722217,183930.93280700769,184507.12202036299,186379.73696376785,188108.30460383385,189548.77763722217]
["TRINITY50%","50%",112718,113870,117759,121217,124242,192718,193870,197759,201217,204242,null,112718,113870,117759,121217,124242,192718,193870,197759,201217,204242,null,112717.81831067652,113870.19673738717,117759.47392753568,121216.60920766769,124241.6025777832,192717.81831067652,193870.19673738719,197759.4739275357,201216.6092076677,204241.6025777832]
["TRINITY45%","45%",121505,123377,129139,134325,138790,201505,203377,209139,214325,218790,null,121505,123377,129139,134325,138790,201505,203377,209139,214325,218790,null,121504.70381434535,123377.31875775018,129139.21089130352,134324.91381150152,138790.38021500537,201504.70381434535,203377.31875775018,209139.21089130352,214324.91381150152,218790.38021500537]
["TRINITY40%","40%",130292,132740,140375,147289,153339,210292,212740,220375,227289,233339,null,130292,132740,140375,147289,153339,210292,212740,220375,227289,233339,null,130291.58931801419,132740.39347477435,140374.90055173251,147289.17111199655,153339.15785222754,210291.58931801419,212740.39347477435,220374.90055173251,227289.17111199655,233339.15785222754]
["TRINITY35%","35%",139223,142248,151755,160397,168032,219223,222248,231755,240397,248032,null,139223,142248,151755,160397,168032,219223,222248,231755,240397,248032,null,139222.52212502185,142247.51549513737,151754.63751550036,160397.47571583037,168031.98279278853,219222.52212502185,222247.51549513737,231754.63751550036,240397.47571583037,248031.98279278853]
["TRINITY30%","30%",148009,151755,163134,173506,182581,228009,231755,243134,253506,262581,null,148009,151755,163134,173506,182581,228009,231755,243134,253506,262581,null,148009.40762869071,151754.63751550036,163134.37447926821,173505.78031966422,182580.76043001073,228009.40762869071,231754.63751550036,243134.37447926821,253505.78031966422,262580.76043001073]
["TRINITY25%","25%",156796,161118,174514,186614,197274,236796,241118,254514,266614,277274,null,156796,161118,174514,186614,197274,236796,241118,254514,266614,277274,null,156796.29313235954,161117.71223252453,174514.11144303606,186614.08492349804,197273.58537057176,236796.29313235954,241117.71223252453,254514.11144303606,266614.08492349804,277273.58537057176]
["TRINITY20%","20%",165583,170625,185750,199722,211822,245583,250625,265750,279722,291822,null,165583,170625,185750,199722,211822,245583,250625,265750,279722,291822,null,165583.17863602837,170624.83425288755,185749.80110346506,199722.38952733192,211822.3630077939,245583.17863602837,250624.83425288755,265749.80110346503,279722.38952733192,291822.3630077939]
["TRINITY15%","15%",174514,180132,197130,212831,226371,254514,260132,277130,292831,306371,null,174514,180132,197130,212831,226371,254514,260132,277130,292831,306371,null,174514.11144303606,180131.95627325057,197129.53806723293,212830.69413116574,226371.1406450161,254514.11144303606,260131.95627325057,277129.53806723293,292830.69413116574,306371.1406450161]
["TULARE60%","60%",95000,95000,95000,95000,95000,175000,175000,175000,175000,175000,null,95000,95000,95000,95000,95000,175000,175000,175000,175000,175000,null,95000,95000,95000,95000,95000,175000,175000,175000,175000,175000]
["TULARE55%","55%",103931,104507,106380,108108,109549,183931,184507,186380,188108,189549,null,103931,104507,106380,108108,109549,183931,184507,186380,188108,189549,null,103930.93280700767,104507.12202036301,106379.73696376785,108108.30460383385,109548.77763722217,183930.93280700769,184507.12202036299,186379.73696376785,188108.30460383385,189548.77763722217]
["TULARE50%","50%",112718,113870,117759,121217,124242,192718,193870,197759,201217,204242,null,112718,113870,117759,121217,124242,192718,193870,197759,201217,204242,null,112717.81831067652,113870.19673738717,117759.47392753568,121216.60920766769,124241.6025777832,192717.81831067652,193870.19673738719,197759.4739275357,201216.6092076677,204241.6025777832]
["TULARE45%","45%",121505,123377,129139,134325,138790,201505,203377,209139,214325,218790,null,121505,123377,129139,134325,138790,201505,203377,209139,214325,218790,null,121504.70381434535,123377.31875775018,129139.21089130352,134324.91381150152,138790.38021500537,201504.70381434535,203377.31875775018,209139.21089130352,214324.91381150152,218790.38021500537]
["TULARE40%","40%",130292,132740,140375,147289,153339,210292,212740,220375,227289,233339,null,130292,132740,140375,147289,153339,210292,212740,220375,227289,233339,null,130291.58931801419,132740.39347477435,140374.90055173251,147289.17111199655,153339.15785222754,210291.58931801419,212740.39347477435,220374.90055173251,227289.17111199655,233339.15785222754]
["TULARE35%","35%",139223,142248,151755,160397,168032,219223,222248,231755,240397,248032,null,139223,142248,151755,160397,168032,219223,222248,231755,240397,248032,null,139222.52212502185,142247.51549513737,151754.63751550036,160397.47571583037,168031.98279278853,219222.52212502185,222247.51549513737,231754.63751550036,240397.47571583037,248031.98279278853]
["TULARE30%","30%",148009,151755,163134,173506,182581,228009,231755,243134,253506,262581,null,148009,151755,163134,173506,182581,228009,231755,243134,253506,262581,null,148009.40762869071,151754.63751550036,163134.37447926821,173505.78031966422,182580.76043001073,228009.40762869071,231754.63751550036,243134.37447926821,253505.78031966422,262580.76043001073]
["TULARE25%","25%",156796,161118,174514,186614,197274,236796,241118,254514,266614,277274,null,156796,161118,174514,186614,197274,236796,241118,254514,266614,277274,null,156796.29313235954,161117.71223252453,174514.11144303606,186614.08492349804,197273.58537057176,236796.29313235954,241117.71223252453,254514.11144303606,266614.08492349804,277273.58537057176]
["TULARE20%","20%",165583,170625,185750,199722,211822,245583,250625,265750,279722,291822,null,165583,170625,185750,199722,211822,245583,250625,265750,279722,291822,null,165583.17863602837,170624.83425288755,185749.80110346506,199722.38952733192,211822.3630077939,245583.17863602837,250624.83425288755,265749.80110346503,279722.38952733192,291822.3630077939]
["TULARE15%","15%",174514,180132,197130,212831,226371,254514,260132,277130,292831,306371,null,174514,180132,197130,212831,226371,254514,260132,277130,292831,306371,null,174514.11144303606,180131.95627325057,197129.53806723293,212830.69413116574,226371.1406450161,254514.11144303606,260131.95627325057,277129.53806723293,292830.69413116574,306371.1406450161]
["TUOLUMNE60%","60%",95000,95000,95000,95000,95000,175000,175000,175000,175000,175000,null,95000,95000,95000,95000,95000,175000,175000,175000,175000,175000,null,95000,95000,95000,95000,95000,175000,175000,175000,175000,175000]
["TUOLUMNE55%","55%",103931,104507,106524,108252,109837,183931,184507,186524,188252,189837,null,103931,104507,106524,108252,109837,183931,184507,186524,188252,189837,null,103930.93280700767,104507.12202036301,106523.78426710668,108252.35190717268,109836.87224389984,183930.93280700769,184507.12202036299,186523.78426710668,188252.35190717268,189836.87224389985]
["TUOLUMNE50%","50%",112862,114158,118048,121649,124674,192862,194158,198048,201649,204674,null,112862,114158,118048,121649,124674,192862,194158,198048,201649,204674,null,112861.86561401535,114158.29134406484,118047.56853421335,121648.75111768418,124673.74448779967,192861.86561401535,194158.29134406484,198047.56853421335,201648.75111768418,204673.74448779967]
["TUOLUMNE45%","45%",121793,123665,129571,134901,139511,201793,203665,209571,214901,219511,null,121793,123665,129571,134901,139511,201793,203665,209571,214901,219511,null,121792.79842102302,123665.41336442786,129571.35280132003,134901.10302485686,139510.61673169953,201792.79842102301,203665.41336442786,209571.35280132003,214901.10302485686,219510.61673169953]
["TUOLUMNE40%","40%",130724,133317,140951,148153,154203,210724,213317,220951,228153,234203,null,130724,133317,140951,148153,154203,210724,213317,220951,228153,234203,null,130723.73122803069,133316.58268812968,140951.08976508788,148153.45493202953,154203.44167226055,210723.73122803069,213316.58268812968,220951.08976508788,228153.45493202953,234203.44167226055]
["TUOLUMNE35%","35%",139799,142968,152475,161406,169040,219799,222968,232475,241406,249040,null,139799,142968,152475,161406,169040,219799,222968,232475,241406,249040,null,139798.71133837721,142967.75201183153,152474.87403219452,161405.80683920221,169040.31391616038,219798.71133837721,222967.75201183153,232474.87403219452,241405.80683920221,249040.31391616038]
["TUOLUMNE30%","30%",148730,152475,163999,174658,183877,228730,232475,243999,254658,263877,null,148730,152475,163999,174658,183877,228730,232475,243999,254658,263877,null,148729.64414538487,152474.87403219452,163998.65829930123,174658.15874637489,183877.18616006023,228729.64414538487,232474.87403219452,243998.65829930123,254658.15874637489,263877.18616006023]
["TUOLUMNE25%","25%",157661,162126,175522,188055,198714,237661,242126,255522,268055,278714,null,157661,162126,175522,188055,198714,237661,242126,255522,268055,278714,null,157660.57695239253,162126.04335589637,175522.4425664079,188054.55795688639,198714.05840396008,237660.57695239253,242126.04335589637,255522.4425664079,268054.55795688636,278714.05840396008]
["TUOLUMNE20%","20%",166592,171633,187046,201307,213551,246592,251633,267046,281307,293551,null,166592,171633,187046,201307,213551,246592,251633,267046,281307,293551,null,166591.50975940021,171633.16537625939,187046.22683351455,201306.90986405907,213550.9306478599,246591.50975940021,251633.16537625939,267046.22683351452,281306.90986405907,293550.93064785993]
["TUOLUMNE15%","15%",175522,181284,198570,214559,228388,255522,261284,278570,294559,308388,null,175522,181284,198570,214559,228388,255522,261284,278570,294559,308388,null,175522.4425664079,181284.33469996124,198570.01110062125,214559.26177123177,228387.80289175975,255522.4425664079,261284.33469996124,278570.01110062125,294559.26177123177,308387.80289175978]
["VENTURA60%","60%",95000,95000,95000,95000,95000,175000,175000,175000,175000,175000,null,95000,95000,95000,95000,95000,175000,175000,175000,175000,175000,null,95000,95000,95000,95000,95000,175000,175000,175000,175000,175000]
["VENTURA55%","55%",109261,110269,113294,116175,118624,189261,190269,193294,196175,198624,null,109261,110269,113294,116175,118624,189261,190269,193294,196175,198624,null,109260.6830305445,110269.01415391635,113294.00752403184,116174.95359080852,118623.75774756868,189260.68303054452,190269.01415391633,193294.00752403185,196174.95359080852,198623.75774756868]
["VENTURA50%","50%",123521,125538,131588,137206,142248,203521,205538,211588,217206,222248,null,123521,125538,131588,137206,142248,203521,205538,211588,217206,222248,null,123521.36606108902,125538.02830783269,131588.01504806368,137205.85987827819,142247.51549513737,203521.36606108901,205538.02830783269,211588.01504806368,217205.85987827819,222247.51549513737]
["VENTURA45%","45%",137782,140807,149882,158381,165871,217782,220807,229882,238381,245871,null,137782,140807,149882,158381,165871,217782,220807,229882,238381,245871,null,137782.04909163353,140807.04246174902,149882.02257209553,158380.81346908672,165871.27324270605,217782.04909163353,220807.04246174902,229882.02257209553,238380.81346908672,245871.27324270605]
["VENTURA40%","40%",151899,156076,168176,179556,189351,231899,236076,248176,259556,269351,null,151899,156076,168176,179556,189351,231899,236076,248176,259556,269351,null,151898.68481883922,156076.05661566538,168176.03009612736,179555.76705989521,189350.98368693591,231898.68481883922,236076.05661566538,248176.03009612736,259555.76705989521,269350.98368693591]
["VENTURA35%","35%",166159,171345,186614,200731,212975,246159,251345,266614,280731,292975,null,166159,171345,186614,200731,212975,246159,251345,266614,280731,292975,null,166159.36784938374,171345.07076958171,186614.08492349804,200730.7206507037,212974.74143450457,246159.36784938374,251345.07076958171,266614.08492349804,280730.7206507037,292974.74143450457]
["VENTURA30%","30%",180420,186614,204908,221906,236598,260420,266614,284908,301906,316598,null,180420,186614,204908,221906,236598,260420,266614,284908,301906,316598,null,180420.05087992823,186614.08492349804,204908.0924475299,221905.67424151226,236598.49918207325,260420.05087992823,266614.08492349804,284908.0924475299,301905.67424151226,316598.49918207328]
["VENTURA25%","25%",194681,201883,223202,242937,260222,274681,281883,303202,322937,340222,null,194681,201883,223202,242937,260222,274681,281883,303202,322937,340222,null,194680.73391047271,201883.0990774144,223202.09997156178,242936.58052898195,260222.25692964194,274680.73391047271,281883.09907741437,303202.09997156181,322936.58052898198,340222.25692964194]
["VENTURA20%","20%",208941,217152,241496,264112,283702,288941,297152,321496,344112,363702,null,208941,217152,241496,264112,283702,288941,297152,321496,344112,363702,null,208941.41694101726,217152.11323133076,241496.10749559363,264111.53411979042,283701.96737387183,288941.41694101726,297152.11323133076,321496.10749559361,344111.53411979042,363701.96737387183]
["VENTURA15%","15%",223202,232421,259790,285286,307326,303202,312421,339790,365286,387326,null,223202,232421,259790,285286,307326,303202,312421,339790,365286,387326,null,223202.09997156178,232421.12738524709,259790.11501962546,285286.48771059897,307325.72512144048,303202.09997156181,312421.12738524709,339790.11501962546,365286.48771059897,387325.72512144048]
["YOLO60%","60%",95000,95000,95000,95000,95000,175000,175000,175000,175000,175000,null,95000,95000,95000,95000,95000,175000,175000,175000,175000,175000,null,95000,95000,95000,95000,95000,175000,175000,175000,175000,175000]
["YOLO55%","55%",106668,107532,109981,112430,114302,186668,187532,189981,192430,194302,null,106668,107532,109981,112430,114302,186668,187532,189981,192430,194302,null,106667.8315704455,107532.11539047852,109980.91954723868,112429.72370399884,114302.33864740368,186667.8315704455,187532.11539047852,189980.91954723868,192429.72370399884,194302.3386474037]
["YOLO50%","50%",118336,120064,124962,129715,133605,198336,200064,204962,209715,213605,null,118336,120064,124962,129715,133605,198336,200064,204962,209715,213605,null,118335.66314089102,120064.23078095702,124961.83909447736,129715.40010465885,133604.67729480736,198335.663140891,200064.23078095703,204961.83909447736,209715.40010465885,213604.67729480736]
["YOLO45%","45%",130003,132596,139943,147001,152907,210003,212596,219943,227001,232907,null,130003,132596,139943,147001,152907,210003,212596,219943,227001,232907,null,130003.49471133653,132596.34617143552,139942.75864171603,147001.07650531887,152907.01594221103,210003.49471133653,212596.34617143552,219942.75864171603,227001.07650531887,232907.01594221103]
["YOLO40%","40%",141671,144984,154924,164287,172209,221671,224984,234924,244287,252209,null,141671,144984,154924,164287,172209,221671,224984,234924,244287,252209,null,141671.32628178204,144984.41425857518,154923.67818895471,164286.75290597888,172209.35458961473,221671.32628178204,224984.41425857518,234923.67818895471,244286.75290597888,252209.35458961473]
["YOLO35%","35%",153339,157517,170049,181716,191656,233339,237517,250049,261716,271656,null,153339,157517,170049,181716,191656,233339,237517,250049,261716,271656,null,153339.15785222754,157516.5296490537,170048.64503953222,181716.47660997772,191655.74054035725,233339.15785222754,237516.5296490537,250048.64503953222,261716.47660997772,271655.74054035725]
["YOLO30%","30%",165007,170049,185030,199002,210958,245007,250049,265030,279002,290958,null,165007,170049,185030,199002,210958,245007,250049,265030,279002,290958,null,165006.98942267307,170048.64503953222,185029.5645867709,199002.15301063773,210958.07918776092,245006.98942267307,250048.64503953222,265029.5645867709,279002.15301063773,290958.07918776094]
["YOLO25%","25%",176675,182581,200010,216288,230260,256675,262581,280010,296288,310260,null,176675,182581,200010,216288,230260,256675,262581,280010,296288,310260,null,176674.82099311857,182580.76043001073,200010.48413400957,216287.82941129775,230260.41783516458,256674.82099311857,262580.76043001073,280010.48413400957,296287.82941129775,310260.41783516458]
["YOLO20%","20%",188343,194969,214991,233574,249563,268343,274969,294991,313574,329563,null,188343,194969,214991,233574,249563,268343,274969,294991,313574,329563,null,188342.65256356407,194968.8285171504,214991.40368124825,233573.50581195779,249562.75648256828,268342.65256356407,274968.82851715037,294991.40368124825,313573.50581195776,329562.75648256828]
["YOLO15%","15%",200010,207501,229972,251003,268865,280010,287501,309972,331003,348865,null,200010,207501,229972,251003,268865,280010,287501,309972,331003,348865,null,200010.48413400957,207500.94390762888,229972.32322848693,251003.2295159566,268865.09512997197,280010.48413400957,287500.94390762888,309972.32322848693,331003.2295159566,348865.09512997197]
["YUBA60%","60%",95000,95000,95000,95000,95000,175000,175000,175000,175000,175000,null,95000,95000,95000,95000,95000,175000,175000,175000,175000,175000,null,95000,95000,95000,95000,95000,175000,175000,175000,175000,175000]
["YUBA55%","55%",103931,104507,106380,108108,109549,183931,184507,186380,188108,189549,null,103931,104507,106380,108108,109549,183931,184507,186380,188108,189549,null,103930.93280700767,104507.12202036301,106379.73696376785,108108.30460383385,109548.77763722217,183930.93280700769,184507.12202036299,186379.73696376785,188108.30460383385,189548.77763722217]
["YUBA50%","50%",112718,113870,117759,121217,124242,192718,193870,197759,201217,204242,null,112718,113870,117759,121217,124242,192718,193870,197759,201217,204242,null,112717.81831067652,113870.19673738717,117759.47392753568,121216.60920766769,124241.6025777832,192717.81831067652,193870.19673738719,197759.4739275357,201216.6092076677,204241.6025777832]
["YUBA45%","45%",121505,123377,129139,134325,138790,201505,203377,209139,214325,218790,null,121505,123377,129139,134325,138790,201505,203377,209139,214325,218790,null,121504.70381434535,123377.31875775018,129139.21089130352,134324.91381150152,138790.38021500537,201504.70381434535,203377.31875775018,209139.21089130352,214324.91381150152,218790.38021500537]
["YUBA40%","40%",130292,132740,140375,147289,153339,210292,212740,220375,227289,233339,null,130292,132740,140375,147289,153339,210292,212740,220375,227289,233339,null,130291.58931801419,132740.39347477435,140374.90055173251,147289.17111199655,153339.15785222754,210291.58931801419,212740.39347477435,220374.90055173251,227289.17111199655,233339.15785222754]
["YUBA35%","35%",139223,142248,151755,160397,168032,219223,222248,231755,240397,248032,null,139223,142248,151755,160397,168032,219223,222248,231755,240397,248032,null,139222.52212502185,142247.51549513737,151754.63751550036,160397.47571583037,168031.98279278853,219222.52212502185,222247.51549513737,231754.63751550036,240397.47571583037,248031.98279278853]
["YUBA30%","30%",148009,151755,163134,173506,182581,228009,231755,243134,253506,262581,null,148009,{"$f":"ROUND(Z578,0)","v":151755},{"$f":"ROUND(AA578,0)","v":163134},{"$f":"ROUND(AB578,0)","v":173506},{"$f":"ROUND(AC578,0)","v":182581},{"$f":"ROUND(AD578,0)","v":228009},{"$f":"ROUND(AE578,0)","v":231755},{"$f":"ROUND(AF578,0)","v":243134},{"$f":"ROUND(AG578,0)","v":253506},{"$f":"ROUND(AH578,0)","v":262581},null,148009.40762869071,151754.63751550036,163134.37447926821,173505.78031966422,182580.76043001073,228009.40762869071,231754.63751550036,243134.37447926821,253505.78031966422,262580.76043001073]
["YUBA25%","25%",156796,161118,174514,186614,197274,236796,241118,254514,266614,277274,null,{"$f":"ROUND(Y579,0)","v":156796},161118,174514,186614,197274,236796,241118,254514,266614,277274,null,156796.29313235954,161117.71223252453,174514.11144303606,186614.08492349804,197273.58537057176,236796.29313235954,241117.71223252453,254514.11144303606,266614.08492349804,277273.58537057176]
["YUBA20%","20%",165583,170625,185750,199722,211822,245583,250625,265750,279722,291822,null,165583,170625,185750,199722,211822,245583,250625,265750,279722,291822,null,165583.17863602837,170624.83425288755,185749.80110346506,199722.38952733192,211822.3630077939,245583.17863602837,250624.83425288755,265749.80110346503,279722.38952733192,291822.3630077939]
["YUBA15%","15%",174514,180132,197130,212831,226371,254514,260132,277130,292831,306371,null,174514,180132,197130,212831,226371,254514,260132,277130,292831,306371,null,174514.11144303606,180131.95627325057,197129.53806723293,212830.69413116574,226371.1406450161,254514.11144303606,260131.95627325057,277129.53806723293,292830.69413116574,306371.1406450161]

{"sheet":"Rent Limits","index":20,"n_rows":1045,"n_cols":16,"rows_kept":1045,"cut":false,"hidden":true,"merged":[]}
["County","County","1 Person","2 Person","3 Person","4 Person","5 Person","6 Person","7 Person","8 Person",0,1,2,3,4,5]
["Alameda","Alameda0.15",{"$f":"C9*2*0.15","v":15540},{"$f":"D9*2*0.15","v":17760},{"$f":"E9*2*0.15","v":19980},{"$f":"F9*2*0.15","v":22185},{"$f":"G9*2*0.15","v":23970},{"$f":"H9*2*0.15","v":25740},27510,29295,{"$f":"TRUNC(C2/12*0.3)","v":388},{"$f":"TRUNC((C2+D2)/2/12*0.3)","v":416},{"$f":"TRUNC((E2)/12*0.3)","v":499},{"$f":"TRUNC(((F2+G2)/2)/12*0.3)","v":576},{"$f":"TRUNC(H2/12*0.3)","v":643},{"$f":"TRUNC(((I2+J2)/2)/12*0.3)","v":710}]
["Alameda","Alameda0.2",{"$f":"C9*2*0.2","v":20720},{"$f":"D9*2*0.2","v":23680},{"$f":"E9*2*0.2","v":26640},29580,31960,34320,36680,39060,518,555,666,769,858,946]
["Alameda","Alameda0.25",{"$f":"C9*2*0.25","v":25900},{"$f":"D9*2*0.25","v":29600},33300,36975,39950,42900,45850,48825,647,693,832,961,1072,1183]
["Alameda","Alameda0.3",{"$f":"C9*2*0.3","v":31080},{"$f":"D9*2*0.3","v":35520},{"$f":"E9*2*0.3","v":39960},44370,47940,51480,55020,58590,777,832,999,1153,1287,1420]
["Alameda","Alameda0.35",{"$f":"C9*2*0.35","v":36260},{"$f":"D9*2*0.35","v":41440},46620,51765,55930,60059.999999999993,64189.999999999993,68355,906,971,1165,1346,1501,1656]
["Alameda","Alameda0.4",{"$f":"C9*2*0.4","v":41440},{"$f":"D9*2*0.4","v":47360},53280,59160,63920,68640,73360,78120,1036,1110,1332,1538,1716,1893]
["Alameda","Alameda0.45",{"$f":"C9*2*0.45","v":46620},{"$f":"D9*2*0.45","v":53280},{"$f":"E9*2*0.45","v":59940},66555,71910,77220,{"$f":"I9*2*0.45","v":82530},87885,1165,1248,1498,1730,1930,2130]
["Alameda","Alameda0.5",{"$f":"VLOOKUP($A:$A,'Max Funds & Unit Mix'!$L$86:$T$144,2,FALSE)","v":51800},{"$f":"VLOOKUP($A:$A,'Max Funds & Unit Mix'!$L$86:$T$144,3,FALSE)","v":59200},{"$f":"VLOOKUP($A:$A,'Max Funds & Unit Mix'!$L$86:$T$144,4,FALSE)","v":66600},{"$f":"VLOOKUP($A:$A,'Max Funds & Unit Mix'!$L$86:$T$144,5,FALSE)","v":73950},{"$f":"VLOOKUP($A:$A,'Max Funds & Unit Mix'!$L$86:$T$144,6,FALSE)","v":79900},{"$f":"VLOOKUP($A:$A,'Max Funds & Unit Mix'!$L$86:$T$144,7,FALSE)","v":85800},{"$f":"VLOOKUP($A:$A,'Max Funds & Unit Mix'!$L$86:$T$144,8,FALSE)","v":91700},{"$f":"VLOOKUP($A:$A,'Max Funds & Unit Mix'!$L$86:$T$144,9,FALSE)","v":97650},{"$f":"TRUNC(C9/12*0.3)","v":1295},{"$f":"TRUNC((C9+D9)/2/12*0.3)","v":1387},{"$f":"TRUNC((E9)/12*0.3)","v":1665},{"$f":"TRUNC(((F9+G9)/2)/12*0.3)","v":1923},{"$f":"TRUNC(H9/12*0.3)","v":2145},{"$f":"TRUNC(((I9+J9)/2)/12*0.3)","v":2366}]
["Alameda","Alameda0.55",{"$f":"C9*2*0.55","v":56980.000000000007},{"$f":"D9*2*0.55","v":65120.000000000007},73260,81345,87890,94380.000000000015,100870.00000000001,107415.00000000001,{"$f":"TRUNC(C10/12*0.3)","v":1424},{"$f":"TRUNC((C10+D10)/2/12*0.3)","v":1526},{"$f":"TRUNC((E10)/12*0.3)","v":1831},{"$f":"TRUNC(((F10+G10)/2)/12*0.3)","v":2115},{"$f":"TRUNC(H10/12*0.3)","v":2359},{"$f":"TRUNC(((I10+J10)/2)/12*0.3)","v":2603}]
["Alameda","Alameda0.6",{"$f":"C9*2*0.6","v":62160},{"$f":"D9*2*0.6","v":71040},79920,88740,95880,102960,110040,117180,1554,1665,1998,2307,2574,2840]
["Alameda","Alameda0.65",{"$f":"C9*2*0.65","v":67340},{"$f":"D9*2*0.65","v":76960},86580,96135,103870,111540,119210,126945,1683,1803,2164,2500,2788,3076]
["Alameda","Alameda0.7",{"$f":"C9*2*0.7","v":72520},{"$f":"D9*2*0.7","v":82880},93240,103530,111860,120119.99999999999,128379.99999999999,136710,1813,1942,2331,2692,3003,3313]
["Alameda","Alameda0.75",{"$f":"C9*2*0.75","v":77700},{"$f":"D9*2*0.75","v":88800},99900,110925,119850,128700,137550,146475,1942,2081,2497,2884,3217,3550]
["Alameda","Alameda0.8",{"$f":"C9*2*0.8","v":82880},{"$f":"D9*2*0.8","v":94720},106560,118320,127840,137280,146720,156240,2072,2220,2664,3077,3432,3787]
["Alameda","Alameda0.9",{"$f":"C9*2*0.9","v":93240},{"$f":"D9*2*0.9","v":106560},119880,133110,143820,154440,165060,175770,2331,2497,2997,3461,3861,4260]
["Alameda","Alameda1",{"$f":"C9*2","v":103600},{"$f":"D9*2","v":118400},133200,147900,159800,171600,183400,195300,{"$f":"K9*2","v":2590},{"$f":"L9*2","v":2774},3330,3846,4290,4732]
["Alameda","Alameda1.1",{"$f":"C9*2*1.1","v":113960.00000000001},{"$f":"D9*2*1.1","v":130240.00000000001},146520,162690,175780,188760.00000000003,201740.00000000003,214830.00000000003,2849,3052,3663,4230,4719,5207]
["Alameda","Alameda1.2",{"$f":"C9*2*1.2","v":124320},{"$f":"D9*2*1.2","v":142080},159840,177480,191760,205920,220080,234360,3108,3330,3996,4615,5148,5680]
["Alpine","Alpine0.15",{"$f":"C27*2*0.15","v":10095},{"$f":"D27*2*0.15","v":11535},{"$f":"E27*2*0.15","v":12975},{"$f":"F27*2*0.15","v":14415},{"$f":"G27*2*0.15","v":15570},{"$f":"H27*2*0.15","v":16725},17880,19035,252,270,324,374,418,461]
["Alpine","Alpine0.2",{"$f":"C27*2*0.2","v":13460},{"$f":"D27*2*0.2","v":15380},17300,19220,20760,22300,23840,25380,336,360,432,499,557,615]
["Alpine","Alpine0.25",{"$f":"C27*2*0.25","v":16825},{"$f":"D27*2*0.25","v":19225},21625,24025,25950,27875,29800,31725,420,450,540,624,696,769]
["Alpine","Alpine0.3",{"$f":"C27*2*0.3","v":20190},{"$f":"D27*2*0.3","v":23070},25950,28830,31140,33450,35760,38070,504,540,648,749,836,922]
["Alpine","Alpine0.35",{"$f":"C27*2*0.35","v":23555},{"$f":"D27*2*0.35","v":26915},30274.999999999996,33635,36330,39025,41720,44415,588,630,756,874,975,1076]
["Alpine","Alpine0.4",{"$f":"C27*2*0.4","v":26920},{"$f":"D27*2*0.4","v":30760},34600,38440,41520,44600,47680,50760,673,721,865,999,1115,1230]
["Alpine","Alpine0.45",{"$f":"C27*2*0.45","v":30285},{"$f":"D27*2*0.45","v":34605},38925,43245,46710,50175,53640,57105,757,811,973,1124,1254,1384]
["Alpine","Alpine0.5",{"$f":"VLOOKUP($A:$A,'Max Funds & Unit Mix'!$L$86:$T$144,2,FALSE)","v":33650},{"$f":"VLOOKUP($A:$A,'Max Funds & Unit Mix'!$L$86:$T$144,3,FALSE)","v":38450},{"$f":"VLOOKUP($A:$A,'Max Funds & Unit Mix'!$L$86:$T$144,4,FALSE)","v":43250},{"$f":"VLOOKUP($A:$A,'Max Funds & Unit Mix'!$L$86:$T$144,5,FALSE)","v":48050},{"$f":"VLOOKUP($A:$A,'Max Funds & Unit Mix'!$L$86:$T$144,6,FALSE)","v":51900},{"$f":"VLOOKUP($A:$A,'Max Funds & Unit Mix'!$L$86:$T$144,7,FALSE)","v":55750},{"$f":"VLOOKUP($A:$A,'Max Funds & Unit Mix'!$L$86:$T$144,8,FALSE)","v":59600},{"$f":"VLOOKUP($A:$A,'Max Funds & Unit Mix'!$L$86:$T$144,9,FALSE)","v":63450},{"$f":"TRUNC(C27/12*0.3)","v":841},{"$f":"TRUNC((C27+D27)/2/12*0.3)","v":901},{"$f":"TRUNC((E27)/12*0.3)","v":1081},{"$f":"TRUNC(((F27+G27)/2)/12*0.3)","v":1249},{"$f":"TRUNC(H27/12*0.3)","v":1393},{"$f":"TRUNC(((I27+J27)/2)/12*0.3)","v":1538}]
["Alpine","Alpine0.55",{"$f":"C27*2*0.55","v":37015},{"$f":"D27*2*0.55","v":42295},47575.000000000007,52855.000000000007,57090.000000000007,61325.000000000007,65560,69795,{"$f":"TRUNC(C28/12*0.3)","v":925},{"$f":"TRUNC((C28+D28)/2/12*0.3)","v":991},{"$f":"TRUNC((E28)/12*0.3)","v":1189},{"$f":"TRUNC(((F28+G28)/2)/12*0.3)","v":1374},{"$f":"TRUNC(H28/12*0.3)","v":1533},{"$f":"TRUNC(((I28+J28)/2)/12*0.3)","v":1691}]
["Alpine","Alpine0.6",{"$f":"C27*2*0.6","v":40380},{"$f":"D27*2*0.6","v":46140},51900,57660,62280,66900,71520,76140,1009,1081,1297,1499,1672,1845]
["Alpine","Alpine0.65",{"$f":"C27*2*0.65","v":43745},{"$f":"D27*2*0.65","v":49985},56225,62465,67470,72475,77480,82485,1093,1171,1405,1624,1811,1999]
["Alpine","Alpine0.7",{"$f":"C27*2*0.7","v":47110},{"$f":"D27*2*0.7","v":53830},60549.999999999993,67270,72660,78050,83440,88830,1177,1261,1513,1749,1951,2153]
["Alpine","Alpine0.75",{"$f":"C27*2*0.75","v":50475},{"$f":"D27*2*0.75","v":57675},64875,72075,77850,83625,89400,95175,1261,1351,1621,1874,2090,2307]
["Alpine","Alpine0.8",{"$f":"C27*2*0.8","v":53840},{"$f":"D27*2*0.8","v":61520},69200,76880,83040,89200,95360,101520,1346,1442,1730,1999,2230,2461]
["Alpine","Alpine0.9",{"$f":"C27*2*0.9","v":60570},{"$f":"D27*2*0.9","v":69210},77850,86490,93420,100350,107280,114210,1514,1622,1946,2248,2508,2768]
["Alpine","Alpine1",{"$f":"C27*2","v":67300},{"$f":"D27*2","v":76900},86500,96100,103800,111500,119200,126900,{"$f":"K27*2","v":1682},{"$f":"L27*2","v":1802},2162,2498,2786,3076]
["Alpine","Alpine1.1",{"$f":"C27*2*1.1","v":74030},{"$f":"D27*2*1.1","v":84590},95150.000000000015,105710.00000000001,114180.00000000001,122650.00000000001,131120,139590,{"$f":"TRUNC(C36/12*0.3)","v":1850},{"$f":"TRUNC((C36+D36)/2/12*0.3)","v":1982},{"$f":"TRUNC((E36)/12*0.3)","v":2378},{"$f":"TRUNC(((F36+G36)/2)/12*0.3)","v":2748},{"$f":"TRUNC(H36/12*0.3)","v":3066},{"$f":"TRUNC(((I36+J36)/2)/12*0.3)","v":3383}]
["Alpine","Alpine1.2",{"$f":"C27*2*1.2","v":80760},{"$f":"D27*2*1.2","v":92280},103800,115320,124560,133800,143040,152280,2019,2163,2595,2998,3345,3691]
["Amador","Amador0.15",{"$f":"C45*2*0.15","v":9630},{"$f":"D45*2*0.15","v":11010},{"$f":"E45*2*0.15","v":12390},{"$f":"F45*2*0.15","v":13755},{"$f":"G45*2*0.15","v":14865},{"$f":"H45*2*0.15","v":15960},17070,18165,240,258,309,357,399,440]
["Amador","Amador0.2",{"$f":"C45*2*0.2","v":12840},{"$f":"D45*2*0.2","v":14680},16520,18340,19820,21280,22760,24220,321,344,413,477,532,587]
["Amador","Amador0.25",{"$f":"C45*2*0.25","v":16050},{"$f":"D45*2*0.25","v":18350},20650,22925,24775,26600,28450,30275,401,430,516,596,665,734]
["Amador","Amador0.3",{"$f":"C45*2*0.3","v":19260},{"$f":"D45*2*0.3","v":22020},24780,27510,29730,31920,34140,36330,481,516,619,715,798,880]
["Amador","Amador0.35",{"$f":"C45*2*0.35","v":22470},{"$f":"D45*2*0.35","v":25690},28909.999999999996,32094.999999999996,34685,37240,39830,42385,561,602,722,834,931,1027]
["Amador","Amador0.4",{"$f":"C45*2*0.4","v":25680},{"$f":"D45*2*0.4","v":29360},33040,36680,39640,42560,45520,48440,642,688,826,954,1064,1174]
["Amador","Amador0.45",{"$f":"C45*2*0.45","v":28890},{"$f":"D45*2*0.45","v":33030},37170,41265,44595,47880,51210,54495,722,774,929,1073,1197,1321]
["Amador","Amador0.5",{"$f":"VLOOKUP($A:$A,'Max Funds & Unit Mix'!$L$86:$T$144,2,FALSE)","v":32100},{"$f":"VLOOKUP($A:$A,'Max Funds & Unit Mix'!$L$86:$T$144,3,FALSE)","v":36700},{"$f":"VLOOKUP($A:$A,'Max Funds & Unit Mix'!$L$86:$T$144,4,FALSE)","v":41300},{"$f":"VLOOKUP($A:$A,'Max Funds & Unit Mix'!$L$86:$T$144,5,FALSE)","v":45850},{"$f":"VLOOKUP($A:$A,'Max Funds & Unit Mix'!$L$86:$T$144,6,FALSE)","v":49550},{"$f":"VLOOKUP($A:$A,'Max Funds & Unit Mix'!$L$86:$T$144,7,FALSE)","v":53200},{"$f":"VLOOKUP($A:$A,'Max Funds & Unit Mix'!$L$86:$T$144,8,FALSE)","v":56900},{"$f":"VLOOKUP($A:$A,'Max Funds & Unit Mix'!$L$86:$T$144,9,FALSE)","v":60550},{"$f":"TRUNC(C45/12*0.3)","v":802},{"$f":"TRUNC((C45+D45)/2/12*0.3)","v":860},{"$f":"TRUNC((E45)/12*0.3)","v":1032},{"$f":"TRUNC(((F45+G45)/2)/12*0.3)","v":1192},{"$f":"TRUNC(H45/12*0.3)","v":1330},{"$f":"TRUNC(((I45+J45)/2)/12*0.3)","v":1468}]
["Amador","Amador0.55",{"$f":"C45*2*0.55","v":35310},{"$f":"D45*2*0.55","v":40370},45430.000000000007,50435.000000000007,54505.000000000007,58520.000000000007,62590.000000000007,66605,{"$f":"TRUNC(C46/12*0.3)","v":882},{"$f":"TRUNC((C46+D46)/2/12*0.3)","v":946},{"$f":"TRUNC((E46)/12*0.3)","v":1135},{"$f":"TRUNC(((F46+G46)/2)/12*0.3)","v":1311},{"$f":"TRUNC(H46/12*0.3)","v":1463},{"$f":"TRUNC(((I46+J46)/2)/12*0.3)","v":1614}]
["Amador","Amador0.6",{"$f":"C45*2*0.6","v":38520},{"$f":"D45*2*0.6","v":44040},49560,55020,59460,63840,68280,72660,963,1032,1239,1431,1596,1761]
["Amador","Amador0.65",{"$f":"C45*2*0.65","v":41730},{"$f":"D45*2*0.65","v":47710},53690,59605,64415,69160,73970,78715,1043,1118,1342,1550,1729,1908]
["Amador","Amador0.7",{"$f":"C45*2*0.7","v":44940},{"$f":"D45*2*0.7","v":51380},57819.999999999993,64189.999999999993,69370,74480,79660,84770,1123,1204,1445,1669,1862,2055]
["Amador","Amador0.75",{"$f":"C45*2*0.75","v":48150},{"$f":"D45*2*0.75","v":55050},61950,68775,74325,79800,85350,90825,1203,1290,1548,1788,1995,2202]
["Amador","Amador0.8",{"$f":"C45*2*0.8","v":51360},{"$f":"D45*2*0.8","v":58720},66080,73360,79280,85120,91040,96880,1284,1376,1652,1908,2128,2349]
["Amador","Amador0.9",{"$f":"C45*2*0.9","v":57780},{"$f":"D45*2*0.9","v":66060},74340,82530,89190,95760,102420,108990,1444,1548,1858,2146,2394,2642]
["Amador","Amador1",{"$f":"C45*2","v":64200},{"$f":"D45*2","v":73400},82600,91700,99100,106400,113800,121100,{"$f":"K45*2","v":1604},{"$f":"L45*2","v":1720},2064,2384,2660,2936]
["Amador","Amador1.1",{"$f":"C45*2*1.1","v":70620},{"$f":"D45*2*1.1","v":80740},90860.000000000015,100870.00000000001,109010.00000000001,117040.00000000001,125180.00000000001,133210,{"$f":"TRUNC(C54/12*0.3)","v":1765},{"$f":"TRUNC((C54+D54)/2/12*0.3)","v":1892},{"$f":"TRUNC((E54)/12*0.3)","v":2271},{"$f":"TRUNC(((F54+G54)/2)/12*0.3)","v":2623},{"$f":"TRUNC(H54/12*0.3)","v":2926},{"$f":"TRUNC(((I54+J54)/2)/12*0.3)","v":3229}]
["Amador","Amador1.2",{"$f":"C45*2*1.2","v":77040},{"$f":"D45*2*1.2","v":88080},99120,110040,118920,127680,136560,145320,1926,2064,2478,2862,3192,3523]
["Butte","Butte0.15",{"$f":"C63*2*0.15","v":8670},{"$f":"D63*2*0.15","v":9900},{"$f":"E63*2*0.15","v":11145},{"$f":"F63*2*0.15","v":12375},{"$f":"G63*2*0.15","v":13365},{"$f":"H63*2*0.15","v":14355},15345,16335,216,232,278,321,358,396]
["Butte","Butte0.2",{"$f":"C63*2*0.2","v":11560},{"$f":"D63*2*0.2","v":13200},14860,16500,17820,19140,20460,21780,289,309,371,429,478,528]
["Butte","Butte0.25",{"$f":"C63*2*0.25","v":14450},{"$f":"D63*2*0.25","v":16500},18575,20625,22275,23925,25575,27225,361,386,464,536,598,660]
["Butte","Butte0.3",{"$f":"C63*2*0.3","v":17340},{"$f":"D63*2*0.3","v":19800},22290,24750,26730,28710,30690,32670,433,464,557,643,717,792]
["Butte","Butte0.35",{"$f":"C63*2*0.35","v":20230},{"$f":"D63*2*0.35","v":23100},26005,28874.999999999996,31184.999999999996,33495,35805,38115,505,541,650,750,837,924]
["Butte","Butte0.4",{"$f":"C63*2*0.4","v":23120},{"$f":"D63*2*0.4","v":26400},29720,33000,35640,38280,40920,43560,578,619,743,858,957,1056]
["Butte","Butte0.45",{"$f":"C63*2*0.45","v":26010},{"$f":"D63*2*0.45","v":29700},33435,37125,40095,43065,46035,49005,650,696,835,965,1076,1188]
["Butte","Butte0.5",{"$f":"VLOOKUP($A:$A,'Max Funds & Unit Mix'!$L$86:$T$144,2,FALSE)","v":28900},{"$f":"VLOOKUP($A:$A,'Max Funds & Unit Mix'!$L$86:$T$144,3,FALSE)","v":33000},{"$f":"VLOOKUP($A:$A,'Max Funds & Unit Mix'!$L$86:$T$144,4,FALSE)","v":37150},{"$f":"VLOOKUP($A:$A,'Max Funds & Unit Mix'!$L$86:$T$144,5,FALSE)","v":41250},{"$f":"VLOOKUP($A:$A,'Max Funds & Unit Mix'!$L$86:$T$144,6,FALSE)","v":44550},{"$f":"VLOOKUP($A:$A,'Max Funds & Unit Mix'!$L$86:$T$144,7,FALSE)","v":47850},{"$f":"VLOOKUP($A:$A,'Max Funds & Unit Mix'!$L$86:$T$144,8,FALSE)","v":51150},{"$f":"VLOOKUP($A:$A,'Max Funds & Unit Mix'!$L$86:$T$144,9,FALSE)","v":54450},{"$f":"TRUNC(C63/12*0.3)","v":722},{"$f":"TRUNC((C63+D63)/2/12*0.3)","v":773},{"$f":"TRUNC((E63)/12*0.3)","v":928},{"$f":"TRUNC(((F63+G63)/2)/12*0.3)","v":1072},{"$f":"TRUNC(H63/12*0.3)","v":1196},{"$f":"TRUNC(((I63+J63)/2)/12*0.3)","v":1320}]
["Butte","Butte0.55",{"$f":"C63*2*0.55","v":31790.000000000004},{"$f":"D63*2*0.55","v":36300},40865,45375.000000000007,49005.000000000007,52635.000000000007,56265.000000000007,59895.000000000007,{"$f":"TRUNC(C64/12*0.3)","v":794},{"$f":"TRUNC((C64+D64)/2/12*0.3)","v":851},{"$f":"TRUNC((E64)/12*0.3)","v":1021},{"$f":"TRUNC(((F64+G64)/2)/12*0.3)","v":1179},{"$f":"TRUNC(H64/12*0.3)","v":1315},{"$f":"TRUNC(((I64+J64)/2)/12*0.3)","v":1452}]
["Butte","Butte0.6",{"$f":"C63*2*0.6","v":34680},{"$f":"D63*2*0.6","v":39600},44580,49500,53460,57420,61380,65340,867,928,1114,1287,1435,1584]
["Butte","Butte0.65",{"$f":"C63*2*0.65","v":37570},{"$f":"D63*2*0.65","v":42900},48295,53625,57915,62205,66495,70785,939,1005,1207,1394,1555,1716]
["Butte","Butte0.7",{"$f":"C63*2*0.7","v":40460},{"$f":"D63*2*0.7","v":46200},52010,57749.999999999993,62369.999999999993,66990,71610,76230,1011,1083,1300,1501,1674,1848]
["Butte","Butte0.75",{"$f":"C63*2*0.75","v":43350},{"$f":"D63*2*0.75","v":49500},55725,61875,66825,71775,76725,81675,1083,1160,1393,1608,1794,1980]
["Butte","Butte0.8",{"$f":"C63*2*0.8","v":46240},{"$f":"D63*2*0.8","v":52800},59440,66000,71280,76560,81840,87120,1156,1238,1486,1716,1914,2112]
["Butte","Butte0.9",{"$f":"C63*2*0.9","v":52020},{"$f":"D63*2*0.9","v":59400},66870,74250,80190,86130,92070,98010,1300,1392,1671,1930,2153,2376]
["Butte","Butte1",{"$f":"C63*2","v":57800},{"$f":"D63*2","v":66000},74300,82500,89100,95700,102300,108900,{"$f":"K63*2","v":1444},{"$f":"L63*2","v":1546},1856,2144,2392,2640]
["Butte","Butte1.1",{"$f":"C63*2*1.1","v":63580.000000000007},{"$f":"D63*2*1.1","v":72600},81730,90750.000000000015,98010.000000000015,105270.00000000001,112530.00000000001,119790.00000000001,{"$f":"TRUNC(C72/12*0.3)","v":1589},{"$f":"TRUNC((C72+D72)/2/12*0.3)","v":1702},{"$f":"TRUNC((E72)/12*0.3)","v":2043},{"$f":"TRUNC(((F72+G72)/2)/12*0.3)","v":2359},{"$f":"TRUNC(H72/12*0.3)","v":2631},{"$f":"TRUNC(((I72+J72)/2)/12*0.3)","v":2904}]
["Butte","Butte1.2",{"$f":"C63*2*1.2","v":69360},{"$f":"D63*2*1.2","v":79200},89160,99000,106920,114840,122760,130680,1734,1857,2229,2574,2871,3168]
["Calaveras","Calaveras0.15",{"$f":"C81*2*0.15","v":10020},{"$f":"D81*2*0.15","v":11445},{"$f":"E81*2*0.15","v":12870},{"$f":"F81*2*0.15","v":14295},{"$f":"G81*2*0.15","v":15450},{"$f":"H81*2*0.15","v":16590},17730,18870,250,268,321,371,414,457]
["Calaveras","Calaveras0.2",{"$f":"C81*2*0.2","v":13360},{"$f":"D81*2*0.2","v":15260},17160,19060,20600,22120,23640,25160,334,357,429,495,553,610]
["Calaveras","Calaveras0.25",{"$f":"C81*2*0.25","v":16700},{"$f":"D81*2*0.25","v":19075},21450,23825,25750,27650,29550,31450,417,447,536,619,691,762]
["Calaveras","Calaveras0.3",{"$f":"C81*2*0.3","v":20040},{"$f":"D81*2*0.3","v":22890},25740,28590,30900,33180,35460,37740,501,536,643,743,829,915]
["Calaveras","Calaveras0.35",{"$f":"C81*2*0.35","v":23380},{"$f":"D81*2*0.35","v":26705},30029.999999999996,33355,36050,38710,41370,44030,584,626,750,867,967,1067]
["Calaveras","Calaveras0.4",{"$f":"C81*2*0.4","v":26720},{"$f":"D81*2*0.4","v":30520},34320,38120,41200,44240,47280,50320,668,715,858,991,1106,1220]
["Calaveras","Calaveras0.45",{"$f":"C81*2*0.45","v":30060},{"$f":"D81*2*0.45","v":34335},38610,42885,46350,49770,53190,56610,751,804,965,1115,1244,1372]
["Calaveras","Calaveras0.5",{"$f":"VLOOKUP($A:$A,'Max Funds & Unit Mix'!$L$86:$T$144,2,FALSE)","v":33400},{"$f":"VLOOKUP($A:$A,'Max Funds & Unit Mix'!$L$86:$T$144,3,FALSE)","v":38150},{"$f":"VLOOKUP($A:$A,'Max Funds & Unit Mix'!$L$86:$T$144,4,FALSE)","v":42900},{"$f":"VLOOKUP($A:$A,'Max Funds & Unit Mix'!$L$86:$T$144,5,FALSE)","v":47650},{"$f":"VLOOKUP($A:$A,'Max Funds & Unit Mix'!$L$86:$T$144,6,FALSE)","v":51500},{"$f":"VLOOKUP($A:$A,'Max Funds & Unit Mix'!$L$86:$T$144,7,FALSE)","v":55300},{"$f":"VLOOKUP($A:$A,'Max Funds & Unit Mix'!$L$86:$T$144,8,FALSE)","v":59100},{"$f":"VLOOKUP($A:$A,'Max Funds & Unit Mix'!$L$86:$T$144,9,FALSE)","v":62900},{"$f":"TRUNC(C81/12*0.3)","v":835},{"$f":"TRUNC((C81+D81)/2/12*0.3)","v":894},{"$f":"TRUNC((E81)/12*0.3)","v":1072},{"$f":"TRUNC(((F81+G81)/2)/12*0.3)","v":1239},{"$f":"TRUNC(H81/12*0.3)","v":1382},{"$f":"TRUNC(((I81+J81)/2)/12*0.3)","v":1525}]
["Calaveras","Calaveras0.55",{"$f":"C81*2*0.55","v":36740},{"$f":"D81*2*0.55","v":41965},47190.000000000007,52415.000000000007,56650.000000000007,60830.000000000007,65010.000000000007,69190,{"$f":"TRUNC(C82/12*0.3)","v":918},{"$f":"TRUNC((C82+D82)/2/12*0.3)","v":983},{"$f":"TRUNC((E82)/12*0.3)","v":1179},{"$f":"TRUNC(((F82+G82)/2)/12*0.3)","v":1363},{"$f":"TRUNC(H82/12*0.3)","v":1520},{"$f":"TRUNC(((I82+J82)/2)/12*0.3)","v":1677}]
["Calaveras","Calaveras0.6",{"$f":"C81*2*0.6","v":40080},{"$f":"D81*2*0.6","v":45780},51480,57180,61800,66360,70920,75480,1002,1073,1287,1487,1659,1830]
["Calaveras","Calaveras0.65",{"$f":"C81*2*0.65","v":43420},{"$f":"D81*2*0.65","v":49595},55770,61945,66950,71890,76830,81770,1085,1162,1394,1611,1797,1982]
["Calaveras","Calaveras0.7",{"$f":"C81*2*0.7","v":46760},{"$f":"D81*2*0.7","v":53410},60059.999999999993,66710,72100,77420,82740,88060,1169,1252,1501,1735,1935,2135]
["Calaveras","Calaveras0.75",{"$f":"C81*2*0.75","v":50100},{"$f":"D81*2*0.75","v":57225},64350,71475,77250,82950,88650,94350,1252,1341,1608,1859,2073,2287]
["Calaveras","Calaveras0.8",{"$f":"C81*2*0.8","v":53440},{"$f":"D81*2*0.8","v":61040},68640,76240,82400,88480,94560,100640,1336,1431,1716,1983,2212,2440]
["Calaveras","Calaveras0.9",{"$f":"C81*2*0.9","v":60120},{"$f":"D81*2*0.9","v":68670},77220,85770,92700,99540,106380,113220,1503,1609,1930,2230,2488,2745]
["Calaveras","Calaveras1",{"$f":"C81*2","v":66800},{"$f":"D81*2","v":76300},85800,95300,103000,110600,118200,125800,{"$f":"K81*2","v":1670},{"$f":"L81*2","v":1788},2144,2478,2764,3050]
["Calaveras","Calaveras1.1",{"$f":"C81*2*1.1","v":73480},{"$f":"D81*2*1.1","v":83930},94380.000000000015,104830.00000000001,113300.00000000001,121660.00000000001,130020.00000000001,138380,{"$f":"TRUNC(C90/12*0.3)","v":1837},{"$f":"TRUNC((C90+D90)/2/12*0.3)","v":1967},{"$f":"TRUNC((E90)/12*0.3)","v":2359},{"$f":"TRUNC(((F90+G90)/2)/12*0.3)","v":2726},{"$f":"TRUNC(H90/12*0.3)","v":3041},{"$f":"TRUNC(((I90+J90)/2)/12*0.3)","v":3355}]
["Calaveras","Calaveras1.2",{"$f":"C81*2*1.2","v":80160},{"$f":"D81*2*1.2","v":91560},102960,114360,123600,132720,141840,150960,2004,2146,2574,2974,3318,3660]
["Colusa","Colusa0.15",{"$f":"C99*2*0.15","v":8670},{"$f":"D99*2*0.15","v":9900},{"$f":"E99*2*0.15","v":11145},{"$f":"F99*2*0.15","v":12375},{"$f":"G99*2*0.15","v":13365},{"$f":"H99*2*0.15","v":14355},15345,16335,216,232,278,321,358,396]
["Colusa","Colusa0.2",{"$f":"C99*2*0.2","v":11560},{"$f":"D99*2*0.2","v":13200},14860,16500,17820,19140,20460,21780,289,309,371,429,478,528]
["Colusa","Colusa0.25",{"$f":"C99*2*0.25","v":14450},{"$f":"D99*2*0.25","v":16500},18575,20625,22275,23925,25575,27225,361,386,464,536,598,660]
["Colusa","Colusa0.3",{"$f":"C99*2*0.3","v":17340},{"$f":"D99*2*0.3","v":19800},22290,24750,26730,28710,30690,32670,433,464,557,643,717,792]
["Colusa","Colusa0.35",{"$f":"C99*2*0.35","v":20230},{"$f":"D99*2*0.35","v":23100},26005,28874.999999999996,31184.999999999996,33495,35805,38115,505,541,650,750,837,924]
["Colusa","Colusa0.4",{"$f":"C99*2*0.4","v":23120},{"$f":"D99*2*0.4","v":26400},29720,33000,35640,38280,40920,43560,578,619,743,858,957,1056]
["Colusa","Colusa0.45",{"$f":"C99*2*0.45","v":26010},{"$f":"D99*2*0.45","v":29700},33435,37125,40095,43065,46035,49005,650,696,835,965,1076,1188]
["Colusa","Colusa0.5",{"$f":"VLOOKUP($A:$A,'Max Funds & Unit Mix'!$L$86:$T$144,2,FALSE)","v":28900},{"$f":"VLOOKUP($A:$A,'Max Funds & Unit Mix'!$L$86:$T$144,3,FALSE)","v":33000},{"$f":"VLOOKUP($A:$A,'Max Funds & Unit Mix'!$L$86:$T$144,4,FALSE)","v":37150},{"$f":"VLOOKUP($A:$A,'Max Funds & Unit Mix'!$L$86:$T$144,5,FALSE)","v":41250},{"$f":"VLOOKUP($A:$A,'Max Funds & Unit Mix'!$L$86:$T$144,6,FALSE)","v":44550},{"$f":"VLOOKUP($A:$A,'Max Funds & Unit Mix'!$L$86:$T$144,7,FALSE)","v":47850},{"$f":"VLOOKUP($A:$A,'Max Funds & Unit Mix'!$L$86:$T$144,8,FALSE)","v":51150},{"$f":"VLOOKUP($A:$A,'Max Funds & Unit Mix'!$L$86:$T$144,9,FALSE)","v":54450},{"$f":"TRUNC(C99/12*0.3)","v":722},{"$f":"TRUNC((C99+D99)/2/12*0.3)","v":773},{"$f":"TRUNC((E99)/12*0.3)","v":928},{"$f":"TRUNC(((F99+G99)/2)/12*0.3)","v":1072},{"$f":"TRUNC(H99/12*0.3)","v":1196},{"$f":"TRUNC(((I99+J99)/2)/12*0.3)","v":1320}]
["Colusa","Colusa0.55",{"$f":"C99*2*0.55","v":31790.000000000004},{"$f":"D99*2*0.55","v":36300},40865,45375.000000000007,49005.000000000007,52635.000000000007,56265.000000000007,59895.000000000007,{"$f":"TRUNC(C100/12*0.3)","v":794},{"$f":"TRUNC((C100+D100)/2/12*0.3)","v":851},{"$f":"TRUNC((E100)/12*0.3)","v":1021},{"$f":"TRUNC(((F100+G100)/2)/12*0.3)","v":1179},{"$f":"TRUNC(H100/12*0.3)","v":1315},{"$f":"TRUNC(((I100+J100)/2)/12*0.3)","v":1452}]
["Colusa","Colusa0.6",{"$f":"C99*2*0.6","v":34680},{"$f":"D99*2*0.6","v":39600},44580,49500,53460,57420,61380,65340,867,928,1114,1287,1435,1584]
["Colusa","Colusa0.65",{"$f":"C99*2*0.65","v":37570},{"$f":"D99*2*0.65","v":42900},48295,53625,57915,62205,66495,70785,939,1005,1207,1394,1555,1716]
["Colusa","Colusa0.7",{"$f":"C99*2*0.7","v":40460},{"$f":"D99*2*0.7","v":46200},52010,57749.999999999993,62369.999999999993,66990,71610,76230,1011,1083,1300,1501,1674,1848]
["Colusa","Colusa0.75",{"$f":"C99*2*0.75","v":43350},{"$f":"D99*2*0.75","v":49500},55725,61875,66825,71775,76725,81675,1083,1160,1393,1608,1794,1980]
["Colusa","Colusa0.8",{"$f":"C99*2*0.8","v":46240},{"$f":"D99*2*0.8","v":52800},59440,66000,71280,76560,81840,87120,1156,1238,1486,1716,1914,2112]
["Colusa","Colusa0.9",{"$f":"C99*2*0.9","v":52020},{"$f":"D99*2*0.9","v":59400},66870,74250,80190,86130,92070,98010,1300,1392,1671,1930,2153,2376]
["Colusa","Colusa1",{"$f":"C99*2","v":57800},{"$f":"D99*2","v":66000},74300,82500,89100,95700,102300,108900,{"$f":"K99*2","v":1444},{"$f":"L99*2","v":1546},1856,2144,2392,2640]
["Colusa","Colusa1.1",{"$f":"C99*2*1.1","v":63580.000000000007},{"$f":"D99*2*1.1","v":72600},81730,90750.000000000015,98010.000000000015,105270.00000000001,112530.00000000001,119790.00000000001,{"$f":"TRUNC(C108/12*0.3)","v":1589},{"$f":"TRUNC((C108+D108)/2/12*0.3)","v":1702},{"$f":"TRUNC((E108)/12*0.3)","v":2043},{"$f":"TRUNC(((F108+G108)/2)/12*0.3)","v":2359},{"$f":"TRUNC(H108/12*0.3)","v":2631},{"$f":"TRUNC(((I108+J108)/2)/12*0.3)","v":2904}]
["Colusa","Colusa1.2",{"$f":"C99*2*1.2","v":69360},{"$f":"D99*2*1.2","v":79200},89160,99000,106920,114840,122760,130680,1734,1857,2229,2574,2871,3168]
["Contra Costa","Contra Costa0.15",{"$f":"C117*2*0.15","v":15540},{"$f":"D117*2*0.15","v":17760},{"$f":"E117*2*0.15","v":19980},{"$f":"F117*2*0.15","v":22185},{"$f":"G117*2*0.15","v":23970},{"$f":"H117*2*0.15","v":25740},27510,29295,388,416,499,576,643,710]
["Contra Costa","Contra Costa0.2",{"$f":"C117*2*0.2","v":20720},{"$f":"D117*2*0.2","v":23680},26640,29580,31960,34320,36680,39060,518,555,666,769,858,946]
["Contra Costa","Contra Costa0.25",{"$f":"C117*2*0.25","v":25900},{"$f":"D117*2*0.25","v":29600},33300,36975,39950,42900,45850,48825,647,693,832,961,1072,1183]
["Contra Costa","Contra Costa0.3",{"$f":"C117*2*0.3","v":31080},{"$f":"D117*2*0.3","v":35520},39960,44370,47940,51480,55020,58590,777,832,999,1153,1287,1420]
["Contra Costa","Contra Costa0.35",{"$f":"C117*2*0.35","v":36260},{"$f":"D117*2*0.35","v":41440},46620,51765,55930,60059.999999999993,64189.999999999993,68355,906,971,1165,1346,1501,1656]
["Contra Costa","Contra Costa0.4",{"$f":"C117*2*0.4","v":41440},{"$f":"D117*2*0.4","v":47360},53280,59160,63920,68640,73360,78120,1036,1110,1332,1538,1716,1893]
["Contra Costa","Contra Costa0.45",{"$f":"C117*2*0.45","v":46620},{"$f":"D117*2*0.45","v":53280},59940,66555,71910,77220,82530,87885,1165,1248,1498,1730,1930,2130]
["Contra Costa","Contra Costa0.5",{"$f":"VLOOKUP($A:$A,'Max Funds & Unit Mix'!$L$86:$T$144,2,FALSE)","v":51800},{"$f":"VLOOKUP($A:$A,'Max Funds & Unit Mix'!$L$86:$T$144,3,FALSE)","v":59200},{"$f":"VLOOKUP($A:$A,'Max Funds & Unit Mix'!$L$86:$T$144,4,FALSE)","v":66600},{"$f":"VLOOKUP($A:$A,'Max Funds & Unit Mix'!$L$86:$T$144,5,FALSE)","v":73950},{"$f":"VLOOKUP($A:$A,'Max Funds & Unit Mix'!$L$86:$T$144,6,FALSE)","v":79900},{"$f":"VLOOKUP($A:$A,'Max Funds & Unit Mix'!$L$86:$T$144,7,FALSE)","v":85800},{"$f":"VLOOKUP($A:$A,'Max Funds & Unit Mix'!$L$86:$T$144,8,FALSE)","v":91700},{"$f":"VLOOKUP($A:$A,'Max Funds & Unit Mix'!$L$86:$T$144,9,FALSE)","v":97650},{"$f":"TRUNC(C117/12*0.3)","v":1295},{"$f":"TRUNC((C117+D117)/2/12*0.3)","v":1387},{"$f":"TRUNC((E117)/12*0.3)","v":1665},{"$f":"TRUNC(((F117+G117)/2)/12*0.3)","v":1923},{"$f":"TRUNC(H117/12*0.3)","v":2145},{"$f":"TRUNC(((I117+J117)/2)/12*0.3)","v":2366}]
["Contra Costa","Contra Costa0.55",{"$f":"C117*2*0.55","v":56980.000000000007},{"$f":"D117*2*0.55","v":65120.000000000007},73260,81345,87890,94380.000000000015,100870.00000000001,107415.00000000001,{"$f":"TRUNC(C118/12*0.3)","v":1424},{"$f":"TRUNC((C118+D118)/2/12*0.3)","v":1526},{"$f":"TRUNC((E118)/12*0.3)","v":1831},{"$f":"TRUNC(((F118+G118)/2)/12*0.3)","v":2115},{"$f":"TRUNC(H118/12*0.3)","v":2359},{"$f":"TRUNC(((I118+J118)/2)/12*0.3)","v":2603}]
["Contra Costa","Contra Costa0.6",{"$f":"C117*2*0.6","v":62160},{"$f":"D117*2*0.6","v":71040},79920,88740,95880,102960,110040,117180,1554,1665,1998,2307,2574,2840]
["Contra Costa","Contra Costa0.65",{"$f":"C117*2*0.65","v":67340},{"$f":"D117*2*0.65","v":76960},86580,96135,103870,111540,119210,126945,1683,1803,2164,2500,2788,3076]
["Contra Costa","Contra Costa0.7",{"$f":"C117*2*0.7","v":72520},{"$f":"D117*2*0.7","v":82880},93240,103530,111860,120119.99999999999,128379.99999999999,136710,1813,1942,2331,2692,3003,3313]
["Contra Costa","Contra Costa0.75",{"$f":"C117*2*0.75","v":77700},{"$f":"D117*2*0.75","v":88800},99900,110925,119850,128700,137550,146475,1942,2081,2497,2884,3217,3550]
["Contra Costa","Contra Costa0.8",{"$f":"C117*2*0.8","v":82880},{"$f":"D117*2*0.8","v":94720},106560,118320,127840,137280,146720,156240,2072,2220,2664,3077,3432,3787]
["Contra Costa","Contra Costa0.9",{"$f":"C117*2*0.9","v":93240},{"$f":"D117*2*0.9","v":106560},119880,133110,143820,154440,165060,175770,2331,2497,2997,3461,3861,4260]
["Contra Costa","Contra Costa1",{"$f":"C117*2","v":103600},{"$f":"D117*2","v":118400},133200,147900,159800,171600,183400,195300,{"$f":"K117*2","v":2590},{"$f":"L117*2","v":2774},3330,3846,4290,4732]
["Contra Costa","Contra Costa1.1",{"$f":"C117*2*1.1","v":113960.00000000001},{"$f":"D117*2*1.1","v":130240.00000000001},146520,162690,175780,188760.00000000003,201740.00000000003,214830.00000000003,{"$f":"TRUNC(C126/12*0.3)","v":2849},{"$f":"TRUNC((C126+D126)/2/12*0.3)","v":3052},{"$f":"TRUNC((E126)/12*0.3)","v":3663},{"$f":"TRUNC(((F126+G126)/2)/12*0.3)","v":4230},{"$f":"TRUNC(H126/12*0.3)","v":4719},{"$f":"TRUNC(((I126+J126)/2)/12*0.3)","v":5207}]
["Contra Costa","Contra Costa1.2",{"$f":"C117*2*1.2","v":124320},{"$f":"D117*2*1.2","v":142080},159840,177480,191760,205920,220080,234360,3108,3330,3996,4615,5148,5680]
["Del Norte","Del Norte0.15",{"$f":"C135*2*0.15","v":8670},{"$f":"D135*2*0.15","v":9900},{"$f":"E135*2*0.15","v":11145},{"$f":"F135*2*0.15","v":12375},{"$f":"G135*2*0.15","v":13365},{"$f":"H135*2*0.15","v":14355},15345,16335,216,232,278,321,358,396]
["Del Norte","Del Norte0.2",{"$f":"C135*2*0.2","v":11560},{"$f":"D135*2*0.2","v":13200},14860,16500,17820,19140,20460,21780,289,309,371,429,478,528]
["Del Norte","Del Norte0.25",{"$f":"C135*2*0.25","v":14450},{"$f":"D135*2*0.25","v":16500},18575,20625,22275,23925,25575,27225,361,386,464,536,598,660]
["Del Norte","Del Norte0.3",{"$f":"C135*2*0.3","v":17340},{"$f":"D135*2*0.3","v":19800},22290,24750,26730,28710,30690,32670,433,464,557,643,717,792]
["Del Norte","Del Norte0.35",{"$f":"C135*2*0.35","v":20230},{"$f":"D135*2*0.35","v":23100},26005,28874.999999999996,31184.999999999996,33495,35805,38115,505,541,650,750,837,924]
["Del Norte","Del Norte0.4",{"$f":"C135*2*0.4","v":23120},{"$f":"D135*2*0.4","v":26400},29720,33000,35640,38280,40920,43560,578,619,743,858,957,1056]
["Del Norte","Del Norte0.45",{"$f":"C135*2*0.45","v":26010},{"$f":"D135*2*0.45","v":29700},33435,37125,40095,43065,46035,49005,650,696,835,965,1076,1188]
["Del Norte","Del Norte0.5",{"$f":"VLOOKUP($A:$A,'Max Funds & Unit Mix'!$L$86:$T$144,2,FALSE)","v":28900},{"$f":"VLOOKUP($A:$A,'Max Funds & Unit Mix'!$L$86:$T$144,3,FALSE)","v":33000},{"$f":"VLOOKUP($A:$A,'Max Funds & Unit Mix'!$L$86:$T$144,4,FALSE)","v":37150},{"$f":"VLOOKUP($A:$A,'Max Funds & Unit Mix'!$L$86:$T$144,5,FALSE)","v":41250},{"$f":"VLOOKUP($A:$A,'Max Funds & Unit Mix'!$L$86:$T$144,6,FALSE)","v":44550},{"$f":"VLOOKUP($A:$A,'Max Funds & Unit Mix'!$L$86:$T$144,7,FALSE)","v":47850},{"$f":"VLOOKUP($A:$A,'Max Funds & Unit Mix'!$L$86:$T$144,8,FALSE)","v":51150},{"$f":"VLOOKUP($A:$A,'Max Funds & Unit Mix'!$L$86:$T$144,9,FALSE)","v":54450},{"$f":"TRUNC(C135/12*0.3)","v":722},{"$f":"TRUNC((C135+D135)/2/12*0.3)","v":773},{"$f":"TRUNC((E135)/12*0.3)","v":928},{"$f":"TRUNC(((F135+G135)/2)/12*0.3)","v":1072},{"$f":"TRUNC(H135/12*0.3)","v":1196},{"$f":"TRUNC(((I135+J135)/2)/12*0.3)","v":1320}]
["Del Norte","Del Norte0.55",{"$f":"C135*2*0.55","v":31790.000000000004},{"$f":"D135*2*0.55","v":36300},40865,45375.000000000007,49005.000000000007,52635.000000000007,56265.000000000007,59895.000000000007,{"$f":"TRUNC(C136/12*0.3)","v":794},{"$f":"TRUNC((C136+D136)/2/12*0.3)","v":851},{"$f":"TRUNC((E136)/12*0.3)","v":1021},{"$f":"TRUNC(((F136+G136)/2)/12*0.3)","v":1179},{"$f":"TRUNC(H136/12*0.3)","v":1315},{"$f":"TRUNC(((I136+J136)/2)/12*0.3)","v":1452}]
["Del Norte","Del Norte0.6",{"$f":"C135*2*0.6","v":34680},{"$f":"D135*2*0.6","v":39600},44580,49500,53460,57420,61380,65340,867,928,1114,1287,1435,1584]
["Del Norte","Del Norte0.65",{"$f":"C135*2*0.65","v":37570},{"$f":"D135*2*0.65","v":42900},48295,53625,57915,62205,66495,70785,939,1005,1207,1394,1555,1716]
["Del Norte","Del Norte0.7",{"$f":"C135*2*0.7","v":40460},{"$f":"D135*2*0.7","v":46200},52010,57749.999999999993,62369.999999999993,66990,71610,76230,1011,1083,1300,1501,1674,1848]
["Del Norte","Del Norte0.75",{"$f":"C135*2*0.75","v":43350},{"$f":"D135*2*0.75","v":49500},55725,61875,66825,71775,76725,81675,1083,1160,1393,1608,1794,1980]
["Del Norte","Del Norte0.8",{"$f":"C135*2*0.8","v":46240},{"$f":"D135*2*0.8","v":52800},59440,66000,71280,76560,81840,87120,1156,1238,1486,1716,1914,2112]
["Del Norte","Del Norte0.9",{"$f":"C135*2*0.9","v":52020},{"$f":"D135*2*0.9","v":59400},66870,74250,80190,86130,92070,98010,1300,1392,1671,1930,2153,2376]
["Del Norte","Del Norte1",{"$f":"C135*2","v":57800},{"$f":"D135*2","v":66000},74300,82500,89100,95700,102300,108900,{"$f":"K135*2","v":1444},{"$f":"L135*2","v":1546},1856,2144,2392,2640]
["Del Norte","Del Norte1.1",{"$f":"C135*2*1.1","v":63580.000000000007},{"$f":"D135*2*1.1","v":72600},81730,90750.000000000015,98010.000000000015,105270.00000000001,112530.00000000001,119790.00000000001,{"$f":"TRUNC(C144/12*0.3)","v":1589},{"$f":"TRUNC((C144+D144)/2/12*0.3)","v":1702},{"$f":"TRUNC((E144)/12*0.3)","v":2043},{"$f":"TRUNC(((F144+G144)/2)/12*0.3)","v":2359},{"$f":"TRUNC(H144/12*0.3)","v":2631},{"$f":"TRUNC(((I144+J144)/2)/12*0.3)","v":2904}]
["Del Norte","Del Norte1.2",{"$f":"C135*2*1.2","v":69360},{"$f":"D135*2*1.2","v":79200},89160,99000,106920,114840,122760,130680,1734,1857,2229,2574,2871,3168]
["El Dorado","El Dorado0.15",{"$f":"C153*2*0.15","v":11265},{"$f":"D153*2*0.15","v":12870},{"$f":"E153*2*0.15","v":14475},{"$f":"F153*2*0.15","v":16080},{"$f":"G153*2*0.15","v":17370},{"$f":"H153*2*0.15","v":18660},19950,21240,281,301,361,418,466,514]
["El Dorado","El Dorado0.2",{"$f":"C153*2*0.2","v":15020},{"$f":"D153*2*0.2","v":17160},19300,21440,23160,24880,26600,28320,375,402,482,557,622,686]
["El Dorado","El Dorado0.25",{"$f":"C153*2*0.25","v":18775},{"$f":"D153*2*0.25","v":21450},24125,26800,28950,31100,33250,35400,469,502,603,696,777,858]
["El Dorado","El Dorado0.3",{"$f":"C153*2*0.3","v":22530},{"$f":"D153*2*0.3","v":25740},28950,32160,34740,37320,39900,42480,563,603,723,836,933,1029]
["El Dorado","El Dorado0.35",{"$f":"C153*2*0.35","v":26285},{"$f":"D153*2*0.35","v":30029.999999999996},33775,37520,40530,43540,46550,49560,657,703,844,975,1088,1201]
["El Dorado","El Dorado0.4",{"$f":"C153*2*0.4","v":30040},{"$f":"D153*2*0.4","v":34320},38600,42880,46320,49760,53200,56640,751,804,965,1115,1244,1373]
["El Dorado","El Dorado0.45",{"$f":"C153*2*0.45","v":33795},{"$f":"D153*2*0.45","v":38610},43425,48240,52110,55980,59850,63720,844,905,1085,1254,1399,1544]
["El Dorado","El Dorado0.5",{"$f":"VLOOKUP($A:$A,'Max Funds & Unit Mix'!$L$86:$T$144,2,FALSE)","v":37550},{"$f":"VLOOKUP($A:$A,'Max Funds & Unit Mix'!$L$86:$T$144,3,FALSE)","v":42900},{"$f":"VLOOKUP($A:$A,'Max Funds & Unit Mix'!$L$86:$T$144,4,FALSE)","v":48250},{"$f":"VLOOKUP($A:$A,'Max Funds & Unit Mix'!$L$86:$T$144,5,FALSE)","v":53600},{"$f":"VLOOKUP($A:$A,'Max Funds & Unit Mix'!$L$86:$T$144,6,FALSE)","v":57900},{"$f":"VLOOKUP($A:$A,'Max Funds & Unit Mix'!$L$86:$T$144,7,FALSE)","v":62200},{"$f":"VLOOKUP($A:$A,'Max Funds & Unit Mix'!$L$86:$T$144,8,FALSE)","v":66500},{"$f":"VLOOKUP($A:$A,'Max Funds & Unit Mix'!$L$86:$T$144,9,FALSE)","v":70800},{"$f":"TRUNC(C153/12*0.3)","v":938},{"$f":"TRUNC((C153+D153)/2/12*0.3)","v":1005},{"$f":"TRUNC((E153)/12*0.3)","v":1206},{"$f":"TRUNC(((F153+G153)/2)/12*0.3)","v":1393},{"$f":"TRUNC(H153/12*0.3)","v":1555},{"$f":"TRUNC(((I153+J153)/2)/12*0.3)","v":1716}]
["El Dorado","El Dorado0.55",{"$f":"C153*2*0.55","v":41305},{"$f":"D153*2*0.55","v":47190.000000000007},53075.000000000007,58960.000000000007,63690.000000000007,68420,73150,77880,{"$f":"TRUNC(C154/12*0.3)","v":1032},{"$f":"TRUNC((C154+D154)/2/12*0.3)","v":1106},{"$f":"TRUNC((E154)/12*0.3)","v":1326},{"$f":"TRUNC(((F154+G154)/2)/12*0.3)","v":1533},{"$f":"TRUNC(H154/12*0.3)","v":1710},{"$f":"TRUNC(((I154+J154)/2)/12*0.3)","v":1887}]
["El Dorado","El Dorado0.6",{"$f":"C153*2*0.6","v":45060},{"$f":"D153*2*0.6","v":51480},57900,64320,69480,74640,79800,84960,1126,1206,1447,1672,1866,2059]
["El Dorado","El Dorado0.65",{"$f":"C153*2*0.65","v":48815},{"$f":"D153*2*0.65","v":55770},62725,69680,75270,80860,86450,92040,1220,1307,1568,1811,2021,2231]
["El Dorado","El Dorado0.7",{"$f":"C153*2*0.7","v":52570},{"$f":"D153*2*0.7","v":60059.999999999993},67550,75040,81060,87080,93100,99120,1314,1407,1688,1951,2177,2402]
["El Dorado","El Dorado0.75",{"$f":"C153*2*0.75","v":56325},{"$f":"D153*2*0.75","v":64350},72375,80400,86850,93300,99750,106200,1408,1508,1809,2090,2332,2574]
["El Dorado","El Dorado0.8",{"$f":"C153*2*0.8","v":60080},{"$f":"D153*2*0.8","v":68640},77200,85760,92640,99520,106400,113280,1502,1609,1930,2230,2488,2746]
["El Dorado","El Dorado0.9",{"$f":"C153*2*0.9","v":67590},{"$f":"D153*2*0.9","v":77220},86850,96480,104220,111960,119700,127440,1689,1810,2171,2508,2799,3089]
["El Dorado","El Dorado1",{"$f":"C153*2","v":75100},{"$f":"D153*2","v":85800},96500,107200,115800,124400,133000,141600,{"$f":"K153*2","v":1876},{"$f":"L153*2","v":2010},2412,2786,3110,3432]
["El Dorado","El Dorado1.1",{"$f":"C153*2*1.1","v":82610},{"$f":"D153*2*1.1","v":94380.000000000015},106150.00000000001,117920.00000000001,127380.00000000001,136840,146300,155760,{"$f":"TRUNC(C162/12*0.3)","v":2065},{"$f":"TRUNC((C162+D162)/2/12*0.3)","v":2212},{"$f":"TRUNC((E162)/12*0.3)","v":2653},{"$f":"TRUNC(((F162+G162)/2)/12*0.3)","v":3066},{"$f":"TRUNC(H162/12*0.3)","v":3421},{"$f":"TRUNC(((I162+J162)/2)/12*0.3)","v":3775}]
["El Dorado","El Dorado1.2",{"$f":"C153*2*1.2","v":90120},{"$f":"D153*2*1.2","v":102960},115800,128640,138960,149280,159600,169920,2253,2413,2895,3345,3732,4119]
["Fresno","Fresno0.15",{"$f":"C171*2*0.15","v":8670},{"$f":"D171*2*0.15","v":9900},{"$f":"E171*2*0.15","v":11145},{"$f":"F171*2*0.15","v":12375},{"$f":"G171*2*0.15","v":13365},{"$f":"H171*2*0.15","v":14355},15345,16335,216,232,278,321,358,396]
["Fresno","Fresno0.2",{"$f":"C171*2*0.2","v":11560},{"$f":"D171*2*0.2","v":13200},14860,16500,17820,19140,20460,21780,289,309,371,429,478,528]
["Fresno","Fresno0.25",{"$f":"C171*2*0.25","v":14450},{"$f":"D171*2*0.25","v":16500},18575,20625,22275,23925,25575,27225,361,386,464,536,598,660]
["Fresno","Fresno0.3",{"$f":"C171*2*0.3","v":17340},{"$f":"D171*2*0.3","v":19800},22290,24750,26730,28710,30690,32670,433,464,557,643,717,792]
["Fresno","Fresno0.35",{"$f":"C171*2*0.35","v":20230},{"$f":"D171*2*0.35","v":23100},26005,28874.999999999996,31184.999999999996,33495,35805,38115,505,541,650,750,837,924]
["Fresno","Fresno0.4",{"$f":"C171*2*0.4","v":23120},{"$f":"D171*2*0.4","v":26400},29720,33000,35640,38280,40920,43560,578,619,743,858,957,1056]
["Fresno","Fresno0.45",{"$f":"C171*2*0.45","v":26010},{"$f":"D171*2*0.45","v":29700},33435,37125,40095,43065,46035,49005,650,696,835,965,1076,1188]
["Fresno","Fresno0.5",{"$f":"VLOOKUP($A:$A,'Max Funds & Unit Mix'!$L$86:$T$144,2,FALSE)","v":28900},{"$f":"VLOOKUP($A:$A,'Max Funds & Unit Mix'!$L$86:$T$144,3,FALSE)","v":33000},{"$f":"VLOOKUP($A:$A,'Max Funds & Unit Mix'!$L$86:$T$144,4,FALSE)","v":37150},{"$f":"VLOOKUP($A:$A,'Max Funds & Unit Mix'!$L$86:$T$144,5,FALSE)","v":41250},{"$f":"VLOOKUP($A:$A,'Max Funds & Unit Mix'!$L$86:$T$144,6,FALSE)","v":44550},{"$f":"VLOOKUP($A:$A,'Max Funds & Unit Mix'!$L$86:$T$144,7,FALSE)","v":47850},{"$f":"VLOOKUP($A:$A,'Max Funds & Unit Mix'!$L$86:$T$144,8,FALSE)","v":51150},{"$f":"VLOOKUP($A:$A,'Max Funds & Unit Mix'!$L$86:$T$144,9,FALSE)","v":54450},{"$f":"TRUNC(C171/12*0.3)","v":722},{"$f":"TRUNC((C171+D171)/2/12*0.3)","v":773},{"$f":"TRUNC((E171)/12*0.3)","v":928},{"$f":"TRUNC(((F171+G171)/2)/12*0.3)","v":1072},{"$f":"TRUNC(H171/12*0.3)","v":1196},{"$f":"TRUNC(((I171+J171)/2)/12*0.3)","v":1320}]
["Fresno","Fresno0.55",{"$f":"C171*2*0.55","v":31790.000000000004},{"$f":"D171*2*0.55","v":36300},40865,45375.000000000007,49005.000000000007,52635.000000000007,56265.000000000007,59895.000000000007,{"$f":"TRUNC(C172/12*0.3)","v":794},{"$f":"TRUNC((C172+D172)/2/12*0.3)","v":851},{"$f":"TRUNC((E172)/12*0.3)","v":1021},{"$f":"TRUNC(((F172+G172)/2)/12*0.3)","v":1179},{"$f":"TRUNC(H172/12*0.3)","v":1315},{"$f":"TRUNC(((I172+J172)/2)/12*0.3)","v":1452}]
["Fresno","Fresno0.6",{"$f":"C171*2*0.6","v":34680},{"$f":"D171*2*0.6","v":39600},44580,49500,53460,57420,61380,65340,867,928,1114,1287,1435,1584]
["Fresno","Fresno0.65",{"$f":"C171*2*0.65","v":37570},{"$f":"D171*2*0.65","v":42900},48295,53625,57915,62205,66495,70785,939,1005,1207,1394,1555,1716]
["Fresno","Fresno0.7",{"$f":"C171*2*0.7","v":40460},{"$f":"D171*2*0.7","v":46200},52010,57749.999999999993,62369.999999999993,66990,71610,76230,1011,1083,1300,1501,1674,1848]
["Fresno","Fresno0.75",{"$f":"C171*2*0.75","v":43350},{"$f":"D171*2*0.75","v":49500},55725,61875,66825,71775,76725,81675,1083,1160,1393,1608,1794,1980]
["Fresno","Fresno0.8",{"$f":"C171*2*0.8","v":46240},{"$f":"D171*2*0.8","v":52800},59440,66000,71280,76560,81840,87120,1156,1238,1486,1716,1914,2112]
["Fresno","Fresno0.9",{"$f":"C171*2*0.9","v":52020},{"$f":"D171*2*0.9","v":59400},66870,74250,80190,86130,92070,98010,1300,1392,1671,1930,2153,2376]
["Fresno","Fresno1",{"$f":"C171*2","v":57800},{"$f":"D171*2","v":66000},74300,82500,89100,95700,102300,108900,{"$f":"K171*2","v":1444},{"$f":"L171*2","v":1546},1856,2144,2392,2640]
["Fresno","Fresno1.1",{"$f":"C171*2*1.1","v":63580.000000000007},{"$f":"D171*2*1.1","v":72600},81730,90750.000000000015,98010.000000000015,105270.00000000001,112530.00000000001,119790.00000000001,{"$f":"TRUNC(C180/12*0.3)","v":1589},{"$f":"TRUNC((C180+D180)/2/12*0.3)","v":1702},{"$f":"TRUNC((E180)/12*0.3)","v":2043},{"$f":"TRUNC(((F180+G180)/2)/12*0.3)","v":2359},{"$f":"TRUNC(H180/12*0.3)","v":2631},{"$f":"TRUNC(((I180+J180)/2)/12*0.3)","v":2904}]
["Fresno","Fresno1.2",{"$f":"C171*2*1.2","v":69360},{"$f":"D171*2*1.2","v":79200},89160,99000,106920,114840,122760,130680,1734,1857,2229,2574,2871,3168]
["Glenn","Glenn0.15",{"$f":"C189*2*0.15","v":8670},{"$f":"D189*2*0.15","v":9900},{"$f":"E189*2*0.15","v":11145},{"$f":"F189*2*0.15","v":12375},{"$f":"G189*2*0.15","v":13365},{"$f":"H189*2*0.15","v":14355},15345,16335,216,232,278,321,358,396]
["Glenn","Glenn0.2",{"$f":"C189*2*0.2","v":11560},{"$f":"D189*2*0.2","v":13200},14860,16500,17820,19140,20460,21780,289,309,371,429,478,528]
["Glenn","Glenn0.25",{"$f":"C189*2*0.25","v":14450},{"$f":"D189*2*0.25","v":16500},18575,20625,22275,23925,25575,27225,361,386,464,536,598,660]
["Glenn","Glenn0.3",{"$f":"C189*2*0.3","v":17340},{"$f":"D189*2*0.3","v":19800},22290,24750,26730,28710,30690,32670,433,464,557,643,717,792]
["Glenn","Glenn0.35",{"$f":"C189*2*0.35","v":20230},{"$f":"D189*2*0.35","v":23100},26005,28874.999999999996,31184.999999999996,33495,35805,38115,505,541,650,750,837,924]
["Glenn","Glenn0.4",{"$f":"C189*2*0.4","v":23120},{"$f":"D189*2*0.4","v":26400},29720,33000,35640,38280,40920,43560,578,619,743,858,957,1056]
["Glenn","Glenn0.45",{"$f":"C189*2*0.45","v":26010},{"$f":"D189*2*0.45","v":29700},33435,37125,40095,43065,46035,49005,650,696,835,965,1076,1188]
["Glenn","Glenn0.5",{"$f":"VLOOKUP($A:$A,'Max Funds & Unit Mix'!$L$86:$T$144,2,FALSE)","v":28900},{"$f":"VLOOKUP($A:$A,'Max Funds & Unit Mix'!$L$86:$T$144,3,FALSE)","v":33000},{"$f":"VLOOKUP($A:$A,'Max Funds & Unit Mix'!$L$86:$T$144,4,FALSE)","v":37150},{"$f":"VLOOKUP($A:$A,'Max Funds & Unit Mix'!$L$86:$T$144,5,FALSE)","v":41250},{"$f":"VLOOKUP($A:$A,'Max Funds & Unit Mix'!$L$86:$T$144,6,FALSE)","v":44550},{"$f":"VLOOKUP($A:$A,'Max Funds & Unit Mix'!$L$86:$T$144,7,FALSE)","v":47850},{"$f":"VLOOKUP($A:$A,'Max Funds & Unit Mix'!$L$86:$T$144,8,FALSE)","v":51150},{"$f":"VLOOKUP($A:$A,'Max Funds & Unit Mix'!$L$86:$T$144,9,FALSE)","v":54450},{"$f":"TRUNC(C189/12*0.3)","v":722},{"$f":"TRUNC((C189+D189)/2/12*0.3)","v":773},{"$f":"TRUNC((E189)/12*0.3)","v":928},{"$f":"TRUNC(((F189+G189)/2)/12*0.3)","v":1072},{"$f":"TRUNC(H189/12*0.3)","v":1196},{"$f":"TRUNC(((I189+J189)/2)/12*0.3)","v":1320}]
["Glenn","Glenn0.55",{"$f":"C189*2*0.55","v":31790.000000000004},{"$f":"D189*2*0.55","v":36300},40865,45375.000000000007,49005.000000000007,52635.000000000007,56265.000000000007,59895.000000000007,{"$f":"TRUNC(C190/12*0.3)","v":794},{"$f":"TRUNC((C190+D190)/2/12*0.3)","v":851},{"$f":"TRUNC((E190)/12*0.3)","v":1021},{"$f":"TRUNC(((F190+G190)/2)/12*0.3)","v":1179},{"$f":"TRUNC(H190/12*0.3)","v":1315},{"$f":"TRUNC(((I190+J190)/2)/12*0.3)","v":1452}]
["Glenn","Glenn0.6",{"$f":"C189*2*0.6","v":34680},{"$f":"D189*2*0.6","v":39600},44580,49500,53460,57420,61380,65340,867,928,1114,1287,1435,1584]
["Glenn","Glenn0.65",{"$f":"C189*2*0.65","v":37570},{"$f":"D189*2*0.65","v":42900},48295,53625,57915,62205,66495,70785,939,1005,1207,1394,1555,1716]
["Glenn","Glenn0.7",{"$f":"C189*2*0.7","v":40460},{"$f":"D189*2*0.7","v":46200},52010,57749.999999999993,62369.999999999993,66990,71610,76230,1011,1083,1300,1501,1674,1848]
["Glenn","Glenn0.75",{"$f":"C189*2*0.75","v":43350},{"$f":"D189*2*0.75","v":49500},55725,61875,66825,71775,76725,81675,1083,1160,1393,1608,1794,1980]
["Glenn","Glenn0.8",{"$f":"C189*2*0.8","v":46240},{"$f":"D189*2*0.8","v":52800},59440,66000,71280,76560,81840,87120,1156,1238,1486,1716,1914,2112]
["Glenn","Glenn0.9",{"$f":"C189*2*0.9","v":52020},{"$f":"D189*2*0.9","v":59400},66870,74250,80190,86130,92070,98010,1300,1392,1671,1930,2153,2376]
["Glenn","Glenn1",{"$f":"C189*2","v":57800},{"$f":"D189*2","v":66000},74300,82500,89100,95700,102300,108900,{"$f":"K189*2","v":1444},{"$f":"L189*2","v":1546},1856,2144,2392,2640]
["Glenn","Glenn1.1",{"$f":"C189*2*1.1","v":63580.000000000007},{"$f":"D189*2*1.1","v":72600},81730,90750.000000000015,98010.000000000015,105270.00000000001,112530.00000000001,119790.00000000001,{"$f":"TRUNC(C198/12*0.3)","v":1589},{"$f":"TRUNC((C198+D198)/2/12*0.3)","v":1702},{"$f":"TRUNC((E198)/12*0.3)","v":2043},{"$f":"TRUNC(((F198+G198)/2)/12*0.3)","v":2359},{"$f":"TRUNC(H198/12*0.3)","v":2631},{"$f":"TRUNC(((I198+J198)/2)/12*0.3)","v":2904}]
["Glenn","Glenn1.2",{"$f":"C189*2*1.2","v":69360},{"$f":"D189*2*1.2","v":79200},89160,99000,106920,114840,122760,130680,1734,1857,2229,2574,2871,3168]
["Humboldt","Humboldt0.15",{"$f":"C207*2*0.15","v":8670},{"$f":"D207*2*0.15","v":9900},{"$f":"E207*2*0.15","v":11145},{"$f":"F207*2*0.15","v":12375},{"$f":"G207*2*0.15","v":13365},{"$f":"H207*2*0.15","v":14355},15345,16335,216,232,278,321,358,396]
["Humboldt","Humboldt0.2",{"$f":"C207*2*0.2","v":11560},{"$f":"D207*2*0.2","v":13200},14860,16500,17820,19140,20460,21780,289,309,371,429,478,528]
["Humboldt","Humboldt0.25",{"$f":"C207*2*0.25","v":14450},{"$f":"D207*2*0.25","v":16500},18575,20625,22275,23925,25575,27225,361,386,464,536,598,660]
["Humboldt","Humboldt0.3",{"$f":"C207*2*0.3","v":17340},{"$f":"D207*2*0.3","v":19800},22290,24750,26730,28710,30690,32670,433,464,557,643,717,792]
["Humboldt","Humboldt0.35",{"$f":"C207*2*0.35","v":20230},{"$f":"D207*2*0.35","v":23100},26005,28874.999999999996,31184.999999999996,33495,35805,38115,505,541,650,750,837,924]
["Humboldt","Humboldt0.4",{"$f":"C207*2*0.4","v":23120},{"$f":"D207*2*0.4","v":26400},29720,33000,35640,38280,40920,43560,578,619,743,858,957,1056]
["Humboldt","Humboldt0.45",{"$f":"C207*2*0.45","v":26010},{"$f":"D207*2*0.45","v":29700},33435,37125,40095,43065,46035,49005,650,696,835,965,1076,1188]
["Humboldt","Humboldt0.5",{"$f":"VLOOKUP($A:$A,'Max Funds & Unit Mix'!$L$86:$T$144,2,FALSE)","v":28900},{"$f":"VLOOKUP($A:$A,'Max Funds & Unit Mix'!$L$86:$T$144,3,FALSE)","v":33000},{"$f":"VLOOKUP($A:$A,'Max Funds & Unit Mix'!$L$86:$T$144,4,FALSE)","v":37150},{"$f":"VLOOKUP($A:$A,'Max Funds & Unit Mix'!$L$86:$T$144,5,FALSE)","v":41250},{"$f":"VLOOKUP($A:$A,'Max Funds & Unit Mix'!$L$86:$T$144,6,FALSE)","v":44550},{"$f":"VLOOKUP($A:$A,'Max Funds & Unit Mix'!$L$86:$T$144,7,FALSE)","v":47850},{"$f":"VLOOKUP($A:$A,'Max Funds & Unit Mix'!$L$86:$T$144,8,FALSE)","v":51150},{"$f":"VLOOKUP($A:$A,'Max Funds & Unit Mix'!$L$86:$T$144,9,FALSE)","v":54450},{"$f":"TRUNC(C207/12*0.3)","v":722},{"$f":"TRUNC((C207+D207)/2/12*0.3)","v":773},{"$f":"TRUNC((E207)/12*0.3)","v":928},{"$f":"TRUNC(((F207+G207)/2)/12*0.3)","v":1072},{"$f":"TRUNC(H207/12*0.3)","v":1196},{"$f":"TRUNC(((I207+J207)/2)/12*0.3)","v":1320}]
["Humboldt","Humboldt0.55",{"$f":"C207*2*0.55","v":31790.000000000004},{"$f":"D207*2*0.55","v":36300},40865,45375.000000000007,49005.000000000007,52635.000000000007,56265.000000000007,59895.000000000007,{"$f":"TRUNC(C208/12*0.3)","v":794},{"$f":"TRUNC((C208+D208)/2/12*0.3)","v":851},{"$f":"TRUNC((E208)/12*0.3)","v":1021},{"$f":"TRUNC(((F208+G208)/2)/12*0.3)","v":1179},{"$f":"TRUNC(H208/12*0.3)","v":1315},{"$f":"TRUNC(((I208+J208)/2)/12*0.3)","v":1452}]
["Humboldt","Humboldt0.6",{"$f":"C207*2*0.6","v":34680},{"$f":"D207*2*0.6","v":39600},44580,49500,53460,57420,61380,65340,867,928,1114,1287,1435,1584]
["Humboldt","Humboldt0.65",{"$f":"C207*2*0.65","v":37570},{"$f":"D207*2*0.65","v":42900},48295,53625,57915,62205,66495,70785,939,1005,1207,1394,1555,1716]
["Humboldt","Humboldt0.7",{"$f":"C207*2*0.7","v":40460},{"$f":"D207*2*0.7","v":46200},52010,57749.999999999993,62369.999999999993,66990,71610,76230,1011,1083,1300,1501,1674,1848]
["Humboldt","Humboldt0.75",{"$f":"C207*2*0.75","v":43350},{"$f":"D207*2*0.75","v":49500},55725,61875,66825,71775,76725,81675,1083,1160,1393,1608,1794,1980]
["Humboldt","Humboldt0.8",{"$f":"C207*2*0.8","v":46240},{"$f":"D207*2*0.8","v":52800},59440,66000,71280,76560,81840,87120,1156,1238,1486,1716,1914,2112]
["Humboldt","Humboldt0.9",{"$f":"C207*2*0.9","v":52020},{"$f":"D207*2*0.9","v":59400},66870,74250,80190,86130,92070,98010,1300,1392,1671,1930,2153,2376]
["Humboldt","Humboldt1",{"$f":"C207*2","v":57800},{"$f":"D207*2","v":66000},74300,82500,89100,95700,102300,108900,{"$f":"K207*2","v":1444},{"$f":"L207*2","v":1546},1856,2144,2392,2640]
["Humboldt","Humboldt1.1",{"$f":"C207*2*1.1","v":63580.000000000007},{"$f":"D207*2*1.1","v":72600},81730,90750.000000000015,98010.000000000015,105270.00000000001,112530.00000000001,119790.00000000001,{"$f":"TRUNC(C216/12*0.3)","v":1589},{"$f":"TRUNC((C216+D216)/2/12*0.3)","v":1702},{"$f":"TRUNC((E216)/12*0.3)","v":2043},{"$f":"TRUNC(((F216+G216)/2)/12*0.3)","v":2359},{"$f":"TRUNC(H216/12*0.3)","v":2631},{"$f":"TRUNC(((I216+J216)/2)/12*0.3)","v":2904}]
["Humboldt","Humboldt1.2",{"$f":"C207*2*1.2","v":69360},{"$f":"D207*2*1.2","v":79200},89160,99000,106920,114840,122760,130680,1734,1857,2229,2574,2871,3168]
["Imperial","Imperial0.15",{"$f":"C225*2*0.15","v":8670},{"$f":"D225*2*0.15","v":9900},{"$f":"E225*2*0.15","v":11145},{"$f":"F225*2*0.15","v":12375},{"$f":"G225*2*0.15","v":13365},{"$f":"H225*2*0.15","v":14355},15345,16335,216,232,278,321,358,396]
["Imperial","Imperial0.2",{"$f":"C225*2*0.2","v":11560},{"$f":"D225*2*0.2","v":13200},14860,16500,17820,19140,20460,21780,289,309,371,429,478,528]
["Imperial","Imperial0.25",{"$f":"C225*2*0.25","v":14450},{"$f":"D225*2*0.25","v":16500},18575,20625,22275,23925,25575,27225,361,386,464,536,598,660]
["Imperial","Imperial0.3",{"$f":"C225*2*0.3","v":17340},{"$f":"D225*2*0.3","v":19800},22290,24750,26730,28710,30690,32670,433,464,557,643,717,792]
["Imperial","Imperial0.35",{"$f":"C225*2*0.35","v":20230},{"$f":"D225*2*0.35","v":23100},26005,28874.999999999996,31184.999999999996,33495,35805,38115,505,541,650,750,837,924]
["Imperial","Imperial0.4",{"$f":"C225*2*0.4","v":23120},{"$f":"D225*2*0.4","v":26400},29720,33000,35640,38280,40920,43560,578,619,743,858,957,1056]
["Imperial","Imperial0.45",{"$f":"C225*2*0.45","v":26010},{"$f":"D225*2*0.45","v":29700},33435,37125,40095,43065,46035,49005,650,696,835,965,1076,1188]
["Imperial","Imperial0.5",{"$f":"VLOOKUP($A:$A,'Max Funds & Unit Mix'!$L$86:$T$144,2,FALSE)","v":28900},{"$f":"VLOOKUP($A:$A,'Max Funds & Unit Mix'!$L$86:$T$144,3,FALSE)","v":33000},{"$f":"VLOOKUP($A:$A,'Max Funds & Unit Mix'!$L$86:$T$144,4,FALSE)","v":37150},{"$f":"VLOOKUP($A:$A,'Max Funds & Unit Mix'!$L$86:$T$144,5,FALSE)","v":41250},{"$f":"VLOOKUP($A:$A,'Max Funds & Unit Mix'!$L$86:$T$144,6,FALSE)","v":44550},{"$f":"VLOOKUP($A:$A,'Max Funds & Unit Mix'!$L$86:$T$144,7,FALSE)","v":47850},{"$f":"VLOOKUP($A:$A,'Max Funds & Unit Mix'!$L$86:$T$144,8,FALSE)","v":51150},{"$f":"VLOOKUP($A:$A,'Max Funds & Unit Mix'!$L$86:$T$144,9,FALSE)","v":54450},{"$f":"TRUNC(C225/12*0.3)","v":722},{"$f":"TRUNC((C225+D225)/2/12*0.3)","v":773},{"$f":"TRUNC((E225)/12*0.3)","v":928},{"$f":"TRUNC(((F225+G225)/2)/12*0.3)","v":1072},{"$f":"TRUNC(H225/12*0.3)","v":1196},{"$f":"TRUNC(((I225+J225)/2)/12*0.3)","v":1320}]
["Imperial","Imperial0.55",{"$f":"C225*2*0.55","v":31790.000000000004},{"$f":"D225*2*0.55","v":36300},40865,45375.000000000007,49005.000000000007,52635.000000000007,56265.000000000007,59895.000000000007,{"$f":"TRUNC(C226/12*0.3)","v":794},{"$f":"TRUNC((C226+D226)/2/12*0.3)","v":851},{"$f":"TRUNC((E226)/12*0.3)","v":1021},{"$f":"TRUNC(((F226+G226)/2)/12*0.3)","v":1179},{"$f":"TRUNC(H226/12*0.3)","v":1315},{"$f":"TRUNC(((I226+J226)/2)/12*0.3)","v":1452}]
["Imperial","Imperial0.6",{"$f":"C225*2*0.6","v":34680},{"$f":"D225*2*0.6","v":39600},44580,49500,53460,57420,61380,65340,867,928,1114,1287,1435,1584]
["Imperial","Imperial0.65",{"$f":"C225*2*0.65","v":37570},{"$f":"D225*2*0.65","v":42900},48295,53625,57915,62205,66495,70785,939,1005,1207,1394,1555,1716]
["Imperial","Imperial0.7",{"$f":"C225*2*0.7","v":40460},{"$f":"D225*2*0.7","v":46200},52010,57749.999999999993,62369.999999999993,66990,71610,76230,1011,1083,1300,1501,1674,1848]
["Imperial","Imperial0.75",{"$f":"C225*2*0.75","v":43350},{"$f":"D225*2*0.75","v":49500},55725,61875,66825,71775,76725,81675,1083,1160,1393,1608,1794,1980]
["Imperial","Imperial0.8",{"$f":"C225*2*0.8","v":46240},{"$f":"D225*2*0.8","v":52800},59440,66000,71280,76560,81840,87120,1156,1238,1486,1716,1914,2112]
["Imperial","Imperial0.9",{"$f":"C225*2*0.9","v":52020},{"$f":"D225*2*0.9","v":59400},66870,74250,80190,86130,92070,98010,1300,1392,1671,1930,2153,2376]
["Imperial","Imperial1",{"$f":"C225*2","v":57800},{"$f":"D225*2","v":66000},74300,82500,89100,95700,102300,108900,{"$f":"K225*2","v":1444},{"$f":"L225*2","v":1546},1856,2144,2392,2640]
["Imperial","Imperial1.1",{"$f":"C225*2*1.1","v":63580.000000000007},{"$f":"D225*2*1.1","v":72600},81730,90750.000000000015,98010.000000000015,105270.00000000001,112530.00000000001,119790.00000000001,{"$f":"TRUNC(C234/12*0.3)","v":1589},{"$f":"TRUNC((C234+D234)/2/12*0.3)","v":1702},{"$f":"TRUNC((E234)/12*0.3)","v":2043},{"$f":"TRUNC(((F234+G234)/2)/12*0.3)","v":2359},{"$f":"TRUNC(H234/12*0.3)","v":2631},{"$f":"TRUNC(((I234+J234)/2)/12*0.3)","v":2904}]
["Imperial","Imperial1.2",{"$f":"C225*2*1.2","v":69360},{"$f":"D225*2*1.2","v":79200},89160,99000,106920,114840,122760,130680,1734,1857,2229,2574,2871,3168]
["Inyo","Inyo0.15",{"$f":"C243*2*0.15","v":8970},{"$f":"D243*2*0.15","v":10260},{"$f":"E243*2*0.15","v":11535},{"$f":"F243*2*0.15","v":12810},{"$f":"G243*2*0.15","v":13845},{"$f":"H243*2*0.15","v":14865},15885,16920,224,240,288,333,371,410]
["Inyo","Inyo0.2",{"$f":"C243*2*0.2","v":11960},{"$f":"D243*2*0.2","v":13680},15380,17080,18460,19820,21180,22560,299,320,384,444,495,546]
["Inyo","Inyo0.25",{"$f":"C243*2*0.25","v":14950},{"$f":"D243*2*0.25","v":17100},19225,21350,23075,24775,26475,28200,373,400,480,555,619,683]
["Inyo","Inyo0.3",{"$f":"C243*2*0.3","v":17940},{"$f":"D243*2*0.3","v":20520},23070,25620,27690,29730,31770,33840,448,480,576,666,743,820]
["Inyo","Inyo0.35",{"$f":"C243*2*0.35","v":20930},{"$f":"D243*2*0.35","v":23940},26915,29889.999999999996,32304.999999999996,34685,37065,39480,523,560,672,777,867,956]
["Inyo","Inyo0.4",{"$f":"C243*2*0.4","v":23920},{"$f":"D243*2*0.4","v":27360},30760,34160,36920,39640,42360,45120,598,641,769,888,991,1093]
["Inyo","Inyo0.45",{"$f":"C243*2*0.45","v":26910},{"$f":"D243*2*0.45","v":30780},34605,38430,41535,44595,47655,50760,672,721,865,999,1114,1230]
["Inyo","Inyo0.5",{"$f":"VLOOKUP($A:$A,'Max Funds & Unit Mix'!$L$86:$T$144,2,FALSE)","v":29900},{"$f":"VLOOKUP($A:$A,'Max Funds & Unit Mix'!$L$86:$T$144,3,FALSE)","v":34200},{"$f":"VLOOKUP($A:$A,'Max Funds & Unit Mix'!$L$86:$T$144,4,FALSE)","v":38450},{"$f":"VLOOKUP($A:$A,'Max Funds & Unit Mix'!$L$86:$T$144,5,FALSE)","v":42700},{"$f":"VLOOKUP($A:$A,'Max Funds & Unit Mix'!$L$86:$T$144,6,FALSE)","v":46150},{"$f":"VLOOKUP($A:$A,'Max Funds & Unit Mix'!$L$86:$T$144,7,FALSE)","v":49550},{"$f":"VLOOKUP($A:$A,'Max Funds & Unit Mix'!$L$86:$T$144,8,FALSE)","v":52950},{"$f":"VLOOKUP($A:$A,'Max Funds & Unit Mix'!$L$86:$T$144,9,FALSE)","v":56400},{"$f":"TRUNC(C243/12*0.3)","v":747},{"$f":"TRUNC((C243+D243)/2/12*0.3)","v":801},{"$f":"TRUNC((E243)/12*0.3)","v":961},{"$f":"TRUNC(((F243+G243)/2)/12*0.3)","v":1110},{"$f":"TRUNC(H243/12*0.3)","v":1238},{"$f":"TRUNC(((I243+J243)/2)/12*0.3)","v":1366}]
["Inyo","Inyo0.55",{"$f":"C243*2*0.55","v":32890},{"$f":"D243*2*0.55","v":37620},42295,46970.000000000007,50765.000000000007,54505.000000000007,58245.000000000007,62040.000000000007,{"$f":"TRUNC(C244/12*0.3)","v":822},{"$f":"TRUNC((C244+D244)/2/12*0.3)","v":881},{"$f":"TRUNC((E244)/12*0.3)","v":1057},{"$f":"TRUNC(((F244+G244)/2)/12*0.3)","v":1221},{"$f":"TRUNC(H244/12*0.3)","v":1362},{"$f":"TRUNC(((I244+J244)/2)/12*0.3)","v":1503}]
["Inyo","Inyo0.6",{"$f":"C243*2*0.6","v":35880},{"$f":"D243*2*0.6","v":41040},46140,51240,55380,59460,63540,67680,897,961,1153,1332,1486,1640]
["Inyo","Inyo0.65",{"$f":"C243*2*0.65","v":38870},{"$f":"D243*2*0.65","v":44460},49985,55510,59995,64415,68835,73320,971,1041,1249,1443,1610,1776]
["Inyo","Inyo0.7",{"$f":"C243*2*0.7","v":41860},{"$f":"D243*2*0.7","v":47880},53830,59779.999999999993,64609.999999999993,69370,74130,78960,1046,1121,1345,1554,1734,1913]
["Inyo","Inyo0.75",{"$f":"C243*2*0.75","v":44850},{"$f":"D243*2*0.75","v":51300},57675,64050,69225,74325,79425,84600,1121,1201,1441,1665,1858,2050]
["Inyo","Inyo0.8",{"$f":"C243*2*0.8","v":47840},{"$f":"D243*2*0.8","v":54720},61520,68320,73840,79280,84720,90240,1196,1282,1538,1777,1982,2187]
["Inyo","Inyo0.9",{"$f":"C243*2*0.9","v":53820},{"$f":"D243*2*0.9","v":61560},69210,76860,83070,89190,95310,101520,1345,1442,1730,1999,2229,2460]
["Inyo","Inyo1",{"$f":"C243*2","v":59800},{"$f":"D243*2","v":68400},76900,85400,92300,99100,105900,112800,{"$f":"K243*2","v":1494},{"$f":"L243*2","v":1602},1922,2220,2476,2732]
["Inyo","Inyo1.1",{"$f":"C243*2*1.1","v":65780},{"$f":"D243*2*1.1","v":75240},84590,93940.000000000015,101530.00000000001,109010.00000000001,116490.00000000001,124080.00000000001,{"$f":"TRUNC(C252/12*0.3)","v":1644},{"$f":"TRUNC((C252+D252)/2/12*0.3)","v":1762},{"$f":"TRUNC((E252)/12*0.3)","v":2114},{"$f":"TRUNC(((F252+G252)/2)/12*0.3)","v":2443},{"$f":"TRUNC(H252/12*0.3)","v":2725},{"$f":"TRUNC(((I252+J252)/2)/12*0.3)","v":3007}]
["Inyo","Inyo1.2",{"$f":"C243*2*1.2","v":71760},{"$f":"D243*2*1.2","v":82080},92280,102480,110760,118920,127080,135360,1794,1923,2307,2665,2973,3280]
["Kern","Kern0.15",{"$f":"C261*2*0.15","v":8670},{"$f":"D261*2*0.15","v":9900},{"$f":"E261*2*0.15","v":11145},{"$f":"F261*2*0.15","v":12375},{"$f":"G261*2*0.15","v":13365},{"$f":"H261*2*0.15","v":14355},15345,16335,216,232,278,321,358,396]
["Kern","Kern0.2",{"$f":"C261*2*0.2","v":11560},{"$f":"D261*2*0.2","v":13200},14860,16500,17820,19140,20460,21780,289,309,371,429,478,528]
["Kern","Kern0.25",{"$f":"C261*2*0.25","v":14450},{"$f":"D261*2*0.25","v":16500},18575,20625,22275,23925,25575,27225,361,386,464,536,598,660]
["Kern","Kern0.3",{"$f":"C261*2*0.3","v":17340},{"$f":"D261*2*0.3","v":19800},22290,24750,26730,28710,30690,32670,433,464,557,643,717,792]
["Kern","Kern0.35",{"$f":"C261*2*0.35","v":20230},{"$f":"D261*2*0.35","v":23100},26005,28874.999999999996,31184.999999999996,33495,35805,38115,505,541,650,750,837,924]
["Kern","Kern0.4",{"$f":"C261*2*0.4","v":23120},{"$f":"D261*2*0.4","v":26400},29720,33000,35640,38280,40920,43560,578,619,743,858,957,1056]
["Kern","Kern0.45",{"$f":"C261*2*0.45","v":26010},{"$f":"D261*2*0.45","v":29700},33435,37125,40095,43065,46035,49005,650,696,835,965,1076,1188]
["Kern","Kern0.5",{"$f":"VLOOKUP($A:$A,'Max Funds & Unit Mix'!$L$86:$T$144,2,FALSE)","v":28900},{"$f":"VLOOKUP($A:$A,'Max Funds & Unit Mix'!$L$86:$T$144,3,FALSE)","v":33000},{"$f":"VLOOKUP($A:$A,'Max Funds & Unit Mix'!$L$86:$T$144,4,FALSE)","v":37150},{"$f":"VLOOKUP($A:$A,'Max Funds & Unit Mix'!$L$86:$T$144,5,FALSE)","v":41250},{"$f":"VLOOKUP($A:$A,'Max Funds & Unit Mix'!$L$86:$T$144,6,FALSE)","v":44550},{"$f":"VLOOKUP($A:$A,'Max Funds & Unit Mix'!$L$86:$T$144,7,FALSE)","v":47850},{"$f":"VLOOKUP($A:$A,'Max Funds & Unit Mix'!$L$86:$T$144,8,FALSE)","v":51150},{"$f":"VLOOKUP($A:$A,'Max Funds & Unit Mix'!$L$86:$T$144,9,FALSE)","v":54450},{"$f":"TRUNC(C261/12*0.3)","v":722},{"$f":"TRUNC((C261+D261)/2/12*0.3)","v":773},{"$f":"TRUNC((E261)/12*0.3)","v":928},{"$f":"TRUNC(((F261+G261)/2)/12*0.3)","v":1072},{"$f":"TRUNC(H261/12*0.3)","v":1196},{"$f":"TRUNC(((I261+J261)/2)/12*0.3)","v":1320}]
["Kern","Kern0.55",{"$f":"C261*2*0.55","v":31790.000000000004},{"$f":"D261*2*0.55","v":36300},40865,45375.000000000007,49005.000000000007,52635.000000000007,56265.000000000007,59895.000000000007,{"$f":"TRUNC(C262/12*0.3)","v":794},{"$f":"TRUNC((C262+D262)/2/12*0.3)","v":851},{"$f":"TRUNC((E262)/12*0.3)","v":1021},{"$f":"TRUNC(((F262+G262)/2)/12*0.3)","v":1179},{"$f":"TRUNC(H262/12*0.3)","v":1315},{"$f":"TRUNC(((I262+J262)/2)/12*0.3)","v":1452}]
["Kern","Kern0.6",{"$f":"C261*2*0.6","v":34680},{"$f":"D261*2*0.6","v":39600},44580,49500,53460,57420,61380,65340,867,928,1114,1287,1435,1584]
["Kern","Kern0.65",{"$f":"C261*2*0.65","v":37570},{"$f":"D261*2*0.65","v":42900},48295,53625,57915,62205,66495,70785,939,1005,1207,1394,1555,1716]
["Kern","Kern0.7",{"$f":"C261*2*0.7","v":40460},{"$f":"D261*2*0.7","v":46200},52010,57749.999999999993,62369.999999999993,66990,71610,76230,1011,1083,1300,1501,1674,1848]
["Kern","Kern0.75",{"$f":"C261*2*0.75","v":43350},{"$f":"D261*2*0.75","v":49500},55725,61875,66825,71775,76725,81675,1083,1160,1393,1608,1794,1980]
["Kern","Kern0.8",{"$f":"C261*2*0.8","v":46240},{"$f":"D261*2*0.8","v":52800},59440,66000,71280,76560,81840,87120,1156,1238,1486,1716,1914,2112]
["Kern","Kern0.9",{"$f":"C261*2*0.9","v":52020},{"$f":"D261*2*0.9","v":59400},66870,74250,80190,86130,92070,98010,1300,1392,1671,1930,2153,2376]
["Kern","Kern1",{"$f":"C261*2","v":57800},{"$f":"D261*2","v":66000},74300,82500,89100,95700,102300,108900,{"$f":"K261*2","v":1444},{"$f":"L261*2","v":1546},1856,2144,2392,2640]
["Kern","Kern1.1",{"$f":"C261*2*1.1","v":63580.000000000007},{"$f":"D261*2*1.1","v":72600},81730,90750.000000000015,98010.000000000015,105270.00000000001,112530.00000000001,119790.00000000001,{"$f":"TRUNC(C270/12*0.3)","v":1589},{"$f":"TRUNC((C270+D270)/2/12*0.3)","v":1702},{"$f":"TRUNC((E270)/12*0.3)","v":2043},{"$f":"TRUNC(((F270+G270)/2)/12*0.3)","v":2359},{"$f":"TRUNC(H270/12*0.3)","v":2631},{"$f":"TRUNC(((I270+J270)/2)/12*0.3)","v":2904}]
["Kern","Kern1.2",{"$f":"C261*2*1.2","v":69360},{"$f":"D261*2*1.2","v":79200},89160,99000,106920,114840,122760,130680,1734,1857,2229,2574,2871,3168]
["Kings","Kings0.15",{"$f":"C279*2*0.15","v":8670},{"$f":"D279*2*0.15","v":9900},{"$f":"E279*2*0.15","v":11145},{"$f":"F279*2*0.15","v":12375},{"$f":"G279*2*0.15","v":13365},{"$f":"H279*2*0.15","v":14355},15345,16335,216,232,278,321,358,396]
["Kings","Kings0.2",{"$f":"C279*2*0.2","v":11560},{"$f":"D279*2*0.2","v":13200},14860,16500,17820,19140,20460,21780,289,309,371,429,478,528]
["Kings","Kings0.25",{"$f":"C279*2*0.25","v":14450},{"$f":"D279*2*0.25","v":16500},18575,20625,22275,23925,25575,27225,361,386,464,536,598,660]
["Kings","Kings0.3",{"$f":"C279*2*0.3","v":17340},{"$f":"D279*2*0.3","v":19800},22290,24750,26730,28710,30690,32670,433,464,557,643,717,792]
["Kings","Kings0.35",{"$f":"C279*2*0.35","v":20230},{"$f":"D279*2*0.35","v":23100},26005,28874.999999999996,31184.999999999996,33495,35805,38115,505,541,650,750,837,924]
["Kings","Kings0.4",{"$f":"C279*2*0.4","v":23120},{"$f":"D279*2*0.4","v":26400},29720,33000,35640,38280,40920,43560,578,619,743,858,957,1056]
["Kings","Kings0.45",{"$f":"C279*2*0.45","v":26010},{"$f":"D279*2*0.45","v":29700},33435,37125,40095,43065,46035,49005,650,696,835,965,1076,1188]
["Kings","Kings0.5",{"$f":"VLOOKUP($A:$A,'Max Funds & Unit Mix'!$L$86:$T$144,2,FALSE)","v":28900},{"$f":"VLOOKUP($A:$A,'Max Funds & Unit Mix'!$L$86:$T$144,3,FALSE)","v":33000},{"$f":"VLOOKUP($A:$A,'Max Funds & Unit Mix'!$L$86:$T$144,4,FALSE)","v":37150},{"$f":"VLOOKUP($A:$A,'Max Funds & Unit Mix'!$L$86:$T$144,5,FALSE)","v":41250},{"$f":"VLOOKUP($A:$A,'Max Funds & Unit Mix'!$L$86:$T$144,6,FALSE)","v":44550},{"$f":"VLOOKUP($A:$A,'Max Funds & Unit Mix'!$L$86:$T$144,7,FALSE)","v":47850},{"$f":"VLOOKUP($A:$A,'Max Funds & Unit Mix'!$L$86:$T$144,8,FALSE)","v":51150},{"$f":"VLOOKUP($A:$A,'Max Funds & Unit Mix'!$L$86:$T$144,9,FALSE)","v":54450},{"$f":"TRUNC(C279/12*0.3)","v":722},{"$f":"TRUNC((C279+D279)/2/12*0.3)","v":773},{"$f":"TRUNC((E279)/12*0.3)","v":928},{"$f":"TRUNC(((F279+G279)/2)/12*0.3)","v":1072},{"$f":"TRUNC(H279/12*0.3)","v":1196},{"$f":"TRUNC(((I279+J279)/2)/12*0.3)","v":1320}]
["Kings","Kings0.55",{"$f":"C279*2*0.55","v":31790.000000000004},{"$f":"D279*2*0.55","v":36300},40865,45375.000000000007,49005.000000000007,52635.000000000007,56265.000000000007,59895.000000000007,{"$f":"TRUNC(C280/12*0.3)","v":794},{"$f":"TRUNC((C280+D280)/2/12*0.3)","v":851},{"$f":"TRUNC((E280)/12*0.3)","v":1021},{"$f":"TRUNC(((F280+G280)/2)/12*0.3)","v":1179},{"$f":"TRUNC(H280/12*0.3)","v":1315},{"$f":"TRUNC(((I280+J280)/2)/12*0.3)","v":1452}]
["Kings","Kings0.6",{"$f":"C279*2*0.6","v":34680},{"$f":"D279*2*0.6","v":39600},44580,49500,53460,57420,61380,65340,867,928,1114,1287,1435,1584]
["Kings","Kings0.65",{"$f":"C279*2*0.65","v":37570},{"$f":"D279*2*0.65","v":42900},48295,53625,57915,62205,66495,70785,939,1005,1207,1394,1555,1716]
["Kings","Kings0.7",{"$f":"C279*2*0.7","v":40460},{"$f":"D279*2*0.7","v":46200},52010,57749.999999999993,62369.999999999993,66990,71610,76230,1011,1083,1300,1501,1674,1848]
["Kings","Kings0.75",{"$f":"C279*2*0.75","v":43350},{"$f":"D279*2*0.75","v":49500},55725,61875,66825,71775,76725,81675,1083,1160,1393,1608,1794,1980]
["Kings","Kings0.8",{"$f":"C279*2*0.8","v":46240},{"$f":"D279*2*0.8","v":52800},59440,66000,71280,76560,81840,87120,1156,1238,1486,1716,1914,2112]
["Kings","Kings0.9",{"$f":"C279*2*0.9","v":52020},{"$f":"D279*2*0.9","v":59400},66870,74250,80190,86130,92070,98010,1300,1392,1671,1930,2153,2376]
["Kings","Kings1",{"$f":"C279*2","v":57800},{"$f":"D279*2","v":66000},74300,82500,89100,95700,102300,108900,{"$f":"K279*2","v":1444},{"$f":"L279*2","v":1546},1856,2144,2392,2640]
["Kings","Kings1.1",{"$f":"C279*2*1.1","v":63580.000000000007},{"$f":"D279*2*1.1","v":72600},81730,90750.000000000015,98010.000000000015,105270.00000000001,112530.00000000001,119790.00000000001,{"$f":"TRUNC(C288/12*0.3)","v":1589},{"$f":"TRUNC((C288+D288)/2/12*0.3)","v":1702},{"$f":"TRUNC((E288)/12*0.3)","v":2043},{"$f":"TRUNC(((F288+G288)/2)/12*0.3)","v":2359},{"$f":"TRUNC(H288/12*0.3)","v":2631},{"$f":"TRUNC(((I288+J288)/2)/12*0.3)","v":2904}]
["Kings","Kings1.2",{"$f":"C279*2*1.2","v":69360},{"$f":"D279*2*1.2","v":79200},89160,99000,106920,114840,122760,130680,1734,1857,2229,2574,2871,3168]
["Lake","Lake0.15",{"$f":"C297*2*0.15","v":8670},{"$f":"D297*2*0.15","v":9900},{"$f":"E297*2*0.15","v":11145},{"$f":"F297*2*0.15","v":12375},{"$f":"G297*2*0.15","v":13365},{"$f":"H297*2*0.15","v":14355},15345,16335,216,232,278,321,358,396]
["Lake","Lake0.2",{"$f":"C297*2*0.2","v":11560},{"$f":"D297*2*0.2","v":13200},14860,16500,17820,19140,20460,21780,289,309,371,429,478,528]
["Lake","Lake0.25",{"$f":"C297*2*0.25","v":14450},{"$f":"D297*2*0.25","v":16500},18575,20625,22275,23925,25575,27225,361,386,464,536,598,660]
["Lake","Lake0.3",{"$f":"C297*2*0.3","v":17340},{"$f":"D297*2*0.3","v":19800},22290,24750,26730,28710,30690,32670,433,464,557,643,717,792]
["Lake","Lake0.35",{"$f":"C297*2*0.35","v":20230},{"$f":"D297*2*0.35","v":23100},26005,28874.999999999996,31184.999999999996,33495,35805,38115,505,541,650,750,837,924]
["Lake","Lake0.4",{"$f":"C297*2*0.4","v":23120},{"$f":"D297*2*0.4","v":26400},29720,33000,35640,38280,40920,43560,578,619,743,858,957,1056]
["Lake","Lake0.45",{"$f":"C297*2*0.45","v":26010},{"$f":"D297*2*0.45","v":29700},33435,37125,40095,43065,46035,49005,650,696,835,965,1076,1188]
["Lake","Lake0.5",{"$f":"VLOOKUP($A:$A,'Max Funds & Unit Mix'!$L$86:$T$144,2,FALSE)","v":28900},{"$f":"VLOOKUP($A:$A,'Max Funds & Unit Mix'!$L$86:$T$144,3,FALSE)","v":33000},{"$f":"VLOOKUP($A:$A,'Max Funds & Unit Mix'!$L$86:$T$144,4,FALSE)","v":37150},{"$f":"VLOOKUP($A:$A,'Max Funds & Unit Mix'!$L$86:$T$144,5,FALSE)","v":41250},{"$f":"VLOOKUP($A:$A,'Max Funds & Unit Mix'!$L$86:$T$144,6,FALSE)","v":44550},{"$f":"VLOOKUP($A:$A,'Max Funds & Unit Mix'!$L$86:$T$144,7,FALSE)","v":47850},{"$f":"VLOOKUP($A:$A,'Max Funds & Unit Mix'!$L$86:$T$144,8,FALSE)","v":51150},{"$f":"VLOOKUP($A:$A,'Max Funds & Unit Mix'!$L$86:$T$144,9,FALSE)","v":54450},{"$f":"TRUNC(C297/12*0.3)","v":722},{"$f":"TRUNC((C297+D297)/2/12*0.3)","v":773},{"$f":"TRUNC((E297)/12*0.3)","v":928},{"$f":"TRUNC(((F297+G297)/2)/12*0.3)","v":1072},{"$f":"TRUNC(H297/12*0.3)","v":1196},{"$f":"TRUNC(((I297+J297)/2)/12*0.3)","v":1320}]
["Lake","Lake0.55",{"$f":"C297*2*0.55","v":31790.000000000004},{"$f":"D297*2*0.55","v":36300},40865,45375.000000000007,49005.000000000007,52635.000000000007,56265.000000000007,59895.000000000007,{"$f":"TRUNC(C298/12*0.3)","v":794},{"$f":"TRUNC((C298+D298)/2/12*0.3)","v":851},{"$f":"TRUNC((E298)/12*0.3)","v":1021},{"$f":"TRUNC(((F298+G298)/2)/12*0.3)","v":1179},{"$f":"TRUNC(H298/12*0.3)","v":1315},{"$f":"TRUNC(((I298+J298)/2)/12*0.3)","v":1452}]
["Lake","Lake0.6",{"$f":"C297*2*0.6","v":34680},{"$f":"D297*2*0.6","v":39600},44580,49500,53460,57420,61380,65340,867,928,1114,1287,1435,1584]
["Lake","Lake0.65",{"$f":"C297*2*0.65","v":37570},{"$f":"D297*2*0.65","v":42900},48295,53625,57915,62205,66495,70785,939,1005,1207,1394,1555,1716]
["Lake","Lake0.7",{"$f":"C297*2*0.7","v":40460},{"$f":"D297*2*0.7","v":46200},52010,57749.999999999993,62369.999999999993,66990,71610,76230,1011,1083,1300,1501,1674,1848]
["Lake","Lake0.75",{"$f":"C297*2*0.75","v":43350},{"$f":"D297*2*0.75","v":49500},55725,61875,66825,71775,76725,81675,1083,1160,1393,1608,1794,1980]
["Lake","Lake0.8",{"$f":"C297*2*0.8","v":46240},{"$f":"D297*2*0.8","v":52800},59440,66000,71280,76560,81840,87120,1156,1238,1486,1716,1914,2112]
["Lake","Lake0.9",{"$f":"C297*2*0.9","v":52020},{"$f":"D297*2*0.9","v":59400},66870,74250,80190,86130,92070,98010,1300,1392,1671,1930,2153,2376]
["Lake","Lake1",{"$f":"C297*2","v":57800},{"$f":"D297*2","v":66000},74300,82500,89100,95700,102300,108900,{"$f":"K297*2","v":1444},{"$f":"L297*2","v":1546},1856,2144,2392,2640]
["Lake","Lake1.1",{"$f":"C297*2*1.1","v":63580.000000000007},{"$f":"D297*2*1.1","v":72600},81730,90750.000000000015,98010.000000000015,105270.00000000001,112530.00000000001,119790.00000000001,{"$f":"TRUNC(C306/12*0.3)","v":1589},{"$f":"TRUNC((C306+D306)/2/12*0.3)","v":1702},{"$f":"TRUNC((E306)/12*0.3)","v":2043},{"$f":"TRUNC(((F306+G306)/2)/12*0.3)","v":2359},{"$f":"TRUNC(H306/12*0.3)","v":2631},{"$f":"TRUNC(((I306+J306)/2)/12*0.3)","v":2904}]
["Lake","Lake1.2",{"$f":"C297*2*1.2","v":69360},{"$f":"D297*2*1.2","v":79200},89160,99000,106920,114840,122760,130680,1734,1857,2229,2574,2871,3168]
["Lassen","Lassen0.15",{"$f":"C315*2*0.15","v":8805},{"$f":"D315*2*0.15","v":10065},{"$f":"E315*2*0.15","v":11325},{"$f":"F315*2*0.15","v":12570},{"$f":"G315*2*0.15","v":13590},{"$f":"H315*2*0.15","v":14595},15600,16605,220,235,283,327,364,402]
["Lassen","Lassen0.2",{"$f":"C315*2*0.2","v":11740},{"$f":"D315*2*0.2","v":13420},15100,16760,18120,19460,20800,22140,293,314,377,436,486,536]
["Lassen","Lassen0.25",{"$f":"C315*2*0.25","v":14675},{"$f":"D315*2*0.25","v":16775},18875,20950,22650,24325,26000,27675,366,393,471,545,608,670]
["Lassen","Lassen0.3",{"$f":"C315*2*0.3","v":17610},{"$f":"D315*2*0.3","v":20130},22650,25140,27180,29190,31200,33210,440,471,566,654,729,805]
["Lassen","Lassen0.35",{"$f":"C315*2*0.35","v":20545},{"$f":"D315*2*0.35","v":23485},26425,29329.999999999996,31709.999999999996,34055,36400,38745,513,550,660,763,851,939]
["Lassen","Lassen0.4",{"$f":"C315*2*0.4","v":23480},{"$f":"D315*2*0.4","v":26840},30200,33520,36240,38920,41600,44280,587,629,755,872,973,1073]
["Lassen","Lassen0.45",{"$f":"C315*2*0.45","v":26415},{"$f":"D315*2*0.45","v":30195},33975,37710,40770,43785,46800,49815,660,707,849,981,1094,1207]
["Lassen","Lassen0.5",{"$f":"VLOOKUP($A:$A,'Max Funds & Unit Mix'!$L$86:$T$144,2,FALSE)","v":29350},{"$f":"VLOOKUP($A:$A,'Max Funds & Unit Mix'!$L$86:$T$144,3,FALSE)","v":33550},{"$f":"VLOOKUP($A:$A,'Max Funds & Unit Mix'!$L$86:$T$144,4,FALSE)","v":37750},{"$f":"VLOOKUP($A:$A,'Max Funds & Unit Mix'!$L$86:$T$144,5,FALSE)","v":41900},{"$f":"VLOOKUP($A:$A,'Max Funds & Unit Mix'!$L$86:$T$144,6,FALSE)","v":45300},{"$f":"VLOOKUP($A:$A,'Max Funds & Unit Mix'!$L$86:$T$144,7,FALSE)","v":48650},{"$f":"VLOOKUP($A:$A,'Max Funds & Unit Mix'!$L$86:$T$144,8,FALSE)","v":52000},{"$f":"VLOOKUP($A:$A,'Max Funds & Unit Mix'!$L$86:$T$144,9,FALSE)","v":55350},{"$f":"TRUNC(C315/12*0.3)","v":733},{"$f":"TRUNC((C315+D315)/2/12*0.3)","v":786},{"$f":"TRUNC((E315)/12*0.3)","v":943},{"$f":"TRUNC(((F315+G315)/2)/12*0.3)","v":1090},{"$f":"TRUNC(H315/12*0.3)","v":1216},{"$f":"TRUNC(((I315+J315)/2)/12*0.3)","v":1341}]
["Lassen","Lassen0.55",{"$f":"C315*2*0.55","v":32285.000000000004},{"$f":"D315*2*0.55","v":36905},41525,46090.000000000007,49830.000000000007,53515.000000000007,57200.000000000007,60885.000000000007,{"$f":"TRUNC(C316/12*0.3)","v":807},{"$f":"TRUNC((C316+D316)/2/12*0.3)","v":864},{"$f":"TRUNC((E316)/12*0.3)","v":1038},{"$f":"TRUNC(((F316+G316)/2)/12*0.3)","v":1199},{"$f":"TRUNC(H316/12*0.3)","v":1337},{"$f":"TRUNC(((I316+J316)/2)/12*0.3)","v":1476}]
["Lassen","Lassen0.6",{"$f":"C315*2*0.6","v":35220},{"$f":"D315*2*0.6","v":40260},45300,50280,54360,58380,62400,66420,880,943,1132,1308,1459,1610]
["Lassen","Lassen0.65",{"$f":"C315*2*0.65","v":38155},{"$f":"D315*2*0.65","v":43615},49075,54470,58890,63245,67600,71955,953,1022,1226,1417,1581,1744]
["Lassen","Lassen0.7",{"$f":"C315*2*0.7","v":41090},{"$f":"D315*2*0.7","v":46970},52850,58659.999999999993,63419.999999999993,68110,72800,77490,1027,1100,1321,1526,1702,1878]
["Lassen","Lassen0.75",{"$f":"C315*2*0.75","v":44025},{"$f":"D315*2*0.75","v":50325},56625,62850,67950,72975,78000,83025,1100,1179,1415,1635,1824,2012]
["Lassen","Lassen0.8",{"$f":"C315*2*0.8","v":46960},{"$f":"D315*2*0.8","v":53680},60400,67040,72480,77840,83200,88560,1174,1258,1510,1744,1946,2147]
["Lassen","Lassen0.9",{"$f":"C315*2*0.9","v":52830},{"$f":"D315*2*0.9","v":60390},67950,75420,81540,87570,93600,99630,1320,1415,1698,1962,2189,2415]
["Lassen","Lassen1",{"$f":"C315*2","v":58700},{"$f":"D315*2","v":67100},75500,83800,90600,97300,104000,110700,{"$f":"K315*2","v":1466},{"$f":"L315*2","v":1572},1886,2180,2432,2682]
["Lassen","Lassen1.1",{"$f":"C315*2*1.1","v":64570.000000000007},{"$f":"D315*2*1.1","v":73810},83050,92180.000000000015,99660.000000000015,107030.00000000001,114400.00000000001,121770.00000000001,{"$f":"TRUNC(C324/12*0.3)","v":1614},{"$f":"TRUNC((C324+D324)/2/12*0.3)","v":1729},{"$f":"TRUNC((E324)/12*0.3)","v":2076},{"$f":"TRUNC(((F324+G324)/2)/12*0.3)","v":2398},{"$f":"TRUNC(H324/12*0.3)","v":2675},{"$f":"TRUNC(((I324+J324)/2)/12*0.3)","v":2952}]
["Lassen","Lassen1.2",{"$f":"C315*2*1.2","v":70440},{"$f":"D315*2*1.2","v":80520},90600,100560,108720,116760,124800,132840,1761,1887,2265,2616,2919,3220]
["Los Angeles","Los Angeles0.15",{"$f":"C333*2*0.15","v":13245},{"$f":"D333*2*0.15","v":15135},{"$f":"E333*2*0.15","v":17025},{"$f":"F333*2*0.15","v":18915},{"$f":"G333*2*0.15","v":20430},{"$f":"H333*2*0.15","v":21945},23460,24975,331,354,425,491,548,605]
["Los Angeles","Los Angeles0.2",{"$f":"C333*2*0.2","v":17660},{"$f":"D333*2*0.2","v":20180},22700,25220,27240,29260,31280,33300,441,473,567,655,731,807]
["Los Angeles","Los Angeles0.25",{"$f":"C333*2*0.25","v":22075},{"$f":"D333*2*0.25","v":25225},28375,31525,34050,36575,39100,41625,551,591,709,819,914,1009]
["Los Angeles","Los Angeles0.3",{"$f":"C333*2*0.3","v":26490},{"$f":"D333*2*0.3","v":30270},34050,37830,40860,43890,46920,49950,662,709,851,983,1097,1210]
["Los Angeles","Los Angeles0.35",{"$f":"C333*2*0.35","v":30904.999999999996},{"$f":"D333*2*0.35","v":35315},39725,44135,47670,51205,54740,58274.999999999993,772,827,993,1147,1280,1412]
["Los Angeles","Los Angeles0.4",{"$f":"C333*2*0.4","v":35320},{"$f":"D333*2*0.4","v":40360},45400,50440,54480,58520,62560,66600,883,946,1135,1311,1463,1614]
["Los Angeles","Los Angeles0.45",{"$f":"C333*2*0.45","v":39735},{"$f":"D333*2*0.45","v":45405},51075,56745,61290,65835,70380,74925,993,1064,1276,1475,1645,1816]
["Los Angeles","Los Angeles0.5",{"$f":"VLOOKUP($A:$A,'Max Funds & Unit Mix'!$L$86:$T$144,2,FALSE)","v":44150},{"$f":"VLOOKUP($A:$A,'Max Funds & Unit Mix'!$L$86:$T$144,3,FALSE)","v":50450},{"$f":"VLOOKUP($A:$A,'Max Funds & Unit Mix'!$L$86:$T$144,4,FALSE)","v":56750},{"$f":"VLOOKUP($A:$A,'Max Funds & Unit Mix'!$L$86:$T$144,5,FALSE)","v":63050},{"$f":"VLOOKUP($A:$A,'Max Funds & Unit Mix'!$L$86:$T$144,6,FALSE)","v":68100},{"$f":"VLOOKUP($A:$A,'Max Funds & Unit Mix'!$L$86:$T$144,7,FALSE)","v":73150},{"$f":"VLOOKUP($A:$A,'Max Funds & Unit Mix'!$L$86:$T$144,8,FALSE)","v":78200},{"$f":"VLOOKUP($A:$A,'Max Funds & Unit Mix'!$L$86:$T$144,9,FALSE)","v":83250},{"$f":"TRUNC(C333/12*0.3)","v":1103},{"$f":"TRUNC((C333+D333)/2/12*0.3)","v":1182},{"$f":"TRUNC((E333)/12*0.3)","v":1418},{"$f":"TRUNC(((F333+G333)/2)/12*0.3)","v":1639},{"$f":"TRUNC(H333/12*0.3)","v":1828},{"$f":"TRUNC(((I333+J333)/2)/12*0.3)","v":2018}]
["Los Angeles","Los Angeles0.55",{"$f":"C333*2*0.55","v":48565.000000000007},{"$f":"D333*2*0.55","v":55495.000000000007},62425.000000000007,69355,74910,80465,86020,91575.000000000015,{"$f":"TRUNC(C334/12*0.3)","v":1214},{"$f":"TRUNC((C334+D334)/2/12*0.3)","v":1300},{"$f":"TRUNC((E334)/12*0.3)","v":1560},{"$f":"TRUNC(((F334+G334)/2)/12*0.3)","v":1803},{"$f":"TRUNC(H334/12*0.3)","v":2011},{"$f":"TRUNC(((I334+J334)/2)/12*0.3)","v":2219}]
["Los Angeles","Los Angeles0.6",{"$f":"C333*2*0.6","v":52980},{"$f":"D333*2*0.6","v":60540},68100,75660,81720,87780,93840,99900,1324,1419,1702,1967,2194,2421]
["Los Angeles","Los Angeles0.65",{"$f":"C333*2*0.65","v":57395},{"$f":"D333*2*0.65","v":65585},73775,81965,88530,95095,101660,108225,1434,1537,1844,2131,2377,2623]
["Los Angeles","Los Angeles0.7",{"$f":"C333*2*0.7","v":61809.999999999993},{"$f":"D333*2*0.7","v":70630},79450,88270,95340,102410,109480,116549.99999999999,1545,1655,1986,2295,2560,2825]
["Los Angeles","Los Angeles0.75",{"$f":"C333*2*0.75","v":66225},{"$f":"D333*2*0.75","v":75675},85125,94575,102150,109725,117300,124875,1655,1773,2128,2459,2743,3027]
["Los Angeles","Los Angeles0.8",{"$f":"C333*2*0.8","v":70640},{"$f":"D333*2*0.8","v":80720},90800,100880,108960,117040,125120,133200,1766,1892,2270,2623,2926,3229]
["Los Angeles","Los Angeles0.9",{"$f":"C333*2*0.9","v":79470},{"$f":"D333*2*0.9","v":90810},102150,113490,122580,131670,140760,149850,1986,2128,2553,2950,3291,3632]
["Los Angeles","Los Angeles1",{"$f":"C333*2","v":88300},{"$f":"D333*2","v":100900},113500,126100,136200,146300,156400,166500,{"$f":"K333*2","v":2206},{"$f":"L333*2","v":2364},2836,3278,3656,4036]
["Los Angeles","Los Angeles1.1",{"$f":"C333*2*1.1","v":97130.000000000015},{"$f":"D333*2*1.1","v":110990.00000000001},124850.00000000001,138710,149820,160930,172040,183150.00000000003,{"$f":"TRUNC(C342/12*0.3)","v":2428},{"$f":"TRUNC((C342+D342)/2/12*0.3)","v":2601},{"$f":"TRUNC((E342)/12*0.3)","v":3121},{"$f":"TRUNC(((F342+G342)/2)/12*0.3)","v":3606},{"$f":"TRUNC(H342/12*0.3)","v":4023},{"$f":"TRUNC(((I342+J342)/2)/12*0.3)","v":4439}]
["Los Angeles","Los Angeles1.2",{"$f":"C333*2*1.2","v":105960},{"$f":"D333*2*1.2","v":121080},136200,151320,163440,175560,187680,199800,2649,2838,3405,3934,4389,4843]
["Madera","Madera0.15",{"$f":"C351*2*0.15","v":8670},{"$f":"D351*2*0.15","v":9900},{"$f":"E351*2*0.15","v":11145},{"$f":"F351*2*0.15","v":12375},{"$f":"G351*2*0.15","v":13365},{"$f":"H351*2*0.15","v":14355},15345,16335,216,232,278,321,358,396]
["Madera","Madera0.2",{"$f":"C351*2*0.2","v":11560},{"$f":"D351*2*0.2","v":13200},14860,16500,17820,19140,20460,21780,289,309,371,429,478,528]
["Madera","Madera0.25",{"$f":"C351*2*0.25","v":14450},{"$f":"D351*2*0.25","v":16500},18575,20625,22275,23925,25575,27225,361,386,464,536,598,660]
["Madera","Madera0.3",{"$f":"C351*2*0.3","v":17340},{"$f":"D351*2*0.3","v":19800},22290,24750,26730,28710,30690,32670,433,464,557,643,717,792]
["Madera","Madera0.35",{"$f":"C351*2*0.35","v":20230},{"$f":"D351*2*0.35","v":23100},26005,28874.999999999996,31184.999999999996,33495,35805,38115,505,541,650,750,837,924]
["Madera","Madera0.4",{"$f":"C351*2*0.4","v":23120},{"$f":"D351*2*0.4","v":26400},29720,33000,35640,38280,40920,43560,578,619,743,858,957,1056]
["Madera","Madera0.45",{"$f":"C351*2*0.45","v":26010},{"$f":"D351*2*0.45","v":29700},33435,37125,40095,43065,46035,49005,650,696,835,965,1076,1188]
["Madera","Madera0.5",{"$f":"VLOOKUP($A:$A,'Max Funds & Unit Mix'!$L$86:$T$144,2,FALSE)","v":28900},{"$f":"VLOOKUP($A:$A,'Max Funds & Unit Mix'!$L$86:$T$144,3,FALSE)","v":33000},{"$f":"VLOOKUP($A:$A,'Max Funds & Unit Mix'!$L$86:$T$144,4,FALSE)","v":37150},{"$f":"VLOOKUP($A:$A,'Max Funds & Unit Mix'!$L$86:$T$144,5,FALSE)","v":41250},{"$f":"VLOOKUP($A:$A,'Max Funds & Unit Mix'!$L$86:$T$144,6,FALSE)","v":44550},{"$f":"VLOOKUP($A:$A,'Max Funds & Unit Mix'!$L$86:$T$144,7,FALSE)","v":47850},{"$f":"VLOOKUP($A:$A,'Max Funds & Unit Mix'!$L$86:$T$144,8,FALSE)","v":51150},{"$f":"VLOOKUP($A:$A,'Max Funds & Unit Mix'!$L$86:$T$144,9,FALSE)","v":54450},{"$f":"TRUNC(C351/12*0.3)","v":722},{"$f":"TRUNC((C351+D351)/2/12*0.3)","v":773},{"$f":"TRUNC((E351)/12*0.3)","v":928},{"$f":"TRUNC(((F351+G351)/2)/12*0.3)","v":1072},{"$f":"TRUNC(H351/12*0.3)","v":1196},{"$f":"TRUNC(((I351+J351)/2)/12*0.3)","v":1320}]
["Madera","Madera0.55",{"$f":"C351*2*0.55","v":31790.000000000004},{"$f":"D351*2*0.55","v":36300},40865,45375.000000000007,49005.000000000007,52635.000000000007,56265.000000000007,59895.000000000007,{"$f":"TRUNC(C352/12*0.3)","v":794},{"$f":"TRUNC((C352+D352)/2/12*0.3)","v":851},{"$f":"TRUNC((E352)/12*0.3)","v":1021},{"$f":"TRUNC(((F352+G352)/2)/12*0.3)","v":1179},{"$f":"TRUNC(H352/12*0.3)","v":1315},{"$f":"TRUNC(((I352+J352)/2)/12*0.3)","v":1452}]
["Madera","Madera0.6",{"$f":"C351*2*0.6","v":34680},{"$f":"D351*2*0.6","v":39600},44580,49500,53460,57420,61380,65340,867,928,1114,1287,1435,1584]
["Madera","Madera0.65",{"$f":"C351*2*0.65","v":37570},{"$f":"D351*2*0.65","v":42900},48295,53625,57915,62205,66495,70785,939,1005,1207,1394,1555,1716]
["Madera","Madera0.7",{"$f":"C351*2*0.7","v":40460},{"$f":"D351*2*0.7","v":46200},52010,57749.999999999993,62369.999999999993,66990,71610,76230,1011,1083,1300,1501,1674,1848]
["Madera","Madera0.75",{"$f":"C351*2*0.75","v":43350},{"$f":"D351*2*0.75","v":49500},55725,61875,66825,71775,76725,81675,1083,1160,1393,1608,1794,1980]
["Madera","Madera0.8",{"$f":"C351*2*0.8","v":46240},{"$f":"D351*2*0.8","v":52800},59440,66000,71280,76560,81840,87120,1156,1238,1486,1716,1914,2112]
["Madera","Madera0.9",{"$f":"C351*2*0.9","v":52020},{"$f":"D351*2*0.9","v":59400},66870,74250,80190,86130,92070,98010,1300,1392,1671,1930,2153,2376]
["Madera","Madera1",{"$f":"C351*2","v":57800},{"$f":"D351*2","v":66000},74300,82500,89100,95700,102300,108900,{"$f":"K351*2","v":1444},{"$f":"L351*2","v":1546},1856,2144,2392,2640]
["Madera","Madera1.1",{"$f":"C351*2*1.1","v":63580.000000000007},{"$f":"D351*2*1.1","v":72600},81730,90750.000000000015,98010.000000000015,105270.00000000001,112530.00000000001,119790.00000000001,{"$f":"TRUNC(C360/12*0.3)","v":1589},{"$f":"TRUNC((C360+D360)/2/12*0.3)","v":1702},{"$f":"TRUNC((E360)/12*0.3)","v":2043},{"$f":"TRUNC(((F360+G360)/2)/12*0.3)","v":2359},{"$f":"TRUNC(H360/12*0.3)","v":2631},{"$f":"TRUNC(((I360+J360)/2)/12*0.3)","v":2904}]
["Madera","Madera1.2",{"$f":"C351*2*1.2","v":69360},{"$f":"D351*2*1.2","v":79200},89160,99000,106920,114840,122760,130680,1734,1857,2229,2574,2871,3168]
["Marin","Marin0.15",{"$f":"C369*2*0.15","v":19515},{"$f":"D369*2*0.15","v":22305},{"$f":"E369*2*0.15","v":25095},{"$f":"F369*2*0.15","v":27870},{"$f":"G369*2*0.15","v":30105},{"$f":"H369*2*0.15","v":32340},34560,36795,487,522,627,724,808,891]
["Marin","Marin0.2",{"$f":"C369*2*0.2","v":26020},{"$f":"D369*2*0.2","v":29740},33460,37160,40140,43120,46080,49060,650,697,836,966,1078,1189]
["Marin","Marin0.25",{"$f":"C369*2*0.25","v":32525},{"$f":"D369*2*0.25","v":37175},41825,46450,50175,53900,57600,61325,813,871,1045,1207,1347,1486]
["Marin","Marin0.3",{"$f":"C369*2*0.3","v":39030},{"$f":"D369*2*0.3","v":44610},50190,55740,60210,64680,69120,73590,975,1045,1254,1449,1617,1783]
["Marin","Marin0.35",{"$f":"C369*2*0.35","v":45535},{"$f":"D369*2*0.35","v":52045},58554.999999999993,65029.999999999993,70245,75460,80640,85855,1138,1219,1463,1690,1886,2081]
["Marin","Marin0.4",{"$f":"C369*2*0.4","v":52040},{"$f":"D369*2*0.4","v":59480},66920,74320,80280,86240,92160,98120,1301,1394,1673,1932,2156,2378]
["Marin","Marin0.45",{"$f":"C369*2*0.45","v":58545},{"$f":"D369*2*0.45","v":66915},75285,83610,90315,97020,103680,110385,1463,1568,1882,2174,2425,2675]
["Marin","Marin0.5",{"$f":"VLOOKUP($A:$A,'Max Funds & Unit Mix'!$L$86:$T$144,2,FALSE)","v":65050},{"$f":"VLOOKUP($A:$A,'Max Funds & Unit Mix'!$L$86:$T$144,3,FALSE)","v":74350},{"$f":"VLOOKUP($A:$A,'Max Funds & Unit Mix'!$L$86:$T$144,4,FALSE)","v":83650},{"$f":"VLOOKUP($A:$A,'Max Funds & Unit Mix'!$L$86:$T$144,5,FALSE)","v":92900},{"$f":"VLOOKUP($A:$A,'Max Funds & Unit Mix'!$L$86:$T$144,6,FALSE)","v":100350},{"$f":"VLOOKUP($A:$A,'Max Funds & Unit Mix'!$L$86:$T$144,7,FALSE)","v":107800},{"$f":"VLOOKUP($A:$A,'Max Funds & Unit Mix'!$L$86:$T$144,8,FALSE)","v":115200},{"$f":"VLOOKUP($A:$A,'Max Funds & Unit Mix'!$L$86:$T$144,9,FALSE)","v":122650},{"$f":"TRUNC(C369/12*0.3)","v":1626},{"$f":"TRUNC((C369+D369)/2/12*0.3)","v":1742},{"$f":"TRUNC((E369)/12*0.3)","v":2091},{"$f":"TRUNC(((F369+G369)/2)/12*0.3)","v":2415},{"$f":"TRUNC(H369/12*0.3)","v":2695},{"$f":"TRUNC(((I369+J369)/2)/12*0.3)","v":2973}]
["Marin","Marin0.55",{"$f":"C369*2*0.55","v":71555},{"$f":"D369*2*0.55","v":81785},92015.000000000015,102190.00000000001,110385.00000000001,118580.00000000001,126720.00000000001,134915,{"$f":"TRUNC(C370/12*0.3)","v":1788},{"$f":"TRUNC((C370+D370)/2/12*0.3)","v":1916},{"$f":"TRUNC((E370)/12*0.3)","v":2300},{"$f":"TRUNC(((F370+G370)/2)/12*0.3)","v":2657},{"$f":"TRUNC(H370/12*0.3)","v":2964},{"$f":"TRUNC(((I370+J370)/2)/12*0.3)","v":3270}]
["Marin","Marin0.6",{"$f":"C369*2*0.6","v":78060},{"$f":"D369*2*0.6","v":89220},100380,111480,120420,129360,138240,147180,1951,2091,2509,2898,3234,3567]
["Marin","Marin0.65",{"$f":"C369*2*0.65","v":84565},{"$f":"D369*2*0.65","v":96655},108745,120770,130455,140140,149760,159445,2114,2265,2718,3140,3503,3865]
["Marin","Marin0.7",{"$f":"C369*2*0.7","v":91070},{"$f":"D369*2*0.7","v":104090},117109.99999999999,130059.99999999999,140490,150920,161280,171710,2276,2439,2927,3381,3773,4162]
["Marin","Marin0.75",{"$f":"C369*2*0.75","v":97575},{"$f":"D369*2*0.75","v":111525},125475,139350,150525,161700,172800,183975,2439,2613,3136,3623,4042,4459]
["Marin","Marin0.8",{"$f":"C369*2*0.8","v":104080},{"$f":"D369*2*0.8","v":118960},133840,148640,160560,172480,184320,196240,2602,2788,3346,3865,4312,4757]
["Marin","Marin0.9",{"$f":"C369*2*0.9","v":117090},{"$f":"D369*2*0.9","v":133830},150570,167220,180630,194040,207360,220770,2927,3136,3764,4348,4851,5351]
["Marin","Marin1",{"$f":"C369*2","v":130100},{"$f":"D369*2","v":148700},167300,185800,200700,215600,230400,245300,{"$f":"K369*2","v":3252},{"$f":"L369*2","v":3484},4182,4830,5390,5946]
["Marin","Marin1.1",{"$f":"C369*2*1.1","v":143110},{"$f":"D369*2*1.1","v":163570},184030.00000000003,204380.00000000003,220770.00000000003,237160.00000000003,253440.00000000003,269830,{"$f":"TRUNC(C378/12*0.3)","v":3577},{"$f":"TRUNC((C378+D378)/2/12*0.3)","v":3833},{"$f":"TRUNC((E378)/12*0.3)","v":4600},{"$f":"TRUNC(((F378+G378)/2)/12*0.3)","v":5314},{"$f":"TRUNC(H378/12*0.3)","v":5929},{"$f":"TRUNC(((I378+J378)/2)/12*0.3)","v":6540}]
["Marin","Marin1.2",{"$f":"C369*2*1.2","v":156120},{"$f":"D369*2*1.2","v":178440},200760,222960,240840,258720,276480,294360,3903,4182,5019,5797,6468,7135]
["Mariposa","Mariposa0.15",{"$f":"C387*2*0.15","v":8670},{"$f":"D387*2*0.15","v":9900},{"$f":"E387*2*0.15","v":11145},{"$f":"F387*2*0.15","v":12375},{"$f":"G387*2*0.15","v":13365},{"$f":"H387*2*0.15","v":14355},15345,16335,216,232,278,321,358,396]
["Mariposa","Mariposa0.2",{"$f":"C387*2*0.2","v":11560},{"$f":"D387*2*0.2","v":13200},14860,16500,17820,19140,20460,21780,289,309,371,429,478,528]
["Mariposa","Mariposa0.25",{"$f":"C387*2*0.25","v":14450},{"$f":"D387*2*0.25","v":16500},18575,20625,22275,23925,25575,27225,361,386,464,536,598,660]
["Mariposa","Mariposa0.3",{"$f":"C387*2*0.3","v":17340},{"$f":"D387*2*0.3","v":19800},22290,24750,26730,28710,30690,32670,433,464,557,643,717,792]
["Mariposa","Mariposa0.35",{"$f":"C387*2*0.35","v":20230},{"$f":"D387*2*0.35","v":23100},26005,28874.999999999996,31184.999999999996,33495,35805,38115,505,541,650,750,837,924]
["Mariposa","Mariposa0.4",{"$f":"C387*2*0.4","v":23120},{"$f":"D387*2*0.4","v":26400},29720,33000,35640,38280,40920,43560,578,619,743,858,957,1056]
["Mariposa","Mariposa0.45",{"$f":"C387*2*0.45","v":26010},{"$f":"D387*2*0.45","v":29700},33435,37125,40095,43065,46035,49005,650,696,835,965,1076,1188]
["Mariposa","Mariposa0.5",{"$f":"VLOOKUP($A:$A,'Max Funds & Unit Mix'!$L$86:$T$144,2,FALSE)","v":28900},{"$f":"VLOOKUP($A:$A,'Max Funds & Unit Mix'!$L$86:$T$144,3,FALSE)","v":33000},{"$f":"VLOOKUP($A:$A,'Max Funds & Unit Mix'!$L$86:$T$144,4,FALSE)","v":37150},{"$f":"VLOOKUP($A:$A,'Max Funds & Unit Mix'!$L$86:$T$144,5,FALSE)","v":41250},{"$f":"VLOOKUP($A:$A,'Max Funds & Unit Mix'!$L$86:$T$144,6,FALSE)","v":44550},{"$f":"VLOOKUP($A:$A,'Max Funds & Unit Mix'!$L$86:$T$144,7,FALSE)","v":47850},{"$f":"VLOOKUP($A:$A,'Max Funds & Unit Mix'!$L$86:$T$144,8,FALSE)","v":51150},{"$f":"VLOOKUP($A:$A,'Max Funds & Unit Mix'!$L$86:$T$144,9,FALSE)","v":54450},{"$f":"TRUNC(C387/12*0.3)","v":722},{"$f":"TRUNC((C387+D387)/2/12*0.3)","v":773},{"$f":"TRUNC((E387)/12*0.3)","v":928},{"$f":"TRUNC(((F387+G387)/2)/12*0.3)","v":1072},{"$f":"TRUNC(H387/12*0.3)","v":1196},{"$f":"TRUNC(((I387+J387)/2)/12*0.3)","v":1320}]
["Mariposa","Mariposa0.55",{"$f":"C387*2*0.55","v":31790.000000000004},{"$f":"D387*2*0.55","v":36300},40865,45375.000000000007,49005.000000000007,52635.000000000007,56265.000000000007,59895.000000000007,{"$f":"TRUNC(C388/12*0.3)","v":794},{"$f":"TRUNC((C388+D388)/2/12*0.3)","v":851},{"$f":"TRUNC((E388)/12*0.3)","v":1021},{"$f":"TRUNC(((F388+G388)/2)/12*0.3)","v":1179},{"$f":"TRUNC(H388/12*0.3)","v":1315},{"$f":"TRUNC(((I388+J388)/2)/12*0.3)","v":1452}]
["Mariposa","Mariposa0.6",{"$f":"C387*2*0.6","v":34680},{"$f":"D387*2*0.6","v":39600},44580,49500,53460,57420,61380,65340,867,928,1114,1287,1435,1584]
["Mariposa","Mariposa0.65",{"$f":"C387*2*0.65","v":37570},{"$f":"D387*2*0.65","v":42900},48295,53625,57915,62205,66495,70785,939,1005,1207,1394,1555,1716]
["Mariposa","Mariposa0.7",{"$f":"C387*2*0.7","v":40460},{"$f":"D387*2*0.7","v":46200},52010,57749.999999999993,62369.999999999993,66990,71610,76230,1011,1083,1300,1501,1674,1848]
["Mariposa","Mariposa0.75",{"$f":"C387*2*0.75","v":43350},{"$f":"D387*2*0.75","v":49500},55725,61875,66825,71775,76725,81675,1083,1160,1393,1608,1794,1980]
["Mariposa","Mariposa0.8",{"$f":"C387*2*0.8","v":46240},{"$f":"D387*2*0.8","v":52800},59440,66000,71280,76560,81840,87120,1156,1238,1486,1716,1914,2112]
["Mariposa","Mariposa0.9",{"$f":"C387*2*0.9","v":52020},{"$f":"D387*2*0.9","v":59400},66870,74250,80190,86130,92070,98010,1300,1392,1671,1930,2153,2376]
["Mariposa","Mariposa1",{"$f":"C387*2","v":57800},{"$f":"D387*2","v":66000},74300,82500,89100,95700,102300,108900,{"$f":"K387*2","v":1444},{"$f":"L387*2","v":1546},1856,2144,2392,2640]
["Mariposa","Mariposa1.1",{"$f":"C387*2*1.1","v":63580.000000000007},{"$f":"D387*2*1.1","v":72600},81730,90750.000000000015,98010.000000000015,105270.00000000001,112530.00000000001,119790.00000000001,{"$f":"TRUNC(C396/12*0.3)","v":1589},{"$f":"TRUNC((C396+D396)/2/12*0.3)","v":1702},{"$f":"TRUNC((E396)/12*0.3)","v":2043},{"$f":"TRUNC(((F396+G396)/2)/12*0.3)","v":2359},{"$f":"TRUNC(H396/12*0.3)","v":2631},{"$f":"TRUNC(((I396+J396)/2)/12*0.3)","v":2904}]
["Mariposa","Mariposa1.2",{"$f":"C387*2*1.2","v":69360},{"$f":"D387*2*1.2","v":79200},89160,99000,106920,114840,122760,130680,1734,1857,2229,2574,2871,3168]
["Mendocino","Mendocino0.15",{"$f":"C405*2*0.15","v":8925},{"$f":"D405*2*0.15","v":10200},{"$f":"E405*2*0.15","v":11475},{"$f":"F405*2*0.15","v":12750},{"$f":"G405*2*0.15","v":13770},{"$f":"H405*2*0.15","v":14790},15810,16830,223,239,286,331,369,408]
["Mendocino","Mendocino0.2",{"$f":"C405*2*0.2","v":11900},{"$f":"D405*2*0.2","v":13600},15300,17000,18360,19720,21080,22440,297,318,382,442,493,544]
["Mendocino","Mendocino0.25",{"$f":"C405*2*0.25","v":14875},{"$f":"D405*2*0.25","v":17000},19125,21250,22950,24650,26350,28050,371,398,478,552,616,680]
["Mendocino","Mendocino0.3",{"$f":"C405*2*0.3","v":17850},{"$f":"D405*2*0.3","v":20400},22950,25500,27540,29580,31620,33660,446,478,573,663,739,816]
["Mendocino","Mendocino0.35",{"$f":"C405*2*0.35","v":20825},{"$f":"D405*2*0.35","v":23800},26775,29749.999999999996,32129.999999999996,34510,36890,39270,520,557,669,773,862,952]
["Mendocino","Mendocino0.4",{"$f":"C405*2*0.4","v":23800},{"$f":"D405*2*0.4","v":27200},30600,34000,36720,39440,42160,44880,595,637,765,884,986,1088]
["Mendocino","Mendocino0.45",{"$f":"C405*2*0.45","v":26775},{"$f":"D405*2*0.45","v":30600},34425,38250,41310,44370,47430,50490,669,717,860,994,1109,1224]
["Mendocino","Mendocino0.5",{"$f":"VLOOKUP($A:$A,'Max Funds & Unit Mix'!$L$86:$T$144,2,FALSE)","v":29750},{"$f":"VLOOKUP($A:$A,'Max Funds & Unit Mix'!$L$86:$T$144,3,FALSE)","v":34000},{"$f":"VLOOKUP($A:$A,'Max Funds & Unit Mix'!$L$86:$T$144,4,FALSE)","v":38250},{"$f":"VLOOKUP($A:$A,'Max Funds & Unit Mix'!$L$86:$T$144,5,FALSE)","v":42500},{"$f":"VLOOKUP($A:$A,'Max Funds & Unit Mix'!$L$86:$T$144,6,FALSE)","v":45900},{"$f":"VLOOKUP($A:$A,'Max Funds & Unit Mix'!$L$86:$T$144,7,FALSE)","v":49300},{"$f":"VLOOKUP($A:$A,'Max Funds & Unit Mix'!$L$86:$T$144,8,FALSE)","v":52700},{"$f":"VLOOKUP($A:$A,'Max Funds & Unit Mix'!$L$86:$T$144,9,FALSE)","v":56100},{"$f":"TRUNC(C405/12*0.3)","v":743},{"$f":"TRUNC((C405+D405)/2/12*0.3)","v":796},{"$f":"TRUNC((E405)/12*0.3)","v":956},{"$f":"TRUNC(((F405+G405)/2)/12*0.3)","v":1105},{"$f":"TRUNC(H405/12*0.3)","v":1232},{"$f":"TRUNC(((I405+J405)/2)/12*0.3)","v":1360}]
["Mendocino","Mendocino0.55",{"$f":"C405*2*0.55","v":32725.000000000004},{"$f":"D405*2*0.55","v":37400},42075,46750.000000000007,50490.000000000007,54230.000000000007,57970.000000000007,61710.000000000007,{"$f":"TRUNC(C406/12*0.3)","v":818},{"$f":"TRUNC((C406+D406)/2/12*0.3)","v":876},{"$f":"TRUNC((E406)/12*0.3)","v":1051},{"$f":"TRUNC(((F406+G406)/2)/12*0.3)","v":1215},{"$f":"TRUNC(H406/12*0.3)","v":1355},{"$f":"TRUNC(((I406+J406)/2)/12*0.3)","v":1496}]
["Mendocino","Mendocino0.6",{"$f":"C405*2*0.6","v":35700},{"$f":"D405*2*0.6","v":40800},45900,51000,55080,59160,63240,67320,892,956,1147,1326,1479,1632]
["Mendocino","Mendocino0.65",{"$f":"C405*2*0.65","v":38675},{"$f":"D405*2*0.65","v":44200},49725,55250,59670,64090,68510,72930,966,1035,1243,1436,1602,1768]
["Mendocino","Mendocino0.7",{"$f":"C405*2*0.7","v":41650},{"$f":"D405*2*0.7","v":47600},53550,59499.999999999993,64259.999999999993,69020,73780,78540,1041,1115,1338,1547,1725,1904]
["Mendocino","Mendocino0.75",{"$f":"C405*2*0.75","v":44625},{"$f":"D405*2*0.75","v":51000},57375,63750,68850,73950,79050,84150,1115,1195,1434,1657,1848,2040]
["Mendocino","Mendocino0.8",{"$f":"C405*2*0.8","v":47600},{"$f":"D405*2*0.8","v":54400},61200,68000,73440,78880,84320,89760,1190,1275,1530,1768,1972,2176]
["Mendocino","Mendocino0.9",{"$f":"C405*2*0.9","v":53550},{"$f":"D405*2*0.9","v":61200},68850,76500,82620,88740,94860,100980,1338,1434,1721,1989,2218,2448]
["Mendocino","Mendocino1",{"$f":"C405*2","v":59500},{"$f":"D405*2","v":68000},76500,85000,91800,98600,105400,112200,{"$f":"K405*2","v":1486},{"$f":"L405*2","v":1592},1912,2210,2464,2720]
["Mendocino","Mendocino1.1",{"$f":"C405*2*1.1","v":65450.000000000007},{"$f":"D405*2*1.1","v":74800},84150,93500.000000000015,100980.00000000001,108460.00000000001,115940.00000000001,123420.00000000001,{"$f":"TRUNC(C414/12*0.3)","v":1636},{"$f":"TRUNC((C414+D414)/2/12*0.3)","v":1753},{"$f":"TRUNC((E414)/12*0.3)","v":2103},{"$f":"TRUNC(((F414+G414)/2)/12*0.3)","v":2431},{"$f":"TRUNC(H414/12*0.3)","v":2711},{"$f":"TRUNC(((I414+J414)/2)/12*0.3)","v":2992}]
["Mendocino","Mendocino1.2",{"$f":"C405*2*1.2","v":71400},{"$f":"D405*2*1.2","v":81600},91800,102000,110160,118320,126480,134640,1785,1912,2295,2652,2958,3264]
["Merced","Merced0.15",{"$f":"C423*2*0.15","v":8670},{"$f":"D423*2*0.15","v":9900},{"$f":"E423*2*0.15","v":11145},{"$f":"F423*2*0.15","v":12375},{"$f":"G423*2*0.15","v":13365},{"$f":"H423*2*0.15","v":14355},15345,16335,216,232,278,321,358,396]
["Merced","Merced0.2",{"$f":"C423*2*0.2","v":11560},{"$f":"D423*2*0.2","v":13200},14860,16500,17820,19140,20460,21780,289,309,371,429,478,528]
["Merced","Merced0.25",{"$f":"C423*2*0.25","v":14450},{"$f":"D423*2*0.25","v":16500},18575,20625,22275,23925,25575,27225,361,386,464,536,598,660]
["Merced","Merced0.3",{"$f":"C423*2*0.3","v":17340},{"$f":"D423*2*0.3","v":19800},22290,24750,26730,28710,30690,32670,433,464,557,643,717,792]
["Merced","Merced0.35",{"$f":"C423*2*0.35","v":20230},{"$f":"D423*2*0.35","v":23100},26005,28874.999999999996,31184.999999999996,33495,35805,38115,505,541,650,750,837,924]
["Merced","Merced0.4",{"$f":"C423*2*0.4","v":23120},{"$f":"D423*2*0.4","v":26400},29720,33000,35640,38280,40920,43560,578,619,743,858,957,1056]
["Merced","Merced0.45",{"$f":"C423*2*0.45","v":26010},{"$f":"D423*2*0.45","v":29700},33435,37125,40095,43065,46035,49005,650,696,835,965,1076,1188]
["Merced","Merced0.5",{"$f":"VLOOKUP($A:$A,'Max Funds & Unit Mix'!$L$86:$T$144,2,FALSE)","v":28900},{"$f":"VLOOKUP($A:$A,'Max Funds & Unit Mix'!$L$86:$T$144,3,FALSE)","v":33000},{"$f":"VLOOKUP($A:$A,'Max Funds & Unit Mix'!$L$86:$T$144,4,FALSE)","v":37150},{"$f":"VLOOKUP($A:$A,'Max Funds & Unit Mix'!$L$86:$T$144,5,FALSE)","v":41250},{"$f":"VLOOKUP($A:$A,'Max Funds & Unit Mix'!$L$86:$T$144,6,FALSE)","v":44550},{"$f":"VLOOKUP($A:$A,'Max Funds & Unit Mix'!$L$86:$T$144,7,FALSE)","v":47850},{"$f":"VLOOKUP($A:$A,'Max Funds & Unit Mix'!$L$86:$T$144,8,FALSE)","v":51150},{"$f":"VLOOKUP($A:$A,'Max Funds & Unit Mix'!$L$86:$T$144,9,FALSE)","v":54450},{"$f":"TRUNC(C423/12*0.3)","v":722},{"$f":"TRUNC((C423+D423)/2/12*0.3)","v":773},{"$f":"TRUNC((E423)/12*0.3)","v":928},{"$f":"TRUNC(((F423+G423)/2)/12*0.3)","v":1072},{"$f":"TRUNC(H423/12*0.3)","v":1196},{"$f":"TRUNC(((I423+J423)/2)/12*0.3)","v":1320}]
["Merced","Merced0.55",{"$f":"C423*2*0.55","v":31790.000000000004},{"$f":"D423*2*0.55","v":36300},40865,45375.000000000007,49005.000000000007,52635.000000000007,56265.000000000007,59895.000000000007,{"$f":"TRUNC(C424/12*0.3)","v":794},{"$f":"TRUNC((C424+D424)/2/12*0.3)","v":851},{"$f":"TRUNC((E424)/12*0.3)","v":1021},{"$f":"TRUNC(((F424+G424)/2)/12*0.3)","v":1179},{"$f":"TRUNC(H424/12*0.3)","v":1315},{"$f":"TRUNC(((I424+J424)/2)/12*0.3)","v":1452}]
["Merced","Merced0.6",{"$f":"C423*2*0.6","v":34680},{"$f":"D423*2*0.6","v":39600},44580,49500,53460,57420,61380,65340,867,928,1114,1287,1435,1584]
["Merced","Merced0.65",{"$f":"C423*2*0.65","v":37570},{"$f":"D423*2*0.65","v":42900},48295,53625,57915,62205,66495,70785,939,1005,1207,1394,1555,1716]
["Merced","Merced0.7",{"$f":"C423*2*0.7","v":40460},{"$f":"D423*2*0.7","v":46200},52010,57749.999999999993,62369.999999999993,66990,71610,76230,1011,1083,1300,1501,1674,1848]
["Merced","Merced0.75",{"$f":"C423*2*0.75","v":43350},{"$f":"D423*2*0.75","v":49500},55725,61875,66825,71775,76725,81675,1083,1160,1393,1608,1794,1980]
["Merced","Merced0.8",{"$f":"C423*2*0.8","v":46240},{"$f":"D423*2*0.8","v":52800},59440,66000,71280,76560,81840,87120,1156,1238,1486,1716,1914,2112]
["Merced","Merced0.9",{"$f":"C423*2*0.9","v":52020},{"$f":"D423*2*0.9","v":59400},66870,74250,80190,86130,92070,98010,1300,1392,1671,1930,2153,2376]
["Merced","Merced1",{"$f":"C423*2","v":57800},{"$f":"D423*2","v":66000},74300,82500,89100,95700,102300,108900,{"$f":"K423*2","v":1444},{"$f":"L423*2","v":1546},1856,2144,2392,2640]
["Merced","Merced1.1",{"$f":"C423*2*1.1","v":63580.000000000007},{"$f":"D423*2*1.1","v":72600},81730,90750.000000000015,98010.000000000015,105270.00000000001,112530.00000000001,119790.00000000001,{"$f":"TRUNC(C432/12*0.3)","v":1589},{"$f":"TRUNC((C432+D432)/2/12*0.3)","v":1702},{"$f":"TRUNC((E432)/12*0.3)","v":2043},{"$f":"TRUNC(((F432+G432)/2)/12*0.3)","v":2359},{"$f":"TRUNC(H432/12*0.3)","v":2631},{"$f":"TRUNC(((I432+J432)/2)/12*0.3)","v":2904}]
["Merced","Merced1.2",{"$f":"C423*2*1.2","v":69360},{"$f":"D423*2*1.2","v":79200},89160,99000,106920,114840,122760,130680,1734,1857,2229,2574,2871,3168]
["Modoc","Modoc0.15",{"$f":"C441*2*0.15","v":8670},{"$f":"D441*2*0.15","v":9900},{"$f":"E441*2*0.15","v":11145},{"$f":"F441*2*0.15","v":12375},{"$f":"G441*2*0.15","v":13365},{"$f":"H441*2*0.15","v":14355},15345,16335,216,232,278,321,358,396]
["Modoc","Modoc0.2",{"$f":"C441*2*0.2","v":11560},{"$f":"D441*2*0.2","v":13200},14860,16500,17820,19140,20460,21780,289,309,371,429,478,528]
["Modoc","Modoc0.25",{"$f":"C441*2*0.25","v":14450},{"$f":"D441*2*0.25","v":16500},18575,20625,22275,23925,25575,27225,361,386,464,536,598,660]
["Modoc","Modoc0.3",{"$f":"C441*2*0.3","v":17340},{"$f":"D441*2*0.3","v":19800},22290,24750,26730,28710,30690,32670,433,464,557,643,717,792]
["Modoc","Modoc0.35",{"$f":"C441*2*0.35","v":20230},{"$f":"D441*2*0.35","v":23100},26005,28874.999999999996,31184.999999999996,33495,35805,38115,505,541,650,750,837,924]
["Modoc","Modoc0.4",{"$f":"C441*2*0.4","v":23120},{"$f":"D441*2*0.4","v":26400},29720,33000,35640,38280,40920,43560,578,619,743,858,957,1056]
["Modoc","Modoc0.45",{"$f":"C441*2*0.45","v":26010},{"$f":"D441*2*0.45","v":29700},33435,37125,40095,43065,46035,49005,650,696,835,965,1076,1188]
["Modoc","Modoc0.5",{"$f":"VLOOKUP($A:$A,'Max Funds & Unit Mix'!$L$86:$T$144,2,FALSE)","v":28900},{"$f":"VLOOKUP($A:$A,'Max Funds & Unit Mix'!$L$86:$T$144,3,FALSE)","v":33000},{"$f":"VLOOKUP($A:$A,'Max Funds & Unit Mix'!$L$86:$T$144,4,FALSE)","v":37150},{"$f":"VLOOKUP($A:$A,'Max Funds & Unit Mix'!$L$86:$T$144,5,FALSE)","v":41250},{"$f":"VLOOKUP($A:$A,'Max Funds & Unit Mix'!$L$86:$T$144,6,FALSE)","v":44550},{"$f":"VLOOKUP($A:$A,'Max Funds & Unit Mix'!$L$86:$T$144,7,FALSE)","v":47850},{"$f":"VLOOKUP($A:$A,'Max Funds & Unit Mix'!$L$86:$T$144,8,FALSE)","v":51150},{"$f":"VLOOKUP($A:$A,'Max Funds & Unit Mix'!$L$86:$T$144,9,FALSE)","v":54450},{"$f":"TRUNC(C441/12*0.3)","v":722},{"$f":"TRUNC((C441+D441)/2/12*0.3)","v":773},{"$f":"TRUNC((E441)/12*0.3)","v":928},{"$f":"TRUNC(((F441+G441)/2)/12*0.3)","v":1072},{"$f":"TRUNC(H441/12*0.3)","v":1196},{"$f":"TRUNC(((I441+J441)/2)/12*0.3)","v":1320}]
["Modoc","Modoc0.55",{"$f":"C441*2*0.55","v":31790.000000000004},{"$f":"D441*2*0.55","v":36300},40865,45375.000000000007,49005.000000000007,52635.000000000007,56265.000000000007,59895.000000000007,{"$f":"TRUNC(C442/12*0.3)","v":794},{"$f":"TRUNC((C442+D442)/2/12*0.3)","v":851},{"$f":"TRUNC((E442)/12*0.3)","v":1021},{"$f":"TRUNC(((F442+G442)/2)/12*0.3)","v":1179},{"$f":"TRUNC(H442/12*0.3)","v":1315},{"$f":"TRUNC(((I442+J442)/2)/12*0.3)","v":1452}]
["Modoc","Modoc0.6",{"$f":"C441*2*0.6","v":34680},{"$f":"D441*2*0.6","v":39600},44580,49500,53460,57420,61380,65340,867,928,1114,1287,1435,1584]
["Modoc","Modoc0.65",{"$f":"C441*2*0.65","v":37570},{"$f":"D441*2*0.65","v":42900},48295,53625,57915,62205,66495,70785,939,1005,1207,1394,1555,1716]
["Modoc","Modoc0.7",{"$f":"C441*2*0.7","v":40460},{"$f":"D441*2*0.7","v":46200},52010,57749.999999999993,62369.999999999993,66990,71610,76230,1011,1083,1300,1501,1674,1848]
["Modoc","Modoc0.75",{"$f":"C441*2*0.75","v":43350},{"$f":"D441*2*0.75","v":49500},55725,61875,66825,71775,76725,81675,1083,1160,1393,1608,1794,1980]
["Modoc","Modoc0.8",{"$f":"C441*2*0.8","v":46240},{"$f":"D441*2*0.8","v":52800},59440,66000,71280,76560,81840,87120,1156,1238,1486,1716,1914,2112]
["Modoc","Modoc0.9",{"$f":"C441*2*0.9","v":52020},{"$f":"D441*2*0.9","v":59400},66870,74250,80190,86130,92070,98010,1300,1392,1671,1930,2153,2376]
["Modoc","Modoc1",{"$f":"C441*2","v":57800},{"$f":"D441*2","v":66000},74300,82500,89100,95700,102300,108900,{"$f":"K441*2","v":1444},{"$f":"L441*2","v":1546},1856,2144,2392,2640]
["Modoc","Modoc1.1",{"$f":"C441*2*1.1","v":63580.000000000007},{"$f":"D441*2*1.1","v":72600},81730,90750.000000000015,98010.000000000015,105270.00000000001,112530.00000000001,119790.00000000001,{"$f":"TRUNC(C450/12*0.3)","v":1589},{"$f":"TRUNC((C450+D450)/2/12*0.3)","v":1702},{"$f":"TRUNC((E450)/12*0.3)","v":2043},{"$f":"TRUNC(((F450+G450)/2)/12*0.3)","v":2359},{"$f":"TRUNC(H450/12*0.3)","v":2631},{"$f":"TRUNC(((I450+J450)/2)/12*0.3)","v":2904}]
["Modoc","Modoc1.2",{"$f":"C441*2*1.2","v":69360},{"$f":"D441*2*1.2","v":79200},89160,99000,106920,114840,122760,130680,1734,1857,2229,2574,2871,3168]
["Mono","Mono0.15",{"$f":"C459*2*0.15","v":8925},{"$f":"D459*2*0.15","v":10200},{"$f":"E459*2*0.15","v":11475},{"$f":"F459*2*0.15","v":12750},{"$f":"G459*2*0.15","v":13770},{"$f":"H459*2*0.15","v":14790},15810,16830,223,239,286,331,369,408]
["Mono","Mono0.2",{"$f":"C459*2*0.2","v":11900},{"$f":"D459*2*0.2","v":13600},15300,17000,18360,19720,21080,22440,297,318,382,442,493,544]
["Mono","Mono0.25",{"$f":"C459*2*0.25","v":14875},{"$f":"D459*2*0.25","v":17000},19125,21250,22950,24650,26350,28050,371,398,478,552,616,680]
["Mono","Mono0.3",{"$f":"C459*2*0.3","v":17850},{"$f":"D459*2*0.3","v":20400},22950,25500,27540,29580,31620,33660,446,478,573,663,739,816]
["Mono","Mono0.35",{"$f":"C459*2*0.35","v":20825},{"$f":"D459*2*0.35","v":23800},26775,29749.999999999996,32129.999999999996,34510,36890,39270,520,557,669,773,862,952]
["Mono","Mono0.4",{"$f":"C459*2*0.4","v":23800},{"$f":"D459*2*0.4","v":27200},30600,34000,36720,39440,42160,44880,595,637,765,884,986,1088]
["Mono","Mono0.45",{"$f":"C459*2*0.45","v":26775},{"$f":"D459*2*0.45","v":30600},34425,38250,41310,44370,47430,50490,669,717,860,994,1109,1224]
["Mono","Mono0.5",{"$f":"VLOOKUP($A:$A,'Max Funds & Unit Mix'!$L$86:$T$144,2,FALSE)","v":29750},{"$f":"VLOOKUP($A:$A,'Max Funds & Unit Mix'!$L$86:$T$144,3,FALSE)","v":34000},{"$f":"VLOOKUP($A:$A,'Max Funds & Unit Mix'!$L$86:$T$144,4,FALSE)","v":38250},{"$f":"VLOOKUP($A:$A,'Max Funds & Unit Mix'!$L$86:$T$144,5,FALSE)","v":42500},{"$f":"VLOOKUP($A:$A,'Max Funds & Unit Mix'!$L$86:$T$144,6,FALSE)","v":45900},{"$f":"VLOOKUP($A:$A,'Max Funds & Unit Mix'!$L$86:$T$144,7,FALSE)","v":49300},{"$f":"VLOOKUP($A:$A,'Max Funds & Unit Mix'!$L$86:$T$144,8,FALSE)","v":52700},{"$f":"VLOOKUP($A:$A,'Max Funds & Unit Mix'!$L$86:$T$144,9,FALSE)","v":56100},{"$f":"TRUNC(C459/12*0.3)","v":743},{"$f":"TRUNC((C459+D459)/2/12*0.3)","v":796},{"$f":"TRUNC((E459)/12*0.3)","v":956},{"$f":"TRUNC(((F459+G459)/2)/12*0.3)","v":1105},{"$f":"TRUNC(H459/12*0.3)","v":1232},{"$f":"TRUNC(((I459+J459)/2)/12*0.3)","v":1360}]
["Mono","Mono0.55",{"$f":"C459*2*0.55","v":32725.000000000004},{"$f":"D459*2*0.55","v":37400},42075,46750.000000000007,50490.000000000007,54230.000000000007,57970.000000000007,61710.000000000007,{"$f":"TRUNC(C460/12*0.3)","v":818},{"$f":"TRUNC((C460+D460)/2/12*0.3)","v":876},{"$f":"TRUNC((E460)/12*0.3)","v":1051},{"$f":"TRUNC(((F460+G460)/2)/12*0.3)","v":1215},{"$f":"TRUNC(H460/12*0.3)","v":1355},{"$f":"TRUNC(((I460+J460)/2)/12*0.3)","v":1496}]
["Mono","Mono0.6",{"$f":"C459*2*0.6","v":35700},{"$f":"D459*2*0.6","v":40800},45900,51000,55080,59160,63240,67320,892,956,1147,1326,1479,1632]
["Mono","Mono0.65",{"$f":"C459*2*0.65","v":38675},{"$f":"D459*2*0.65","v":44200},49725,55250,59670,64090,68510,72930,966,1035,1243,1436,1602,1768]
["Mono","Mono0.7",{"$f":"C459*2*0.7","v":41650},{"$f":"D459*2*0.7","v":47600},53550,59499.999999999993,64259.999999999993,69020,73780,78540,1041,1115,1338,1547,1725,1904]
["Mono","Mono0.75",{"$f":"C459*2*0.75","v":44625},{"$f":"D459*2*0.75","v":51000},57375,63750,68850,73950,79050,84150,1115,1195,1434,1657,1848,2040]
["Mono","Mono0.8",{"$f":"C459*2*0.8","v":47600},{"$f":"D459*2*0.8","v":54400},61200,68000,73440,78880,84320,89760,1190,1275,1530,1768,1972,2176]
["Mono","Mono0.9",{"$f":"C459*2*0.9","v":53550},{"$f":"D459*2*0.9","v":61200},68850,76500,82620,88740,94860,100980,1338,1434,1721,1989,2218,2448]
["Mono","Mono1",{"$f":"C459*2","v":59500},{"$f":"D459*2","v":68000},76500,85000,91800,98600,105400,112200,{"$f":"K459*2","v":1486},{"$f":"L459*2","v":1592},1912,2210,2464,2720]
["Mono","Mono1.1",{"$f":"C459*2*1.1","v":65450.000000000007},{"$f":"D459*2*1.1","v":74800},84150,93500.000000000015,100980.00000000001,108460.00000000001,115940.00000000001,123420.00000000001,{"$f":"TRUNC(C468/12*0.3)","v":1636},{"$f":"TRUNC((C468+D468)/2/12*0.3)","v":1753},{"$f":"TRUNC((E468)/12*0.3)","v":2103},{"$f":"TRUNC(((F468+G468)/2)/12*0.3)","v":2431},{"$f":"TRUNC(H468/12*0.3)","v":2711},{"$f":"TRUNC(((I468+J468)/2)/12*0.3)","v":2992}]
["Mono","Mono1.2",{"$f":"C459*2*1.2","v":71400},{"$f":"D459*2*1.2","v":81600},91800,102000,110160,118320,126480,134640,1785,1912,2295,2652,2958,3264]
["Monterey","Monterey0.15",{"$f":"C477*2*0.15","v":12645},{"$f":"D477*2*0.15","v":14460},{"$f":"E477*2*0.15","v":16260},{"$f":"F477*2*0.15","v":18060},{"$f":"G477*2*0.15","v":19515},{"$f":"H477*2*0.15","v":20955},22395,23850,316,338,406,469,523,578]
["Monterey","Monterey0.2",{"$f":"C477*2*0.2","v":16860},{"$f":"D477*2*0.2","v":19280},21680,24080,26020,27940,29860,31800,421,451,542,626,698,770]
["Monterey","Monterey0.25",{"$f":"C477*2*0.25","v":21075},{"$f":"D477*2*0.25","v":24100},27100,30100,32525,34925,37325,39750,526,564,677,782,873,963]
["Monterey","Monterey0.3",{"$f":"C477*2*0.3","v":25290},{"$f":"D477*2*0.3","v":28920},32520,36120,39030,41910,44790,47700,632,677,813,939,1047,1156]
["Monterey","Monterey0.35",{"$f":"C477*2*0.35","v":29504.999999999996},{"$f":"D477*2*0.35","v":33740},37940,42140,45535,48895,52255,55650,737,790,948,1095,1222,1348]
["Monterey","Monterey0.4",{"$f":"C477*2*0.4","v":33720},{"$f":"D477*2*0.4","v":38560},43360,48160,52040,55880,59720,63600,843,903,1084,1252,1397,1541]
["Monterey","Monterey0.45",{"$f":"C477*2*0.45","v":37935},{"$f":"D477*2*0.45","v":43380},48780,54180,58545,62865,67185,71550,948,1016,1219,1409,1571,1734]
["Monterey","Monterey0.5",{"$f":"VLOOKUP($A:$A,'Max Funds & Unit Mix'!$L$86:$T$144,2,FALSE)","v":42150},{"$f":"VLOOKUP($A:$A,'Max Funds & Unit Mix'!$L$86:$T$144,3,FALSE)","v":48200},{"$f":"VLOOKUP($A:$A,'Max Funds & Unit Mix'!$L$86:$T$144,4,FALSE)","v":54200},{"$f":"VLOOKUP($A:$A,'Max Funds & Unit Mix'!$L$86:$T$144,5,FALSE)","v":60200},{"$f":"VLOOKUP($A:$A,'Max Funds & Unit Mix'!$L$86:$T$144,6,FALSE)","v":65050},{"$f":"VLOOKUP($A:$A,'Max Funds & Unit Mix'!$L$86:$T$144,7,FALSE)","v":69850},{"$f":"VLOOKUP($A:$A,'Max Funds & Unit Mix'!$L$86:$T$144,8,FALSE)","v":74650},{"$f":"VLOOKUP($A:$A,'Max Funds & Unit Mix'!$L$86:$T$144,9,FALSE)","v":79500},{"$f":"TRUNC(C477/12*0.3)","v":1053},{"$f":"TRUNC((C477+D477)/2/12*0.3)","v":1129},{"$f":"TRUNC((E477)/12*0.3)","v":1355},{"$f":"TRUNC(((F477+G477)/2)/12*0.3)","v":1565},{"$f":"TRUNC(H477/12*0.3)","v":1746},{"$f":"TRUNC(((I477+J477)/2)/12*0.3)","v":1926}]
["Monterey","Monterey0.55",{"$f":"C477*2*0.55","v":46365.000000000007},{"$f":"D477*2*0.55","v":53020.000000000007},59620.000000000007,66220,71555,76835,82115,87450,{"$f":"TRUNC(C478/12*0.3)","v":1159},{"$f":"TRUNC((C478+D478)/2/12*0.3)","v":1242},{"$f":"TRUNC((E478)/12*0.3)","v":1490},{"$f":"TRUNC(((F478+G478)/2)/12*0.3)","v":1722},{"$f":"TRUNC(H478/12*0.3)","v":1920},{"$f":"TRUNC(((I478+J478)/2)/12*0.3)","v":2119}]
["Monterey","Monterey0.6",{"$f":"C477*2*0.6","v":50580},{"$f":"D477*2*0.6","v":57840},65040,72240,78060,83820,89580,95400,1264,1355,1626,1878,2095,2312]
["Monterey","Monterey0.65",{"$f":"C477*2*0.65","v":54795},{"$f":"D477*2*0.65","v":62660},70460,78260,84565,90805,97045,103350,1369,1468,1761,2035,2270,2504]
["Monterey","Monterey0.7",{"$f":"C477*2*0.7","v":59009.999999999993},{"$f":"D477*2*0.7","v":67480},75880,84280,91070,97790,104510,111300,1475,1581,1897,2191,2444,2697]
["Monterey","Monterey0.75",{"$f":"C477*2*0.75","v":63225},{"$f":"D477*2*0.75","v":72300},81300,90300,97575,104775,111975,119250,1580,1694,2032,2348,2619,2890]
["Monterey","Monterey0.8",{"$f":"C477*2*0.8","v":67440},{"$f":"D477*2*0.8","v":77120},86720,96320,104080,111760,119440,127200,1686,1807,2168,2505,2794,3083]
["Monterey","Monterey0.9",{"$f":"C477*2*0.9","v":75870},{"$f":"D477*2*0.9","v":86760},97560,108360,117090,125730,134370,143100,1896,2032,2439,2818,3143,3468]
["Monterey","Monterey1",{"$f":"C477*2","v":84300},{"$f":"D477*2","v":96400},108400,120400,130100,139700,149300,159000,{"$f":"K477*2","v":2106},{"$f":"L477*2","v":2258},2710,3130,3492,3852]
["Monterey","Monterey1.1",{"$f":"C477*2*1.1","v":92730.000000000015},{"$f":"D477*2*1.1","v":106040.00000000001},119240.00000000001,132440,143110,153670,164230,174900,{"$f":"TRUNC(C486/12*0.3)","v":2318},{"$f":"TRUNC((C486+D486)/2/12*0.3)","v":2484},{"$f":"TRUNC((E486)/12*0.3)","v":2981},{"$f":"TRUNC(((F486+G486)/2)/12*0.3)","v":3444},{"$f":"TRUNC(H486/12*0.3)","v":3841},{"$f":"TRUNC(((I486+J486)/2)/12*0.3)","v":4239}]
["Monterey","Monterey1.2",{"$f":"C477*2*1.2","v":101160},{"$f":"D477*2*1.2","v":115680},130080,144480,156120,167640,179160,190800,2529,2710,3252,3757,4191,4624]
["Napa","Napa0.15",{"$f":"C495*2*0.15","v":14025},{"$f":"D495*2*0.15","v":16020},{"$f":"E495*2*0.15","v":18030},{"$f":"F495*2*0.15","v":20025},{"$f":"G495*2*0.15","v":21630},{"$f":"H495*2*0.15","v":23235},24840,26445,350,375,450,520,580,641]
["Napa","Napa0.2",{"$f":"C495*2*0.2","v":18700},{"$f":"D495*2*0.2","v":21360},24040,26700,28840,30980,33120,35260,467,500,601,694,774,854]
["Napa","Napa0.25",{"$f":"C495*2*0.25","v":23375},{"$f":"D495*2*0.25","v":26700},30050,33375,36050,38725,41400,44075,584,625,751,867,968,1068]
["Napa","Napa0.3",{"$f":"C495*2*0.3","v":28050},{"$f":"D495*2*0.3","v":32040},36060,40050,43260,46470,49680,52890,701,751,901,1041,1161,1282]
["Napa","Napa0.35",{"$f":"C495*2*0.35","v":32724.999999999996},{"$f":"D495*2*0.35","v":37380},42070,46725,50470,54215,57959.999999999993,61704.999999999993,818,876,1051,1214,1355,1495]
["Napa","Napa0.4",{"$f":"C495*2*0.4","v":37400},{"$f":"D495*2*0.4","v":42720},48080,53400,57680,61960,66240,70520,935,1001,1202,1388,1549,1709]
["Napa","Napa0.45",{"$f":"C495*2*0.45","v":42075},{"$f":"D495*2*0.45","v":48060},54090,60075,64890,69705,74520,79335,1051,1126,1352,1562,1742,1923]
["Napa","Napa0.5",{"$f":"VLOOKUP($A:$A,'Max Funds & Unit Mix'!$L$86:$T$144,2,FALSE)","v":46750},{"$f":"VLOOKUP($A:$A,'Max Funds & Unit Mix'!$L$86:$T$144,3,FALSE)","v":53400},{"$f":"VLOOKUP($A:$A,'Max Funds & Unit Mix'!$L$86:$T$144,4,FALSE)","v":60100},{"$f":"VLOOKUP($A:$A,'Max Funds & Unit Mix'!$L$86:$T$144,5,FALSE)","v":66750},{"$f":"VLOOKUP($A:$A,'Max Funds & Unit Mix'!$L$86:$T$144,6,FALSE)","v":72100},{"$f":"VLOOKUP($A:$A,'Max Funds & Unit Mix'!$L$86:$T$144,7,FALSE)","v":77450},{"$f":"VLOOKUP($A:$A,'Max Funds & Unit Mix'!$L$86:$T$144,8,FALSE)","v":82800},{"$f":"VLOOKUP($A:$A,'Max Funds & Unit Mix'!$L$86:$T$144,9,FALSE)","v":88150},{"$f":"TRUNC(C495/12*0.3)","v":1168},{"$f":"TRUNC((C495+D495)/2/12*0.3)","v":1251},{"$f":"TRUNC((E495)/12*0.3)","v":1502},{"$f":"TRUNC(((F495+G495)/2)/12*0.3)","v":1735},{"$f":"TRUNC(H495/12*0.3)","v":1936},{"$f":"TRUNC(((I495+J495)/2)/12*0.3)","v":2136}]
["Napa","Napa0.55",{"$f":"C495*2*0.55","v":51425.000000000007},{"$f":"D495*2*0.55","v":58740.000000000007},66110,73425,79310,85195,91080.000000000015,96965.000000000015,{"$f":"TRUNC(C496/12*0.3)","v":1285},{"$f":"TRUNC((C496+D496)/2/12*0.3)","v":1377},{"$f":"TRUNC((E496)/12*0.3)","v":1652},{"$f":"TRUNC(((F496+G496)/2)/12*0.3)","v":1909},{"$f":"TRUNC(H496/12*0.3)","v":2129},{"$f":"TRUNC(((I496+J496)/2)/12*0.3)","v":2350}]
["Napa","Napa0.6",{"$f":"C495*2*0.6","v":56100},{"$f":"D495*2*0.6","v":64080},72120,80100,86520,92940,99360,105780,1402,1502,1803,2082,2323,2564]
["Napa","Napa0.65",{"$f":"C495*2*0.65","v":60775},{"$f":"D495*2*0.65","v":69420},78130,86775,93730,100685,107640,114595,1519,1627,1953,2256,2517,2777]
["Napa","Napa0.7",{"$f":"C495*2*0.7","v":65449.999999999993},{"$f":"D495*2*0.7","v":74760},84140,93450,100940,108430,115919.99999999999,123409.99999999999,1636,1752,2103,2429,2710,2991]
["Napa","Napa0.75",{"$f":"C495*2*0.75","v":70125},{"$f":"D495*2*0.75","v":80100},90150,100125,108150,116175,124200,132225,1753,1877,2253,2603,2904,3205]
["Napa","Napa0.8",{"$f":"C495*2*0.8","v":74800},{"$f":"D495*2*0.8","v":85440},96160,106800,115360,123920,132480,141040,1870,2003,2404,2777,3098,3419]
["Napa","Napa0.9",{"$f":"C495*2*0.9","v":84150},{"$f":"D495*2*0.9","v":96120},108180,120150,129780,139410,149040,158670,2103,2253,2704,3124,3485,3846]
["Napa","Napa1",{"$f":"C495*2","v":93500},{"$f":"D495*2","v":106800},120200,133500,144200,154900,165600,176300,{"$f":"K495*2","v":2336},{"$f":"L495*2","v":2502},3004,3470,3872,4272]
["Napa","Napa1.1",{"$f":"C495*2*1.1","v":102850.00000000001},{"$f":"D495*2*1.1","v":117480.00000000001},132220,146850,158620,170390,182160.00000000003,193930.00000000003,{"$f":"TRUNC(C504/12*0.3)","v":2571},{"$f":"TRUNC((C504+D504)/2/12*0.3)","v":2754},{"$f":"TRUNC((E504)/12*0.3)","v":3305},{"$f":"TRUNC(((F504+G504)/2)/12*0.3)","v":3818},{"$f":"TRUNC(H504/12*0.3)","v":4259},{"$f":"TRUNC(((I504+J504)/2)/12*0.3)","v":4701}]
["Napa","Napa1.2",{"$f":"C495*2*1.2","v":112200},{"$f":"D495*2*1.2","v":128160},144240,160200,173040,185880,198720,211560,2805,3004,3606,4165,4647,5128]
["Nevada","Nevada0.15",{"$f":"C513*2*0.15","v":10950},{"$f":"D513*2*0.15","v":12510},{"$f":"E513*2*0.15","v":14070},{"$f":"F513*2*0.15","v":15630},{"$f":"G513*2*0.15","v":16890},{"$f":"H513*2*0.15","v":18135},19395,20640,273,293,351,406,453,500]
["Nevada","Nevada0.2",{"$f":"C513*2*0.2","v":14600},{"$f":"D513*2*0.2","v":16680},18760,20840,22520,24180,25860,27520,365,391,469,542,604,667]
["Nevada","Nevada0.25",{"$f":"C513*2*0.25","v":18250},{"$f":"D513*2*0.25","v":20850},23450,26050,28150,30225,32325,34400,456,488,586,677,755,834]
["Nevada","Nevada0.3",{"$f":"C513*2*0.3","v":21900},{"$f":"D513*2*0.3","v":25020},28140,31260,33780,36270,38790,41280,547,586,703,813,906,1000]
["Nevada","Nevada0.35",{"$f":"C513*2*0.35","v":25550},{"$f":"D513*2*0.35","v":29189.999999999996},32830,36470,39410,42315,45255,48160,638,684,820,948,1057,1167]
["Nevada","Nevada0.4",{"$f":"C513*2*0.4","v":29200},{"$f":"D513*2*0.4","v":33360},37520,41680,45040,48360,51720,55040,730,782,938,1084,1209,1334]
["Nevada","Nevada0.45",{"$f":"C513*2*0.45","v":32850},{"$f":"D513*2*0.45","v":37530},42210,46890,50670,54405,58185,61920,821,879,1055,1219,1360,1501]
["Nevada","Nevada0.5",{"$f":"VLOOKUP($A:$A,'Max Funds & Unit Mix'!$L$86:$T$144,2,FALSE)","v":36500},{"$f":"VLOOKUP($A:$A,'Max Funds & Unit Mix'!$L$86:$T$144,3,FALSE)","v":41700},{"$f":"VLOOKUP($A:$A,'Max Funds & Unit Mix'!$L$86:$T$144,4,FALSE)","v":46900},{"$f":"VLOOKUP($A:$A,'Max Funds & Unit Mix'!$L$86:$T$144,5,FALSE)","v":52100},{"$f":"VLOOKUP($A:$A,'Max Funds & Unit Mix'!$L$86:$T$144,6,FALSE)","v":56300},{"$f":"VLOOKUP($A:$A,'Max Funds & Unit Mix'!$L$86:$T$144,7,FALSE)","v":60450},{"$f":"VLOOKUP($A:$A,'Max Funds & Unit Mix'!$L$86:$T$144,8,FALSE)","v":64650},{"$f":"VLOOKUP($A:$A,'Max Funds & Unit Mix'!$L$86:$T$144,9,FALSE)","v":68800},{"$f":"TRUNC(C513/12*0.3)","v":912},{"$f":"TRUNC((C513+D513)/2/12*0.3)","v":977},{"$f":"TRUNC((E513)/12*0.3)","v":1172},{"$f":"TRUNC(((F513+G513)/2)/12*0.3)","v":1355},{"$f":"TRUNC(H513/12*0.3)","v":1511},{"$f":"TRUNC(((I513+J513)/2)/12*0.3)","v":1668}]
["Nevada","Nevada0.55",{"$f":"C513*2*0.55","v":40150},{"$f":"D513*2*0.55","v":45870.000000000007},51590.000000000007,57310.000000000007,61930.000000000007,66495,71115,75680,{"$f":"TRUNC(C514/12*0.3)","v":1003},{"$f":"TRUNC((C514+D514)/2/12*0.3)","v":1075},{"$f":"TRUNC((E514)/12*0.3)","v":1289},{"$f":"TRUNC(((F514+G514)/2)/12*0.3)","v":1490},{"$f":"TRUNC(H514/12*0.3)","v":1662},{"$f":"TRUNC(((I514+J514)/2)/12*0.3)","v":1834}]
["Nevada","Nevada0.6",{"$f":"C513*2*0.6","v":43800},{"$f":"D513*2*0.6","v":50040},56280,62520,67560,72540,77580,82560,1095,1173,1407,1626,1813,2001]
["Nevada","Nevada0.65",{"$f":"C513*2*0.65","v":47450},{"$f":"D513*2*0.65","v":54210},60970,67730,73190,78585,84045,89440,1186,1270,1524,1761,1964,2168]
["Nevada","Nevada0.7",{"$f":"C513*2*0.7","v":51100},{"$f":"D513*2*0.7","v":58379.999999999993},65660,72940,78820,84630,90510,96320,1277,1368,1641,1897,2115,2335]
["Nevada","Nevada0.75",{"$f":"C513*2*0.75","v":54750},{"$f":"D513*2*0.75","v":62550},70350,78150,84450,90675,96975,103200,1368,1466,1758,2032,2266,2502]
["Nevada","Nevada0.8",{"$f":"C513*2*0.8","v":58400},{"$f":"D513*2*0.8","v":66720},75040,83360,90080,96720,103440,110080,1460,1564,1876,2168,2418,2669]
["Nevada","Nevada0.9",{"$f":"C513*2*0.9","v":65700},{"$f":"D513*2*0.9","v":75060},84420,93780,101340,108810,116370,123840,1642,1759,2110,2439,2720,3002]
["Nevada","Nevada1",{"$f":"C513*2","v":73000},{"$f":"D513*2","v":83400},93800,104200,112600,120900,129300,137600,{"$f":"K513*2","v":1824},{"$f":"L513*2","v":1954},2344,2710,3022,3336]
["Nevada","Nevada1.1",{"$f":"C513*2*1.1","v":80300},{"$f":"D513*2*1.1","v":91740.000000000015},103180.00000000001,114620.00000000001,123860.00000000001,132990,142230,151360,{"$f":"TRUNC(C522/12*0.3)","v":2007},{"$f":"TRUNC((C522+D522)/2/12*0.3)","v":2150},{"$f":"TRUNC((E522)/12*0.3)","v":2579},{"$f":"TRUNC(((F522+G522)/2)/12*0.3)","v":2981},{"$f":"TRUNC(H522/12*0.3)","v":3324},{"$f":"TRUNC(((I522+J522)/2)/12*0.3)","v":3669}]
["Nevada","Nevada1.2",{"$f":"C513*2*1.2","v":87600},{"$f":"D513*2*1.2","v":100080},112560,125040,135120,145080,155160,165120,2190,2346,2814,3252,3627,4003]
["Orange","Orange0.15",{"$f":"C531*2*0.15","v":15075},{"$f":"D531*2*0.15","v":17220},{"$f":"E531*2*0.15","v":19380},{"$f":"F531*2*0.15","v":21525},{"$f":"G531*2*0.15","v":23250},{"$f":"H531*2*0.15","v":24975},26700,28425,376,403,484,559,624,689]
["Orange","Orange0.2",{"$f":"C531*2*0.2","v":20100},{"$f":"D531*2*0.2","v":22960},25840,28700,31000,33300,35600,37900,502,538,646,746,832,918]
["Orange","Orange0.25",{"$f":"C531*2*0.25","v":25125},{"$f":"D531*2*0.25","v":28700},32300,35875,38750,41625,44500,47375,628,672,807,932,1040,1148]
["Orange","Orange0.3",{"$f":"C531*2*0.3","v":30150},{"$f":"D531*2*0.3","v":34440},38760,43050,46500,49950,53400,56850,753,807,969,1119,1248,1378]
["Orange","Orange0.35",{"$f":"C531*2*0.35","v":35175},{"$f":"D531*2*0.35","v":40180},45220,50225,54250,58274.999999999993,62299.999999999993,66325,879,941,1130,1305,1456,1607]
["Orange","Orange0.4",{"$f":"C531*2*0.4","v":40200},{"$f":"D531*2*0.4","v":45920},51680,57400,62000,66600,71200,75800,1005,1076,1292,1492,1665,1837]
["Orange","Orange0.45",{"$f":"C531*2*0.45","v":45225},{"$f":"D531*2*0.45","v":51660},58140,64575,69750,74925,80100,85275,1130,1211,1453,1679,1873,2067]
["Orange","Orange0.5",{"$f":"VLOOKUP($A:$A,'Max Funds & Unit Mix'!$L$86:$T$144,2,FALSE)","v":50250},{"$f":"VLOOKUP($A:$A,'Max Funds & Unit Mix'!$L$86:$T$144,3,FALSE)","v":57400},{"$f":"VLOOKUP($A:$A,'Max Funds & Unit Mix'!$L$86:$T$144,4,FALSE)","v":64600},{"$f":"VLOOKUP($A:$A,'Max Funds & Unit Mix'!$L$86:$T$144,5,FALSE)","v":71750},{"$f":"VLOOKUP($A:$A,'Max Funds & Unit Mix'!$L$86:$T$144,6,FALSE)","v":77500},{"$f":"VLOOKUP($A:$A,'Max Funds & Unit Mix'!$L$86:$T$144,7,FALSE)","v":83250},{"$f":"VLOOKUP($A:$A,'Max Funds & Unit Mix'!$L$86:$T$144,8,FALSE)","v":89000},{"$f":"VLOOKUP($A:$A,'Max Funds & Unit Mix'!$L$86:$T$144,9,FALSE)","v":94750},{"$f":"TRUNC(C531/12*0.3)","v":1256},{"$f":"TRUNC((C531+D531)/2/12*0.3)","v":1345},{"$f":"TRUNC((E531)/12*0.3)","v":1615},{"$f":"TRUNC(((F531+G531)/2)/12*0.3)","v":1865},{"$f":"TRUNC(H531/12*0.3)","v":2081},{"$f":"TRUNC(((I531+J531)/2)/12*0.3)","v":2296}]
["Orange","Orange0.55",{"$f":"C531*2*0.55","v":55275.000000000007},{"$f":"D531*2*0.55","v":63140.000000000007},71060,78925,85250,91575.000000000015,97900.000000000015,104225.00000000001,{"$f":"TRUNC(C532/12*0.3)","v":1381},{"$f":"TRUNC((C532+D532)/2/12*0.3)","v":1480},{"$f":"TRUNC((E532)/12*0.3)","v":1776},{"$f":"TRUNC(((F532+G532)/2)/12*0.3)","v":2052},{"$f":"TRUNC(H532/12*0.3)","v":2289},{"$f":"TRUNC(((I532+J532)/2)/12*0.3)","v":2526}]
["Orange","Orange0.6",{"$f":"C531*2*0.6","v":60300},{"$f":"D531*2*0.6","v":68880},77520,86100,93000,99900,106800,113700,1507,1614,1938,2238,2497,2756]
["Orange","Orange0.65",{"$f":"C531*2*0.65","v":65325},{"$f":"D531*2*0.65","v":74620},83980,93275,100750,108225,115700,123175,1633,1749,2099,2425,2705,2985]
["Orange","Orange0.7",{"$f":"C531*2*0.7","v":70350},{"$f":"D531*2*0.7","v":80360},90440,100450,108500,116549.99999999999,124599.99999999999,132650,1758,1883,2261,2611,2913,3215]
["Orange","Orange0.75",{"$f":"C531*2*0.75","v":75375},{"$f":"D531*2*0.75","v":86100},96900,107625,116250,124875,133500,142125,1884,2018,2422,2798,3121,3445]
["Orange","Orange0.8",{"$f":"C531*2*0.8","v":80400},{"$f":"D531*2*0.8","v":91840},103360,114800,124000,133200,142400,151600,2010,2153,2584,2985,3330,3675]
["Orange","Orange0.9",{"$f":"C531*2*0.9","v":90450},{"$f":"D531*2*0.9","v":103320},116280,129150,139500,149850,160200,170550,2261,2422,2907,3358,3746,4134]
["Orange","Orange1",{"$f":"C531*2","v":100500},{"$f":"D531*2","v":114800},129200,143500,155000,166500,178000,189500,{"$f":"K531*2","v":2512},{"$f":"L531*2","v":2690},3230,3730,4162,4592]
["Orange","Orange1.1",{"$f":"C531*2*1.1","v":110550.00000000001},{"$f":"D531*2*1.1","v":126280.00000000001},142120,157850,170500,183150.00000000003,195800.00000000003,208450.00000000003,{"$f":"TRUNC(C540/12*0.3)","v":2763},{"$f":"TRUNC((C540+D540)/2/12*0.3)","v":2960},{"$f":"TRUNC((E540)/12*0.3)","v":3553},{"$f":"TRUNC(((F540+G540)/2)/12*0.3)","v":4104},{"$f":"TRUNC(H540/12*0.3)","v":4578},{"$f":"TRUNC(((I540+J540)/2)/12*0.3)","v":5053}]
["Orange","Orange1.2",{"$f":"C531*2*1.2","v":120600},{"$f":"D531*2*1.2","v":137760},155040,172200,186000,199800,213600,227400,3015,3229,3876,4477,4995,5512]
["Placer","Placer0.15",{"$f":"C549*2*0.15","v":11265},{"$f":"D549*2*0.15","v":12870},{"$f":"E549*2*0.15","v":14475},{"$f":"F549*2*0.15","v":16080},{"$f":"G549*2*0.15","v":17370},{"$f":"H549*2*0.15","v":18660},19950,21240,281,301,361,418,466,514]
["Placer","Placer0.2",{"$f":"C549*2*0.2","v":15020},{"$f":"D549*2*0.2","v":17160},19300,21440,23160,24880,26600,28320,375,402,482,557,622,686]
["Placer","Placer0.25",{"$f":"C549*2*0.25","v":18775},{"$f":"D549*2*0.25","v":21450},24125,26800,28950,31100,33250,35400,469,502,603,696,777,858]
["Placer","Placer0.3",{"$f":"C549*2*0.3","v":22530},{"$f":"D549*2*0.3","v":25740},28950,32160,34740,37320,39900,42480,563,603,723,836,933,1029]
["Placer","Placer0.35",{"$f":"C549*2*0.35","v":26285},{"$f":"D549*2*0.35","v":30029.999999999996},33775,37520,40530,43540,46550,49560,657,703,844,975,1088,1201]
["Placer","Placer0.4",{"$f":"C549*2*0.4","v":30040},{"$f":"D549*2*0.4","v":34320},38600,42880,46320,49760,53200,56640,751,804,965,1115,1244,1373]
["Placer","Placer0.45",{"$f":"C549*2*0.45","v":33795},{"$f":"D549*2*0.45","v":38610},43425,48240,52110,55980,59850,63720,844,905,1085,1254,1399,1544]
["Placer","Placer0.5",{"$f":"VLOOKUP($A:$A,'Max Funds & Unit Mix'!$L$86:$T$144,2,FALSE)","v":37550},{"$f":"VLOOKUP($A:$A,'Max Funds & Unit Mix'!$L$86:$T$144,3,FALSE)","v":42900},{"$f":"VLOOKUP($A:$A,'Max Funds & Unit Mix'!$L$86:$T$144,4,FALSE)","v":48250},{"$f":"VLOOKUP($A:$A,'Max Funds & Unit Mix'!$L$86:$T$144,5,FALSE)","v":53600},{"$f":"VLOOKUP($A:$A,'Max Funds & Unit Mix'!$L$86:$T$144,6,FALSE)","v":57900},{"$f":"VLOOKUP($A:$A,'Max Funds & Unit Mix'!$L$86:$T$144,7,FALSE)","v":62200},{"$f":"VLOOKUP($A:$A,'Max Funds & Unit Mix'!$L$86:$T$144,8,FALSE)","v":66500},{"$f":"VLOOKUP($A:$A,'Max Funds & Unit Mix'!$L$86:$T$144,9,FALSE)","v":70800},{"$f":"TRUNC(C549/12*0.3)","v":938},{"$f":"TRUNC((C549+D549)/2/12*0.3)","v":1005},{"$f":"TRUNC((E549)/12*0.3)","v":1206},{"$f":"TRUNC(((F549+G549)/2)/12*0.3)","v":1393},{"$f":"TRUNC(H549/12*0.3)","v":1555},{"$f":"TRUNC(((I549+J549)/2)/12*0.3)","v":1716}]
["Placer","Placer0.55",{"$f":"C549*2*0.55","v":41305},{"$f":"D549*2*0.55","v":47190.000000000007},53075.000000000007,58960.000000000007,63690.000000000007,68420,73150,77880,{"$f":"TRUNC(C550/12*0.3)","v":1032},{"$f":"TRUNC((C550+D550)/2/12*0.3)","v":1106},{"$f":"TRUNC((E550)/12*0.3)","v":1326},{"$f":"TRUNC(((F550+G550)/2)/12*0.3)","v":1533},{"$f":"TRUNC(H550/12*0.3)","v":1710},{"$f":"TRUNC(((I550+J550)/2)/12*0.3)","v":1887}]
["Placer","Placer0.6",{"$f":"C549*2*0.6","v":45060},{"$f":"D549*2*0.6","v":51480},57900,64320,69480,74640,79800,84960,1126,1206,1447,1672,1866,2059]
["Placer","Placer0.65",{"$f":"C549*2*0.65","v":48815},{"$f":"D549*2*0.65","v":55770},62725,69680,75270,80860,86450,92040,1220,1307,1568,1811,2021,2231]
["Placer","Placer0.7",{"$f":"C549*2*0.7","v":52570},{"$f":"D549*2*0.7","v":60059.999999999993},67550,75040,81060,87080,93100,99120,1314,1407,1688,1951,2177,2402]
["Placer","Placer0.75",{"$f":"C549*2*0.75","v":56325},{"$f":"D549*2*0.75","v":64350},72375,80400,86850,93300,99750,106200,1408,1508,1809,2090,2332,2574]
["Placer","Placer0.8",{"$f":"C549*2*0.8","v":60080},{"$f":"D549*2*0.8","v":68640},77200,85760,92640,99520,106400,113280,1502,1609,1930,2230,2488,2746]
["Placer","Placer0.9",{"$f":"C549*2*0.9","v":67590},{"$f":"D549*2*0.9","v":77220},86850,96480,104220,111960,119700,127440,1689,1810,2171,2508,2799,3089]
["Placer","Placer1",{"$f":"C549*2","v":75100},{"$f":"D549*2","v":85800},96500,107200,115800,124400,133000,141600,{"$f":"K549*2","v":1876},{"$f":"L549*2","v":2010},2412,2786,3110,3432]
["Placer","Placer1.1",{"$f":"C549*2*1.1","v":82610},{"$f":"D549*2*1.1","v":94380.000000000015},106150.00000000001,117920.00000000001,127380.00000000001,136840,146300,155760,{"$f":"TRUNC(C558/12*0.3)","v":2065},{"$f":"TRUNC((C558+D558)/2/12*0.3)","v":2212},{"$f":"TRUNC((E558)/12*0.3)","v":2653},{"$f":"TRUNC(((F558+G558)/2)/12*0.3)","v":3066},{"$f":"TRUNC(H558/12*0.3)","v":3421},{"$f":"TRUNC(((I558+J558)/2)/12*0.3)","v":3775}]
["Placer","Placer1.2",{"$f":"C549*2*1.2","v":90120},{"$f":"D549*2*1.2","v":102960},115800,128640,138960,149280,159600,169920,2253,2413,2895,3345,3732,4119]
["Plumas","Plumas0.15",{"$f":"C567*2*0.15","v":8805},{"$f":"D567*2*0.15","v":10065},{"$f":"E567*2*0.15","v":11325},{"$f":"F567*2*0.15","v":12570},{"$f":"G567*2*0.15","v":13590},{"$f":"H567*2*0.15","v":14595},15600,16605,220,235,283,327,364,402]
["Plumas","Plumas0.2",{"$f":"C567*2*0.2","v":11740},{"$f":"D567*2*0.2","v":13420},15100,16760,18120,19460,20800,22140,293,314,377,436,486,536]
["Plumas","Plumas0.25",{"$f":"C567*2*0.25","v":14675},{"$f":"D567*2*0.25","v":16775},18875,20950,22650,24325,26000,27675,366,393,471,545,608,670]
["Plumas","Plumas0.3",{"$f":"C567*2*0.3","v":17610},{"$f":"D567*2*0.3","v":20130},22650,25140,27180,29190,31200,33210,440,471,566,654,729,805]
["Plumas","Plumas0.35",{"$f":"C567*2*0.35","v":20545},{"$f":"D567*2*0.35","v":23485},26425,29329.999999999996,31709.999999999996,34055,36400,38745,513,550,660,763,851,939]
["Plumas","Plumas0.4",{"$f":"C567*2*0.4","v":23480},{"$f":"D567*2*0.4","v":26840},30200,33520,36240,38920,41600,44280,587,629,755,872,973,1073]
["Plumas","Plumas0.45",{"$f":"C567*2*0.45","v":26415},{"$f":"D567*2*0.45","v":30195},33975,37710,40770,43785,46800,49815,660,707,849,981,1094,1207]
["Plumas","Plumas0.5",{"$f":"VLOOKUP($A:$A,'Max Funds & Unit Mix'!$L$86:$T$144,2,FALSE)","v":29350},{"$f":"VLOOKUP($A:$A,'Max Funds & Unit Mix'!$L$86:$T$144,3,FALSE)","v":33550},{"$f":"VLOOKUP($A:$A,'Max Funds & Unit Mix'!$L$86:$T$144,4,FALSE)","v":37750},{"$f":"VLOOKUP($A:$A,'Max Funds & Unit Mix'!$L$86:$T$144,5,FALSE)","v":41900},{"$f":"VLOOKUP($A:$A,'Max Funds & Unit Mix'!$L$86:$T$144,6,FALSE)","v":45300},{"$f":"VLOOKUP($A:$A,'Max Funds & Unit Mix'!$L$86:$T$144,7,FALSE)","v":48650},{"$f":"VLOOKUP($A:$A,'Max Funds & Unit Mix'!$L$86:$T$144,8,FALSE)","v":52000},{"$f":"VLOOKUP($A:$A,'Max Funds & Unit Mix'!$L$86:$T$144,9,FALSE)","v":55350},{"$f":"TRUNC(C567/12*0.3)","v":733},{"$f":"TRUNC((C567+D567)/2/12*0.3)","v":786},{"$f":"TRUNC((E567)/12*0.3)","v":943},{"$f":"TRUNC(((F567+G567)/2)/12*0.3)","v":1090},{"$f":"TRUNC(H567/12*0.3)","v":1216},{"$f":"TRUNC(((I567+J567)/2)/12*0.3)","v":1341}]
["Plumas","Plumas0.55",{"$f":"C567*2*0.55","v":32285.000000000004},{"$f":"D567*2*0.55","v":36905},41525,46090.000000000007,49830.000000000007,53515.000000000007,57200.000000000007,60885.000000000007,{"$f":"TRUNC(C568/12*0.3)","v":807},{"$f":"TRUNC((C568+D568)/2/12*0.3)","v":864},{"$f":"TRUNC((E568)/12*0.3)","v":1038},{"$f":"TRUNC(((F568+G568)/2)/12*0.3)","v":1199},{"$f":"TRUNC(H568/12*0.3)","v":1337},{"$f":"TRUNC(((I568+J568)/2)/12*0.3)","v":1476}]
["Plumas","Plumas0.6",{"$f":"C567*2*0.6","v":35220},{"$f":"D567*2*0.6","v":40260},45300,50280,54360,58380,62400,66420,880,943,1132,1308,1459,1610]
["Plumas","Plumas0.65",{"$f":"C567*2*0.65","v":38155},{"$f":"D567*2*0.65","v":43615},49075,54470,58890,63245,67600,71955,953,1022,1226,1417,1581,1744]
["Plumas","Plumas0.7",{"$f":"C567*2*0.7","v":41090},{"$f":"D567*2*0.7","v":46970},52850,58659.999999999993,63419.999999999993,68110,72800,77490,1027,1100,1321,1526,1702,1878]
["Plumas","Plumas0.75",{"$f":"C567*2*0.75","v":44025},{"$f":"D567*2*0.75","v":50325},56625,62850,67950,72975,78000,83025,1100,1179,1415,1635,1824,2012]
["Plumas","Plumas0.8",{"$f":"C567*2*0.8","v":46960},{"$f":"D567*2*0.8","v":53680},60400,67040,72480,77840,83200,88560,1174,1258,1510,1744,1946,2147]
["Plumas","Plumas0.9",{"$f":"C567*2*0.9","v":52830},{"$f":"D567*2*0.9","v":60390},67950,75420,81540,87570,93600,99630,1320,1415,1698,1962,2189,2415]
["Plumas","Plumas1",{"$f":"C567*2","v":58700},{"$f":"D567*2","v":67100},75500,83800,90600,97300,104000,110700,{"$f":"K567*2","v":1466},{"$f":"L567*2","v":1572},1886,2180,2432,2682]
["Plumas","Plumas1.1",{"$f":"C567*2*1.1","v":64570.000000000007},{"$f":"D567*2*1.1","v":73810},83050,92180.000000000015,99660.000000000015,107030.00000000001,114400.00000000001,121770.00000000001,{"$f":"TRUNC(C576/12*0.3)","v":1614},{"$f":"TRUNC((C576+D576)/2/12*0.3)","v":1729},{"$f":"TRUNC((E576)/12*0.3)","v":2076},{"$f":"TRUNC(((F576+G576)/2)/12*0.3)","v":2398},{"$f":"TRUNC(H576/12*0.3)","v":2675},{"$f":"TRUNC(((I576+J576)/2)/12*0.3)","v":2952}]
["Plumas","Plumas1.2",{"$f":"C567*2*1.2","v":70440},{"$f":"D567*2*1.2","v":80520},90600,100560,108720,116760,124800,132840,1761,1887,2265,2616,2919,3220]
["Riverside","Riverside0.15",{"$f":"C585*2*0.15","v":9795},{"$f":"D585*2*0.15","v":11190},{"$f":"E585*2*0.15","v":12585},{"$f":"F585*2*0.15","v":13980},{"$f":"G585*2*0.15","v":15105},{"$f":"H585*2*0.15","v":16230},17340,18465,244,262,314,363,405,447]
["Riverside","Riverside0.2",{"$f":"C585*2*0.2","v":13060},{"$f":"D585*2*0.2","v":14920},16780,18640,20140,21640,23120,24620,326,349,419,484,541,596]
["Riverside","Riverside0.25",{"$f":"C585*2*0.25","v":16325},{"$f":"D585*2*0.25","v":18650},20975,23300,25175,27050,28900,30775,408,437,524,605,676,745]
["Riverside","Riverside0.3",{"$f":"C585*2*0.3","v":19590},{"$f":"D585*2*0.3","v":22380},25170,27960,30210,32460,34680,36930,489,524,629,727,811,895]
["Riverside","Riverside0.35",{"$f":"C585*2*0.35","v":22855},{"$f":"D585*2*0.35","v":26110},29364.999999999996,32619.999999999996,35245,37870,40460,43085,571,612,734,848,946,1044]
["Riverside","Riverside0.4",{"$f":"C585*2*0.4","v":26120},{"$f":"D585*2*0.4","v":29840},33560,37280,40280,43280,46240,49240,653,699,839,969,1082,1193]
["Riverside","Riverside0.45",{"$f":"C585*2*0.45","v":29385},{"$f":"D585*2*0.45","v":33570},37755,41940,45315,48690,52020,55395,734,786,943,1090,1217,1342]
["Riverside","Riverside0.5",{"$f":"VLOOKUP($A:$A,'Max Funds & Unit Mix'!$L$86:$T$144,2,FALSE)","v":32650},{"$f":"VLOOKUP($A:$A,'Max Funds & Unit Mix'!$L$86:$T$144,3,FALSE)","v":37300},{"$f":"VLOOKUP($A:$A,'Max Funds & Unit Mix'!$L$86:$T$144,4,FALSE)","v":41950},{"$f":"VLOOKUP($A:$A,'Max Funds & Unit Mix'!$L$86:$T$144,5,FALSE)","v":46600},{"$f":"VLOOKUP($A:$A,'Max Funds & Unit Mix'!$L$86:$T$144,6,FALSE)","v":50350},{"$f":"VLOOKUP($A:$A,'Max Funds & Unit Mix'!$L$86:$T$144,7,FALSE)","v":54100},{"$f":"VLOOKUP($A:$A,'Max Funds & Unit Mix'!$L$86:$T$144,8,FALSE)","v":57800},{"$f":"VLOOKUP($A:$A,'Max Funds & Unit Mix'!$L$86:$T$144,9,FALSE)","v":61550},{"$f":"TRUNC(C585/12*0.3)","v":816},{"$f":"TRUNC((C585+D585)/2/12*0.3)","v":874},{"$f":"TRUNC((E585)/12*0.3)","v":1048},{"$f":"TRUNC(((F585+G585)/2)/12*0.3)","v":1211},{"$f":"TRUNC(H585/12*0.3)","v":1352},{"$f":"TRUNC(((I585+J585)/2)/12*0.3)","v":1491}]
["Riverside","Riverside0.55",{"$f":"C585*2*0.55","v":35915},{"$f":"D585*2*0.55","v":41030},46145.000000000007,51260.000000000007,55385.000000000007,59510.000000000007,63580.000000000007,67705,{"$f":"TRUNC(C586/12*0.3)","v":897},{"$f":"TRUNC((C586+D586)/2/12*0.3)","v":961},{"$f":"TRUNC((E586)/12*0.3)","v":1153},{"$f":"TRUNC(((F586+G586)/2)/12*0.3)","v":1333},{"$f":"TRUNC(H586/12*0.3)","v":1487},{"$f":"TRUNC(((I586+J586)/2)/12*0.3)","v":1641}]
["Riverside","Riverside0.6",{"$f":"C585*2*0.6","v":39180},{"$f":"D585*2*0.6","v":44760},50340,55920,60420,64920,69360,73860,979,1049,1258,1454,1623,1790]
["Riverside","Riverside0.65",{"$f":"C585*2*0.65","v":42445},{"$f":"D585*2*0.65","v":48490},54535,60580,65455,70330,75140,80015,1061,1136,1363,1575,1758,1939]
["Riverside","Riverside0.7",{"$f":"C585*2*0.7","v":45710},{"$f":"D585*2*0.7","v":52220},58729.999999999993,65239.999999999993,70490,75740,80920,86170,1142,1224,1468,1696,1893,2088]
["Riverside","Riverside0.75",{"$f":"C585*2*0.75","v":48975},{"$f":"D585*2*0.75","v":55950},62925,69900,75525,81150,86700,92325,1224,1311,1573,1817,2028,2237]
["Riverside","Riverside0.8",{"$f":"C585*2*0.8","v":52240},{"$f":"D585*2*0.8","v":59680},67120,74560,80560,86560,92480,98480,1306,1399,1678,1939,2164,2387]
["Riverside","Riverside0.9",{"$f":"C585*2*0.9","v":58770},{"$f":"D585*2*0.9","v":67140},75510,83880,90630,97380,104040,110790,1469,1573,1887,2181,2434,2685]
["Riverside","Riverside1",{"$f":"C585*2","v":65300},{"$f":"D585*2","v":74600},83900,93200,100700,108200,115600,123100,{"$f":"K585*2","v":1632},{"$f":"L585*2","v":1748},2096,2422,2704,2982]
["Riverside","Riverside1.1",{"$f":"C585*2*1.1","v":71830},{"$f":"D585*2*1.1","v":82060},92290.000000000015,102520.00000000001,110770.00000000001,119020.00000000001,127160.00000000001,135410,{"$f":"TRUNC(C594/12*0.3)","v":1795},{"$f":"TRUNC((C594+D594)/2/12*0.3)","v":1923},{"$f":"TRUNC((E594)/12*0.3)","v":2307},{"$f":"TRUNC(((F594+G594)/2)/12*0.3)","v":2666},{"$f":"TRUNC(H594/12*0.3)","v":2975},{"$f":"TRUNC(((I594+J594)/2)/12*0.3)","v":3282}]
["Riverside","Riverside1.2",{"$f":"C585*2*1.2","v":78360},{"$f":"D585*2*1.2","v":89520},100680,111840,120840,129840,138720,147720,1959,2098,2517,2908,3246,3580]
["Sacramento","Sacramento0.15",{"$f":"C603*2*0.15","v":11265},{"$f":"D603*2*0.15","v":12870},{"$f":"E603*2*0.15","v":14475},{"$f":"F603*2*0.15","v":16080},{"$f":"G603*2*0.15","v":17370},{"$f":"H603*2*0.15","v":18660},19950,21240,281,301,361,418,466,514]
["Sacramento","Sacramento0.2",{"$f":"C603*2*0.2","v":15020},{"$f":"D603*2*0.2","v":17160},19300,21440,23160,24880,26600,28320,375,402,482,557,622,686]
["Sacramento","Sacramento0.25",{"$f":"C603*2*0.25","v":18775},{"$f":"D603*2*0.25","v":21450},24125,26800,28950,31100,33250,35400,469,502,603,696,777,858]
["Sacramento","Sacramento0.3",{"$f":"C603*2*0.3","v":22530},{"$f":"D603*2*0.3","v":25740},28950,32160,34740,37320,39900,42480,563,603,723,836,933,1029]
["Sacramento","Sacramento0.35",{"$f":"C603*2*0.35","v":26285},{"$f":"D603*2*0.35","v":30029.999999999996},33775,37520,40530,43540,46550,49560,657,703,844,975,1088,1201]
["Sacramento","Sacramento0.4",{"$f":"C603*2*0.4","v":30040},{"$f":"D603*2*0.4","v":34320},38600,42880,46320,49760,53200,56640,751,804,965,1115,1244,1373]
["Sacramento","Sacramento0.45",{"$f":"C603*2*0.45","v":33795},{"$f":"D603*2*0.45","v":38610},43425,48240,52110,55980,59850,63720,844,905,1085,1254,1399,1544]
["Sacramento","Sacramento0.5",{"$f":"VLOOKUP($A:$A,'Max Funds & Unit Mix'!$L$86:$T$144,2,FALSE)","v":37550},{"$f":"VLOOKUP($A:$A,'Max Funds & Unit Mix'!$L$86:$T$144,3,FALSE)","v":42900},{"$f":"VLOOKUP($A:$A,'Max Funds & Unit Mix'!$L$86:$T$144,4,FALSE)","v":48250},{"$f":"VLOOKUP($A:$A,'Max Funds & Unit Mix'!$L$86:$T$144,5,FALSE)","v":53600},{"$f":"VLOOKUP($A:$A,'Max Funds & Unit Mix'!$L$86:$T$144,6,FALSE)","v":57900},{"$f":"VLOOKUP($A:$A,'Max Funds & Unit Mix'!$L$86:$T$144,7,FALSE)","v":62200},{"$f":"VLOOKUP($A:$A,'Max Funds & Unit Mix'!$L$86:$T$144,8,FALSE)","v":66500},{"$f":"VLOOKUP($A:$A,'Max Funds & Unit Mix'!$L$86:$T$144,9,FALSE)","v":70800},{"$f":"TRUNC(C603/12*0.3)","v":938},{"$f":"TRUNC((C603+D603)/2/12*0.3)","v":1005},{"$f":"TRUNC((E603)/12*0.3)","v":1206},{"$f":"TRUNC(((F603+G603)/2)/12*0.3)","v":1393},{"$f":"TRUNC(H603/12*0.3)","v":1555},{"$f":"TRUNC(((I603+J603)/2)/12*0.3)","v":1716}]
["Sacramento","Sacramento0.55",{"$f":"C603*2*0.55","v":41305},{"$f":"D603*2*0.55","v":47190.000000000007},53075.000000000007,58960.000000000007,63690.000000000007,68420,73150,77880,{"$f":"TRUNC(C604/12*0.3)","v":1032},{"$f":"TRUNC((C604+D604)/2/12*0.3)","v":1106},{"$f":"TRUNC((E604)/12*0.3)","v":1326},{"$f":"TRUNC(((F604+G604)/2)/12*0.3)","v":1533},{"$f":"TRUNC(H604/12*0.3)","v":1710},{"$f":"TRUNC(((I604+J604)/2)/12*0.3)","v":1887}]
["Sacramento","Sacramento0.6",{"$f":"C603*2*0.6","v":45060},{"$f":"D603*2*0.6","v":51480},57900,64320,69480,74640,79800,84960,1126,1206,1447,1672,1866,2059]
["Sacramento","Sacramento0.65",{"$f":"C603*2*0.65","v":48815},{"$f":"D603*2*0.65","v":55770},62725,69680,75270,80860,86450,92040,1220,1307,1568,1811,2021,2231]
["Sacramento","Sacramento0.7",{"$f":"C603*2*0.7","v":52570},{"$f":"D603*2*0.7","v":60059.999999999993},67550,75040,81060,87080,93100,99120,1314,1407,1688,1951,2177,2402]
["Sacramento","Sacramento0.75",{"$f":"C603*2*0.75","v":56325},{"$f":"D603*2*0.75","v":64350},72375,80400,86850,93300,99750,106200,1408,1508,1809,2090,2332,2574]
["Sacramento","Sacramento0.8",{"$f":"C603*2*0.8","v":60080},{"$f":"D603*2*0.8","v":68640},77200,85760,92640,99520,106400,113280,1502,1609,1930,2230,2488,2746]
["Sacramento","Sacramento0.9",{"$f":"C603*2*0.9","v":67590},{"$f":"D603*2*0.9","v":77220},86850,96480,104220,111960,119700,127440,1689,1810,2171,2508,2799,3089]
["Sacramento","Sacramento1",{"$f":"C603*2","v":75100},{"$f":"D603*2","v":85800},96500,107200,115800,124400,133000,141600,{"$f":"K603*2","v":1876},{"$f":"L603*2","v":2010},2412,2786,3110,3432]
["Sacramento","Sacramento1.1",{"$f":"C603*2*1.1","v":82610},{"$f":"D603*2*1.1","v":94380.000000000015},106150.00000000001,117920.00000000001,127380.00000000001,136840,146300,155760,{"$f":"TRUNC(C612/12*0.3)","v":2065},{"$f":"TRUNC((C612+D612)/2/12*0.3)","v":2212},{"$f":"TRUNC((E612)/12*0.3)","v":2653},{"$f":"TRUNC(((F612+G612)/2)/12*0.3)","v":3066},{"$f":"TRUNC(H612/12*0.3)","v":3421},{"$f":"TRUNC(((I612+J612)/2)/12*0.3)","v":3775}]
["Sacramento","Sacramento1.2",{"$f":"C603*2*1.2","v":90120},{"$f":"D603*2*1.2","v":102960},115800,128640,138960,149280,159600,169920,2253,2413,2895,3345,3732,4119]
["San Benito","San Benito0.15",{"$f":"C621*2*0.15","v":11700},{"$f":"D621*2*0.15","v":13365},{"$f":"E621*2*0.15","v":15030},{"$f":"F621*2*0.15","v":16695},{"$f":"G621*2*0.15","v":18045},{"$f":"H621*2*0.15","v":19380},20715,22050,292,313,375,434,484,534]
["San Benito","San Benito0.2",{"$f":"C621*2*0.2","v":15600},{"$f":"D621*2*0.2","v":17820},20040,22260,24060,25840,27620,29400,390,417,501,579,646,712]
["San Benito","San Benito0.25",{"$f":"C621*2*0.25","v":19500},{"$f":"D621*2*0.25","v":22275},25050,27825,30075,32300,34525,36750,487,522,626,723,807,890]
["San Benito","San Benito0.3",{"$f":"C621*2*0.3","v":23400},{"$f":"D621*2*0.3","v":26730},30060,33390,36090,38760,41430,44100,585,626,751,868,969,1069]
["San Benito","San Benito0.35",{"$f":"C621*2*0.35","v":27300},{"$f":"D621*2*0.35","v":31184.999999999996},35070,38955,42105,45220,48335,51450,682,731,876,1013,1130,1247]
["San Benito","San Benito0.4",{"$f":"C621*2*0.4","v":31200},{"$f":"D621*2*0.4","v":35640},40080,44520,48120,51680,55240,58800,780,835,1002,1158,1292,1425]
["San Benito","San Benito0.45",{"$f":"C621*2*0.45","v":35100},{"$f":"D621*2*0.45","v":40095},45090,50085,54135,58140,62145,66150,877,939,1127,1302,1453,1603]
["San Benito","San Benito0.5",{"$f":"VLOOKUP($A:$A,'Max Funds & Unit Mix'!$L$86:$T$144,2,FALSE)","v":39000},{"$f":"VLOOKUP($A:$A,'Max Funds & Unit Mix'!$L$86:$T$144,3,FALSE)","v":44550},{"$f":"VLOOKUP($A:$A,'Max Funds & Unit Mix'!$L$86:$T$144,4,FALSE)","v":50100},{"$f":"VLOOKUP($A:$A,'Max Funds & Unit Mix'!$L$86:$T$144,5,FALSE)","v":55650},{"$f":"VLOOKUP($A:$A,'Max Funds & Unit Mix'!$L$86:$T$144,6,FALSE)","v":60150},{"$f":"VLOOKUP($A:$A,'Max Funds & Unit Mix'!$L$86:$T$144,7,FALSE)","v":64600},{"$f":"VLOOKUP($A:$A,'Max Funds & Unit Mix'!$L$86:$T$144,8,FALSE)","v":69050},{"$f":"VLOOKUP($A:$A,'Max Funds & Unit Mix'!$L$86:$T$144,9,FALSE)","v":73500},{"$f":"TRUNC(C621/12*0.3)","v":975},{"$f":"TRUNC((C621+D621)/2/12*0.3)","v":1044},{"$f":"TRUNC((E621)/12*0.3)","v":1252},{"$f":"TRUNC(((F621+G621)/2)/12*0.3)","v":1447},{"$f":"TRUNC(H621/12*0.3)","v":1615},{"$f":"TRUNC(((I621+J621)/2)/12*0.3)","v":1781}]
["San Benito","San Benito0.55",{"$f":"C621*2*0.55","v":42900},{"$f":"D621*2*0.55","v":49005.000000000007},55110.000000000007,61215.000000000007,66165,71060,75955,80850,{"$f":"TRUNC(C622/12*0.3)","v":1072},{"$f":"TRUNC((C622+D622)/2/12*0.3)","v":1148},{"$f":"TRUNC((E622)/12*0.3)","v":1377},{"$f":"TRUNC(((F622+G622)/2)/12*0.3)","v":1592},{"$f":"TRUNC(H622/12*0.3)","v":1776},{"$f":"TRUNC(((I622+J622)/2)/12*0.3)","v":1960}]
["San Benito","San Benito0.6",{"$f":"C621*2*0.6","v":46800},{"$f":"D621*2*0.6","v":53460},60120,66780,72180,77520,82860,88200,1170,1253,1503,1737,1938,2138]
["San Benito","San Benito0.65",{"$f":"C621*2*0.65","v":50700},{"$f":"D621*2*0.65","v":57915},65130,72345,78195,83980,89765,95550,1267,1357,1628,1881,2099,2316]
["San Benito","San Benito0.7",{"$f":"C621*2*0.7","v":54600},{"$f":"D621*2*0.7","v":62369.999999999993},70140,77910,84210,90440,96670,102900,1365,1462,1753,2026,2261,2494]
["San Benito","San Benito0.75",{"$f":"C621*2*0.75","v":58500},{"$f":"D621*2*0.75","v":66825},75150,83475,90225,96900,103575,110250,1462,1566,1878,2171,2422,2672]
["San Benito","San Benito0.8",{"$f":"C621*2*0.8","v":62400},{"$f":"D621*2*0.8","v":71280},80160,89040,96240,103360,110480,117600,1560,1671,2004,2316,2584,2851]
["San Benito","San Benito0.9",{"$f":"C621*2*0.9","v":70200},{"$f":"D621*2*0.9","v":80190},90180,100170,108270,116280,124290,132300,1755,1879,2254,2605,2907,3207]
["San Benito","San Benito1",{"$f":"C621*2","v":78000},{"$f":"D621*2","v":89100},100200,111300,120300,129200,138100,147000,{"$f":"K621*2","v":1950},{"$f":"L621*2","v":2088},2504,2894,3230,3562]
["San Benito","San Benito1.1",{"$f":"C621*2*1.1","v":85800},{"$f":"D621*2*1.1","v":98010.000000000015},110220.00000000001,122430.00000000001,132330,142120,151910,161700,{"$f":"TRUNC(C630/12*0.3)","v":2145},{"$f":"TRUNC((C630+D630)/2/12*0.3)","v":2297},{"$f":"TRUNC((E630)/12*0.3)","v":2755},{"$f":"TRUNC(((F630+G630)/2)/12*0.3)","v":3184},{"$f":"TRUNC(H630/12*0.3)","v":3553},{"$f":"TRUNC(((I630+J630)/2)/12*0.3)","v":3920}]
["San Benito","San Benito1.2",{"$f":"C621*2*1.2","v":93600},{"$f":"D621*2*1.2","v":106920},120240,133560,144360,155040,165720,176400,2340,2506,3006,3474,3876,4276]
["San Bernardino","San Bernardino0.15",{"$f":"C639*2*0.15","v":9795},{"$f":"D639*2*0.15","v":11190},{"$f":"E639*2*0.15","v":12585},{"$f":"F639*2*0.15","v":13980},{"$f":"G639*2*0.15","v":15105},{"$f":"H639*2*0.15","v":16230},17340,18465,244,262,314,363,405,447]
["San Bernardino","San Bernardino0.2",{"$f":"C639*2*0.2","v":13060},{"$f":"D639*2*0.2","v":14920},16780,18640,20140,21640,23120,24620,326,349,419,484,541,596]
["San Bernardino","San Bernardino0.25",{"$f":"C639*2*0.25","v":16325},{"$f":"D639*2*0.25","v":18650},20975,23300,25175,27050,28900,30775,408,437,524,605,676,745]
["San Bernardino","San Bernardino0.3",{"$f":"C639*2*0.3","v":19590},{"$f":"D639*2*0.3","v":22380},25170,27960,30210,32460,34680,36930,489,524,629,727,811,895]
["San Bernardino","San Bernardino0.35",{"$f":"C639*2*0.35","v":22855},{"$f":"D639*2*0.35","v":26110},29364.999999999996,32619.999999999996,35245,37870,40460,43085,571,612,734,848,946,1044]
["San Bernardino","San Bernardino0.4",{"$f":"C639*2*0.4","v":26120},{"$f":"D639*2*0.4","v":29840},33560,37280,40280,43280,46240,49240,653,699,839,969,1082,1193]
["San Bernardino","San Bernardino0.45",{"$f":"C639*2*0.45","v":29385},{"$f":"D639*2*0.45","v":33570},37755,41940,45315,48690,52020,55395,734,786,943,1090,1217,1342]
["San Bernardino","San Bernardino0.5",{"$f":"VLOOKUP($A:$A,'Max Funds & Unit Mix'!$L$86:$T$144,2,FALSE)","v":32650},{"$f":"VLOOKUP($A:$A,'Max Funds & Unit Mix'!$L$86:$T$144,3,FALSE)","v":37300},{"$f":"VLOOKUP($A:$A,'Max Funds & Unit Mix'!$L$86:$T$144,4,FALSE)","v":41950},{"$f":"VLOOKUP($A:$A,'Max Funds & Unit Mix'!$L$86:$T$144,5,FALSE)","v":46600},{"$f":"VLOOKUP($A:$A,'Max Funds & Unit Mix'!$L$86:$T$144,6,FALSE)","v":50350},{"$f":"VLOOKUP($A:$A,'Max Funds & Unit Mix'!$L$86:$T$144,7,FALSE)","v":54100},{"$f":"VLOOKUP($A:$A,'Max Funds & Unit Mix'!$L$86:$T$144,8,FALSE)","v":57800},{"$f":"VLOOKUP($A:$A,'Max Funds & Unit Mix'!$L$86:$T$144,9,FALSE)","v":61550},{"$f":"TRUNC(C639/12*0.3)","v":816},{"$f":"TRUNC((C639+D639)/2/12*0.3)","v":874},{"$f":"TRUNC((E639)/12*0.3)","v":1048},{"$f":"TRUNC(((F639+G639)/2)/12*0.3)","v":1211},{"$f":"TRUNC(H639/12*0.3)","v":1352},{"$f":"TRUNC(((I639+J639)/2)/12*0.3)","v":1491}]
["San Bernardino","San Bernardino0.55",{"$f":"C639*2*0.55","v":35915},{"$f":"D639*2*0.55","v":41030},46145.000000000007,51260.000000000007,55385.000000000007,59510.000000000007,63580.000000000007,67705,{"$f":"TRUNC(C640/12*0.3)","v":897},{"$f":"TRUNC((C640+D640)/2/12*0.3)","v":961},{"$f":"TRUNC((E640)/12*0.3)","v":1153},{"$f":"TRUNC(((F640+G640)/2)/12*0.3)","v":1333},{"$f":"TRUNC(H640/12*0.3)","v":1487},{"$f":"TRUNC(((I640+J640)/2)/12*0.3)","v":1641}]
["San Bernardino","San Bernardino0.6",{"$f":"C639*2*0.6","v":39180},{"$f":"D639*2*0.6","v":44760},50340,55920,60420,64920,69360,73860,979,1049,1258,1454,1623,1790]
["San Bernardino","San Bernardino0.65",{"$f":"C639*2*0.65","v":42445},{"$f":"D639*2*0.65","v":48490},54535,60580,65455,70330,75140,80015,1061,1136,1363,1575,1758,1939]
["San Bernardino","San Bernardino0.7",{"$f":"C639*2*0.7","v":45710},{"$f":"D639*2*0.7","v":52220},58729.999999999993,65239.999999999993,70490,75740,80920,86170,1142,1224,1468,1696,1893,2088]
["San Bernardino","San Bernardino0.75",{"$f":"C639*2*0.75","v":48975},{"$f":"D639*2*0.75","v":55950},62925,69900,75525,81150,86700,92325,1224,1311,1573,1817,2028,2237]
["San Bernardino","San Bernardino0.8",{"$f":"C639*2*0.8","v":52240},{"$f":"D639*2*0.8","v":59680},67120,74560,80560,86560,92480,98480,1306,1399,1678,1939,2164,2387]
["San Bernardino","San Bernardino0.9",{"$f":"C639*2*0.9","v":58770},{"$f":"D639*2*0.9","v":67140},75510,83880,90630,97380,104040,110790,1469,1573,1887,2181,2434,2685]
["San Bernardino","San Bernardino1",{"$f":"C639*2","v":65300},{"$f":"D639*2","v":74600},83900,93200,100700,108200,115600,123100,{"$f":"K639*2","v":1632},{"$f":"L639*2","v":1748},2096,2422,2704,2982]
["San Bernardino","San Bernardino1.1",{"$f":"C639*2*1.1","v":71830},{"$f":"D639*2*1.1","v":82060},92290.000000000015,102520.00000000001,110770.00000000001,119020.00000000001,127160.00000000001,135410,{"$f":"TRUNC(C648/12*0.3)","v":1795},{"$f":"TRUNC((C648+D648)/2/12*0.3)","v":1923},{"$f":"TRUNC((E648)/12*0.3)","v":2307},{"$f":"TRUNC(((F648+G648)/2)/12*0.3)","v":2666},{"$f":"TRUNC(H648/12*0.3)","v":2975},{"$f":"TRUNC(((I648+J648)/2)/12*0.3)","v":3282}]
["San Bernardino","San Bernardino1.2",{"$f":"C639*2*1.2","v":78360},{"$f":"D639*2*1.2","v":89520},100680,111840,120840,129840,138720,147720,1959,2098,2517,2908,3246,3580]
["San Diego","San Diego0.15",{"$f":"C657*2*0.15","v":14475},{"$f":"D657*2*0.15","v":16545},{"$f":"E657*2*0.15","v":18615},{"$f":"F657*2*0.15","v":20670},{"$f":"G657*2*0.15","v":22335},{"$f":"H657*2*0.15","v":23985},25635,27285,361,387,465,537,599,661]
["San Diego","San Diego0.2",{"$f":"C657*2*0.2","v":19300},{"$f":"D657*2*0.2","v":22060},24820,27560,29780,31980,34180,36380,482,517,620,716,799,882]
["San Diego","San Diego0.25",{"$f":"C657*2*0.25","v":24125},{"$f":"D657*2*0.25","v":27575},31025,34450,37225,39975,42725,45475,603,646,775,895,999,1102]
["San Diego","San Diego0.3",{"$f":"C657*2*0.3","v":28950},{"$f":"D657*2*0.3","v":33090},37230,41340,44670,47970,51270,54570,723,775,930,1075,1199,1323]
["San Diego","San Diego0.35",{"$f":"C657*2*0.35","v":33775},{"$f":"D657*2*0.35","v":38605},43435,48230,52115,55965,59814.999999999993,63664.999999999993,844,904,1085,1254,1399,1543]
["San Diego","San Diego0.4",{"$f":"C657*2*0.4","v":38600},{"$f":"D657*2*0.4","v":44120},49640,55120,59560,63960,68360,72760,965,1034,1241,1433,1599,1764]
["San Diego","San Diego0.45",{"$f":"C657*2*0.45","v":43425},{"$f":"D657*2*0.45","v":49635},55845,62010,67005,71955,76905,81855,1085,1163,1396,1612,1798,1984]
["San Diego","San Diego0.5",{"$f":"VLOOKUP($A:$A,'Max Funds & Unit Mix'!$L$86:$T$144,2,FALSE)","v":48250},{"$f":"VLOOKUP($A:$A,'Max Funds & Unit Mix'!$L$86:$T$144,3,FALSE)","v":55150},{"$f":"VLOOKUP($A:$A,'Max Funds & Unit Mix'!$L$86:$T$144,4,FALSE)","v":62050},{"$f":"VLOOKUP($A:$A,'Max Funds & Unit Mix'!$L$86:$T$144,5,FALSE)","v":68900},{"$f":"VLOOKUP($A:$A,'Max Funds & Unit Mix'!$L$86:$T$144,6,FALSE)","v":74450},{"$f":"VLOOKUP($A:$A,'Max Funds & Unit Mix'!$L$86:$T$144,7,FALSE)","v":79950},{"$f":"VLOOKUP($A:$A,'Max Funds & Unit Mix'!$L$86:$T$144,8,FALSE)","v":85450},{"$f":"VLOOKUP($A:$A,'Max Funds & Unit Mix'!$L$86:$T$144,9,FALSE)","v":90950},{"$f":"TRUNC(C657/12*0.3)","v":1206},{"$f":"TRUNC((C657+D657)/2/12*0.3)","v":1292},{"$f":"TRUNC((E657)/12*0.3)","v":1551},{"$f":"TRUNC(((F657+G657)/2)/12*0.3)","v":1791},{"$f":"TRUNC(H657/12*0.3)","v":1998},{"$f":"TRUNC(((I657+J657)/2)/12*0.3)","v":2205}]
["San Diego","San Diego0.55",{"$f":"C657*2*0.55","v":53075.000000000007},{"$f":"D657*2*0.55","v":60665.000000000007},68255,75790,81895,87945,93995.000000000015,100045.00000000001,{"$f":"TRUNC(C658/12*0.3)","v":1326},{"$f":"TRUNC((C658+D658)/2/12*0.3)","v":1421},{"$f":"TRUNC((E658)/12*0.3)","v":1706},{"$f":"TRUNC(((F658+G658)/2)/12*0.3)","v":1971},{"$f":"TRUNC(H658/12*0.3)","v":2198},{"$f":"TRUNC(((I658+J658)/2)/12*0.3)","v":2425}]
["San Diego","San Diego0.6",{"$f":"C657*2*0.6","v":57900},{"$f":"D657*2*0.6","v":66180},74460,82680,89340,95940,102540,109140,1447,1551,1861,2150,2398,2646]
["San Diego","San Diego0.65",{"$f":"C657*2*0.65","v":62725},{"$f":"D657*2*0.65","v":71695},80665,89570,96785,103935,111085,118235,1568,1680,2016,2329,2598,2866]
["San Diego","San Diego0.7",{"$f":"C657*2*0.7","v":67550},{"$f":"D657*2*0.7","v":77210},86870,96460,104230,111930,119629.99999999999,127329.99999999999,1688,1809,2171,2508,2798,3087]
["San Diego","San Diego0.75",{"$f":"C657*2*0.75","v":72375},{"$f":"D657*2*0.75","v":82725},93075,103350,111675,119925,128175,136425,1809,1938,2326,2687,2998,3307]
["San Diego","San Diego0.8",{"$f":"C657*2*0.8","v":77200},{"$f":"D657*2*0.8","v":88240},99280,110240,119120,127920,136720,145520,1930,2068,2482,2867,3198,3528]
["San Diego","San Diego0.9",{"$f":"C657*2*0.9","v":86850},{"$f":"D657*2*0.9","v":99270},111690,124020,134010,143910,153810,163710,2171,2326,2792,3225,3597,3969]
["San Diego","San Diego1",{"$f":"C657*2","v":96500},{"$f":"D657*2","v":110300},124100,137800,148900,159900,170900,181900,{"$f":"K657*2","v":2412},{"$f":"L657*2","v":2584},3102,3582,3996,4410]
["San Diego","San Diego1.1",{"$f":"C657*2*1.1","v":106150.00000000001},{"$f":"D657*2*1.1","v":121330.00000000001},136510,151580,163790,175890,187990.00000000003,200090.00000000003,{"$f":"TRUNC(C666/12*0.3)","v":2653},{"$f":"TRUNC((C666+D666)/2/12*0.3)","v":2843},{"$f":"TRUNC((E666)/12*0.3)","v":3412},{"$f":"TRUNC(((F666+G666)/2)/12*0.3)","v":3942},{"$f":"TRUNC(H666/12*0.3)","v":4397},{"$f":"TRUNC(((I666+J666)/2)/12*0.3)","v":4851}]
["San Diego","San Diego1.2",{"$f":"C657*2*1.2","v":115800},{"$f":"D657*2*1.2","v":132360},148920,165360,178680,191880,205080,218280,2895,3102,3723,4300,4797,5292]
["San Francisco","San Francisco0.15",{"$f":"C675*2*0.15","v":19515},{"$f":"D675*2*0.15","v":22305},{"$f":"E675*2*0.15","v":25095},{"$f":"F675*2*0.15","v":27870},{"$f":"G675*2*0.15","v":30105},{"$f":"H675*2*0.15","v":32340},34560,36795,487,522,627,724,808,891]
["San Francisco","San Francisco0.2",{"$f":"C675*2*0.2","v":26020},{"$f":"D675*2*0.2","v":29740},33460,37160,40140,43120,46080,49060,650,697,836,966,1078,1189]
["San Francisco","San Francisco0.25",{"$f":"C675*2*0.25","v":32525},{"$f":"D675*2*0.25","v":37175},41825,46450,50175,53900,57600,61325,813,871,1045,1207,1347,1486]
["San Francisco","San Francisco0.3",{"$f":"C675*2*0.3","v":39030},{"$f":"D675*2*0.3","v":44610},50190,55740,60210,64680,69120,73590,975,1045,1254,1449,1617,1783]
["San Francisco","San Francisco0.35",{"$f":"C675*2*0.35","v":45535},{"$f":"D675*2*0.35","v":52045},58554.999999999993,65029.999999999993,70245,75460,80640,85855,1138,1219,1463,1690,1886,2081]
["San Francisco","San Francisco0.4",{"$f":"C675*2*0.4","v":52040},{"$f":"D675*2*0.4","v":59480},66920,74320,80280,86240,92160,98120,1301,1394,1673,1932,2156,2378]
["San Francisco","San Francisco0.45",{"$f":"C675*2*0.45","v":58545},{"$f":"D675*2*0.45","v":66915},75285,83610,90315,97020,103680,110385,1463,1568,1882,2174,2425,2675]
["San Francisco","San Francisco0.5",{"$f":"VLOOKUP($A:$A,'Max Funds & Unit Mix'!$L$86:$T$144,2,FALSE)","v":65050},{"$f":"VLOOKUP($A:$A,'Max Funds & Unit Mix'!$L$86:$T$144,3,FALSE)","v":74350},{"$f":"VLOOKUP($A:$A,'Max Funds & Unit Mix'!$L$86:$T$144,4,FALSE)","v":83650},{"$f":"VLOOKUP($A:$A,'Max Funds & Unit Mix'!$L$86:$T$144,5,FALSE)","v":92900},{"$f":"VLOOKUP($A:$A,'Max Funds & Unit Mix'!$L$86:$T$144,6,FALSE)","v":100350},{"$f":"VLOOKUP($A:$A,'Max Funds & Unit Mix'!$L$86:$T$144,7,FALSE)","v":107800},{"$f":"VLOOKUP($A:$A,'Max Funds & Unit Mix'!$L$86:$T$144,8,FALSE)","v":115200},{"$f":"VLOOKUP($A:$A,'Max Funds & Unit Mix'!$L$86:$T$144,9,FALSE)","v":122650},{"$f":"TRUNC(C675/12*0.3)","v":1626},{"$f":"TRUNC((C675+D675)/2/12*0.3)","v":1742},{"$f":"TRUNC((E675)/12*0.3)","v":2091},{"$f":"TRUNC(((F675+G675)/2)/12*0.3)","v":2415},{"$f":"TRUNC(H675/12*0.3)","v":2695},{"$f":"TRUNC(((I675+J675)/2)/12*0.3)","v":2973}]
["San Francisco","San Francisco0.55",{"$f":"C675*2*0.55","v":71555},{"$f":"D675*2*0.55","v":81785},92015.000000000015,102190.00000000001,110385.00000000001,118580.00000000001,126720.00000000001,134915,{"$f":"TRUNC(C676/12*0.3)","v":1788},{"$f":"TRUNC((C676+D676)/2/12*0.3)","v":1916},{"$f":"TRUNC((E676)/12*0.3)","v":2300},{"$f":"TRUNC(((F676+G676)/2)/12*0.3)","v":2657},{"$f":"TRUNC(H676/12*0.3)","v":2964},{"$f":"TRUNC(((I676+J676)/2)/12*0.3)","v":3270}]
["San Francisco","San Francisco0.6",{"$f":"C675*2*0.6","v":78060},{"$f":"D675*2*0.6","v":89220},100380,111480,120420,129360,138240,147180,1951,2091,2509,2898,3234,3567]
["San Francisco","San Francisco0.65",{"$f":"C675*2*0.65","v":84565},{"$f":"D675*2*0.65","v":96655},108745,120770,130455,140140,149760,159445,2114,2265,2718,3140,3503,3865]
["San Francisco","San Francisco0.7",{"$f":"C675*2*0.7","v":91070},{"$f":"D675*2*0.7","v":104090},117109.99999999999,130059.99999999999,140490,150920,161280,171710,2276,2439,2927,3381,3773,4162]
["San Francisco","San Francisco0.75",{"$f":"C675*2*0.75","v":97575},{"$f":"D675*2*0.75","v":111525},125475,139350,150525,161700,172800,183975,2439,2613,3136,3623,4042,4459]
["San Francisco","San Francisco0.8",{"$f":"C675*2*0.8","v":104080},{"$f":"D675*2*0.8","v":118960},133840,148640,160560,172480,184320,196240,2602,2788,3346,3865,4312,4757]
["San Francisco","San Francisco0.9",{"$f":"C675*2*0.9","v":117090},{"$f":"D675*2*0.9","v":133830},150570,167220,180630,194040,207360,220770,2927,3136,3764,4348,4851,5351]
["San Francisco","San Francisco1",{"$f":"C675*2","v":130100},{"$f":"D675*2","v":148700},167300,185800,200700,215600,230400,245300,{"$f":"K675*2","v":3252},{"$f":"L675*2","v":3484},4182,4830,5390,5946]
["San Francisco","San Francisco1.1",{"$f":"C675*2*1.1","v":143110},{"$f":"D675*2*1.1","v":163570},184030.00000000003,204380.00000000003,220770.00000000003,237160.00000000003,253440.00000000003,269830,{"$f":"TRUNC(C684/12*0.3)","v":3577},{"$f":"TRUNC((C684+D684)/2/12*0.3)","v":3833},{"$f":"TRUNC((E684)/12*0.3)","v":4600},{"$f":"TRUNC(((F684+G684)/2)/12*0.3)","v":5314},{"$f":"TRUNC(H684/12*0.3)","v":5929},{"$f":"TRUNC(((I684+J684)/2)/12*0.3)","v":6540}]
["San Francisco","San Francisco1.2",{"$f":"C675*2*1.2","v":156120},{"$f":"D675*2*1.2","v":178440},200760,222960,240840,258720,276480,294360,3903,4182,5019,5797,6468,7135]
["San Joaquin","San Joaquin0.15",{"$f":"C693*2*0.15","v":9210},{"$f":"D693*2*0.15","v":10530},{"$f":"E693*2*0.15","v":11850},{"$f":"F693*2*0.15","v":13155},{"$f":"G693*2*0.15","v":14220},{"$f":"H693*2*0.15","v":15270},16320,17370,230,246,296,342,381,421]
["San Joaquin","San Joaquin0.2",{"$f":"C693*2*0.2","v":12280},{"$f":"D693*2*0.2","v":14040},15800,17540,18960,20360,21760,23160,307,329,395,456,509,561]
["San Joaquin","San Joaquin0.25",{"$f":"C693*2*0.25","v":15350},{"$f":"D693*2*0.25","v":17550},19750,21925,23700,25450,27200,28950,383,411,493,570,636,701]
["San Joaquin","San Joaquin0.3",{"$f":"C693*2*0.3","v":18420},{"$f":"D693*2*0.3","v":21060},23700,26310,28440,30540,32640,34740,460,493,592,684,763,842]
["San Joaquin","San Joaquin0.35",{"$f":"C693*2*0.35","v":21490},{"$f":"D693*2*0.35","v":24570},27650,30694.999999999996,33180,35630,38080,40530,537,575,691,798,890,982]
["San Joaquin","San Joaquin0.4",{"$f":"C693*2*0.4","v":24560},{"$f":"D693*2*0.4","v":28080},31600,35080,37920,40720,43520,46320,614,658,790,912,1018,1123]
["San Joaquin","San Joaquin0.45",{"$f":"C693*2*0.45","v":27630},{"$f":"D693*2*0.45","v":31590},35550,39465,42660,45810,48960,52110,690,740,888,1026,1145,1263]
["San Joaquin","San Joaquin0.5",{"$f":"VLOOKUP($A:$A,'Max Funds & Unit Mix'!$L$86:$T$144,2,FALSE)","v":30700},{"$f":"VLOOKUP($A:$A,'Max Funds & Unit Mix'!$L$86:$T$144,3,FALSE)","v":35100},{"$f":"VLOOKUP($A:$A,'Max Funds & Unit Mix'!$L$86:$T$144,4,FALSE)","v":39500},{"$f":"VLOOKUP($A:$A,'Max Funds & Unit Mix'!$L$86:$T$144,5,FALSE)","v":43850},{"$f":"VLOOKUP($A:$A,'Max Funds & Unit Mix'!$L$86:$T$144,6,FALSE)","v":47400},{"$f":"VLOOKUP($A:$A,'Max Funds & Unit Mix'!$L$86:$T$144,7,FALSE)","v":50900},{"$f":"VLOOKUP($A:$A,'Max Funds & Unit Mix'!$L$86:$T$144,8,FALSE)","v":54400},{"$f":"VLOOKUP($A:$A,'Max Funds & Unit Mix'!$L$86:$T$144,9,FALSE)","v":57900},{"$f":"TRUNC(C693/12*0.3)","v":767},{"$f":"TRUNC((C693+D693)/2/12*0.3)","v":822},{"$f":"TRUNC((E693)/12*0.3)","v":987},{"$f":"TRUNC(((F693+G693)/2)/12*0.3)","v":1140},{"$f":"TRUNC(H693/12*0.3)","v":1272},{"$f":"TRUNC(((I693+J693)/2)/12*0.3)","v":1403}]
["San Joaquin","San Joaquin0.55",{"$f":"C693*2*0.55","v":33770},{"$f":"D693*2*0.55","v":38610},43450,48235.000000000007,52140.000000000007,55990.000000000007,59840.000000000007,63690.000000000007,{"$f":"TRUNC(C694/12*0.3)","v":844},{"$f":"TRUNC((C694+D694)/2/12*0.3)","v":904},{"$f":"TRUNC((E694)/12*0.3)","v":1086},{"$f":"TRUNC(((F694+G694)/2)/12*0.3)","v":1254},{"$f":"TRUNC(H694/12*0.3)","v":1399},{"$f":"TRUNC(((I694+J694)/2)/12*0.3)","v":1544}]
["San Joaquin","San Joaquin0.6",{"$f":"C693*2*0.6","v":36840},{"$f":"D693*2*0.6","v":42120},47400,52620,56880,61080,65280,69480,921,987,1185,1368,1527,1684]
["San Joaquin","San Joaquin0.65",{"$f":"C693*2*0.65","v":39910},{"$f":"D693*2*0.65","v":45630},51350,57005,61620,66170,70720,75270,997,1069,1283,1482,1654,1824]
["San Joaquin","San Joaquin0.7",{"$f":"C693*2*0.7","v":42980},{"$f":"D693*2*0.7","v":49140},55300,61389.999999999993,66360,71260,76160,81060,1074,1151,1382,1596,1781,1965]
["San Joaquin","San Joaquin0.75",{"$f":"C693*2*0.75","v":46050},{"$f":"D693*2*0.75","v":52650},59250,65775,71100,76350,81600,86850,1151,1233,1481,1710,1908,2105]
["San Joaquin","San Joaquin0.8",{"$f":"C693*2*0.8","v":49120},{"$f":"D693*2*0.8","v":56160},63200,70160,75840,81440,87040,92640,1228,1316,1580,1825,2036,2246]
["San Joaquin","San Joaquin0.9",{"$f":"C693*2*0.9","v":55260},{"$f":"D693*2*0.9","v":63180},71100,78930,85320,91620,97920,104220,1381,1480,1777,2053,2290,2526]
["San Joaquin","San Joaquin1",{"$f":"C693*2","v":61400},{"$f":"D693*2","v":70200},79000,87700,94800,101800,108800,115800,{"$f":"K693*2","v":1534},{"$f":"L693*2","v":1644},1974,2280,2544,2806]
["San Joaquin","San Joaquin1.1",{"$f":"C693*2*1.1","v":67540},{"$f":"D693*2*1.1","v":77220},86900,96470.000000000015,104280.00000000001,111980.00000000001,119680.00000000001,127380.00000000001,{"$f":"TRUNC(C702/12*0.3)","v":1688},{"$f":"TRUNC((C702+D702)/2/12*0.3)","v":1809},{"$f":"TRUNC((E702)/12*0.3)","v":2172},{"$f":"TRUNC(((F702+G702)/2)/12*0.3)","v":2509},{"$f":"TRUNC(H702/12*0.3)","v":2799},{"$f":"TRUNC(((I702+J702)/2)/12*0.3)","v":3088}]
["San Joaquin","San Joaquin1.2",{"$f":"C693*2*1.2","v":73680},{"$f":"D693*2*1.2","v":84240},94800,105240,113760,122160,130560,138960,1842,1974,2370,2737,3054,3369]
["San Luis Obispo","San Luis Obispo0.15",{"$f":"C711*2*0.15","v":12165},{"$f":"D711*2*0.15","v":13905},{"$f":"E711*2*0.15","v":15645},{"$f":"F711*2*0.15","v":17370},{"$f":"G711*2*0.15","v":18765},{"$f":"H711*2*0.15","v":20160},21540,22935,304,325,391,451,504,555]
["San Luis Obispo","San Luis Obispo0.2",{"$f":"C711*2*0.2","v":16220},{"$f":"D711*2*0.2","v":18540},20860,23160,25020,26880,28720,30580,405,434,521,602,672,741]
["San Luis Obispo","San Luis Obispo0.25",{"$f":"C711*2*0.25","v":20275},{"$f":"D711*2*0.25","v":23175},26075,28950,31275,33600,35900,38225,506,543,651,752,840,926]
["San Luis Obispo","San Luis Obispo0.3",{"$f":"C711*2*0.3","v":24330},{"$f":"D711*2*0.3","v":27810},31290,34740,37530,40320,43080,45870,608,651,782,903,1008,1111]
["San Luis Obispo","San Luis Obispo0.35",{"$f":"C711*2*0.35","v":28385},{"$f":"D711*2*0.35","v":32444.999999999996},36505,40530,43785,47040,50260,53515,709,760,912,1053,1176,1297]
["San Luis Obispo","San Luis Obispo0.4",{"$f":"C711*2*0.4","v":32440},{"$f":"D711*2*0.4","v":37080},41720,46320,50040,53760,57440,61160,811,869,1043,1204,1344,1482]
["San Luis Obispo","San Luis Obispo0.45",{"$f":"C711*2*0.45","v":36495},{"$f":"D711*2*0.45","v":41715},46935,52110,56295,60480,64620,68805,912,977,1173,1355,1512,1667]
["San Luis Obispo","San Luis Obispo0.5",{"$f":"VLOOKUP($A:$A,'Max Funds & Unit Mix'!$L$86:$T$144,2,FALSE)","v":40550},{"$f":"VLOOKUP($A:$A,'Max Funds & Unit Mix'!$L$86:$T$144,3,FALSE)","v":46350},{"$f":"VLOOKUP($A:$A,'Max Funds & Unit Mix'!$L$86:$T$144,4,FALSE)","v":52150},{"$f":"VLOOKUP($A:$A,'Max Funds & Unit Mix'!$L$86:$T$144,5,FALSE)","v":57900},{"$f":"VLOOKUP($A:$A,'Max Funds & Unit Mix'!$L$86:$T$144,6,FALSE)","v":62550},{"$f":"VLOOKUP($A:$A,'Max Funds & Unit Mix'!$L$86:$T$144,7,FALSE)","v":67200},{"$f":"VLOOKUP($A:$A,'Max Funds & Unit Mix'!$L$86:$T$144,8,FALSE)","v":71800},{"$f":"VLOOKUP($A:$A,'Max Funds & Unit Mix'!$L$86:$T$144,9,FALSE)","v":76450},{"$f":"TRUNC(C711/12*0.3)","v":1013},{"$f":"TRUNC((C711+D711)/2/12*0.3)","v":1086},{"$f":"TRUNC((E711)/12*0.3)","v":1303},{"$f":"TRUNC(((F711+G711)/2)/12*0.3)","v":1505},{"$f":"TRUNC(H711/12*0.3)","v":1680},{"$f":"TRUNC(((I711+J711)/2)/12*0.3)","v":1853}]
["San Luis Obispo","San Luis Obispo0.55",{"$f":"C711*2*0.55","v":44605},{"$f":"D711*2*0.55","v":50985.000000000007},57365.000000000007,63690.000000000007,68805,73920,78980,84095,{"$f":"TRUNC(C712/12*0.3)","v":1115},{"$f":"TRUNC((C712+D712)/2/12*0.3)","v":1194},{"$f":"TRUNC((E712)/12*0.3)","v":1434},{"$f":"TRUNC(((F712+G712)/2)/12*0.3)","v":1656},{"$f":"TRUNC(H712/12*0.3)","v":1848},{"$f":"TRUNC(((I712+J712)/2)/12*0.3)","v":2038}]
["San Luis Obispo","San Luis Obispo0.6",{"$f":"C711*2*0.6","v":48660},{"$f":"D711*2*0.6","v":55620},62580,69480,75060,80640,86160,91740,1216,1303,1564,1806,2016,2223]
["San Luis Obispo","San Luis Obispo0.65",{"$f":"C711*2*0.65","v":52715},{"$f":"D711*2*0.65","v":60255},67795,75270,81315,87360,93340,99385,1317,1412,1694,1957,2184,2409]
["San Luis Obispo","San Luis Obispo0.7",{"$f":"C711*2*0.7","v":56770},{"$f":"D711*2*0.7","v":64889.999999999993},73010,81060,87570,94080,100520,107030,1419,1520,1825,2107,2352,2594]
["San Luis Obispo","San Luis Obispo0.75",{"$f":"C711*2*0.75","v":60825},{"$f":"D711*2*0.75","v":69525},78225,86850,93825,100800,107700,114675,1520,1629,1955,2258,2520,2779]
["San Luis Obispo","San Luis Obispo0.8",{"$f":"C711*2*0.8","v":64880},{"$f":"D711*2*0.8","v":74160},83440,92640,100080,107520,114880,122320,1622,1738,2086,2409,2688,2965]
["San Luis Obispo","San Luis Obispo0.9",{"$f":"C711*2*0.9","v":72990},{"$f":"D711*2*0.9","v":83430},93870,104220,112590,120960,129240,137610,1824,1955,2346,2710,3024,3335]
["San Luis Obispo","San Luis Obispo1",{"$f":"C711*2","v":81100},{"$f":"D711*2","v":92700},104300,115800,125100,134400,143600,152900,{"$f":"K711*2","v":2026},{"$f":"L711*2","v":2172},2606,3010,3360,3706]
["San Luis Obispo","San Luis Obispo1.1",{"$f":"C711*2*1.1","v":89210},{"$f":"D711*2*1.1","v":101970.00000000001},114730.00000000001,127380.00000000001,137610,147840,157960,168190,{"$f":"TRUNC(C720/12*0.3)","v":2230},{"$f":"TRUNC((C720+D720)/2/12*0.3)","v":2389},{"$f":"TRUNC((E720)/12*0.3)","v":2868},{"$f":"TRUNC(((F720+G720)/2)/12*0.3)","v":3312},{"$f":"TRUNC(H720/12*0.3)","v":3696},{"$f":"TRUNC(((I720+J720)/2)/12*0.3)","v":4076}]
["San Luis Obispo","San Luis Obispo1.2",{"$f":"C711*2*1.2","v":97320},{"$f":"D711*2*1.2","v":111240},125160,138960,150120,161280,172320,183480,2433,2607,3129,3613,4032,4447]
["San Mateo","San Mateo0.15",{"$f":"C729*2*0.15","v":19515},{"$f":"D729*2*0.15","v":22305},{"$f":"E729*2*0.15","v":25095},{"$f":"F729*2*0.15","v":27870},{"$f":"G729*2*0.15","v":30105},{"$f":"H729*2*0.15","v":32340},34560,36795,487,522,627,724,808,891]
["San Mateo","San Mateo0.2",{"$f":"C729*2*0.2","v":26020},{"$f":"D729*2*0.2","v":29740},33460,37160,40140,43120,46080,49060,650,697,836,966,1078,1189]
["San Mateo","San Mateo0.25",{"$f":"C729*2*0.25","v":32525},{"$f":"D729*2*0.25","v":37175},41825,46450,50175,53900,57600,61325,813,871,1045,1207,1347,1486]
["San Mateo","San Mateo0.3",{"$f":"C729*2*0.3","v":39030},{"$f":"D729*2*0.3","v":44610},50190,55740,60210,64680,69120,73590,975,1045,1254,1449,1617,1783]
["San Mateo","San Mateo0.35",{"$f":"C729*2*0.35","v":45535},{"$f":"D729*2*0.35","v":52045},58554.999999999993,65029.999999999993,70245,75460,80640,85855,1138,1219,1463,1690,1886,2081]
["San Mateo","San Mateo0.4",{"$f":"C729*2*0.4","v":52040},{"$f":"D729*2*0.4","v":59480},66920,74320,80280,86240,92160,98120,1301,1394,1673,1932,2156,2378]
["San Mateo","San Mateo0.45",{"$f":"C729*2*0.45","v":58545},{"$f":"D729*2*0.45","v":66915},75285,83610,90315,97020,103680,110385,1463,1568,1882,2174,2425,2675]
["San Mateo","San Mateo0.5",{"$f":"VLOOKUP($A:$A,'Max Funds & Unit Mix'!$L$86:$T$144,2,FALSE)","v":65050},{"$f":"VLOOKUP($A:$A,'Max Funds & Unit Mix'!$L$86:$T$144,3,FALSE)","v":74350},{"$f":"VLOOKUP($A:$A,'Max Funds & Unit Mix'!$L$86:$T$144,4,FALSE)","v":83650},{"$f":"VLOOKUP($A:$A,'Max Funds & Unit Mix'!$L$86:$T$144,5,FALSE)","v":92900},{"$f":"VLOOKUP($A:$A,'Max Funds & Unit Mix'!$L$86:$T$144,6,FALSE)","v":100350},{"$f":"VLOOKUP($A:$A,'Max Funds & Unit Mix'!$L$86:$T$144,7,FALSE)","v":107800},{"$f":"VLOOKUP($A:$A,'Max Funds & Unit Mix'!$L$86:$T$144,8,FALSE)","v":115200},{"$f":"VLOOKUP($A:$A,'Max Funds & Unit Mix'!$L$86:$T$144,9,FALSE)","v":122650},{"$f":"TRUNC(C729/12*0.3)","v":1626},{"$f":"TRUNC((C729+D729)/2/12*0.3)","v":1742},{"$f":"TRUNC((E729)/12*0.3)","v":2091},{"$f":"TRUNC(((F729+G729)/2)/12*0.3)","v":2415},{"$f":"TRUNC(H729/12*0.3)","v":2695},{"$f":"TRUNC(((I729+J729)/2)/12*0.3)","v":2973}]
["San Mateo","San Mateo0.55",{"$f":"C729*2*0.55","v":71555},{"$f":"D729*2*0.55","v":81785},92015.000000000015,102190.00000000001,110385.00000000001,118580.00000000001,126720.00000000001,134915,{"$f":"TRUNC(C730/12*0.3)","v":1788},{"$f":"TRUNC((C730+D730)/2/12*0.3)","v":1916},{"$f":"TRUNC((E730)/12*0.3)","v":2300},{"$f":"TRUNC(((F730+G730)/2)/12*0.3)","v":2657},{"$f":"TRUNC(H730/12*0.3)","v":2964},{"$f":"TRUNC(((I730+J730)/2)/12*0.3)","v":3270}]
["San Mateo","San Mateo0.6",{"$f":"C729*2*0.6","v":78060},{"$f":"D729*2*0.6","v":89220},100380,111480,120420,129360,138240,147180,1951,2091,2509,2898,3234,3567]
["San Mateo","San Mateo0.65",{"$f":"C729*2*0.65","v":84565},{"$f":"D729*2*0.65","v":96655},108745,120770,130455,140140,149760,159445,2114,2265,2718,3140,3503,3865]
["San Mateo","San Mateo0.7",{"$f":"C729*2*0.7","v":91070},{"$f":"D729*2*0.7","v":104090},117109.99999999999,130059.99999999999,140490,150920,161280,171710,2276,2439,2927,3381,3773,4162]
["San Mateo","San Mateo0.75",{"$f":"C729*2*0.75","v":97575},{"$f":"D729*2*0.75","v":111525},125475,139350,150525,161700,172800,183975,2439,2613,3136,3623,4042,4459]
["San Mateo","San Mateo0.8",{"$f":"C729*2*0.8","v":104080},{"$f":"D729*2*0.8","v":118960},133840,148640,160560,172480,184320,196240,2602,2788,3346,3865,4312,4757]
["San Mateo","San Mateo0.9",{"$f":"C729*2*0.9","v":117090},{"$f":"D729*2*0.9","v":133830},150570,167220,180630,194040,207360,220770,2927,3136,3764,4348,4851,5351]
["San Mateo","San Mateo1",{"$f":"C729*2","v":130100},{"$f":"D729*2","v":148700},167300,185800,200700,215600,230400,245300,{"$f":"K729*2","v":3252},{"$f":"L729*2","v":3484},4182,4830,5390,5946]
["San Mateo","San Mateo1.1",{"$f":"C729*2*1.1","v":143110},{"$f":"D729*2*1.1","v":163570},184030.00000000003,204380.00000000003,220770.00000000003,237160.00000000003,253440.00000000003,269830,{"$f":"TRUNC(C738/12*0.3)","v":3577},{"$f":"TRUNC((C738+D738)/2/12*0.3)","v":3833},{"$f":"TRUNC((E738)/12*0.3)","v":4600},{"$f":"TRUNC(((F738+G738)/2)/12*0.3)","v":5314},{"$f":"TRUNC(H738/12*0.3)","v":5929},{"$f":"TRUNC(((I738+J738)/2)/12*0.3)","v":6540}]
["San Mateo","San Mateo1.2",{"$f":"C729*2*1.2","v":156120},{"$f":"D729*2*1.2","v":178440},200760,222960,240840,258720,276480,294360,3903,4182,5019,5797,6468,7135]
["Santa Barbara","Santa Barbara0.15",{"$f":"C747*2*0.15","v":15540},{"$f":"D747*2*0.15","v":17760},{"$f":"E747*2*0.15","v":19980},{"$f":"F747*2*0.15","v":22185},{"$f":"G747*2*0.15","v":23970},{"$f":"H747*2*0.15","v":25740},27510,29295,388,416,499,576,643,710]
["Santa Barbara","Santa Barbara0.2",{"$f":"C747*2*0.2","v":20720},{"$f":"D747*2*0.2","v":23680},26640,29580,31960,34320,36680,39060,518,555,666,769,858,946]
["Santa Barbara","Santa Barbara0.25",{"$f":"C747*2*0.25","v":25900},{"$f":"D747*2*0.25","v":29600},33300,36975,39950,42900,45850,48825,647,693,832,961,1072,1183]
["Santa Barbara","Santa Barbara0.3",{"$f":"C747*2*0.3","v":31080},{"$f":"D747*2*0.3","v":35520},39960,44370,47940,51480,55020,58590,777,832,999,1153,1287,1420]
["Santa Barbara","Santa Barbara0.35",{"$f":"C747*2*0.35","v":36260},{"$f":"D747*2*0.35","v":41440},46620,51765,55930,60059.999999999993,64189.999999999993,68355,906,971,1165,1346,1501,1656]
["Santa Barbara","Santa Barbara0.4",{"$f":"C747*2*0.4","v":41440},{"$f":"D747*2*0.4","v":47360},53280,59160,63920,68640,73360,78120,1036,1110,1332,1538,1716,1893]
["Santa Barbara","Santa Barbara0.45",{"$f":"C747*2*0.45","v":46620},{"$f":"D747*2*0.45","v":53280},59940,66555,71910,77220,82530,87885,1165,1248,1498,1730,1930,2130]
["Santa Barbara","Santa Barbara0.5",{"$f":"VLOOKUP($A:$A,'Max Funds & Unit Mix'!$L$86:$T$144,2,FALSE)","v":51800},{"$f":"VLOOKUP($A:$A,'Max Funds & Unit Mix'!$L$86:$T$144,3,FALSE)","v":59200},{"$f":"VLOOKUP($A:$A,'Max Funds & Unit Mix'!$L$86:$T$144,4,FALSE)","v":66600},{"$f":"VLOOKUP($A:$A,'Max Funds & Unit Mix'!$L$86:$T$144,5,FALSE)","v":73950},{"$f":"VLOOKUP($A:$A,'Max Funds & Unit Mix'!$L$86:$T$144,6,FALSE)","v":79900},{"$f":"VLOOKUP($A:$A,'Max Funds & Unit Mix'!$L$86:$T$144,7,FALSE)","v":85800},{"$f":"VLOOKUP($A:$A,'Max Funds & Unit Mix'!$L$86:$T$144,8,FALSE)","v":91700},{"$f":"VLOOKUP($A:$A,'Max Funds & Unit Mix'!$L$86:$T$144,9,FALSE)","v":97650},{"$f":"TRUNC(C747/12*0.3)","v":1295},{"$f":"TRUNC((C747+D747)/2/12*0.3)","v":1387},{"$f":"TRUNC((E747)/12*0.3)","v":1665},{"$f":"TRUNC(((F747+G747)/2)/12*0.3)","v":1923},{"$f":"TRUNC(H747/12*0.3)","v":2145},{"$f":"TRUNC(((I747+J747)/2)/12*0.3)","v":2366}]
["Santa Barbara","Santa Barbara0.55",{"$f":"C747*2*0.55","v":56980.000000000007},{"$f":"D747*2*0.55","v":65120.000000000007},73260,81345,87890,94380.000000000015,100870.00000000001,107415.00000000001,{"$f":"TRUNC(C748/12*0.3)","v":1424},{"$f":"TRUNC((C748+D748)/2/12*0.3)","v":1526},{"$f":"TRUNC((E748)/12*0.3)","v":1831},{"$f":"TRUNC(((F748+G748)/2)/12*0.3)","v":2115},{"$f":"TRUNC(H748/12*0.3)","v":2359},{"$f":"TRUNC(((I748+J748)/2)/12*0.3)","v":2603}]
["Santa Barbara","Santa Barbara0.6",{"$f":"C747*2*0.6","v":62160},{"$f":"D747*2*0.6","v":71040},79920,88740,95880,102960,110040,117180,1554,1665,1998,2307,2574,2840]
["Santa Barbara","Santa Barbara0.65",{"$f":"C747*2*0.65","v":67340},{"$f":"D747*2*0.65","v":76960},86580,96135,103870,111540,119210,126945,1683,1803,2164,2500,2788,3076]
["Santa Barbara","Santa Barbara0.7",{"$f":"C747*2*0.7","v":72520},{"$f":"D747*2*0.7","v":82880},93240,103530,111860,120119.99999999999,128379.99999999999,136710,1813,1942,2331,2692,3003,3313]
["Santa Barbara","Santa Barbara0.75",{"$f":"C747*2*0.75","v":77700},{"$f":"D747*2*0.75","v":88800},99900,110925,119850,128700,137550,146475,1942,2081,2497,2884,3217,3550]
["Santa Barbara","Santa Barbara0.8",{"$f":"C747*2*0.8","v":82880},{"$f":"D747*2*0.8","v":94720},106560,118320,127840,137280,146720,156240,2072,2220,2664,3077,3432,3787]
["Santa Barbara","Santa Barbara0.9",{"$f":"C747*2*0.9","v":93240},{"$f":"D747*2*0.9","v":106560},119880,133110,143820,154440,165060,175770,2331,2497,2997,3461,3861,4260]
["Santa Barbara","Santa Barbara1",{"$f":"C747*2","v":103600},{"$f":"D747*2","v":118400},133200,147900,159800,171600,183400,195300,{"$f":"K747*2","v":2590},{"$f":"L747*2","v":2774},3330,3846,4290,4732]
["Santa Barbara","Santa Barbara1.1",{"$f":"C747*2*1.1","v":113960.00000000001},{"$f":"D747*2*1.1","v":130240.00000000001},146520,162690,175780,188760.00000000003,201740.00000000003,214830.00000000003,{"$f":"TRUNC(C756/12*0.3)","v":2849},{"$f":"TRUNC((C756+D756)/2/12*0.3)","v":3052},{"$f":"TRUNC((E756)/12*0.3)","v":3663},{"$f":"TRUNC(((F756+G756)/2)/12*0.3)","v":4230},{"$f":"TRUNC(H756/12*0.3)","v":4719},{"$f":"TRUNC(((I756+J756)/2)/12*0.3)","v":5207}]
["Santa Barbara","Santa Barbara1.2",{"$f":"C747*2*1.2","v":124320},{"$f":"D747*2*1.2","v":142080},159840,177480,191760,205920,220080,234360,3108,3330,3996,4615,5148,5680]
["Santa Clara","Santa Clara0.15",{"$f":"C765*2*0.15","v":18735},{"$f":"D765*2*0.15","v":21420},{"$f":"E765*2*0.15","v":24090},{"$f":"F765*2*0.15","v":26760},{"$f":"G765*2*0.15","v":28905},{"$f":"H765*2*0.15","v":31050},33195,35325,468,501,602,695,776,856]
["Santa Clara","Santa Clara0.2",{"$f":"C765*2*0.2","v":24980},{"$f":"D765*2*0.2","v":28560},32120,35680,38540,41400,44260,47100,624,669,803,927,1035,1142]
["Santa Clara","Santa Clara0.25",{"$f":"C765*2*0.25","v":31225},{"$f":"D765*2*0.25","v":35700},40150,44600,48175,51750,55325,58875,780,836,1003,1159,1293,1427]
["Santa Clara","Santa Clara0.3",{"$f":"C765*2*0.3","v":37470},{"$f":"D765*2*0.3","v":42840},48180,53520,57810,62100,66390,70650,936,1003,1204,1391,1552,1713]
["Santa Clara","Santa Clara0.35",{"$f":"C765*2*0.35","v":43715},{"$f":"D765*2*0.35","v":49980},56210,62439.999999999993,67445,72450,77455,82425,1092,1171,1405,1623,1811,1998]
["Santa Clara","Santa Clara0.4",{"$f":"C765*2*0.4","v":49960},{"$f":"D765*2*0.4","v":57120},64240,71360,77080,82800,88520,94200,1249,1338,1606,1855,2070,2284]
["Santa Clara","Santa Clara0.45",{"$f":"C765*2*0.45","v":56205},{"$f":"D765*2*0.45","v":64260},72270,80280,86715,93150,99585,105975,1405,1505,1806,2087,2328,2569]
["Santa Clara","Santa Clara0.5",{"$f":"VLOOKUP($A:$A,'Max Funds & Unit Mix'!$L$86:$T$144,2,FALSE)","v":62450},{"$f":"VLOOKUP($A:$A,'Max Funds & Unit Mix'!$L$86:$T$144,3,FALSE)","v":71400},{"$f":"VLOOKUP($A:$A,'Max Funds & Unit Mix'!$L$86:$T$144,4,FALSE)","v":80300},{"$f":"VLOOKUP($A:$A,'Max Funds & Unit Mix'!$L$86:$T$144,5,FALSE)","v":89200},{"$f":"VLOOKUP($A:$A,'Max Funds & Unit Mix'!$L$86:$T$144,6,FALSE)","v":96350},{"$f":"VLOOKUP($A:$A,'Max Funds & Unit Mix'!$L$86:$T$144,7,FALSE)","v":103500},{"$f":"VLOOKUP($A:$A,'Max Funds & Unit Mix'!$L$86:$T$144,8,FALSE)","v":110650},{"$f":"VLOOKUP($A:$A,'Max Funds & Unit Mix'!$L$86:$T$144,9,FALSE)","v":117750},{"$f":"TRUNC(C765/12*0.3)","v":1561},{"$f":"TRUNC((C765+D765)/2/12*0.3)","v":1673},{"$f":"TRUNC((E765)/12*0.3)","v":2007},{"$f":"TRUNC(((F765+G765)/2)/12*0.3)","v":2319},{"$f":"TRUNC(H765/12*0.3)","v":2587},{"$f":"TRUNC(((I765+J765)/2)/12*0.3)","v":2855}]
["Santa Clara","Santa Clara0.55",{"$f":"C765*2*0.55","v":68695},{"$f":"D765*2*0.55","v":78540},88330,98120.000000000015,105985.00000000001,113850.00000000001,121715.00000000001,129525.00000000001,{"$f":"TRUNC(C766/12*0.3)","v":1717},{"$f":"TRUNC((C766+D766)/2/12*0.3)","v":1840},{"$f":"TRUNC((E766)/12*0.3)","v":2208},{"$f":"TRUNC(((F766+G766)/2)/12*0.3)","v":2551},{"$f":"TRUNC(H766/12*0.3)","v":2846},{"$f":"TRUNC(((I766+J766)/2)/12*0.3)","v":3140}]
["Santa Clara","Santa Clara0.6",{"$f":"C765*2*0.6","v":74940},{"$f":"D765*2*0.6","v":85680},96360,107040,115620,124200,132780,141300,1873,2007,2409,2783,3105,3426]
["Santa Clara","Santa Clara0.65",{"$f":"C765*2*0.65","v":81185},{"$f":"D765*2*0.65","v":92820},104390,115960,125255,134550,143845,153075,2029,2175,2609,3015,3363,3711]
["Santa Clara","Santa Clara0.7",{"$f":"C765*2*0.7","v":87430},{"$f":"D765*2*0.7","v":99960},112420,124879.99999999999,134890,144900,154910,164850,2185,2342,2810,3247,3622,3997]
["Santa Clara","Santa Clara0.75",{"$f":"C765*2*0.75","v":93675},{"$f":"D765*2*0.75","v":107100},120450,133800,144525,155250,165975,176625,2341,2509,3011,3479,3881,4282]
["Santa Clara","Santa Clara0.8",{"$f":"C765*2*0.8","v":99920},{"$f":"D765*2*0.8","v":114240},128480,142720,154160,165600,177040,188400,2498,2677,3212,3711,4140,4568]
["Santa Clara","Santa Clara0.9",{"$f":"C765*2*0.9","v":112410},{"$f":"D765*2*0.9","v":128520},144540,160560,173430,186300,199170,211950,2810,3011,3613,4174,4657,5139]
["Santa Clara","Santa Clara1",{"$f":"C765*2","v":124900},{"$f":"D765*2","v":142800},160600,178400,192700,207000,221300,235500,{"$f":"K765*2","v":3122},{"$f":"L765*2","v":3346},4014,4638,5174,5710]
["Santa Clara","Santa Clara1.1",{"$f":"C765*2*1.1","v":137390},{"$f":"D765*2*1.1","v":157080},176660,196240.00000000003,211970.00000000003,227700.00000000003,243430.00000000003,259050.00000000003,{"$f":"TRUNC(C774/12*0.3)","v":3434},{"$f":"TRUNC((C774+D774)/2/12*0.3)","v":3680},{"$f":"TRUNC((E774)/12*0.3)","v":4416},{"$f":"TRUNC(((F774+G774)/2)/12*0.3)","v":5102},{"$f":"TRUNC(H774/12*0.3)","v":5692},{"$f":"TRUNC(((I774+J774)/2)/12*0.3)","v":6281}]
["Santa Clara","Santa Clara1.2",{"$f":"C765*2*1.2","v":149880},{"$f":"D765*2*1.2","v":171360},192720,214080,231240,248400,265560,282600,3747,4015,4818,5566,6210,6852]
["Santa Cruz","Santa Cruz0.15",{"$f":"C783*2*0.15","v":17295},{"$f":"D783*2*0.15","v":19770},{"$f":"E783*2*0.15","v":22245},{"$f":"F783*2*0.15","v":24705},{"$f":"G783*2*0.15","v":26685},{"$f":"H783*2*0.15","v":28665},30645,32625,432,463,556,642,716,790]
["Santa Cruz","Santa Cruz0.2",{"$f":"C783*2*0.2","v":23060},{"$f":"D783*2*0.2","v":26360},29660,32940,35580,38220,40860,43500,576,617,741,856,955,1054]
["Santa Cruz","Santa Cruz0.25",{"$f":"C783*2*0.25","v":28825},{"$f":"D783*2*0.25","v":32950},37075,41175,44475,47775,51075,54375,720,772,926,1070,1194,1318]
["Santa Cruz","Santa Cruz0.3",{"$f":"C783*2*0.3","v":34590},{"$f":"D783*2*0.3","v":39540},44490,49410,53370,57330,61290,65250,864,926,1112,1284,1433,1581]
["Santa Cruz","Santa Cruz0.35",{"$f":"C783*2*0.35","v":40355},{"$f":"D783*2*0.35","v":46130},51905,57644.999999999993,62264.999999999993,66885,71505,76125,1008,1081,1297,1498,1672,1845]
["Santa Cruz","Santa Cruz0.4",{"$f":"C783*2*0.4","v":46120},{"$f":"D783*2*0.4","v":52720},59320,65880,71160,76440,81720,87000,1153,1235,1483,1713,1911,2109]
["Santa Cruz","Santa Cruz0.45",{"$f":"C783*2*0.45","v":51885},{"$f":"D783*2*0.45","v":59310},66735,74115,80055,85995,91935,97875,1297,1389,1668,1927,2149,2372]
["Santa Cruz","Santa Cruz0.5",{"$f":"VLOOKUP($A:$A,'Max Funds & Unit Mix'!$L$86:$T$144,2,FALSE)","v":57650},{"$f":"VLOOKUP($A:$A,'Max Funds & Unit Mix'!$L$86:$T$144,3,FALSE)","v":65900},{"$f":"VLOOKUP($A:$A,'Max Funds & Unit Mix'!$L$86:$T$144,4,FALSE)","v":74150},{"$f":"VLOOKUP($A:$A,'Max Funds & Unit Mix'!$L$86:$T$144,5,FALSE)","v":82350},{"$f":"VLOOKUP($A:$A,'Max Funds & Unit Mix'!$L$86:$T$144,6,FALSE)","v":88950},{"$f":"VLOOKUP($A:$A,'Max Funds & Unit Mix'!$L$86:$T$144,7,FALSE)","v":95550},{"$f":"VLOOKUP($A:$A,'Max Funds & Unit Mix'!$L$86:$T$144,8,FALSE)","v":102150},{"$f":"VLOOKUP($A:$A,'Max Funds & Unit Mix'!$L$86:$T$144,9,FALSE)","v":108750},{"$f":"TRUNC(C783/12*0.3)","v":1441},{"$f":"TRUNC((C783+D783)/2/12*0.3)","v":1544},{"$f":"TRUNC((E783)/12*0.3)","v":1853},{"$f":"TRUNC(((F783+G783)/2)/12*0.3)","v":2141},{"$f":"TRUNC(H783/12*0.3)","v":2388},{"$f":"TRUNC(((I783+J783)/2)/12*0.3)","v":2636}]
["Santa Cruz","Santa Cruz0.55",{"$f":"C783*2*0.55","v":63415.000000000007},{"$f":"D783*2*0.55","v":72490},81565,90585.000000000015,97845.000000000015,105105.00000000001,112365.00000000001,119625.00000000001,{"$f":"TRUNC(C784/12*0.3)","v":1585},{"$f":"TRUNC((C784+D784)/2/12*0.3)","v":1698},{"$f":"TRUNC((E784)/12*0.3)","v":2039},{"$f":"TRUNC(((F784+G784)/2)/12*0.3)","v":2355},{"$f":"TRUNC(H784/12*0.3)","v":2627},{"$f":"TRUNC(((I784+J784)/2)/12*0.3)","v":2899}]
["Santa Cruz","Santa Cruz0.6",{"$f":"C783*2*0.6","v":69180},{"$f":"D783*2*0.6","v":79080},88980,98820,106740,114660,122580,130500,1729,1853,2224,2569,2866,3163]
["Santa Cruz","Santa Cruz0.65",{"$f":"C783*2*0.65","v":74945},{"$f":"D783*2*0.65","v":85670},96395,107055,115635,124215,132795,141375,1873,2007,2409,2783,3105,3427]
["Santa Cruz","Santa Cruz0.7",{"$f":"C783*2*0.7","v":80710},{"$f":"D783*2*0.7","v":92260},103810,115289.99999999999,124529.99999999999,133770,143010,152250,2017,2162,2595,2997,3344,3690]
["Santa Cruz","Santa Cruz0.75",{"$f":"C783*2*0.75","v":86475},{"$f":"D783*2*0.75","v":98850},111225,123525,133425,143325,153225,163125,2161,2316,2780,3211,3583,3954]
["Santa Cruz","Santa Cruz0.8",{"$f":"C783*2*0.8","v":92240},{"$f":"D783*2*0.8","v":105440},118640,131760,142320,152880,163440,174000,2306,2471,2966,3426,3822,4218]
["Santa Cruz","Santa Cruz0.9",{"$f":"C783*2*0.9","v":103770},{"$f":"D783*2*0.9","v":118620},133470,148230,160110,171990,183870,195750,2594,2779,3336,3854,4299,4745]
["Santa Cruz","Santa Cruz1",{"$f":"C783*2","v":115300},{"$f":"D783*2","v":131800},148300,164700,177900,191100,204300,217500,{"$f":"K783*2","v":2882},{"$f":"L783*2","v":3088},3706,4282,4776,5272]
["Santa Cruz","Santa Cruz1.1",{"$f":"C783*2*1.1","v":126830.00000000001},{"$f":"D783*2*1.1","v":144980},163130,181170.00000000003,195690.00000000003,210210.00000000003,224730.00000000003,239250.00000000003,{"$f":"TRUNC(C792/12*0.3)","v":3170},{"$f":"TRUNC((C792+D792)/2/12*0.3)","v":3397},{"$f":"TRUNC((E792)/12*0.3)","v":4078},{"$f":"TRUNC(((F792+G792)/2)/12*0.3)","v":4710},{"$f":"TRUNC(H792/12*0.3)","v":5255},{"$f":"TRUNC(((I792+J792)/2)/12*0.3)","v":5799}]
["Santa Cruz","Santa Cruz1.2",{"$f":"C783*2*1.2","v":138360},{"$f":"D783*2*1.2","v":158160},177960,197640,213480,229320,245160,261000,3459,3706,4449,5139,5733,6327]
["Shasta","Shasta0.15",{"$f":"C801*2*0.15","v":8820},{"$f":"D801*2*0.15","v":10080},{"$f":"E801*2*0.15","v":11340},{"$f":"F801*2*0.15","v":12600},{"$f":"G801*2*0.15","v":13620},{"$f":"H801*2*0.15","v":14625},15630,16635,220,236,283,327,365,403]
["Shasta","Shasta0.2",{"$f":"C801*2*0.2","v":11760},{"$f":"D801*2*0.2","v":13440},15120,16800,18160,19500,20840,22180,294,315,378,437,487,537]
["Shasta","Shasta0.25",{"$f":"C801*2*0.25","v":14700},{"$f":"D801*2*0.25","v":16800},18900,21000,22700,24375,26050,27725,367,393,472,546,609,672]
["Shasta","Shasta0.3",{"$f":"C801*2*0.3","v":17640},{"$f":"D801*2*0.3","v":20160},22680,25200,27240,29250,31260,33270,441,472,567,655,731,806]
["Shasta","Shasta0.35",{"$f":"C801*2*0.35","v":20580},{"$f":"D801*2*0.35","v":23520},26460,29399.999999999996,31779.999999999996,34125,36470,38815,514,551,661,764,853,941]
["Shasta","Shasta0.4",{"$f":"C801*2*0.4","v":23520},{"$f":"D801*2*0.4","v":26880},30240,33600,36320,39000,41680,44360,588,630,756,874,975,1075]
["Shasta","Shasta0.45",{"$f":"C801*2*0.45","v":26460},{"$f":"D801*2*0.45","v":30240},34020,37800,40860,43875,46890,49905,661,708,850,983,1096,1209]
["Shasta","Shasta0.5",{"$f":"VLOOKUP($A:$A,'Max Funds & Unit Mix'!$L$86:$T$144,2,FALSE)","v":29400},{"$f":"VLOOKUP($A:$A,'Max Funds & Unit Mix'!$L$86:$T$144,3,FALSE)","v":33600},{"$f":"VLOOKUP($A:$A,'Max Funds & Unit Mix'!$L$86:$T$144,4,FALSE)","v":37800},{"$f":"VLOOKUP($A:$A,'Max Funds & Unit Mix'!$L$86:$T$144,5,FALSE)","v":42000},{"$f":"VLOOKUP($A:$A,'Max Funds & Unit Mix'!$L$86:$T$144,6,FALSE)","v":45400},{"$f":"VLOOKUP($A:$A,'Max Funds & Unit Mix'!$L$86:$T$144,7,FALSE)","v":48750},{"$f":"VLOOKUP($A:$A,'Max Funds & Unit Mix'!$L$86:$T$144,8,FALSE)","v":52100},{"$f":"VLOOKUP($A:$A,'Max Funds & Unit Mix'!$L$86:$T$144,9,FALSE)","v":55450},{"$f":"TRUNC(C801/12*0.3)","v":735},{"$f":"TRUNC((C801+D801)/2/12*0.3)","v":787},{"$f":"TRUNC((E801)/12*0.3)","v":945},{"$f":"TRUNC(((F801+G801)/2)/12*0.3)","v":1092},{"$f":"TRUNC(H801/12*0.3)","v":1218},{"$f":"TRUNC(((I801+J801)/2)/12*0.3)","v":1344}]
["Shasta","Shasta0.55",{"$f":"C801*2*0.55","v":32340.000000000004},{"$f":"D801*2*0.55","v":36960},41580,46200.000000000007,49940.000000000007,53625.000000000007,57310.000000000007,60995.000000000007,{"$f":"TRUNC(C802/12*0.3)","v":808},{"$f":"TRUNC((C802+D802)/2/12*0.3)","v":866},{"$f":"TRUNC((E802)/12*0.3)","v":1039},{"$f":"TRUNC(((F802+G802)/2)/12*0.3)","v":1201},{"$f":"TRUNC(H802/12*0.3)","v":1340},{"$f":"TRUNC(((I802+J802)/2)/12*0.3)","v":1478}]
["Shasta","Shasta0.6",{"$f":"C801*2*0.6","v":35280},{"$f":"D801*2*0.6","v":40320},45360,50400,54480,58500,62520,66540,882,945,1134,1311,1462,1613]
["Shasta","Shasta0.65",{"$f":"C801*2*0.65","v":38220},{"$f":"D801*2*0.65","v":43680},49140,54600,59020,63375,67730,72085,955,1023,1228,1420,1584,1747]
["Shasta","Shasta0.7",{"$f":"C801*2*0.7","v":41160},{"$f":"D801*2*0.7","v":47040},52920,58799.999999999993,63559.999999999993,68250,72940,77630,1029,1102,1323,1529,1706,1882]
["Shasta","Shasta0.75",{"$f":"C801*2*0.75","v":44100},{"$f":"D801*2*0.75","v":50400},56700,63000,68100,73125,78150,83175,1102,1181,1417,1638,1828,2016]
["Shasta","Shasta0.8",{"$f":"C801*2*0.8","v":47040},{"$f":"D801*2*0.8","v":53760},60480,67200,72640,78000,83360,88720,1176,1260,1512,1748,1950,2151]
["Shasta","Shasta0.9",{"$f":"C801*2*0.9","v":52920},{"$f":"D801*2*0.9","v":60480},68040,75600,81720,87750,93780,99810,1323,1417,1701,1966,2193,2419]
["Shasta","Shasta1",{"$f":"C801*2","v":58800},{"$f":"D801*2","v":67200},75600,84000,90800,97500,104200,110900,{"$f":"K801*2","v":1470},{"$f":"L801*2","v":1574},1890,2184,2436,2688]
["Shasta","Shasta1.1",{"$f":"C801*2*1.1","v":64680.000000000007},{"$f":"D801*2*1.1","v":73920},83160,92400.000000000015,99880.000000000015,107250.00000000001,114620.00000000001,121990.00000000001,{"$f":"TRUNC(C810/12*0.3)","v":1617},{"$f":"TRUNC((C810+D810)/2/12*0.3)","v":1732},{"$f":"TRUNC((E810)/12*0.3)","v":2079},{"$f":"TRUNC(((F810+G810)/2)/12*0.3)","v":2403},{"$f":"TRUNC(H810/12*0.3)","v":2681},{"$f":"TRUNC(((I810+J810)/2)/12*0.3)","v":2957}]
["Shasta","Shasta1.2",{"$f":"C801*2*1.2","v":70560},{"$f":"D801*2*1.2","v":80640},90720,100800,108960,117000,125040,133080,1764,1890,2268,2622,2925,3226]
["Sierra","Sierra0.15",{"$f":"C819*2*0.15","v":8985},{"$f":"D819*2*0.15","v":10260},{"$f":"E819*2*0.15","v":11550},{"$f":"F819*2*0.15","v":12825},{"$f":"G819*2*0.15","v":13860},{"$f":"H819*2*0.15","v":14880},15915,16935,224,240,288,333,372,410]
["Sierra","Sierra0.2",{"$f":"C819*2*0.2","v":11980},{"$f":"D819*2*0.2","v":13680},15400,17100,18480,19840,21220,22580,299,320,385,444,496,547]
["Sierra","Sierra0.25",{"$f":"C819*2*0.25","v":14975},{"$f":"D819*2*0.25","v":17100},19250,21375,23100,24800,26525,28225,374,400,481,555,620,684]
["Sierra","Sierra0.3",{"$f":"C819*2*0.3","v":17970},{"$f":"D819*2*0.3","v":20520},23100,25650,27720,29760,31830,33870,449,481,577,667,744,821]
["Sierra","Sierra0.35",{"$f":"C819*2*0.35","v":20965},{"$f":"D819*2*0.35","v":23940},26950,29924.999999999996,32339.999999999996,34720,37135,39515,524,561,673,778,868,958]
["Sierra","Sierra0.4",{"$f":"C819*2*0.4","v":23960},{"$f":"D819*2*0.4","v":27360},30800,34200,36960,39680,42440,45160,599,641,770,889,992,1095]
["Sierra","Sierra0.45",{"$f":"C819*2*0.45","v":26955},{"$f":"D819*2*0.45","v":30780},34650,38475,41580,44640,47745,50805,673,721,866,1000,1116,1231]
["Sierra","Sierra0.5",{"$f":"VLOOKUP($A:$A,'Max Funds & Unit Mix'!$L$86:$T$144,2,FALSE)","v":29950},{"$f":"VLOOKUP($A:$A,'Max Funds & Unit Mix'!$L$86:$T$144,3,FALSE)","v":34200},{"$f":"VLOOKUP($A:$A,'Max Funds & Unit Mix'!$L$86:$T$144,4,FALSE)","v":38500},{"$f":"VLOOKUP($A:$A,'Max Funds & Unit Mix'!$L$86:$T$144,5,FALSE)","v":42750},{"$f":"VLOOKUP($A:$A,'Max Funds & Unit Mix'!$L$86:$T$144,6,FALSE)","v":46200},{"$f":"VLOOKUP($A:$A,'Max Funds & Unit Mix'!$L$86:$T$144,7,FALSE)","v":49600},{"$f":"VLOOKUP($A:$A,'Max Funds & Unit Mix'!$L$86:$T$144,8,FALSE)","v":53050},{"$f":"VLOOKUP($A:$A,'Max Funds & Unit Mix'!$L$86:$T$144,9,FALSE)","v":56450},{"$f":"TRUNC(C819/12*0.3)","v":748},{"$f":"TRUNC((C819+D819)/2/12*0.3)","v":801},{"$f":"TRUNC((E819)/12*0.3)","v":962},{"$f":"TRUNC(((F819+G819)/2)/12*0.3)","v":1111},{"$f":"TRUNC(H819/12*0.3)","v":1240},{"$f":"TRUNC(((I819+J819)/2)/12*0.3)","v":1368}]
["Sierra","Sierra0.55",{"$f":"C819*2*0.55","v":32945},{"$f":"D819*2*0.55","v":37620},42350,47025.000000000007,50820.000000000007,54560.000000000007,58355.000000000007,62095.000000000007,{"$f":"TRUNC(C820/12*0.3)","v":823},{"$f":"TRUNC((C820+D820)/2/12*0.3)","v":882},{"$f":"TRUNC((E820)/12*0.3)","v":1058},{"$f":"TRUNC(((F820+G820)/2)/12*0.3)","v":1223},{"$f":"TRUNC(H820/12*0.3)","v":1364},{"$f":"TRUNC(((I820+J820)/2)/12*0.3)","v":1505}]
["Sierra","Sierra0.6",{"$f":"C819*2*0.6","v":35940},{"$f":"D819*2*0.6","v":41040},46200,51300,55440,59520,63660,67740,898,962,1155,1334,1488,1642]
["Sierra","Sierra0.65",{"$f":"C819*2*0.65","v":38935},{"$f":"D819*2*0.65","v":44460},50050,55575,60060,64480,68965,73385,973,1042,1251,1445,1612,1779]
["Sierra","Sierra0.7",{"$f":"C819*2*0.7","v":41930},{"$f":"D819*2*0.7","v":47880},53900,59849.999999999993,64679.999999999993,69440,74270,79030,1048,1122,1347,1556,1736,1916]
["Sierra","Sierra0.75",{"$f":"C819*2*0.75","v":44925},{"$f":"D819*2*0.75","v":51300},57750,64125,69300,74400,79575,84675,1123,1202,1443,1667,1860,2053]
["Sierra","Sierra0.8",{"$f":"C819*2*0.8","v":47920},{"$f":"D819*2*0.8","v":54720},61600,68400,73920,79360,84880,90320,1198,1283,1540,1779,1984,2190]
["Sierra","Sierra0.9",{"$f":"C819*2*0.9","v":53910},{"$f":"D819*2*0.9","v":61560},69300,76950,83160,89280,95490,101610,1347,1443,1732,2001,2232,2463]
["Sierra","Sierra1",{"$f":"C819*2","v":59900},{"$f":"D819*2","v":68400},77000,85500,92400,99200,106100,112900,{"$f":"K819*2","v":1496},{"$f":"L819*2","v":1602},1924,2222,2480,2736]
["Sierra","Sierra1.1",{"$f":"C819*2*1.1","v":65890},{"$f":"D819*2*1.1","v":75240},84700,94050.000000000015,101640.00000000001,109120.00000000001,116710.00000000001,124190.00000000001,{"$f":"TRUNC(C828/12*0.3)","v":1647},{"$f":"TRUNC((C828+D828)/2/12*0.3)","v":1764},{"$f":"TRUNC((E828)/12*0.3)","v":2117},{"$f":"TRUNC(((F828+G828)/2)/12*0.3)","v":2446},{"$f":"TRUNC(H828/12*0.3)","v":2728},{"$f":"TRUNC(((I828+J828)/2)/12*0.3)","v":3011}]
["Sierra","Sierra1.2",{"$f":"C819*2*1.2","v":71880},{"$f":"D819*2*1.2","v":82080},92400,102600,110880,119040,127320,135480,1797,1924,2310,2668,2976,3285]
["Siskiyou","Siskiyou0.15",{"$f":"C837*2*0.15","v":8670},{"$f":"D837*2*0.15","v":9900},{"$f":"E837*2*0.15","v":11145},{"$f":"F837*2*0.15","v":12375},{"$f":"G837*2*0.15","v":13365},{"$f":"H837*2*0.15","v":14355},15345,16335,216,232,278,321,358,396]
["Siskiyou","Siskiyou0.2",{"$f":"C837*2*0.2","v":11560},{"$f":"D837*2*0.2","v":13200},14860,16500,17820,19140,20460,21780,289,309,371,429,478,528]
["Siskiyou","Siskiyou0.25",{"$f":"C837*2*0.25","v":14450},{"$f":"D837*2*0.25","v":16500},18575,20625,22275,23925,25575,27225,361,386,464,536,598,660]
["Siskiyou","Siskiyou0.3",{"$f":"C837*2*0.3","v":17340},{"$f":"D837*2*0.3","v":19800},22290,24750,26730,28710,30690,32670,433,464,557,643,717,792]
["Siskiyou","Siskiyou0.35",{"$f":"C837*2*0.35","v":20230},{"$f":"D837*2*0.35","v":23100},26005,28874.999999999996,31184.999999999996,33495,35805,38115,505,541,650,750,837,924]
["Siskiyou","Siskiyou0.4",{"$f":"C837*2*0.4","v":23120},{"$f":"D837*2*0.4","v":26400},29720,33000,35640,38280,40920,43560,578,619,743,858,957,1056]
["Siskiyou","Siskiyou0.45",{"$f":"C837*2*0.45","v":26010},{"$f":"D837*2*0.45","v":29700},33435,37125,40095,43065,46035,49005,650,696,835,965,1076,1188]
["Siskiyou","Siskiyou0.5",{"$f":"VLOOKUP($A:$A,'Max Funds & Unit Mix'!$L$86:$T$144,2,FALSE)","v":28900},{"$f":"VLOOKUP($A:$A,'Max Funds & Unit Mix'!$L$86:$T$144,3,FALSE)","v":33000},{"$f":"VLOOKUP($A:$A,'Max Funds & Unit Mix'!$L$86:$T$144,4,FALSE)","v":37150},{"$f":"VLOOKUP($A:$A,'Max Funds & Unit Mix'!$L$86:$T$144,5,FALSE)","v":41250},{"$f":"VLOOKUP($A:$A,'Max Funds & Unit Mix'!$L$86:$T$144,6,FALSE)","v":44550},{"$f":"VLOOKUP($A:$A,'Max Funds & Unit Mix'!$L$86:$T$144,7,FALSE)","v":47850},{"$f":"VLOOKUP($A:$A,'Max Funds & Unit Mix'!$L$86:$T$144,8,FALSE)","v":51150},{"$f":"VLOOKUP($A:$A,'Max Funds & Unit Mix'!$L$86:$T$144,9,FALSE)","v":54450},{"$f":"TRUNC(C837/12*0.3)","v":722},{"$f":"TRUNC((C837+D837)/2/12*0.3)","v":773},{"$f":"TRUNC((E837)/12*0.3)","v":928},{"$f":"TRUNC(((F837+G837)/2)/12*0.3)","v":1072},{"$f":"TRUNC(H837/12*0.3)","v":1196},{"$f":"TRUNC(((I837+J837)/2)/12*0.3)","v":1320}]
["Siskiyou","Siskiyou0.55",{"$f":"C837*2*0.55","v":31790.000000000004},{"$f":"D837*2*0.55","v":36300},40865,45375.000000000007,49005.000000000007,52635.000000000007,56265.000000000007,59895.000000000007,{"$f":"TRUNC(C838/12*0.3)","v":794},{"$f":"TRUNC((C838+D838)/2/12*0.3)","v":851},{"$f":"TRUNC((E838)/12*0.3)","v":1021},{"$f":"TRUNC(((F838+G838)/2)/12*0.3)","v":1179},{"$f":"TRUNC(H838/12*0.3)","v":1315},{"$f":"TRUNC(((I838+J838)/2)/12*0.3)","v":1452}]
["Siskiyou","Siskiyou0.6",{"$f":"C837*2*0.6","v":34680},{"$f":"D837*2*0.6","v":39600},44580,49500,53460,57420,61380,65340,867,928,1114,1287,1435,1584]
["Siskiyou","Siskiyou0.65",{"$f":"C837*2*0.65","v":37570},{"$f":"D837*2*0.65","v":42900},48295,53625,57915,62205,66495,70785,939,1005,1207,1394,1555,1716]
["Siskiyou","Siskiyou0.7",{"$f":"C837*2*0.7","v":40460},{"$f":"D837*2*0.7","v":46200},52010,57749.999999999993,62369.999999999993,66990,71610,76230,1011,1083,1300,1501,1674,1848]
["Siskiyou","Siskiyou0.75",{"$f":"C837*2*0.75","v":43350},{"$f":"D837*2*0.75","v":49500},55725,61875,66825,71775,76725,81675,1083,1160,1393,1608,1794,1980]
["Siskiyou","Siskiyou0.8",{"$f":"C837*2*0.8","v":46240},{"$f":"D837*2*0.8","v":52800},59440,66000,71280,76560,81840,87120,1156,1238,1486,1716,1914,2112]
["Siskiyou","Siskiyou0.9",{"$f":"C837*2*0.9","v":52020},{"$f":"D837*2*0.9","v":59400},66870,74250,80190,86130,92070,98010,1300,1392,1671,1930,2153,2376]
["Siskiyou","Siskiyou1",{"$f":"C837*2","v":57800},{"$f":"D837*2","v":66000},74300,82500,89100,95700,102300,108900,{"$f":"K837*2","v":1444},{"$f":"L837*2","v":1546},1856,2144,2392,2640]
["Siskiyou","Siskiyou1.1",{"$f":"C837*2*1.1","v":63580.000000000007},{"$f":"D837*2*1.1","v":72600},81730,90750.000000000015,98010.000000000015,105270.00000000001,112530.00000000001,119790.00000000001,{"$f":"TRUNC(C846/12*0.3)","v":1589},{"$f":"TRUNC((C846+D846)/2/12*0.3)","v":1702},{"$f":"TRUNC((E846)/12*0.3)","v":2043},{"$f":"TRUNC(((F846+G846)/2)/12*0.3)","v":2359},{"$f":"TRUNC(H846/12*0.3)","v":2631},{"$f":"TRUNC(((I846+J846)/2)/12*0.3)","v":2904}]
["Siskiyou","Siskiyou1.2",{"$f":"C837*2*1.2","v":69360},{"$f":"D837*2*1.2","v":79200},89160,99000,106920,114840,122760,130680,1734,1857,2229,2574,2871,3168]
["Solano","Solano0.15",{"$f":"C855*2*0.15","v":12015},{"$f":"D855*2*0.15","v":13740},{"$f":"E855*2*0.15","v":15450},{"$f":"F855*2*0.15","v":17160},{"$f":"G855*2*0.15","v":18540},{"$f":"H855*2*0.15","v":19920},21285,22665,300,321,386,446,498,549]
["Solano","Solano0.2",{"$f":"C855*2*0.2","v":16020},{"$f":"D855*2*0.2","v":18320},20600,22880,24720,26560,28380,30220,400,429,515,595,664,732]
["Solano","Solano0.25",{"$f":"C855*2*0.25","v":20025},{"$f":"D855*2*0.25","v":22900},25750,28600,30900,33200,35475,37775,500,536,643,743,830,915]
["Solano","Solano0.3",{"$f":"C855*2*0.3","v":24030},{"$f":"D855*2*0.3","v":27480},30900,34320,37080,39840,42570,45330,600,643,772,892,996,1098]
["Solano","Solano0.35",{"$f":"C855*2*0.35","v":28035},{"$f":"D855*2*0.35","v":32059.999999999996},36050,40040,43260,46480,49665,52885,700,751,901,1041,1162,1281]
["Solano","Solano0.4",{"$f":"C855*2*0.4","v":32040},{"$f":"D855*2*0.4","v":36640},41200,45760,49440,53120,56760,60440,801,858,1030,1190,1328,1465]
["Solano","Solano0.45",{"$f":"C855*2*0.45","v":36045},{"$f":"D855*2*0.45","v":41220},46350,51480,55620,59760,63855,67995,901,965,1158,1338,1494,1648]
["Solano","Solano0.5",{"$f":"VLOOKUP($A:$A,'Max Funds & Unit Mix'!$L$86:$T$144,2,FALSE)","v":40050},{"$f":"VLOOKUP($A:$A,'Max Funds & Unit Mix'!$L$86:$T$144,3,FALSE)","v":45800},{"$f":"VLOOKUP($A:$A,'Max Funds & Unit Mix'!$L$86:$T$144,4,FALSE)","v":51500},{"$f":"VLOOKUP($A:$A,'Max Funds & Unit Mix'!$L$86:$T$144,5,FALSE)","v":57200},{"$f":"VLOOKUP($A:$A,'Max Funds & Unit Mix'!$L$86:$T$144,6,FALSE)","v":61800},{"$f":"VLOOKUP($A:$A,'Max Funds & Unit Mix'!$L$86:$T$144,7,FALSE)","v":66400},{"$f":"VLOOKUP($A:$A,'Max Funds & Unit Mix'!$L$86:$T$144,8,FALSE)","v":70950},{"$f":"VLOOKUP($A:$A,'Max Funds & Unit Mix'!$L$86:$T$144,9,FALSE)","v":75550},{"$f":"TRUNC(C855/12*0.3)","v":1001},{"$f":"TRUNC((C855+D855)/2/12*0.3)","v":1073},{"$f":"TRUNC((E855)/12*0.3)","v":1287},{"$f":"TRUNC(((F855+G855)/2)/12*0.3)","v":1487},{"$f":"TRUNC(H855/12*0.3)","v":1660},{"$f":"TRUNC(((I855+J855)/2)/12*0.3)","v":1831}]
["Solano","Solano0.55",{"$f":"C855*2*0.55","v":44055},{"$f":"D855*2*0.55","v":50380.000000000007},56650.000000000007,62920.000000000007,67980,73040,78045,83105,{"$f":"TRUNC(C856/12*0.3)","v":1101},{"$f":"TRUNC((C856+D856)/2/12*0.3)","v":1180},{"$f":"TRUNC((E856)/12*0.3)","v":1416},{"$f":"TRUNC(((F856+G856)/2)/12*0.3)","v":1636},{"$f":"TRUNC(H856/12*0.3)","v":1826},{"$f":"TRUNC(((I856+J856)/2)/12*0.3)","v":2014}]
["Solano","Solano0.6",{"$f":"C855*2*0.6","v":48060},{"$f":"D855*2*0.6","v":54960},61800,68640,74160,79680,85140,90660,1201,1287,1545,1785,1992,2197]
["Solano","Solano0.65",{"$f":"C855*2*0.65","v":52065},{"$f":"D855*2*0.65","v":59540},66950,74360,80340,86320,92235,98215,1301,1395,1673,1933,2158,2380]
["Solano","Solano0.7",{"$f":"C855*2*0.7","v":56070},{"$f":"D855*2*0.7","v":64119.999999999993},72100,80080,86520,92960,99330,105770,1401,1502,1802,2082,2324,2563]
["Solano","Solano0.75",{"$f":"C855*2*0.75","v":60075},{"$f":"D855*2*0.75","v":68700},77250,85800,92700,99600,106425,113325,1501,1609,1931,2231,2490,2746]
["Solano","Solano0.8",{"$f":"C855*2*0.8","v":64080},{"$f":"D855*2*0.8","v":73280},82400,91520,98880,106240,113520,120880,1602,1717,2060,2380,2656,2930]
["Solano","Solano0.9",{"$f":"C855*2*0.9","v":72090},{"$f":"D855*2*0.9","v":82440},92700,102960,111240,119520,127710,135990,1802,1931,2317,2677,2988,3296]
["Solano","Solano1",{"$f":"C855*2","v":80100},{"$f":"D855*2","v":91600},103000,114400,123600,132800,141900,151100,{"$f":"K855*2","v":2002},{"$f":"L855*2","v":2146},2574,2974,3320,3662]
["Solano","Solano1.1",{"$f":"C855*2*1.1","v":88110},{"$f":"D855*2*1.1","v":100760.00000000001},113300.00000000001,125840.00000000001,135960,146080,156090,166210,{"$f":"TRUNC(C864/12*0.3)","v":2202},{"$f":"TRUNC((C864+D864)/2/12*0.3)","v":2360},{"$f":"TRUNC((E864)/12*0.3)","v":2832},{"$f":"TRUNC(((F864+G864)/2)/12*0.3)","v":3272},{"$f":"TRUNC(H864/12*0.3)","v":3652},{"$f":"TRUNC(((I864+J864)/2)/12*0.3)","v":4028}]
["Solano","Solano1.2",{"$f":"C855*2*1.2","v":96120},{"$f":"D855*2*1.2","v":109920},123600,137280,148320,159360,170280,181320,2403,2575,3090,3570,3984,4395]
["Sonoma","Sonoma0.15",{"$f":"C873*2*0.15","v":13215},{"$f":"D873*2*0.15","v":15105},{"$f":"E873*2*0.15","v":16995},{"$f":"F873*2*0.15","v":18870},{"$f":"G873*2*0.15","v":20385},{"$f":"H873*2*0.15","v":21900},23400,24915,330,354,424,490,547,603]
["Sonoma","Sonoma0.2",{"$f":"C873*2*0.2","v":17620},{"$f":"D873*2*0.2","v":20140},22660,25160,27180,29200,31200,33220,440,472,566,654,730,805]
["Sonoma","Sonoma0.25",{"$f":"C873*2*0.25","v":22025},{"$f":"D873*2*0.25","v":25175},28325,31450,33975,36500,39000,41525,550,590,708,817,912,1006]
["Sonoma","Sonoma0.3",{"$f":"C873*2*0.3","v":26430},{"$f":"D873*2*0.3","v":30210},33990,37740,40770,43800,46800,49830,660,708,849,981,1095,1207]
["Sonoma","Sonoma0.35",{"$f":"C873*2*0.35","v":30834.999999999996},{"$f":"D873*2*0.35","v":35245},39655,44030,47565,51100,54600,58134.999999999993,770,826,991,1144,1277,1409]
["Sonoma","Sonoma0.4",{"$f":"C873*2*0.4","v":35240},{"$f":"D873*2*0.4","v":40280},45320,50320,54360,58400,62400,66440,881,944,1133,1308,1460,1610]
["Sonoma","Sonoma0.45",{"$f":"C873*2*0.45","v":39645},{"$f":"D873*2*0.45","v":45315},50985,56610,61155,65700,70200,74745,991,1062,1274,1472,1642,1811]
["Sonoma","Sonoma0.5",{"$f":"VLOOKUP($A:$A,'Max Funds & Unit Mix'!$L$86:$T$144,2,FALSE)","v":44050},{"$f":"VLOOKUP($A:$A,'Max Funds & Unit Mix'!$L$86:$T$144,3,FALSE)","v":50350},{"$f":"VLOOKUP($A:$A,'Max Funds & Unit Mix'!$L$86:$T$144,4,FALSE)","v":56650},{"$f":"VLOOKUP($A:$A,'Max Funds & Unit Mix'!$L$86:$T$144,5,FALSE)","v":62900},{"$f":"VLOOKUP($A:$A,'Max Funds & Unit Mix'!$L$86:$T$144,6,FALSE)","v":67950},{"$f":"VLOOKUP($A:$A,'Max Funds & Unit Mix'!$L$86:$T$144,7,FALSE)","v":73000},{"$f":"VLOOKUP($A:$A,'Max Funds & Unit Mix'!$L$86:$T$144,8,FALSE)","v":78000},{"$f":"VLOOKUP($A:$A,'Max Funds & Unit Mix'!$L$86:$T$144,9,FALSE)","v":83050},{"$f":"TRUNC(C873/12*0.3)","v":1101},{"$f":"TRUNC((C873+D873)/2/12*0.3)","v":1180},{"$f":"TRUNC((E873)/12*0.3)","v":1416},{"$f":"TRUNC(((F873+G873)/2)/12*0.3)","v":1635},{"$f":"TRUNC(H873/12*0.3)","v":1825},{"$f":"TRUNC(((I873+J873)/2)/12*0.3)","v":2013}]
["Sonoma","Sonoma0.55",{"$f":"C873*2*0.55","v":48455.000000000007},{"$f":"D873*2*0.55","v":55385.000000000007},62315.000000000007,69190,74745,80300,85800,91355.000000000015,{"$f":"TRUNC(C874/12*0.3)","v":1211},{"$f":"TRUNC((C874+D874)/2/12*0.3)","v":1298},{"$f":"TRUNC((E874)/12*0.3)","v":1557},{"$f":"TRUNC(((F874+G874)/2)/12*0.3)","v":1799},{"$f":"TRUNC(H874/12*0.3)","v":2007},{"$f":"TRUNC(((I874+J874)/2)/12*0.3)","v":2214}]
["Sonoma","Sonoma0.6",{"$f":"C873*2*0.6","v":52860},{"$f":"D873*2*0.6","v":60420},67980,75480,81540,87600,93600,99660,1321,1416,1699,1962,2190,2415]
["Sonoma","Sonoma0.65",{"$f":"C873*2*0.65","v":57265},{"$f":"D873*2*0.65","v":65455},73645,81770,88335,94900,101400,107965,1431,1534,1841,2126,2372,2617]
["Sonoma","Sonoma0.7",{"$f":"C873*2*0.7","v":61669.999999999993},{"$f":"D873*2*0.7","v":70490},79310,88060,95130,102200,109200,116269.99999999999,1541,1652,1982,2289,2555,2818]
["Sonoma","Sonoma0.75",{"$f":"C873*2*0.75","v":66075},{"$f":"D873*2*0.75","v":75525},84975,94350,101925,109500,117000,124575,1651,1770,2124,2453,2737,3019]
["Sonoma","Sonoma0.8",{"$f":"C873*2*0.8","v":70480},{"$f":"D873*2*0.8","v":80560},90640,100640,108720,116800,124800,132880,1762,1888,2266,2617,2920,3221]
["Sonoma","Sonoma0.9",{"$f":"C873*2*0.9","v":79290},{"$f":"D873*2*0.9","v":90630},101970,113220,122310,131400,140400,149490,1982,2124,2549,2944,3285,3623]
["Sonoma","Sonoma1",{"$f":"C873*2","v":88100},{"$f":"D873*2","v":100700},113300,125800,135900,146000,156000,166100,{"$f":"K873*2","v":2202},{"$f":"L873*2","v":2360},2832,3270,3650,4026]
["Sonoma","Sonoma1.1",{"$f":"C873*2*1.1","v":96910.000000000015},{"$f":"D873*2*1.1","v":110770.00000000001},124630.00000000001,138380,149490,160600,171600,182710.00000000003,{"$f":"TRUNC(C882/12*0.3)","v":2422},{"$f":"TRUNC((C882+D882)/2/12*0.3)","v":2596},{"$f":"TRUNC((E882)/12*0.3)","v":3115},{"$f":"TRUNC(((F882+G882)/2)/12*0.3)","v":3598},{"$f":"TRUNC(H882/12*0.3)","v":4015},{"$f":"TRUNC(((I882+J882)/2)/12*0.3)","v":4428}]
["Sonoma","Sonoma1.2",{"$f":"C873*2*1.2","v":105720},{"$f":"D873*2*1.2","v":120840},135960,150960,163080,175200,187200,199320,2643,2832,3399,3925,4380,4831]
["Stanislaus","Stanislaus0.15",{"$f":"C891*2*0.15","v":8865},{"$f":"D891*2*0.15","v":10140},{"$f":"E891*2*0.15","v":11400},{"$f":"F891*2*0.15","v":12660},{"$f":"G891*2*0.15","v":13680},{"$f":"H891*2*0.15","v":14700},15705,16725,221,237,285,329,367,405]
["Stanislaus","Stanislaus0.2",{"$f":"C891*2*0.2","v":11820},{"$f":"D891*2*0.2","v":13520},15200,16880,18240,19600,20940,22300,295,316,380,439,490,540]
["Stanislaus","Stanislaus0.25",{"$f":"C891*2*0.25","v":14775},{"$f":"D891*2*0.25","v":16900},19000,21100,22800,24500,26175,27875,369,395,475,548,612,675]
["Stanislaus","Stanislaus0.3",{"$f":"C891*2*0.3","v":17730},{"$f":"D891*2*0.3","v":20280},22800,25320,27360,29400,31410,33450,443,475,570,658,735,810]
["Stanislaus","Stanislaus0.35",{"$f":"C891*2*0.35","v":20685},{"$f":"D891*2*0.35","v":23660},26600,29539.999999999996,31919.999999999996,34300,36645,39025,517,554,665,768,857,945]
["Stanislaus","Stanislaus0.4",{"$f":"C891*2*0.4","v":23640},{"$f":"D891*2*0.4","v":27040},30400,33760,36480,39200,41880,44600,591,633,760,878,980,1081]
["Stanislaus","Stanislaus0.45",{"$f":"C891*2*0.45","v":26595},{"$f":"D891*2*0.45","v":30420},34200,37980,41040,44100,47115,50175,664,712,855,987,1102,1216]
["Stanislaus","Stanislaus0.5",{"$f":"VLOOKUP($A:$A,'Max Funds & Unit Mix'!$L$86:$T$144,2,FALSE)","v":29550},{"$f":"VLOOKUP($A:$A,'Max Funds & Unit Mix'!$L$86:$T$144,3,FALSE)","v":33800},{"$f":"VLOOKUP($A:$A,'Max Funds & Unit Mix'!$L$86:$T$144,4,FALSE)","v":38000},{"$f":"VLOOKUP($A:$A,'Max Funds & Unit Mix'!$L$86:$T$144,5,FALSE)","v":42200},{"$f":"VLOOKUP($A:$A,'Max Funds & Unit Mix'!$L$86:$T$144,6,FALSE)","v":45600},{"$f":"VLOOKUP($A:$A,'Max Funds & Unit Mix'!$L$86:$T$144,7,FALSE)","v":49000},{"$f":"VLOOKUP($A:$A,'Max Funds & Unit Mix'!$L$86:$T$144,8,FALSE)","v":52350},{"$f":"VLOOKUP($A:$A,'Max Funds & Unit Mix'!$L$86:$T$144,9,FALSE)","v":55750},{"$f":"TRUNC(C891/12*0.3)","v":738},{"$f":"TRUNC((C891+D891)/2/12*0.3)","v":791},{"$f":"TRUNC((E891)/12*0.3)","v":950},{"$f":"TRUNC(((F891+G891)/2)/12*0.3)","v":1097},{"$f":"TRUNC(H891/12*0.3)","v":1225},{"$f":"TRUNC(((I891+J891)/2)/12*0.3)","v":1351}]
["Stanislaus","Stanislaus0.55",{"$f":"C891*2*0.55","v":32505.000000000004},{"$f":"D891*2*0.55","v":37180},41800,46420.000000000007,50160.000000000007,53900.000000000007,57585.000000000007,61325.000000000007,{"$f":"TRUNC(C892/12*0.3)","v":812},{"$f":"TRUNC((C892+D892)/2/12*0.3)","v":871},{"$f":"TRUNC((E892)/12*0.3)","v":1045},{"$f":"TRUNC(((F892+G892)/2)/12*0.3)","v":1207},{"$f":"TRUNC(H892/12*0.3)","v":1347},{"$f":"TRUNC(((I892+J892)/2)/12*0.3)","v":1486}]
["Stanislaus","Stanislaus0.6",{"$f":"C891*2*0.6","v":35460},{"$f":"D891*2*0.6","v":40560},45600,50640,54720,58800,62820,66900,886,950,1140,1317,1470,1621]
["Stanislaus","Stanislaus0.65",{"$f":"C891*2*0.65","v":38415},{"$f":"D891*2*0.65","v":43940},49400,54860,59280,63700,68055,72475,960,1029,1235,1426,1592,1756]
["Stanislaus","Stanislaus0.7",{"$f":"C891*2*0.7","v":41370},{"$f":"D891*2*0.7","v":47320},53200,59079.999999999993,63839.999999999993,68600,73290,78050,1034,1108,1330,1536,1715,1891]
["Stanislaus","Stanislaus0.75",{"$f":"C891*2*0.75","v":44325},{"$f":"D891*2*0.75","v":50700},57000,63300,68400,73500,78525,83625,1108,1187,1425,1646,1837,2026]
["Stanislaus","Stanislaus0.8",{"$f":"C891*2*0.8","v":47280},{"$f":"D891*2*0.8","v":54080},60800,67520,72960,78400,83760,89200,1182,1267,1520,1756,1960,2162]
["Stanislaus","Stanislaus0.9",{"$f":"C891*2*0.9","v":53190},{"$f":"D891*2*0.9","v":60840},68400,75960,82080,88200,94230,100350,1329,1425,1710,1975,2205,2432]
["Stanislaus","Stanislaus1",{"$f":"C891*2","v":59100},{"$f":"D891*2","v":67600},76000,84400,91200,98000,104700,111500,{"$f":"K891*2","v":1476},{"$f":"L891*2","v":1582},1900,2194,2450,2702]
["Stanislaus","Stanislaus1.1",{"$f":"C891*2*1.1","v":65010.000000000007},{"$f":"D891*2*1.1","v":74360},83600,92840.000000000015,100320.00000000001,107800.00000000001,115170.00000000001,122650.00000000001,{"$f":"TRUNC(C900/12*0.3)","v":1625},{"$f":"TRUNC((C900+D900)/2/12*0.3)","v":1742},{"$f":"TRUNC((E900)/12*0.3)","v":2090},{"$f":"TRUNC(((F900+G900)/2)/12*0.3)","v":2414},{"$f":"TRUNC(H900/12*0.3)","v":2695},{"$f":"TRUNC(((I900+J900)/2)/12*0.3)","v":2972}]
["Stanislaus","Stanislaus1.2",{"$f":"C891*2*1.2","v":70920},{"$f":"D891*2*1.2","v":81120},91200,101280,109440,117600,125640,133800,1773,1900,2280,2634,2940,3243]
["Sutter","Sutter0.15",{"$f":"C909*2*0.15","v":8670},{"$f":"D909*2*0.15","v":9900},{"$f":"E909*2*0.15","v":11145},{"$f":"F909*2*0.15","v":12375},{"$f":"G909*2*0.15","v":13365},{"$f":"H909*2*0.15","v":14355},15345,16335,216,232,278,321,358,396]
["Sutter","Sutter0.2",{"$f":"C909*2*0.2","v":11560},{"$f":"D909*2*0.2","v":13200},14860,16500,17820,19140,20460,21780,289,309,371,429,478,528]
["Sutter","Sutter0.25",{"$f":"C909*2*0.25","v":14450},{"$f":"D909*2*0.25","v":16500},18575,20625,22275,23925,25575,27225,361,386,464,536,598,660]
["Sutter","Sutter0.3",{"$f":"C909*2*0.3","v":17340},{"$f":"D909*2*0.3","v":19800},22290,24750,26730,28710,30690,32670,433,464,557,643,717,792]
["Sutter","Sutter0.35",{"$f":"C909*2*0.35","v":20230},{"$f":"D909*2*0.35","v":23100},26005,28874.999999999996,31184.999999999996,33495,35805,38115,505,541,650,750,837,924]
["Sutter","Sutter0.4",{"$f":"C909*2*0.4","v":23120},{"$f":"D909*2*0.4","v":26400},29720,33000,35640,38280,40920,43560,578,619,743,858,957,1056]
["Sutter","Sutter0.45",{"$f":"C909*2*0.45","v":26010},{"$f":"D909*2*0.45","v":29700},33435,37125,40095,43065,46035,49005,650,696,835,965,1076,1188]
["Sutter","Sutter0.5",{"$f":"VLOOKUP($A:$A,'Max Funds & Unit Mix'!$L$86:$T$144,2,FALSE)","v":28900},{"$f":"VLOOKUP($A:$A,'Max Funds & Unit Mix'!$L$86:$T$144,3,FALSE)","v":33000},{"$f":"VLOOKUP($A:$A,'Max Funds & Unit Mix'!$L$86:$T$144,4,FALSE)","v":37150},{"$f":"VLOOKUP($A:$A,'Max Funds & Unit Mix'!$L$86:$T$144,5,FALSE)","v":41250},{"$f":"VLOOKUP($A:$A,'Max Funds & Unit Mix'!$L$86:$T$144,6,FALSE)","v":44550},{"$f":"VLOOKUP($A:$A,'Max Funds & Unit Mix'!$L$86:$T$144,7,FALSE)","v":47850},{"$f":"VLOOKUP($A:$A,'Max Funds & Unit Mix'!$L$86:$T$144,8,FALSE)","v":51150},{"$f":"VLOOKUP($A:$A,'Max Funds & Unit Mix'!$L$86:$T$144,9,FALSE)","v":54450},{"$f":"TRUNC(C909/12*0.3)","v":722},{"$f":"TRUNC((C909+D909)/2/12*0.3)","v":773},{"$f":"TRUNC((E909)/12*0.3)","v":928},{"$f":"TRUNC(((F909+G909)/2)/12*0.3)","v":1072},{"$f":"TRUNC(H909/12*0.3)","v":1196},{"$f":"TRUNC(((I909+J909)/2)/12*0.3)","v":1320}]
["Sutter","Sutter0.55",{"$f":"C909*2*0.55","v":31790.000000000004},{"$f":"D909*2*0.55","v":36300},40865,45375.000000000007,49005.000000000007,52635.000000000007,56265.000000000007,59895.000000000007,{"$f":"TRUNC(C910/12*0.3)","v":794},{"$f":"TRUNC((C910+D910)/2/12*0.3)","v":851},{"$f":"TRUNC((E910)/12*0.3)","v":1021},{"$f":"TRUNC(((F910+G910)/2)/12*0.3)","v":1179},{"$f":"TRUNC(H910/12*0.3)","v":1315},{"$f":"TRUNC(((I910+J910)/2)/12*0.3)","v":1452}]
["Sutter","Sutter0.6",{"$f":"C909*2*0.6","v":34680},{"$f":"D909*2*0.6","v":39600},44580,49500,53460,57420,61380,65340,867,928,1114,1287,1435,1584]
["Sutter","Sutter0.65",{"$f":"C909*2*0.65","v":37570},{"$f":"D909*2*0.65","v":42900},48295,53625,57915,62205,66495,70785,939,1005,1207,1394,1555,1716]
["Sutter","Sutter0.7",{"$f":"C909*2*0.7","v":40460},{"$f":"D909*2*0.7","v":46200},52010,57749.999999999993,62369.999999999993,66990,71610,76230,1011,1083,1300,1501,1674,1848]
["Sutter","Sutter0.75",{"$f":"C909*2*0.75","v":43350},{"$f":"D909*2*0.75","v":49500},55725,61875,66825,71775,76725,81675,1083,1160,1393,1608,1794,1980]
["Sutter","Sutter0.8",{"$f":"C909*2*0.8","v":46240},{"$f":"D909*2*0.8","v":52800},59440,66000,71280,76560,81840,87120,1156,1238,1486,1716,1914,2112]
["Sutter","Sutter0.9",{"$f":"C909*2*0.9","v":52020},{"$f":"D909*2*0.9","v":59400},66870,74250,80190,86130,92070,98010,1300,1392,1671,1930,2153,2376]
["Sutter","Sutter1",{"$f":"C909*2","v":57800},{"$f":"D909*2","v":66000},74300,82500,89100,95700,102300,108900,{"$f":"K909*2","v":1444},{"$f":"L909*2","v":1546},1856,2144,2392,2640]
["Sutter","Sutter1.1",{"$f":"C909*2*1.1","v":63580.000000000007},{"$f":"D909*2*1.1","v":72600},81730,90750.000000000015,98010.000000000015,105270.00000000001,112530.00000000001,119790.00000000001,{"$f":"TRUNC(C918/12*0.3)","v":1589},{"$f":"TRUNC((C918+D918)/2/12*0.3)","v":1702},{"$f":"TRUNC((E918)/12*0.3)","v":2043},{"$f":"TRUNC(((F918+G918)/2)/12*0.3)","v":2359},{"$f":"TRUNC(H918/12*0.3)","v":2631},{"$f":"TRUNC(((I918+J918)/2)/12*0.3)","v":2904}]
["Sutter","Sutter1.2",{"$f":"C909*2*1.2","v":69360},{"$f":"D909*2*1.2","v":79200},89160,99000,106920,114840,122760,130680,1734,1857,2229,2574,2871,3168]
["Tehama","Tehama0.15",{"$f":"C927*2*0.15","v":8670},{"$f":"D927*2*0.15","v":9900},{"$f":"E927*2*0.15","v":11145},{"$f":"F927*2*0.15","v":12375},{"$f":"G927*2*0.15","v":13365},{"$f":"H927*2*0.15","v":14355},15345,16335,216,232,278,321,358,396]
["Tehama","Tehama0.2",{"$f":"C927*2*0.2","v":11560},{"$f":"D927*2*0.2","v":13200},14860,16500,17820,19140,20460,21780,289,309,371,429,478,528]
["Tehama","Tehama0.25",{"$f":"C927*2*0.25","v":14450},{"$f":"D927*2*0.25","v":16500},18575,20625,22275,23925,25575,27225,361,386,464,536,598,660]
["Tehama","Tehama0.3",{"$f":"C927*2*0.3","v":17340},{"$f":"D927*2*0.3","v":19800},22290,24750,26730,28710,30690,32670,433,464,557,643,717,792]
["Tehama","Tehama0.35",{"$f":"C927*2*0.35","v":20230},{"$f":"D927*2*0.35","v":23100},26005,28874.999999999996,31184.999999999996,33495,35805,38115,505,541,650,750,837,924]
["Tehama","Tehama0.4",{"$f":"C927*2*0.4","v":23120},{"$f":"D927*2*0.4","v":26400},29720,33000,35640,38280,40920,43560,578,619,743,858,957,1056]
["Tehama","Tehama0.45",{"$f":"C927*2*0.45","v":26010},{"$f":"D927*2*0.45","v":29700},33435,37125,40095,43065,46035,49005,650,696,835,965,1076,1188]
["Tehama","Tehama0.5",{"$f":"VLOOKUP($A:$A,'Max Funds & Unit Mix'!$L$86:$T$144,2,FALSE)","v":28900},{"$f":"VLOOKUP($A:$A,'Max Funds & Unit Mix'!$L$86:$T$144,3,FALSE)","v":33000},{"$f":"VLOOKUP($A:$A,'Max Funds & Unit Mix'!$L$86:$T$144,4,FALSE)","v":37150},{"$f":"VLOOKUP($A:$A,'Max Funds & Unit Mix'!$L$86:$T$144,5,FALSE)","v":41250},{"$f":"VLOOKUP($A:$A,'Max Funds & Unit Mix'!$L$86:$T$144,6,FALSE)","v":44550},{"$f":"VLOOKUP($A:$A,'Max Funds & Unit Mix'!$L$86:$T$144,7,FALSE)","v":47850},{"$f":"VLOOKUP($A:$A,'Max Funds & Unit Mix'!$L$86:$T$144,8,FALSE)","v":51150},{"$f":"VLOOKUP($A:$A,'Max Funds & Unit Mix'!$L$86:$T$144,9,FALSE)","v":54450},{"$f":"TRUNC(C927/12*0.3)","v":722},{"$f":"TRUNC((C927+D927)/2/12*0.3)","v":773},{"$f":"TRUNC((E927)/12*0.3)","v":928},{"$f":"TRUNC(((F927+G927)/2)/12*0.3)","v":1072},{"$f":"TRUNC(H927/12*0.3)","v":1196},{"$f":"TRUNC(((I927+J927)/2)/12*0.3)","v":1320}]
["Tehama","Tehama0.55",{"$f":"C927*2*0.55","v":31790.000000000004},{"$f":"D927*2*0.55","v":36300},40865,45375.000000000007,49005.000000000007,52635.000000000007,56265.000000000007,59895.000000000007,{"$f":"TRUNC(C928/12*0.3)","v":794},{"$f":"TRUNC((C928+D928)/2/12*0.3)","v":851},{"$f":"TRUNC((E928)/12*0.3)","v":1021},{"$f":"TRUNC(((F928+G928)/2)/12*0.3)","v":1179},{"$f":"TRUNC(H928/12*0.3)","v":1315},{"$f":"TRUNC(((I928+J928)/2)/12*0.3)","v":1452}]
["Tehama","Tehama0.6",{"$f":"C927*2*0.6","v":34680},{"$f":"D927*2*0.6","v":39600},44580,49500,53460,57420,61380,65340,867,928,1114,1287,1435,1584]
["Tehama","Tehama0.65",{"$f":"C927*2*0.65","v":37570},{"$f":"D927*2*0.65","v":42900},48295,53625,57915,62205,66495,70785,939,1005,1207,1394,1555,1716]
["Tehama","Tehama0.7",{"$f":"C927*2*0.7","v":40460},{"$f":"D927*2*0.7","v":46200},52010,57749.999999999993,62369.999999999993,66990,71610,76230,1011,1083,1300,1501,1674,1848]
["Tehama","Tehama0.75",{"$f":"C927*2*0.75","v":43350},{"$f":"D927*2*0.75","v":49500},55725,61875,66825,71775,76725,81675,1083,1160,1393,1608,1794,1980]
["Tehama","Tehama0.8",{"$f":"C927*2*0.8","v":46240},{"$f":"D927*2*0.8","v":52800},59440,66000,71280,76560,81840,87120,1156,1238,1486,1716,1914,2112]
["Tehama","Tehama0.9",{"$f":"C927*2*0.9","v":52020},{"$f":"D927*2*0.9","v":59400},66870,74250,80190,86130,92070,98010,1300,1392,1671,1930,2153,2376]
["Tehama","Tehama1",{"$f":"C927*2","v":57800},{"$f":"D927*2","v":66000},74300,82500,89100,95700,102300,108900,{"$f":"K927*2","v":1444},{"$f":"L927*2","v":1546},1856,2144,2392,2640]
["Tehama","Tehama1.1",{"$f":"C927*2*1.1","v":63580.000000000007},{"$f":"D927*2*1.1","v":72600},81730,90750.000000000015,98010.000000000015,105270.00000000001,112530.00000000001,119790.00000000001,{"$f":"TRUNC(C936/12*0.3)","v":1589},{"$f":"TRUNC((C936+D936)/2/12*0.3)","v":1702},{"$f":"TRUNC((E936)/12*0.3)","v":2043},{"$f":"TRUNC(((F936+G936)/2)/12*0.3)","v":2359},{"$f":"TRUNC(H936/12*0.3)","v":2631},{"$f":"TRUNC(((I936+J936)/2)/12*0.3)","v":2904}]
["Tehama","Tehama1.2",{"$f":"C927*2*1.2","v":69360},{"$f":"D927*2*1.2","v":79200},89160,99000,106920,114840,122760,130680,1734,1857,2229,2574,2871,3168]
["Trinity","Trinity0.15",{"$f":"C945*2*0.15","v":8670},{"$f":"D945*2*0.15","v":9900},{"$f":"E945*2*0.15","v":11145},{"$f":"F945*2*0.15","v":12375},{"$f":"G945*2*0.15","v":13365},{"$f":"H945*2*0.15","v":14355},15345,16335,216,232,278,321,358,396]
["Trinity","Trinity0.2",{"$f":"C945*2*0.2","v":11560},{"$f":"D945*2*0.2","v":13200},14860,16500,17820,19140,20460,21780,289,309,371,429,478,528]
["Trinity","Trinity0.25",{"$f":"C945*2*0.25","v":14450},{"$f":"D945*2*0.25","v":16500},18575,20625,22275,23925,25575,27225,361,386,464,536,598,660]
["Trinity","Trinity0.3",{"$f":"C945*2*0.3","v":17340},{"$f":"D945*2*0.3","v":19800},22290,24750,26730,28710,30690,32670,433,464,557,643,717,792]
["Trinity","Trinity0.35",{"$f":"C945*2*0.35","v":20230},{"$f":"D945*2*0.35","v":23100},26005,28874.999999999996,31184.999999999996,33495,35805,38115,505,541,650,750,837,924]
["Trinity","Trinity0.4",{"$f":"C945*2*0.4","v":23120},{"$f":"D945*2*0.4","v":26400},29720,33000,35640,38280,40920,43560,578,619,743,858,957,1056]
["Trinity","Trinity0.45",{"$f":"C945*2*0.45","v":26010},{"$f":"D945*2*0.45","v":29700},33435,37125,40095,43065,46035,49005,650,696,835,965,1076,1188]
["Trinity","Trinity0.5",{"$f":"VLOOKUP($A:$A,'Max Funds & Unit Mix'!$L$86:$T$144,2,FALSE)","v":28900},{"$f":"VLOOKUP($A:$A,'Max Funds & Unit Mix'!$L$86:$T$144,3,FALSE)","v":33000},{"$f":"VLOOKUP($A:$A,'Max Funds & Unit Mix'!$L$86:$T$144,4,FALSE)","v":37150},{"$f":"VLOOKUP($A:$A,'Max Funds & Unit Mix'!$L$86:$T$144,5,FALSE)","v":41250},{"$f":"VLOOKUP($A:$A,'Max Funds & Unit Mix'!$L$86:$T$144,6,FALSE)","v":44550},{"$f":"VLOOKUP($A:$A,'Max Funds & Unit Mix'!$L$86:$T$144,7,FALSE)","v":47850},{"$f":"VLOOKUP($A:$A,'Max Funds & Unit Mix'!$L$86:$T$144,8,FALSE)","v":51150},{"$f":"VLOOKUP($A:$A,'Max Funds & Unit Mix'!$L$86:$T$144,9,FALSE)","v":54450},{"$f":"TRUNC(C945/12*0.3)","v":722},{"$f":"TRUNC((C945+D945)/2/12*0.3)","v":773},{"$f":"TRUNC((E945)/12*0.3)","v":928},{"$f":"TRUNC(((F945+G945)/2)/12*0.3)","v":1072},{"$f":"TRUNC(H945/12*0.3)","v":1196},{"$f":"TRUNC(((I945+J945)/2)/12*0.3)","v":1320}]
["Trinity","Trinity0.55",{"$f":"C945*2*0.55","v":31790.000000000004},{"$f":"D945*2*0.55","v":36300},40865,45375.000000000007,49005.000000000007,52635.000000000007,56265.000000000007,59895.000000000007,{"$f":"TRUNC(C946/12*0.3)","v":794},{"$f":"TRUNC((C946+D946)/2/12*0.3)","v":851},{"$f":"TRUNC((E946)/12*0.3)","v":1021},{"$f":"TRUNC(((F946+G946)/2)/12*0.3)","v":1179},{"$f":"TRUNC(H946/12*0.3)","v":1315},{"$f":"TRUNC(((I946+J946)/2)/12*0.3)","v":1452}]
["Trinity","Trinity0.6",{"$f":"C945*2*0.6","v":34680},{"$f":"D945*2*0.6","v":39600},44580,49500,53460,57420,61380,65340,867,928,1114,1287,1435,1584]
["Trinity","Trinity0.65",{"$f":"C945*2*0.65","v":37570},{"$f":"D945*2*0.65","v":42900},48295,53625,57915,62205,66495,70785,939,1005,1207,1394,1555,1716]
["Trinity","Trinity0.7",{"$f":"C945*2*0.7","v":40460},{"$f":"D945*2*0.7","v":46200},52010,57749.999999999993,62369.999999999993,66990,71610,76230,1011,1083,1300,1501,1674,1848]
["Trinity","Trinity0.75",{"$f":"C945*2*0.75","v":43350},{"$f":"D945*2*0.75","v":49500},55725,61875,66825,71775,76725,81675,1083,1160,1393,1608,1794,1980]
["Trinity","Trinity0.8",{"$f":"C945*2*0.8","v":46240},{"$f":"D945*2*0.8","v":52800},59440,66000,71280,76560,81840,87120,1156,1238,1486,1716,1914,2112]
["Trinity","Trinity0.9",{"$f":"C945*2*0.9","v":52020},{"$f":"D945*2*0.9","v":59400},66870,74250,80190,86130,92070,98010,1300,1392,1671,1930,2153,2376]
["Trinity","Trinity1",{"$f":"C945*2","v":57800},{"$f":"D945*2","v":66000},74300,82500,89100,95700,102300,108900,{"$f":"K945*2","v":1444},{"$f":"L945*2","v":1546},1856,2144,2392,2640]
["Trinity","Trinity1.1",{"$f":"C945*2*1.1","v":63580.000000000007},{"$f":"D945*2*1.1","v":72600},81730,90750.000000000015,98010.000000000015,105270.00000000001,112530.00000000001,119790.00000000001,{"$f":"TRUNC(C954/12*0.3)","v":1589},{"$f":"TRUNC((C954+D954)/2/12*0.3)","v":1702},{"$f":"TRUNC((E954)/12*0.3)","v":2043},{"$f":"TRUNC(((F954+G954)/2)/12*0.3)","v":2359},{"$f":"TRUNC(H954/12*0.3)","v":2631},{"$f":"TRUNC(((I954+J954)/2)/12*0.3)","v":2904}]
["Trinity","Trinity1.2",{"$f":"C945*2*1.2","v":69360},{"$f":"D945*2*1.2","v":79200},89160,99000,106920,114840,122760,130680,1734,1857,2229,2574,2871,3168]
["Tulare","Tulare0.15",{"$f":"C963*2*0.15","v":8670},{"$f":"D963*2*0.15","v":9900},{"$f":"E963*2*0.15","v":11145},{"$f":"F963*2*0.15","v":12375},{"$f":"G963*2*0.15","v":13365},{"$f":"H963*2*0.15","v":14355},15345,16335,216,232,278,321,358,396]
["Tulare","Tulare0.2",{"$f":"C963*2*0.2","v":11560},{"$f":"D963*2*0.2","v":13200},14860,16500,17820,19140,20460,21780,289,309,371,429,478,528]
["Tulare","Tulare0.25",{"$f":"C963*2*0.25","v":14450},{"$f":"D963*2*0.25","v":16500},18575,20625,22275,23925,25575,27225,361,386,464,536,598,660]
["Tulare","Tulare0.3",{"$f":"C963*2*0.3","v":17340},{"$f":"D963*2*0.3","v":19800},22290,24750,26730,28710,30690,32670,433,464,557,643,717,792]
["Tulare","Tulare0.35",{"$f":"C963*2*0.35","v":20230},{"$f":"D963*2*0.35","v":23100},26005,28874.999999999996,31184.999999999996,33495,35805,38115,505,541,650,750,837,924]
["Tulare","Tulare0.4",{"$f":"C963*2*0.4","v":23120},{"$f":"D963*2*0.4","v":26400},29720,33000,35640,38280,40920,43560,578,619,743,858,957,1056]
["Tulare","Tulare0.45",{"$f":"C963*2*0.45","v":26010},{"$f":"D963*2*0.45","v":29700},33435,37125,40095,43065,46035,49005,650,696,835,965,1076,1188]
["Tulare","Tulare0.5",{"$f":"VLOOKUP($A:$A,'Max Funds & Unit Mix'!$L$86:$T$144,2,FALSE)","v":28900},{"$f":"VLOOKUP($A:$A,'Max Funds & Unit Mix'!$L$86:$T$144,3,FALSE)","v":33000},{"$f":"VLOOKUP($A:$A,'Max Funds & Unit Mix'!$L$86:$T$144,4,FALSE)","v":37150},{"$f":"VLOOKUP($A:$A,'Max Funds & Unit Mix'!$L$86:$T$144,5,FALSE)","v":41250},{"$f":"VLOOKUP($A:$A,'Max Funds & Unit Mix'!$L$86:$T$144,6,FALSE)","v":44550},{"$f":"VLOOKUP($A:$A,'Max Funds & Unit Mix'!$L$86:$T$144,7,FALSE)","v":47850},{"$f":"VLOOKUP($A:$A,'Max Funds & Unit Mix'!$L$86:$T$144,8,FALSE)","v":51150},{"$f":"VLOOKUP($A:$A,'Max Funds & Unit Mix'!$L$86:$T$144,9,FALSE)","v":54450},{"$f":"TRUNC(C963/12*0.3)","v":722},{"$f":"TRUNC((C963+D963)/2/12*0.3)","v":773},{"$f":"TRUNC((E963)/12*0.3)","v":928},{"$f":"TRUNC(((F963+G963)/2)/12*0.3)","v":1072},{"$f":"TRUNC(H963/12*0.3)","v":1196},{"$f":"TRUNC(((I963+J963)/2)/12*0.3)","v":1320}]
["Tulare","Tulare0.55",{"$f":"C963*2*0.55","v":31790.000000000004},{"$f":"D963*2*0.55","v":36300},40865,45375.000000000007,49005.000000000007,52635.000000000007,56265.000000000007,59895.000000000007,{"$f":"TRUNC(C964/12*0.3)","v":794},{"$f":"TRUNC((C964+D964)/2/12*0.3)","v":851},{"$f":"TRUNC((E964)/12*0.3)","v":1021},{"$f":"TRUNC(((F964+G964)/2)/12*0.3)","v":1179},{"$f":"TRUNC(H964/12*0.3)","v":1315},{"$f":"TRUNC(((I964+J964)/2)/12*0.3)","v":1452}]
["Tulare","Tulare0.6",{"$f":"C963*2*0.6","v":34680},{"$f":"D963*2*0.6","v":39600},44580,49500,53460,57420,61380,65340,867,928,1114,1287,1435,1584]
["Tulare","Tulare0.65",{"$f":"C963*2*0.65","v":37570},{"$f":"D963*2*0.65","v":42900},48295,53625,57915,62205,66495,70785,939,1005,1207,1394,1555,1716]
["Tulare","Tulare0.7",{"$f":"C963*2*0.7","v":40460},{"$f":"D963*2*0.7","v":46200},52010,57749.999999999993,62369.999999999993,66990,71610,76230,1011,1083,1300,1501,1674,1848]
["Tulare","Tulare0.75",{"$f":"C963*2*0.75","v":43350},{"$f":"D963*2*0.75","v":49500},55725,61875,66825,71775,76725,81675,1083,1160,1393,1608,1794,1980]
["Tulare","Tulare0.8",{"$f":"C963*2*0.8","v":46240},{"$f":"D963*2*0.8","v":52800},59440,66000,71280,76560,81840,87120,1156,1238,1486,1716,1914,2112]
["Tulare","Tulare0.9",{"$f":"C963*2*0.9","v":52020},{"$f":"D963*2*0.9","v":59400},66870,74250,80190,86130,92070,98010,1300,1392,1671,1930,2153,2376]
["Tulare","Tulare1",{"$f":"C963*2","v":57800},{"$f":"D963*2","v":66000},74300,82500,89100,95700,102300,108900,{"$f":"K963*2","v":1444},{"$f":"L963*2","v":1546},1856,2144,2392,2640]
["Tulare","Tulare1.1",{"$f":"C963*2*1.1","v":63580.000000000007},{"$f":"D963*2*1.1","v":72600},81730,90750.000000000015,98010.000000000015,105270.00000000001,112530.00000000001,119790.00000000001,{"$f":"TRUNC(C972/12*0.3)","v":1589},{"$f":"TRUNC((C972+D972)/2/12*0.3)","v":1702},{"$f":"TRUNC((E972)/12*0.3)","v":2043},{"$f":"TRUNC(((F972+G972)/2)/12*0.3)","v":2359},{"$f":"TRUNC(H972/12*0.3)","v":2631},{"$f":"TRUNC(((I972+J972)/2)/12*0.3)","v":2904}]
["Tulare","Tulare1.2",{"$f":"C963*2*1.2","v":69360},{"$f":"D963*2*1.2","v":79200},89160,99000,106920,114840,122760,130680,1734,1857,2229,2574,2871,3168]
["Tuolumne","Tuolumne0.15",{"$f":"C981*2*0.15","v":9255},{"$f":"D981*2*0.15","v":10575},{"$f":"E981*2*0.15","v":11895},{"$f":"F981*2*0.15","v":13215},{"$f":"G981*2*0.15","v":14280},{"$f":"H981*2*0.15","v":15330},16395,17445,231,247,297,343,383,423]
["Tuolumne","Tuolumne0.2",{"$f":"C981*2*0.2","v":12340},{"$f":"D981*2*0.2","v":14100},15860,17620,19040,20440,21860,23260,308,330,396,458,511,564]
["Tuolumne","Tuolumne0.25",{"$f":"C981*2*0.25","v":15425},{"$f":"D981*2*0.25","v":17625},19825,22025,23800,25550,27325,29075,385,413,495,572,638,705]
["Tuolumne","Tuolumne0.3",{"$f":"C981*2*0.3","v":18510},{"$f":"D981*2*0.3","v":21150},23790,26430,28560,30660,32790,34890,462,495,594,687,766,846]
["Tuolumne","Tuolumne0.35",{"$f":"C981*2*0.35","v":21595},{"$f":"D981*2*0.35","v":24675},27755,30834.999999999996,33320,35770,38255,40705,539,578,693,801,894,987]
["Tuolumne","Tuolumne0.4",{"$f":"C981*2*0.4","v":24680},{"$f":"D981*2*0.4","v":28200},31720,35240,38080,40880,43720,46520,617,661,793,916,1022,1128]
["Tuolumne","Tuolumne0.45",{"$f":"C981*2*0.45","v":27765},{"$f":"D981*2*0.45","v":31725},35685,39645,42840,45990,49185,52335,694,743,892,1031,1149,1269]
["Tuolumne","Tuolumne0.5",{"$f":"VLOOKUP($A:$A,'Max Funds & Unit Mix'!$L$86:$T$144,2,FALSE)","v":30850},{"$f":"VLOOKUP($A:$A,'Max Funds & Unit Mix'!$L$86:$T$144,3,FALSE)","v":35250},{"$f":"VLOOKUP($A:$A,'Max Funds & Unit Mix'!$L$86:$T$144,4,FALSE)","v":39650},{"$f":"VLOOKUP($A:$A,'Max Funds & Unit Mix'!$L$86:$T$144,5,FALSE)","v":44050},{"$f":"VLOOKUP($A:$A,'Max Funds & Unit Mix'!$L$86:$T$144,6,FALSE)","v":47600},{"$f":"VLOOKUP($A:$A,'Max Funds & Unit Mix'!$L$86:$T$144,7,FALSE)","v":51100},{"$f":"VLOOKUP($A:$A,'Max Funds & Unit Mix'!$L$86:$T$144,8,FALSE)","v":54650},{"$f":"VLOOKUP($A:$A,'Max Funds & Unit Mix'!$L$86:$T$144,9,FALSE)","v":58150},{"$f":"TRUNC(C981/12*0.3)","v":771},{"$f":"TRUNC((C981+D981)/2/12*0.3)","v":826},{"$f":"TRUNC((E981)/12*0.3)","v":991},{"$f":"TRUNC(((F981+G981)/2)/12*0.3)","v":1145},{"$f":"TRUNC(H981/12*0.3)","v":1277},{"$f":"TRUNC(((I981+J981)/2)/12*0.3)","v":1410}]
["Tuolumne","Tuolumne0.55",{"$f":"C981*2*0.55","v":33935},{"$f":"D981*2*0.55","v":38775},43615,48455.000000000007,52360.000000000007,56210.000000000007,60115.000000000007,63965.000000000007,{"$f":"TRUNC(C982/12*0.3)","v":848},{"$f":"TRUNC((C982+D982)/2/12*0.3)","v":908},{"$f":"TRUNC((E982)/12*0.3)","v":1090},{"$f":"TRUNC(((F982+G982)/2)/12*0.3)","v":1260},{"$f":"TRUNC(H982/12*0.3)","v":1405},{"$f":"TRUNC(((I982+J982)/2)/12*0.3)","v":1551}]
["Tuolumne","Tuolumne0.6",{"$f":"C981*2*0.6","v":37020},{"$f":"D981*2*0.6","v":42300},47580,52860,57120,61320,65580,69780,925,991,1189,1374,1533,1692]
["Tuolumne","Tuolumne0.65",{"$f":"C981*2*0.65","v":40105},{"$f":"D981*2*0.65","v":45825},51545,57265,61880,66430,71045,75595,1002,1074,1288,1489,1660,1833]
["Tuolumne","Tuolumne0.7",{"$f":"C981*2*0.7","v":43190},{"$f":"D981*2*0.7","v":49350},55510,61669.999999999993,66640,71540,76510,81410,1079,1156,1387,1603,1788,1974]
["Tuolumne","Tuolumne0.75",{"$f":"C981*2*0.75","v":46275},{"$f":"D981*2*0.75","v":52875},59475,66075,71400,76650,81975,87225,1156,1239,1486,1718,1916,2115]
["Tuolumne","Tuolumne0.8",{"$f":"C981*2*0.8","v":49360},{"$f":"D981*2*0.8","v":56400},63440,70480,76160,81760,87440,93040,1234,1322,1586,1833,2044,2256]
["Tuolumne","Tuolumne0.9",{"$f":"C981*2*0.9","v":55530},{"$f":"D981*2*0.9","v":63450},71370,79290,85680,91980,98370,104670,1388,1487,1784,2062,2299,2538]
["Tuolumne","Tuolumne1",{"$f":"C981*2","v":61700},{"$f":"D981*2","v":70500},79300,88100,95200,102200,109300,116300,{"$f":"K981*2","v":1542},{"$f":"L981*2","v":1652},1982,2290,2554,2820]
["Tuolumne","Tuolumne1.1",{"$f":"C981*2*1.1","v":67870},{"$f":"D981*2*1.1","v":77550},87230,96910.000000000015,104720.00000000001,112420.00000000001,120230.00000000001,127930.00000000001,{"$f":"TRUNC(C990/12*0.3)","v":1696},{"$f":"TRUNC((C990+D990)/2/12*0.3)","v":1817},{"$f":"TRUNC((E990)/12*0.3)","v":2180},{"$f":"TRUNC(((F990+G990)/2)/12*0.3)","v":2520},{"$f":"TRUNC(H990/12*0.3)","v":2810},{"$f":"TRUNC(((I990+J990)/2)/12*0.3)","v":3102}]
["Tuolumne","Tuolumne1.2",{"$f":"C981*2*1.2","v":74040},{"$f":"D981*2*1.2","v":84600},95160,105720,114240,122640,131160,139560,1851,1983,2379,2749,3066,3384]
["Ventura","Ventura0.15",{"$f":"C999*2*0.15","v":13950},{"$f":"D999*2*0.15","v":15945},{"$f":"E999*2*0.15","v":17940},{"$f":"F999*2*0.15","v":19920},{"$f":"G999*2*0.15","v":21525},{"$f":"H999*2*0.15","v":23115},24705,26295,348,373,448,518,577,637]
["Ventura","Ventura0.2",{"$f":"C999*2*0.2","v":18600},{"$f":"D999*2*0.2","v":21260},23920,26560,28700,30820,32940,35060,465,498,598,690,770,850]
["Ventura","Ventura0.25",{"$f":"C999*2*0.25","v":23250},{"$f":"D999*2*0.25","v":26575},29900,33200,35875,38525,41175,43825,581,622,747,863,963,1062]
["Ventura","Ventura0.3",{"$f":"C999*2*0.3","v":27900},{"$f":"D999*2*0.3","v":31890},35880,39840,43050,46230,49410,52590,697,747,897,1036,1155,1275]
["Ventura","Ventura0.35",{"$f":"C999*2*0.35","v":32549.999999999996},{"$f":"D999*2*0.35","v":37205},41860,46480,50225,53935,57644.999999999993,61354.999999999993,813,871,1046,1208,1348,1487]
["Ventura","Ventura0.4",{"$f":"C999*2*0.4","v":37200},{"$f":"D999*2*0.4","v":42520},47840,53120,57400,61640,65880,70120,930,996,1196,1381,1541,1700]
["Ventura","Ventura0.45",{"$f":"C999*2*0.45","v":41850},{"$f":"D999*2*0.45","v":47835},53820,59760,64575,69345,74115,78885,1046,1121,1345,1554,1733,1912]
["Ventura","Ventura0.5",{"$f":"VLOOKUP($A:$A,'Max Funds & Unit Mix'!$L$86:$T$144,2,FALSE)","v":46500},{"$f":"VLOOKUP($A:$A,'Max Funds & Unit Mix'!$L$86:$T$144,3,FALSE)","v":53150},{"$f":"VLOOKUP($A:$A,'Max Funds & Unit Mix'!$L$86:$T$144,4,FALSE)","v":59800},{"$f":"VLOOKUP($A:$A,'Max Funds & Unit Mix'!$L$86:$T$144,5,FALSE)","v":66400},{"$f":"VLOOKUP($A:$A,'Max Funds & Unit Mix'!$L$86:$T$144,6,FALSE)","v":71750},{"$f":"VLOOKUP($A:$A,'Max Funds & Unit Mix'!$L$86:$T$144,7,FALSE)","v":77050},{"$f":"VLOOKUP($A:$A,'Max Funds & Unit Mix'!$L$86:$T$144,8,FALSE)","v":82350},{"$f":"VLOOKUP($A:$A,'Max Funds & Unit Mix'!$L$86:$T$144,9,FALSE)","v":87650},{"$f":"TRUNC(C999/12*0.3)","v":1162},{"$f":"TRUNC((C999+D999)/2/12*0.3)","v":1245},{"$f":"TRUNC((E999)/12*0.3)","v":1495},{"$f":"TRUNC(((F999+G999)/2)/12*0.3)","v":1726},{"$f":"TRUNC(H999/12*0.3)","v":1926},{"$f":"TRUNC(((I999+J999)/2)/12*0.3)","v":2125}]
["Ventura","Ventura0.55",{"$f":"C999*2*0.55","v":51150.000000000007},{"$f":"D999*2*0.55","v":58465.000000000007},65780,73040,78925,84755,90585.000000000015,96415.000000000015,{"$f":"TRUNC(C1000/12*0.3)","v":1278},{"$f":"TRUNC((C1000+D1000)/2/12*0.3)","v":1370},{"$f":"TRUNC((E1000)/12*0.3)","v":1644},{"$f":"TRUNC(((F1000+G1000)/2)/12*0.3)","v":1899},{"$f":"TRUNC(H1000/12*0.3)","v":2118},{"$f":"TRUNC(((I1000+J1000)/2)/12*0.3)","v":2337}]
["Ventura","Ventura0.6",{"$f":"C999*2*0.6","v":55800},{"$f":"D999*2*0.6","v":63780},71760,79680,86100,92460,98820,105180,1395,1494,1794,2072,2311,2550]
["Ventura","Ventura0.65",{"$f":"C999*2*0.65","v":60450},{"$f":"D999*2*0.65","v":69095},77740,86320,93275,100165,107055,113945,1511,1619,1943,2244,2504,2762]
["Ventura","Ventura0.7",{"$f":"C999*2*0.7","v":65099.999999999993},{"$f":"D999*2*0.7","v":74410},83720,92960,100450,107870,115289.99999999999,122709.99999999999,1627,1743,2093,2417,2696,2975]
["Ventura","Ventura0.75",{"$f":"C999*2*0.75","v":69750},{"$f":"D999*2*0.75","v":79725},89700,99600,107625,115575,123525,131475,1743,1868,2242,2590,2889,3187]
["Ventura","Ventura0.8",{"$f":"C999*2*0.8","v":74400},{"$f":"D999*2*0.8","v":85040},95680,106240,114800,123280,131760,140240,1860,1993,2392,2763,3082,3400]
["Ventura","Ventura0.9",{"$f":"C999*2*0.9","v":83700},{"$f":"D999*2*0.9","v":95670},107640,119520,129150,138690,148230,157770,2092,2242,2691,3108,3467,3825]
["Ventura","Ventura1",{"$f":"C999*2","v":93000},{"$f":"D999*2","v":106300},119600,132800,143500,154100,164700,175300,{"$f":"K999*2","v":2324},{"$f":"L999*2","v":2490},2990,3452,3852,4250]
["Ventura","Ventura1.1",{"$f":"C999*2*1.1","v":102300.00000000001},{"$f":"D999*2*1.1","v":116930.00000000001},131560,146080,157850,169510,181170.00000000003,192830.00000000003,{"$f":"TRUNC(C1008/12*0.3)","v":2557},{"$f":"TRUNC((C1008+D1008)/2/12*0.3)","v":2740},{"$f":"TRUNC((E1008)/12*0.3)","v":3289},{"$f":"TRUNC(((F1008+G1008)/2)/12*0.3)","v":3799},{"$f":"TRUNC(H1008/12*0.3)","v":4237},{"$f":"TRUNC(((I1008+J1008)/2)/12*0.3)","v":4675}]
["Ventura","Ventura1.2",{"$f":"C999*2*1.2","v":111600},{"$f":"D999*2*1.2","v":127560},143520,159360,172200,184920,197640,210360,2790,2989,3588,4144,4623,5100]
["Yolo","Yolo0.15",{"$f":"C1017*2*0.15","v":11025},{"$f":"D1017*2*0.15","v":12600},{"$f":"E1017*2*0.15","v":14175},{"$f":"F1017*2*0.15","v":15735},{"$f":"G1017*2*0.15","v":16995},{"$f":"H1017*2*0.15","v":18255},19515,20775,275,295,354,409,456,503]
["Yolo","Yolo0.2",{"$f":"C1017*2*0.2","v":14700},{"$f":"D1017*2*0.2","v":16800},18900,20980,22660,24340,26020,27700,367,393,472,545,608,671]
["Yolo","Yolo0.25",{"$f":"C1017*2*0.25","v":18375},{"$f":"D1017*2*0.25","v":21000},23625,26225,28325,30425,32525,34625,459,492,590,681,760,839]
["Yolo","Yolo0.3",{"$f":"C1017*2*0.3","v":22050},{"$f":"D1017*2*0.3","v":25200},28350,31470,33990,36510,39030,41550,551,590,708,818,912,1007]
["Yolo","Yolo0.35",{"$f":"C1017*2*0.35","v":25725},{"$f":"D1017*2*0.35","v":29399.999999999996},33075,36715,39655,42595,45535,48475,643,689,826,954,1064,1175]
["Yolo","Yolo0.4",{"$f":"C1017*2*0.4","v":29400},{"$f":"D1017*2*0.4","v":33600},37800,41960,45320,48680,52040,55400,735,787,945,1091,1217,1343]
["Yolo","Yolo0.45",{"$f":"C1017*2*0.45","v":33075},{"$f":"D1017*2*0.45","v":37800},42525,47205,50985,54765,58545,62325,826,885,1063,1227,1369,1510]
["Yolo","Yolo0.5",{"$f":"VLOOKUP($A:$A,'Max Funds & Unit Mix'!$L$86:$T$144,2,FALSE)","v":36750},{"$f":"VLOOKUP($A:$A,'Max Funds & Unit Mix'!$L$86:$T$144,3,FALSE)","v":42000},{"$f":"VLOOKUP($A:$A,'Max Funds & Unit Mix'!$L$86:$T$144,4,FALSE)","v":47250},{"$f":"VLOOKUP($A:$A,'Max Funds & Unit Mix'!$L$86:$T$144,5,FALSE)","v":52450},{"$f":"VLOOKUP($A:$A,'Max Funds & Unit Mix'!$L$86:$T$144,6,FALSE)","v":56650},{"$f":"VLOOKUP($A:$A,'Max Funds & Unit Mix'!$L$86:$T$144,7,FALSE)","v":60850},{"$f":"VLOOKUP($A:$A,'Max Funds & Unit Mix'!$L$86:$T$144,8,FALSE)","v":65050},{"$f":"VLOOKUP($A:$A,'Max Funds & Unit Mix'!$L$86:$T$144,9,FALSE)","v":69250},{"$f":"TRUNC(C1017/12*0.3)","v":918},{"$f":"TRUNC((C1017+D1017)/2/12*0.3)","v":984},{"$f":"TRUNC((E1017)/12*0.3)","v":1181},{"$f":"TRUNC(((F1017+G1017)/2)/12*0.3)","v":1363},{"$f":"TRUNC(H1017/12*0.3)","v":1521},{"$f":"TRUNC(((I1017+J1017)/2)/12*0.3)","v":1678}]
["Yolo","Yolo0.55",{"$f":"C1017*2*0.55","v":40425},{"$f":"D1017*2*0.55","v":46200.000000000007},51975.000000000007,57695.000000000007,62315.000000000007,66935,71555,76175,{"$f":"TRUNC(C1018/12*0.3)","v":1010},{"$f":"TRUNC((C1018+D1018)/2/12*0.3)","v":1082},{"$f":"TRUNC((E1018)/12*0.3)","v":1299},{"$f":"TRUNC(((F1018+G1018)/2)/12*0.3)","v":1500},{"$f":"TRUNC(H1018/12*0.3)","v":1673},{"$f":"TRUNC(((I1018+J1018)/2)/12*0.3)","v":1846}]
["Yolo","Yolo0.6",{"$f":"C1017*2*0.6","v":44100},{"$f":"D1017*2*0.6","v":50400},56700,62940,67980,73020,78060,83100,1102,1181,1417,1636,1825,2014]
["Yolo","Yolo0.65",{"$f":"C1017*2*0.65","v":47775},{"$f":"D1017*2*0.65","v":54600},61425,68185,73645,79105,84565,90025,1194,1279,1535,1772,1977,2182]
["Yolo","Yolo0.7",{"$f":"C1017*2*0.7","v":51450},{"$f":"D1017*2*0.7","v":58799.999999999993},66150,73430,79310,85190,91070,96950,1286,1378,1653,1909,2129,2350]
["Yolo","Yolo0.75",{"$f":"C1017*2*0.75","v":55125},{"$f":"D1017*2*0.75","v":63000},70875,78675,84975,91275,97575,103875,1378,1476,1771,2045,2281,2518]
["Yolo","Yolo0.8",{"$f":"C1017*2*0.8","v":58800},{"$f":"D1017*2*0.8","v":67200},75600,83920,90640,97360,104080,110800,1470,1575,1890,2182,2434,2686]
["Yolo","Yolo0.9",{"$f":"C1017*2*0.9","v":66150},{"$f":"D1017*2*0.9","v":75600},85050,94410,101970,109530,117090,124650,1653,1771,2126,2454,2738,3021]
["Yolo","Yolo1",{"$f":"C1017*2","v":73500},{"$f":"D1017*2","v":84000},94500,104900,113300,121700,130100,138500,{"$f":"K1017*2","v":1836},{"$f":"L1017*2","v":1968},2362,2726,3042,3356]
["Yolo","Yolo1.1",{"$f":"C1017*2*1.1","v":80850},{"$f":"D1017*2*1.1","v":92400.000000000015},103950.00000000001,115390.00000000001,124630.00000000001,133870,143110,152350,{"$f":"TRUNC(C1026/12*0.3)","v":2021},{"$f":"TRUNC((C1026+D1026)/2/12*0.3)","v":2165},{"$f":"TRUNC((E1026)/12*0.3)","v":2598},{"$f":"TRUNC(((F1026+G1026)/2)/12*0.3)","v":3000},{"$f":"TRUNC(H1026/12*0.3)","v":3346},{"$f":"TRUNC(((I1026+J1026)/2)/12*0.3)","v":3693}]
["Yolo","Yolo1.2",{"$f":"C1017*2*1.2","v":88200},{"$f":"D1017*2*1.2","v":100800},113400,125880,135960,146040,156120,166200,2205,2362,2835,3273,3651,4029]
["Yuba","Yuba0.15",{"$f":"C1035*2*0.15","v":8670},{"$f":"D1035*2*0.15","v":9900},{"$f":"E1035*2*0.15","v":11145},{"$f":"F1035*2*0.15","v":12375},{"$f":"G1035*2*0.15","v":13365},{"$f":"H1035*2*0.15","v":14355},15345,16335,216,232,278,321,358,396]
["Yuba","Yuba0.2",{"$f":"C1035*2*0.2","v":11560},{"$f":"D1035*2*0.2","v":13200},14860,16500,17820,19140,20460,21780,289,309,371,429,478,528]
["Yuba","Yuba0.25",{"$f":"C1035*2*0.25","v":14450},{"$f":"D1035*2*0.25","v":16500},18575,20625,22275,23925,25575,27225,361,386,464,536,598,660]
["Yuba","Yuba0.3",{"$f":"C1035*2*0.3","v":17340},{"$f":"D1035*2*0.3","v":19800},22290,24750,26730,28710,30690,32670,433,464,557,643,717,792]
["Yuba","Yuba0.35",{"$f":"C1035*2*0.35","v":20230},{"$f":"D1035*2*0.35","v":23100},26005,28874.999999999996,31184.999999999996,33495,35805,38115,505,541,650,750,837,924]
["Yuba","Yuba0.4",{"$f":"C1035*2*0.4","v":23120},{"$f":"D1035*2*0.4","v":26400},29720,33000,35640,38280,40920,43560,578,619,743,858,957,1056]
["Yuba","Yuba0.45",{"$f":"C1035*2*0.45","v":26010},{"$f":"D1035*2*0.45","v":29700},33435,37125,40095,43065,46035,49005,650,696,835,965,1076,1188]
["Yuba","Yuba0.5",{"$f":"VLOOKUP($A:$A,'Max Funds & Unit Mix'!$L$86:$T$144,2,FALSE)","v":28900},{"$f":"VLOOKUP($A:$A,'Max Funds & Unit Mix'!$L$86:$T$144,3,FALSE)","v":33000},{"$f":"VLOOKUP($A:$A,'Max Funds & Unit Mix'!$L$86:$T$144,4,FALSE)","v":37150},{"$f":"VLOOKUP($A:$A,'Max Funds & Unit Mix'!$L$86:$T$144,5,FALSE)","v":41250},{"$f":"VLOOKUP($A:$A,'Max Funds & Unit Mix'!$L$86:$T$144,6,FALSE)","v":44550},{"$f":"VLOOKUP($A:$A,'Max Funds & Unit Mix'!$L$86:$T$144,7,FALSE)","v":47850},{"$f":"VLOOKUP($A:$A,'Max Funds & Unit Mix'!$L$86:$T$144,8,FALSE)","v":51150},{"$f":"VLOOKUP($A:$A,'Max Funds & Unit Mix'!$L$86:$T$144,9,FALSE)","v":54450},{"$f":"TRUNC(C1035/12*0.3)","v":722},{"$f":"TRUNC((C1035+D1035)/2/12*0.3)","v":773},{"$f":"TRUNC((E1035)/12*0.3)","v":928},{"$f":"TRUNC(((F1035+G1035)/2)/12*0.3)","v":1072},{"$f":"TRUNC(H1035/12*0.3)","v":1196},{"$f":"TRUNC(((I1035+J1035)/2)/12*0.3)","v":1320}]
["Yuba","Yuba0.55",{"$f":"C1035*2*0.55","v":31790.000000000004},{"$f":"D1035*2*0.55","v":36300},40865,45375.000000000007,49005.000000000007,52635.000000000007,56265.000000000007,59895.000000000007,{"$f":"TRUNC(C1036/12*0.3)","v":794},{"$f":"TRUNC((C1036+D1036)/2/12*0.3)","v":851},{"$f":"TRUNC((E1036)/12*0.3)","v":1021},{"$f":"TRUNC(((F1036+G1036)/2)/12*0.3)","v":1179},{"$f":"TRUNC(H1036/12*0.3)","v":1315},{"$f":"TRUNC(((I1036+J1036)/2)/12*0.3)","v":1452}]
["Yuba","Yuba0.6",{"$f":"C1035*2*0.6","v":34680},{"$f":"D1035*2*0.6","v":39600},44580,49500,53460,57420,61380,65340,867,928,1114,1287,1435,1584]
["Yuba","Yuba0.65",{"$f":"C1035*2*0.65","v":37570},{"$f":"D1035*2*0.65","v":42900},48295,53625,57915,62205,66495,70785,939,1005,1207,1394,1555,1716]
["Yuba","Yuba0.7",{"$f":"C1035*2*0.7","v":40460},{"$f":"D1035*2*0.7","v":46200},52010,57749.999999999993,62369.999999999993,66990,71610,76230,1011,1083,1300,1501,1674,1848]
["Yuba","Yuba0.75",{"$f":"C1035*2*0.75","v":43350},{"$f":"D1035*2*0.75","v":49500},55725,61875,66825,71775,76725,81675,1083,1160,1393,1608,1794,1980]
["Yuba","Yuba0.8",{"$f":"C1035*2*0.8","v":46240},{"$f":"D1035*2*0.8","v":52800},59440,66000,71280,76560,81840,87120,1156,1238,1486,1716,1914,2112]
["Yuba","Yuba0.9",{"$f":"C1035*2*0.9","v":52020},{"$f":"D1035*2*0.9","v":59400},66870,74250,80190,86130,92070,98010,1300,1392,1671,1930,2153,2376]
["Yuba","Yuba1",{"$f":"C1035*2","v":57800},{"$f":"D1035*2","v":66000},74300,82500,89100,95700,102300,108900,{"$f":"K1035*2","v":1444},{"$f":"L1035*2","v":1546},1856,2144,2392,2640]
["Yuba","Yuba1.1",{"$f":"C1035*2*1.1","v":63580.000000000007},{"$f":"D1035*2*1.1","v":72600},81730,90750.000000000015,98010.000000000015,105270.00000000001,112530.00000000001,119790.00000000001,{"$f":"TRUNC(C1044/12*0.3)","v":1589},{"$f":"TRUNC((C1044+D1044)/2/12*0.3)","v":1702},{"$f":"TRUNC((E1044)/12*0.3)","v":2043},{"$f":"TRUNC(((F1044+G1044)/2)/12*0.3)","v":2359},{"$f":"TRUNC(H1044/12*0.3)","v":2631},{"$f":"TRUNC(((I1044+J1044)/2)/12*0.3)","v":2904}]
["Yuba","Yuba1.2",{"$f":"C1035*2*1.2","v":69360},{"$f":"D1035*2*1.2","v":79200},89160,99000,106920,114840,122760,130680,1734,1857,2229,2574,2871,3168]

{"sheet":"Developer Fee","index":21,"n_rows":63,"n_cols":38,"rows_kept":63,"cut":false,"hidden":true,"merged":[[60,1,60,34],[60,35,60,38],[57,2,57,15],[57,16,57,18],[57,19,57,20],[57,21,57,24],[58,1,58,20],[58,21,58,24],[55,2,55,15],[55,16,55,18],[55,19,55,20],[55,21,55,24],[56,2,56,15],[56,21,56,24],[52,1,52,36],[52,37,52,38],[53,2,53,38],[54,2,54,15],[54,16,54,17],[54,18,54,22],[54,23,54,24],[54,25,54,36],[54,37,54,38],[47,2,47,20],[47,21,47,24],[49,2,49,38],[50,2,50,15],[50,16,50,17],[51,2,51,15],[51,16,51,18],[51,19,51,20],[51,21,51,24],[45,2,45,15],[45,16,45,18],[45,19,45,20],[45,21,45,24],[46,2,46,15],[46,16,46,18],[46,19,46,20],[46,21,46,24],[40,2,40,20],[40,21,40,24],[42,2,42,38],[43,2,43,38],[44,2,44,15],[44,16,44,17],[38,2,38,15],[38,16,38,18],[38,19,38,20],[38,21,38,24],[39,2,39,15],[39,16,39,18],[39,19,39,20],[39,21,39,24],[32,2,32,30],[32,31,32,34],[34,1,34,33],[35,2,35,38],[36,2,36,38],[37,2,37,15],[37,16,37,17],[29,2,29,34],[29,35,29,38],[30,2,30,27],[30,31,30,34],[30,35,30,38],[31,2,31,15],[31,16,31,26],[31,27,31,30],[31,31,31,34],[31,35,32,38],[27,2,27,27],[27,32,27,34],[28,2,28,27],[28,28,28,31],[28,32,28,34],[28,35,28,38],[24,2,24,27],[24,28,24,31],[24,35,24,38],[25,2,25,27],[25,32,25,34],[26,2,26,27],[26,32,26,34],[19,2,19,34],[19,35,19,38],[21,1,21,38],[22,2,22,36],[22,37,22,38],[23,2,23,27],[23,28,23,31],[23,35,23,38],[16,2,16,27],[16,28,16,31],[16,35,16,38],[17,2,17,27],[17,28,17,31],[17,35,17,38],[18,12,18,14],[18,15,18,16],[18,17,18,20],[18,22,18,26],[18,27,18,28],[18,35,18,38],[18,1,18,11],[11,34,11,38],[13,1,13,26],[14,2,14,8],[14,9,14,17],[14,35,14,38],[15,2,15,27],[15,28,15,31],[15,35,15,38],[9,1,9,25],[9,26,9,29],[9,30,9,33],[11,1,11,10],[11,11,11,14],[11,15,11,23],[11,24,11,27],[11,28,11,33],[62,1,62,38],[1,1,1,38],[3,1,3,4],[3,5,3,29],[3,30,3,33],[3,34,3,38],[4,1,4,4],[4,5,4,8],[4,9,4,14],[4,15,4,22],[6,34,6,38],[7,1,7,25],[7,26,7,29],[7,30,7,33],[7,34,7,38],[8,1,8,25],[8,26,8,29],[8,30,8,33],[5,1,5,8],[5,26,5,29],[5,30,5,33],[6,1,6,25],[6,26,6,29],[6,30,6,33]]}
[]
[null,"HCD 2023 Developer Fee Calculator"]
[]
[null,"Project Name:",null,null,null,{"$f":"IF(ProjectName>0,ProjectName,\"\")","v":""},null,null,null,null,null,null,null,null,null,null,null,null,null,null,null,null,null,null,null,null,null,null,null,null,"TCAC Project #"]
[null,"Project Phase:",null,null,null,"Origination",null,null,null,"Proposed Project Type:"]
[null,"Project's Developer Fee Summary",null,null,null,null,null,null,null,null,null,null,null,null,null,null,null,null,null,null,null,null,null,null,null,null,"HCD Limit",null,null,null,"Project Amt."]
[null,{"$f":"IF(LEFT($P$5,1)=\"9\",\"Maximum Total Developer Fee - 1e\",\"Maximum Total Developer Fee - 2d\")","v":"Maximum Total Developer Fee - 2d"},null,null,null,null,null,null,null,null,null,null,null,null,null,null,null,null,null,null,null,null,null,null,null,null,{"$f":"IF(vmDF=\"No Tax Credits\",MIN($L$12,AJ61),IF(LEFT(vmDF,1)=\"9\",$AJ$20,$AJ$30))","v":0},null,null,null,{"$f":"$L$12","v":0},null,null,null,{"$f":"MAX(0,ROUND($AE$7,0)-ROUND($AA$7,0))","v":0}]
[null,{"$f":"IF(LEFT($P$5,1)=\"9\",\"Max Developer Fee payable from development funding sources - 1e\",IF(vmDF=\"No Tax Credits\",\"Max Developer Fee payable from development funding sources\",\"Max Developer Fee payable from development funding sources - lesser of 1e & 2d\"))","v":"Max Developer Fee payable from development funding sources - lesser of 1e & 2d"},null,null,null,null,null,null,null,null,null,null,null,null,null,null,null,null,null,null,null,null,null,null,null,null,{"$f":"IF(AND(V59>0,vmDF=\"No Tax Credits\"),AJ61,IF(vmDF=\"No Tax Credits\",MAX(MIN($AJ$20,$AA$7,$AJ$61),2640000*AND(IsQualifiedJv,vmDF=\"No Tax Credits\",X55>100)),IF(LEFT(vmDF,1)=\"9\",$AJ$20,MIN($AJ$30,$AJ$20))))","v":0},null,null,null,{"$f":"MAX(0,$AE$7-$Y$12-$AI$12)","v":0},null,null,null,{"$f":"MAX(0,ROUND($AE$8,0)-ROUND($AA$8,0))","v":0}]
[null,"Deferred Developer Fee payable on a priority basis from available Cash Flow",null,null,null,null,null,null,null,null,null,null,null,null,null,null,null,null,null,null,null,null,null,null,null,null,{"$f":"IF(vmDF=\"No Tax Credits\",MAX(0,MIN($AA$7,2200000)-$AA$8),MAX(0,MIN($AA$7,3500000)-$AA$8))","v":0},null,null,null,{"$f":"IF($P$5=\"No Tax Credits\",MAX(0,MIN($AA$7,$AE$7-$Y$12,2200000)-$AE$8),MAX(0,MIN($AA$7,$AE$7-$Y$12,3500000)-$AE$8))","v":0}]
[null,"Deferred Developer Fee payable exclusively from Sponsor Distributions",null,null,null,null,null,null,null,null,null,null,null,null,null,null,null,null,null,null,null,null,null,null,null,null,{"$f":"$AA$7-$AA$8-$AA$9","v":0},null,null,null,{"$f":"MAX(0,$AE$7-$AE$8-$AE$9-$Y$12)","v":0}]
[]
[null,"Total Budgeted or Actual Developer Fee:",null,null,null,null,null,null,null,null,null,{"$f":"'AHD-HRI S&U Budget'!$C$129","v":0},null,null,null,"Developer Fee Contributed as Capital:",null,null,null,null,null,null,null,null,null,null,null,null,"Deferred Developer Fee:"]
[]
[null,{"$f":"IF($P$5=\"\",\"Section 1. UMR §8312(c)(1) Max Developer Fee payable from funding sources - 4% Projects use TCAC 9% rules\",IF(LEFT($P$5,1)=\"4\",\"Section 1. UMR §8312(c)(1) Max Developer Fee payable from funding sources - 4% Projects use TCAC 9% rules\",\"Section 1. UMR §8312(b) Max Total Developer Fee - for 9% Projects\"))","v":"Section 1. UMR §8312(c)(1) Max Developer Fee payable from funding sources - 4% Projects use TCAC 9% rules"}]
[null,"a.","Project's type of construction:",null,null,null,null,null,null,{"$f":"IF($P$5=\"No Tax Credits\",\"\",MID($P$5,12,26))","v":""},null,null,null,null,null,null,null,null,null,null,null,null,null,null,null,null,null,null,null,null,null,null,null,null,null,{"$f":"IF(AND(AL23=\"Yes\",LEFT(vmDF,2)=\"4%\"),3000000,IF(LEFT(vmDF,2)=\"9%\",2200000,2500000))","v":2500000}]
[null,"b.","Project's Unadjusted Eligible Basis (excluding Developer Fee)  - §10327(c)(2)(A)",null,null,null,null,null,null,null,null,null,null,null,null,null,null,null,null,null,null,null,null,null,null,null,null,null,{"$f":"'AHD Dev Budget'!F118-'AHD Dev Budget'!F117","v":0},null,null,null,null,"x 15% =",null,{"$f":"$AC$16*0.15","v":0}]
[null,"c.","Project's Unadjusted Eligible Acquisition Basis (excluding Developer Fee) - §10327(c)(2)(A)",null,null,null,null,null,null,null,null,null,null,null,null,null,null,null,null,null,null,null,null,null,null,null,null,null,{"$f":"'AHD Dev Budget'!G118-'AHD Dev Budget'!G117","v":0},null,null,null,null,"x 5% =",null,{"$f":"$AC$17*0.05*($J$15=\"Acq. Rehabilitation\")","v":0}]
[null,"d.","Project's Non-Residential Costs (excluding Developer Fee) - §10327(c)(2)(A)",null,null,null,null,null,null,null,null,null,null,null,null,null,null,null,null,null,null,null,null,null,null,null,null,null,{"$f":"'AHD Dev Budget'!E118-'AHD Dev Budget'!E117","v":0},null,null,null,null,"x 15% =",null,{"$f":"$AC$18*0.15","v":0}]
[null,"Projects with more than 100 Restricted Units",null,null,null,null,null,null,null,null,null,null,20000,null,null,"each",null,{"$f":"(MIN(2500000+M19*(AB19-100),3500000))","v":500000},null,null,null,null,"Total Restricted Units",null,null,null,null,{"$f":"SUMIFS(UnitsTbl[Total Rental\nRestricted\nUnits],UnitsTbl[% of Area Median Income ],\"<=80%\")+SUMIF(UnitsTbl[% of Area Median Income ],\"Manager\",UnitsTbl[Total Units])","v":0},null,null,null,null,null,null,null,{"$f":"($M$19*(IF($AB$19>100,$AB$19-100,0)))","v":0}]
[null,"e.",{"$f":"IF(LEFT($P$5,1)=\"9\",\"Maximum Total Developer Fee - UMR §8312(b) - lesser of 1a or (1b + 1c + 1d)\",\"Maximum Developer Fee payable from development funding sources - UMR §8312(c)(1) - lesser of 1a or (1b + 1c + 1d)\")","v":"Maximum Developer Fee payable from development funding sources - UMR §8312(c)(1) - lesser of 1a or (1b + 1c + 1d)"},null,null,null,null,null,null,null,null,null,null,null,null,null,null,null,null,null,null,null,null,null,null,null,null,null,null,null,null,null,null,null,null,{"$f":"MIN($AJ$15,SUM($AJ$16:$AM$18))+IF(LEFT(vmDF,2)=\"4%\",$AJ$19,0)","v":0}]
[]
[null,"Section 2. UMR §8312(c) - Maximum Developer Fee using TCAC 4% rules"]
[null,null,"Project meeting CDLAC §5230(f)(1)(B), TCAC §10327(c)(2)(E)?"]
[null,"a.","New Construction & Rehab - Unadjusted Eligible Basis (exclude Developer Fee) - §10327(c)(2)(B)(i)",null,null,null,null,null,null,null,null,null,null,null,null,null,null,null,null,null,null,null,null,null,null,null,null,null,{"$f":"$AC$16","v":0},null,null,null,null,{"$f":"IF(OR($AL$23=\"No\",$AL$23=\"\"),\"x 15% =\",\"x 20% =\")","v":"x 15% ="},null,{"$f":"$AC$24*IF(OR($AL$23=\"No\",$AL$23=\"\"),0.15,0.2)","v":0}]
[null,"b.","Basis for non-residential Project costs (exclude Developer Fee) - §10327(c)(2)(B)(ii)",null,null,null,null,null,null,null,null,null,null,null,null,null,null,null,null,null,null,null,null,null,null,null,null,null,{"$f":"$AC$18","v":0},null,null,null,null,"x 15% =",null,{"$f":"$AC$25*0.15","v":0}]
[null,"c1.",{"$f":"IF(OR($F$5=\"\",$J$15=\"Acq. Rehabilitation\"),\"Acq/Rehab - at-risk development meeting the requirements of §10325(g)(4) - §10327(c)(2)(B)(ii)\",\"Not Applicable\")","v":"Not Applicable"}]
[null,"c2.",{"$f":"IF(AND($F$5<>\"\",$J$15<>\"Acq. Rehabilitation\"),\"Not Applicable\",\"Acq/Rehab non-resyndication - hard construction costs per unit at least $50,000 per unit - §10327(c)(2)(B)(ii)\")","v":"Not Applicable"}]
[null,"c3.",{"$f":"IF(OR($F$5=\"\",$J$15=\"Acq. Rehabilitation\"),\"Acq/Rehab non-resyndication - 30% or more of units restricted to 50% AMI or less - §10327(c)(2)(B)(ii)\",\"Not Applicable\")","v":"Not Applicable"}]
[null,"c4.",{"$f":"IF(OR($F$5=\"\",$J$15=\"Acq. Rehabilitation\"),\"Acq/Rehab - Unadj. Eligible Acq. Basis - §10327(c)(2)(B)(ii) = 15% if c1, c2 or c3 is Yes\",\"Not Applicable\")","v":"Not Applicable"},null,null,null,null,null,null,null,null,null,null,null,null,null,null,null,null,null,null,null,null,null,null,null,null,null,{"$f":"IF(OR($F$5=\"\",$J$15<>\"Acq. Rehabilitation\"),0,$AC$17)","v":0},null,null,null,{"$f":"IF(OR($AG$26=\"Yes\",$AG$27=\"Yes\",$AG$28=\"Yes\"),0.15,0.05)","v":0.05},null,null,{"$f":"$AC$29*$AG$29","v":0}]
[null,"d.","Maximum Total Developer Fee using TCAC 4% rules §8312(c)",null,null,null,null,null,null,null,null,null,null,null,null,null,null,null,null,null,null,null,null,null,null,null,null,null,null,null,null,null,null,null,null,{"$f":"ROUND($AJ$24+$AJ$25+$AJ$29,0)","v":0}]
[null,"e.","Total Budgeted or Actual Developer Fee",null,null,null,null,null,null,null,null,null,null,null,null,null,null,null,null,null,null,null,null,null,null,null,null,null,null,null,null,{"$f":"$L$12","v":0},null,null,null,{"$f":"IF(ROUND($AF$31,0)>ROUND($AJ$30,0),\"Excess Dev Fee\"&TEXT($AF$31-$AJ$30,\" $#,###\"),\"\")","v":""}]
[null,"f.","Budgeted Developer Fee paid from Development Sources ",null,null,null,null,null,null,null,null,null,null,null,null,null,"Sum of Deferred and Contributed Developer Fee",null,null,null,null,null,null,null,null,null,null,{"$f":"$Y$12+$AI$12","v":0},null,null,null,{"$f":"$AF$31-$AB$32","v":0},null,null,null,{"$f":"IF($AF$32>$AJ$20,\"Cannot exceed\"&TEXT(MIN($AJ$20,$AJ$30),\" $#,###\"),\"\")","v":""}]
[null,"g.","Deferred Developer Fee payable on a priority basis from available Cash Flow",null,null,null,null,null,null,null,null,null,null,null,null,null,null,null,null,null,null,null,null,null,null,null,null,null,null,null,null,{"$f":"MAX(0,MIN($AJ$30,$AF$31,3500000)-MIN($AJ$20,$AJ$30))","v":0}]
[]
[null,"Section 3. UMR §8312(a) for Projects without tax credits (choose only one in the \"a\", \"b\", \"c\", or \"d\" subsections) Max HCD Developer Fee = $2,200,000"]
[null,"(a)","Substantial rehab projects UMR §8312(a)(1)"]
[null,null,"substantial rehab = construction cost for rehab work (excluding contractor profit and overhead) in excess of $45,000 per unit"]
[null,null,"Number of units (include manager's unit)"]
[null,null,"Number of units (include manager's unit)",null,null,null,null,null,null,null,null,null,null,null,null,null,33000,null,null,"each",null,{"$f":"IF($Q$38>29,$Q$39*30,+$Q$38*$Q$39)","v":0}]
[null,null,"Units in excess of 30 at:",null,null,null,null,null,null,null,null,null,null,null,null,null,13500,null,null,"each",null,{"$f":"IF($Q$38<30,0,($Q$38-30)*$Q$40)","v":0}]
[null,null,"Total substantial rehab",null,null,null,null,null,null,null,null,null,null,null,null,null,null,null,null,null,null,{"$f":"+$V$39+$V$40","v":0}]
[]
[null,"(b)","Acquisition and rehab projects UMR §8312(a)(2)"]
[null,null,"with construction cost for rehab work (excluding contractor profit and overhead) between $11,500 - $38,000 per unit"]
[null,null,"Number of units (include manager's unit)"]
[null,null,"First 30 units at:",null,null,null,null,null,null,null,null,null,null,null,null,null,15000,null,null,"each",null,{"$f":"IF($Q$45>29,$Q$46*30,+$Q$45*$Q$46)","v":0}]
[null,null,"Units in excess of 30 at:",null,null,null,null,null,null,null,null,null,null,null,null,null,6500,null,null,"each",null,{"$f":"IF($Q$45<30,0,($Q$45-30)*$Q$47)","v":0}]
[null,null,"Total acquisition and non-substantial rehab",null,null,null,null,null,null,null,null,null,null,null,null,null,null,null,null,null,null,{"$f":"+$V$46+$V$47","v":0}]
[]
[null,"(c)","All other projects UMR §8312(a)(3)"]
[null,null,"Number of units (include manager's unit)"]
[null,null,"Total other at:",null,null,null,null,null,null,null,null,null,null,null,null,null,2000,null,null,"per unit",null,{"$f":"+$Q$51*$Q$52","v":0}]
[null,"Does an Emerging Developer or a Community-Based Developer relies on a co-Applicant to meet §7303(d) experience requirements and thus qualify as an eligible Sponsor?"]
[null,"(d)","New construction projects NOFA"]
[null,null,"Number of units (include manager's unit)",null,null,null,null,null,null,null,null,null,null,null,null,null,{"$f":"$X$55+ManagerUnits","v":0},null,"Total Restricted Units",null,null,null,null,{"$f":"IF(vmHousingType=\"Homeownership\",SUMIF('Max Funds & Unit Mix'!$D$7:$D$26,\"<=120%\",'Max Funds & Unit Mix'!$E$7:$E$26),SUMIF('Max Funds & Unit Mix'!$D$7:$D$26,\"<=60%\",'Max Funds & Unit Mix'!$E$7:$E$26))","v":0},null,"Qualifies for increase per NOFA",null,null,null,null,null,null,null,null,null,null,null,{"$f":"IF($AL$53=\"Yes\",TRUE,FALSE)","v":false}]
[null,null,"Projects with 49 or fewer Restricted Units",null,null,null,null,null,null,null,null,null,null,null,null,null,40000,null,null,"each",null,{"$f":"(MAX(1200000,Q55*Q56)+300000*AL55)*(X55<=49)","v":1200000}]
[null,null,"Projects between 50 and 100 Restricted Units",null,null,null,null,null,null,null,null,null,null,null,null,null,null,null,null,null,null,{"$f":"(2200000+300000*$AL$55)*AND($X$55>=50,$X$55<=100)","v":0}]
[null,null,"Projects with more than 100 Restricted Units",null,null,null,null,null,null,null,null,null,null,null,null,null,20000,null,null,"each",null,{"$f":"(MIN(2200000+$Q$58*($X$55-100),3500000)+300000*$AL$55)*($X$55>100)","v":0}]
[null,"Total New Construction projects",null,null,null,null,null,null,null,null,null,null,null,null,null,null,null,null,null,null,null,{"$f":"MAX($V$56,$V$57,$V$58)","v":1200000}]
[]
[null,"Maximum allowable Developer Fee",null,null,null,null,null,null,null,null,null,null,null,null,null,null,null,null,null,null,null,null,null,null,null,null,null,null,null,null,null,null,null,null,null,{"$f":"IF(NewConstruction,V59,MAX($V$41,$V$48,$V$52))","v":0}]
[]
[null,"End of Document"]

{"sheet":"Quantitative Policy Scoring","index":22,"n_rows":188,"n_cols":38,"rows_kept":188,"cut":false,"hidden":false,"merged":[[113,2,113,36],[174,37,174,38],[168,4,168,36],[143,4,143,11],[165,16,165,34],[164,16,164,34],[163,5,163,15],[164,5,164,15],[171,5,171,15],[172,5,172,15],[171,35,171,36],[170,5,170,15],[171,24,171,34],[169,24,169,34],[170,24,170,34],[146,1,146,3],[146,4,146,11],[146,12,146,31],[135,1,135,3],[29,4,29,23],[127,5,127,35],[128,5,128,35],[129,5,129,35],[130,5,130,35],[131,5,131,35],[125,5,125,35],[67,25,67,27],[67,35,67,36],[118,3,118,36],[112,2,112,36],[107,3,107,12],[29,24,29,25],[52,32,52,36],[57,8,57,16],[75,4,75,35],[70,3,70,7],[124,3,124,36],[114,12,114,13],[114,2,114,11],[31,15,31,20],[32,15,32,20],[116,2,116,36],[119,3,119,35],[185,4,185,11],[185,12,185,31],[146,32,146,36],[158,37,158,38],[163,37,163,38],[167,3,167,36],[152,37,152,38],[158,5,158,26],[159,5,159,26],[160,5,160,26],[165,35,165,36],[158,27,158,34],[160,27,160,34],[159,27,159,34],[156,3,156,36],[154,2,154,36],[152,1,152,3],[154,37,154,38],[149,12,149,31],[149,32,149,36],[149,37,149,38],[148,4,148,35],[185,32,185,36],[152,4,152,11],[187,1,187,38],[138,2,138,36],[95,37,95,38],[97,2,97,36],[136,37,136,38],[138,37,138,38],[97,37,97,38],[133,5,133,35],[134,5,134,35],[136,1,136,3],[136,4,136,11],[136,12,136,31],[136,32,136,36],[185,37,185,38],[145,4,145,35],[174,2,174,36],[146,37,146,38],[149,1,149,3],[149,4,149,11],[185,1,185,3],[99,3,99,12],[100,3,100,12],[101,3,101,12],[163,16,163,34],[1,37,1,38],[72,3,72,36],[74,4,74,36],[63,3,63,36],[67,3,67,7],[67,11,67,14],[67,18,67,24],[67,28,67,34],[69,3,69,36],[6,2,6,36],[22,3,22,35],[38,37,38,38],[52,37,52,38],[57,3,57,7],[56,37,56,38],[58,3,58,20],[58,21,58,30],[67,15,67,17],[1,1,1,35],[4,37,4,38],[54,37,54,38],[45,37,45,38],[67,37,67,38],[72,37,72,38],[11,28,11,29],[9,4,9,36],[8,3,8,26],[78,4,78,35],[86,5,86,36],[89,6,89,36],[11,31,11,36],[11,3,11,6],[82,4,82,36],[83,5,83,36],[85,5,85,36],[45,3,45,34],[64,3,64,21],[64,22,64,24],[65,3,65,21],[66,22,66,24],[59,1,59,3],[59,4,59,11],[59,12,59,31],[59,32,59,36],[14,24,14,26],[15,3,15,8],[15,9,15,14],[15,15,15,20],[8,37,8,38],[6,37,6,38],[22,37,22,38],[52,1,52,3],[52,4,52,11],[52,12,52,31],[38,3,38,36],[59,37,59,38],[11,37,11,38],[11,17,11,20],[11,24,11,27],[54,2,54,36],[56,3,56,36],[26,37,26,38],[14,27,14,28],[13,3,13,8],[14,3,14,8],[13,9,13,14],[14,9,14,14],[13,15,13,20],[14,15,14,20],[13,21,13,23],[14,21,14,23],[13,24,13,26],[3,1,3,35],[50,4,50,35],[51,4,51,35],[46,4,46,35],[47,4,47,35],[48,4,48,35],[49,4,49,35],[27,4,27,36],[28,4,28,36],[11,21,11,22],[11,7,11,8],[11,14,11,15],[4,1,4,36],[10,4,10,36],[11,10,11,13],[40,4,40,36],[41,4,41,30],[13,35,13,36],[14,35,14,36],[13,32,13,34],[14,32,14,34],[13,29,13,31],[14,29,14,31],[13,27,13,28],[124,40,124,44],[123,29,123,35],[121,2,121,36],[122,3,122,36],[121,37,121,38],[140,40,140,43],[152,12,152,31],[152,32,152,36],[169,37,169,38],[160,37,160,38],[151,4,151,35],[125,37,125,38],[126,37,126,38],[127,37,127,38],[128,37,128,38],[129,37,129,38],[130,37,130,38],[131,37,131,38],[143,1,143,3],[160,35,160,36],[157,4,157,36],[126,5,126,35],[169,5,169,15],[162,4,162,36],[184,4,184,10],[184,11,184,26],[182,4,182,26],[176,3,176,36],[177,3,177,36],[178,4,178,36],[179,4,179,36],[180,4,180,36],[181,4,181,36],[182,27,182,28],[183,4,183,7],[183,8,183,26],[111,2,111,36],[80,4,80,36],[143,37,143,38],[132,5,132,35],[135,37,135,38],[135,4,135,11],[135,12,135,31],[135,32,135,36],[140,3,140,36],[142,4,142,35],[143,12,143,31],[143,32,143,36],[132,37,132,38],[133,37,133,38],[134,37,134,38],[141,28,141,31],[141,33,141,36],[141,4,141,27],[102,3,102,12],[103,3,103,12],[95,12,95,31],[95,32,95,36],[111,37,111,38],[98,3,98,36],[26,3,26,21],[41,31,41,32],[39,4,39,36],[79,4,79,36],[91,7,91,36],[93,7,93,36],[61,37,61,38],[61,2,61,36],[84,5,84,36],[67,8,67,10],[70,30,70,31],[70,37,70,38],[33,35,33,38],[34,3,34,8],[34,9,34,14],[34,15,34,20],[34,21,34,25],[34,26,34,29],[34,30,34,34],[34,35,34,38],[31,3,31,8],[32,3,32,8],[31,9,31,14],[32,9,32,14],[70,8,70,12],[70,13,70,15],[70,23,70,29],[77,4,77,36],[95,1,95,3],[95,4,95,11],[87,6,87,38],[90,7,90,36],[92,7,92,36],[88,6,88,12],[104,3,104,12],[105,3,105,12],[106,3,106,12],[108,3,108,12],[109,3,109,12],[116,37,116,38],[66,3,66,21],[65,22,65,24],[15,21,15,23],[15,24,15,26],[15,27,15,28],[15,29,15,31],[15,32,15,34],[15,35,15,36],[16,3,16,8],[16,9,16,14],[16,15,16,20],[16,21,16,23],[16,24,16,26],[16,27,16,28],[16,29,16,31],[16,32,16,34],[16,35,16,36],[18,3,18,8],[18,9,18,14],[18,15,18,20],[18,21,18,23],[18,24,18,26],[18,27,18,28],[18,29,18,31],[18,32,18,34],[18,35,18,36],[19,3,19,8],[19,9,19,14],[19,15,19,20],[19,21,19,23],[19,24,19,26],[19,27,19,28],[19,29,19,31],[19,32,19,34],[19,35,19,36],[23,3,23,11],[24,3,24,11],[23,12,23,20],[24,12,24,20],[23,21,23,35],[24,21,24,35],[20,3,20,8],[20,9,20,14],[20,15,20,20],[20,21,20,23],[20,24,20,26],[20,27,20,28],[20,29,20,31],[20,32,20,34],[20,35,20,36],[17,3,17,8],[17,9,17,14],[17,15,17,20],[17,21,17,23],[17,24,17,26],[17,27,17,28],[17,29,17,31],[17,32,17,34],[17,35,17,36],[31,21,31,25],[32,21,32,25],[31,26,31,29],[32,26,32,29],[31,30,31,34],[32,30,32,34],[31,35,31,38],[32,35,32,38],[33,3,33,8],[33,9,33,14],[43,15,43,20],[42,21,42,25],[43,21,43,25],[33,15,33,20],[33,21,33,25],[33,26,33,29],[33,30,33,34],[42,26,42,31],[43,26,43,31],[45,35,45,36],[123,3,123,21],[123,22,123,25],[42,32,42,35],[43,32,43,35],[35,3,35,8],[35,9,35,14],[35,15,35,20],[35,21,35,25],[35,26,35,29],[35,30,35,34],[35,35,35,38],[36,3,36,8],[36,9,36,14],[36,15,36,20],[36,21,36,25],[36,26,36,29],[36,30,36,34],[36,35,36,38],[42,3,42,8],[42,9,42,14],[42,15,42,20],[43,3,43,8],[43,9,43,14]]}
[]
[null,{"$f":"CONCATENATE('Project Overview'!F27,\" Quantitative Policy Scoring §107   \",\"App \",'Project Overview'!E4)","v":" Quantitative Policy Scoring §107   App "},null,null,null,null,null,null,null,null,null,null,null,null,null,null,null,null,null,null,null,null,null,null,null,null,null,null,null,null,null,null,null,null,null,null,{"$f":"'AHSC Coverpage'!$B$42","v":"V1"},{"$f":"'AHSC Coverpage'!$C$42","v":"2024-01-19"}]
[]
[null,"Quantitative Policy Scoring – 52 Points Maximum"]
[null,"Total Quantitative Self Score",null,null,null,null,null,null,null,null,null,null,null,null,null,null,null,null,null,null,null,null,null,null,null,null,null,null,null,null,null,null,null,null,null,null,null,{"$f":"AL7+AL55+AL62+AL98+AL112+AL117+AL122+AL139+AL155+AL175","v":0}]
[]
[null,"(a) ","Active Transportation and Transit Improvements – 15 Points Maximum",null,null,null,null,null,null,null,null,null,null,null,null,null,null,null,null,null,null,null,null,null,null,null,null,null,null,null,null,null,null,null,null,null,null,{"$f":"$AL$9+$AL$23+$AL$27+$AL$39+$AL$46","v":0}]
[]
[null,null,"(1)","Up to 4 points for the total length (in Lane Miles) of AHSC-funded Context Sensitive Bikeways (PAM). as follows:",null,null,null,null,null,null,null,null,null,null,null,null,null,null,null,null,null,null,null,null,null,null,null,null,null,null,null,null,null,null,null,null,null,{"$f":"IF($AL$12>=2,4,IF(AND($AL$12>=1,$AL$12<2),1,0))","v":0}]
[null,null,null,"(A)","4 points for at least two (2.0) lane miles"]
[null,null,null,"(B)","1 point for at least one (1.0) lane mile"]
[null,null,null,"Class 1 Bikeways",null,null,null,null,null,null,"Class 2 Bikeways",null,null,null,null,null,null,"Class 3 Bikeways",null,null,null,null,null,null,"Class 4 Bikeways",null,null,null,null,null,null,"Total Context Sensitive Bikeway Mileage",null,null,null,null,null,{"$f":"SUM($H$12,$O$12,$V$12,$AC$12)","v":0}]
[]
[null,null,null,"Street (or closest parallel street if off-street bikeway)",null,null,null,null,null,"Cross A (Closest street to start)",null,null,null,null,null,"Cross B (Closest street to end)",null,null,null,null,null,"Distance (lane mile, to the 0.1)",null,null,"AADT",null,null,"Speed Limit",null,"Current Bikeway Facility Class",null,null,"Proposed Bikeway Facility Class",null,null,"Context Sensitive "]
[]
[]
[]
[]
[]
[]
[]
[]
[null,null,"(2)","2 points - Will the Projects expand an existing bicycle network?\nA new Context Sensitive Bikeway funded by AHSC must have an entry point within the Project Area and directly intersect with an existing bikeway as a way to connect to the existing bike network. The existing bikeway and bikeway network is not required to be comprised of Context Sensitive Bikeways. (PAM)",null,null,null,null,null,null,null,null,null,null,null,null,null,null,null,null,null,null,null,null,null,null,null,null,null,null,null,null,null,null,null,null,null,{"$f":"IF($AK$23=\"Yes\",2,0)","v":0}]
[null,null,null,"Context Sensitive Bikeway \n(must match one of the named above)",null,null,null,null,null,null,null,null,"Intersecting existing bikeway (Street name)",null,null,null,null,null,null,null,null,"Comments/Notes, if necessary"]
[]
[]
[null,null,"(3)","Up to 3 points for the length of AHSC-funded Safe and Accessible Walkways as follows: ",null,null,null,null,null,null,null,null,null,null,null,null,null,null,null,null,null,null,"(PAM)",null,null,null,null,null,null,null,null,null,null,null,null,null,null,{"$f":"IF($Y$30>2000,3,IF($Y$30>1000,1,0))","v":0}]
[null,null,null,"(A)","3 points for repairing or constructing sections of sidewalks, walkways, or ramps that create more than 2,000 feet of continuous Safe and Accessible Walkway."]
[null,null,null,"(B)","1 point for repairing or constructing sections of sidewalks, walkways, or ramps that create more than 1,000 but at or less than 2,000 feet of continuous Safe and Accessible Walkway."]
[null,null,null,null,"Safe and Accessible Walkways - length (in feet) of new or replaced sidewalk, walkways, or ramps"]
[]
[null,null,null,"Street (or closest parallel street if off-street bikeway)",null,null,null,null,null,"Cross A (Closest Street to start)",null,null,null,null,null,"Cross B (Closest Street to end)",null,null,null,null,null,"Continuous Distance of Accessible Walkway (feet)",null,null,null,null,"Total distance of New or Repaired walkways?",null,null,null,"Number of new/reconstructed Pedestrian Ramps along walkway",null,null,null,null,"Number of new/repainted crosswalks along walkway"]
[]
[]
[]
[]
[]
[]
[null,null,"(4)","Up to 2 points for Projects that fund the construction of new pedestrian facilities where none exist at the time of application submission. (PAM)",null,null,null,null,null,null,null,null,null,null,null,null,null,null,null,null,null,null,null,null,null,null,null,null,null,null,null,null,null,null,null,null,null,{"$f":"IF($AF$42>=1000,2,IF($AF$42>=500,1,0))","v":0}]
[null,null,null,"(A)","2 points for at least 1,000 continuous linear feet of new pedestrian facilities where none exist at the time of application submission. "]
[null,null,null,"(B)","1 point for at least 500 continuous linear feet of new pedestrian facilities where none exist at the time of application submission."]
[null,null,null,null,"New pedestrian facilities - length (in linear feet) of new pedestrian facilities where none exist at the time of application submission."]
[null,null,null,"Street (or closest parallel street if off-street bikeway)",null,null,null,null,null,"Cross A (Closest Street to start)",null,null,null,null,null,"Cross B (Closest Street to end)",null,null,null,null,null,"Continuous Distance of New Facility",null,null,null,null,"# of new/reconstructed Pedestrian Ramps along walkway",null,null,null,null,null,"# of new/repainted crosswalks along walkway"]
[]
[]
[null,null,"(5)","Up to 4 points for Projects that improve a local bus route by implementing any (or a multiple) of the following will be eligible for two points for each strategy.",null,null,null,null,null,null,null,null,null,null,null,null,null,null,null,null,null,null,null,null,null,null,null,null,null,null,null,null,null,null,null,"(PAM)",null,{"$f":"MIN(COUNTIF($AK$47:$AK$52,\"Yes\")*2,4)","v":0}]
[null,null,null,"(A)","At least one (1.0) Lane Mile of a Bus Only Lane that includes prohibition of private vehicles or High Occupancy Toll (HOT) Lanes that are in effect at least eight (8) hours a day, at least five (5) days a week."]
[null,null,null,"(B)","Installation of new at-grade boarding infrastructure at five (5) or more stops in the Project Area."]
[null,null,null,"(C)","Installation of bus bulb-outs or transit boarding islands that eliminate the need for buses to pull out of the general flow lane at least five (5) or more stops in the Project Area."]
[null,null,null,"(D)","Installation of new or upgraded Transit Signal Priority hardware and software along all signals for one (1.0) consecutive Lane Mile."]
[null,null,null,"(E)","Installation of at least five (5) new bus shelters where none currently exist in the Project Area. "]
[null,null,null,"(F)","Procurement of at least one new ZEV transit vehicle that allows the provider to modify published schedules that will achieve headways of 15 minutes or less during Peak Hours or reduce Peak Hour existing headways by more than 10 minutes."]
[null,"File Name:",null,null,{"$f":"'Upload Checklist'!$B$147","v":"72. Local Transit Route Improvements"},null,null,null,null,null,null,null,{"$f":"'Upload Checklist'!$C$147","v":"Provide maps and/or scopes of work identifying the proposed locations for the improvements to the local transit route identified in §107(a)(5) along the one transit route. If improving multiple transit routes, provide one map for each of the routes."},null,null,null,null,null,null,null,null,null,null,null,null,null,null,null,null,null,null,null,"Uploaded to HCD?"]
[]
[null,"(b) ","Green Buildings and Renewable Energy - 3 Points Maximum",null,null,null,null,null,null,null,null,null,null,null,null,null,null,null,null,null,null,null,null,null,null,null,null,null,null,null,null,null,null,null,null,null,null,{"$f":"IF($V$59=\"\",0,IF(AND($I$58=\"Residential_Construction\",$V$59<>\"none\"),3,IF(AND($I$58=\"Non_Residential_Construction\",OR($V$59=\"CalGreen Tier 2\",$V$59=\"LEED Gold\")),3,0)))","v":0}]
[]
[null,null,"(1)","3 points will be awarded for Affordable Housing Developments that commit to design and construction that achieves green building status beyond California mandatory building code requirements as certified by the project architect, energy analyst, and/or sustainability consultant. Applicants may select from the following green building certification programs:"]
[null,null,null,"Construction Type:"]
[null,null,null,"Green building status beyond State mandatory building code requirements as verified:"]
[null,"File Name:",null,null,{"$f":"'Upload Checklist'!$B$148","v":"73. Green Building Status"},null,null,null,null,null,null,null,{"$f":"'Upload Checklist'!$C$148","v":"Provide signed letter from the project architect, energy analyst, and/or sustainability consultant stating the commitment to achieve green building status beyond State mandatory building code. Specify the Certification the AHD commits to."},null,null,null,null,null,null,null,null,null,null,null,null,null,null,null,null,null,null,null,"Uploaded to HCD?"]
[]
[null,"(c) ","Housing and Transportation Collaboration - 10 Points Maximum",null,null,null,null,null,null,null,null,null,null,null,null,null,null,null,null,null,null,null,null,null,null,null,null,null,null,null,null,null,null,null,null,null,null,{"$f":"$AL$68+$AL$71+$AL$73","v":0}]
[]
[null,null,"(1)","Up to 5 points for applications with an AHSC funds request for Sustainable Transportation Infrastructure that comprises at least a certain amount of funds or a percentage of the total AHSC funds request (whichever is the lower amount) as detailed below:"]
[null,null,null,"STI Funds Request as an amount or percentage of Total AHSC Funding Request",null,null,null,null,null,null,null,null,null,null,null,null,null,null,null,null,null,null,"Points"]
[null,null,null,"At least $7,500,000 or 25.0% of total funding request",null,null,null,null,null,null,null,null,null,null,null,null,null,null,null,null,null,null,"5 points"]
[null,null,null,"At least $4,500,000 or 15.0% of total funding request",null,null,null,null,null,null,null,null,null,null,null,null,null,null,null,null,null,null,"2 points"]
[null,null,null,"AHD & HRI Requested:",null,null,null,null,{"$f":"'Project Overview'!$AC$11+'Project Overview'!$AC$12","v":0},null,null,"STI Requested:",null,null,null,{"$f":"'Project Overview'!$AC$13","v":0},null,null,"Total AHSC Funds Requested:",null,null,null,null,null,null,{"$f":"'Project Overview'!$AC$18","v":0},null,null,"STI % of Total AHSC Requested:",null,null,null,null,null,null,{"$f":"IF(OR($P$68=0,$Z$68=0),0,ROUND($P$68/$Z$68,2))","v":0},null,{"$f":"IF(OR($AJ$68>=0.25,P68>=7500000),5,IF(OR($AJ$68>=0.15,P68>=4500000),2,0))","v":0}]
[]
[null,null,"(2)","2 points for applications which invest at least $1,500,000 or five (5.0%) percent of total AHSC funding request (whichever is the lower amount) in Transportation Related Amenities at or along the same block of a Transit Station/Stop. The Transit Station/Stop need not be served by the Qualifying Transit but must be within the Project Area."]
[null,null,null,null,null,null,null,null,"TRA (Transit Station or Stop) Requested:",null,null,null,null,{"$f":"'TRA S&U Budget'!$D$238","v":0},null,null,null,null,null,null,null,null,null,"TRA (Transit Station/Stop) Funds Req as % of Total AHSC Req:",null,null,null,null,null,null,{"$f":"IF(OR($N$71=0,$U$71=0),0,ROUND($N$71/$U$71,2))","v":0},null,null,null,null,null,null,{"$f":"IF(OR($N$71>=1500000,$AE$71>=0.05),2,0)","v":0}]
[]
[null,null,"(3)","3 points for Projects which provide documentation that their site is:",null,null,null,null,null,null,null,null,null,null,null,null,null,null,null,null,null,null,null,null,null,null,null,null,null,null,null,null,null,null,null,null,null,{"$f":"IF(OR($AK$76=\"Yes\",$AK$79=\"Yes\",$AL$85=\"Yes\"),3,IF(vmSPL=\"Yes\",MIN(SUM(IF($AL$90=\"Yes\",1),IF($AL$92=\"Yes\",1),IF($AL$94=\"Yes\",2)),3),0))","v":0}]
[]
[null,null,null,"(A)","Near an environmentally cleared High-Speed Rail Station: An AHD that is within one (1.0) mile of an environmentally cleared California high-speed rail station;"]
[null,null,null,null,"Is AHD within one (1.0) mile of an environmentally cleared California high-speed rail station?"]
[]
[null,null,null,"(B)","Funding the construction of community-identified components from another SGC Program: A Project that funds community-identified components from another SGC-funded project, such as Transformative Climate Communities (TCC), Sustainable Agricultural Lands Conservation (SALC);"]
[null,null,null,null,"Has the proposed Project received funds from another California Strategic Growth Council (SGC) Program?"]
[null,null,null,null,"Describe the identified community component:"]
[]
[]
[null,null,null,"(C)","Utilizing Publicly-Owned Land: An AHD which is to be developed on land designated as Excess Land (EO N-06-19) or any land declared as Surplus Land by a local agency. Projects developed on land donated by or leased at a discounted rate from a transit agency are also eligible for these points."]
[null,null,null,null,"(i)","For excess state-owned property, the AHD must be located on a site selected under EO-N-06-19 to enter into a ground lease with the state to create affordable housing on excess state-owned property."]
[null,null,null,null,null,"Is the AHD located on a site selected under EO-N-06-19 to enter into a ground lease with the state to create affordable housing on excess state-owned property?"]
[null,null,null,null,"(ii)","For surplus land owned by a local agency, including transit agencies, points shall be awarded as follows:"]
[null,null,null,null,null,"Is the AHD located on surplus land owned by a local agency, including transit agencies?"]
[null,null,null,null,null,"a","1 point for documentation of written compliance with the Surplus Land Act (SLA) as demonstrated by an exempt surplus findings letter or standard surplus disposition findings letter from HCD, available at the HCD catalogue of findings letters; and either,"]
[null,null,null,null,null,null,"HCD catalogue of findings letters"]
[null,null,null,null,null,null,"Will the Applicant(s) provide to the Department a copy of the documentation of written compliance with the Surplus Land Act (SLA)?"]
[null,null,null,null,null,null,"1","1 point if the disposition is discounted at least 20% or more from the property’s current appraised value or market rate lease terms. Current appraised value should be supported by an independent third-party appraisal prepared by a Member Appraisal Institute qualified appraiser within one year prior to the Application deadline; OR,"]
[null,null,null,null,null,null,null,"Is the disposition discounted at least 20% or more from the property’s current appraised value or market rate lease terms?"]
[null,null,null,null,null,null,"2","2 points if the disposition is provided as a land donation or equivalent, or leased for a nominal fee of $20,000 or less per year.  "]
[null,null,null,null,null,null,null,"Is disposition provided as a land donation or equivalent, or leased for a nominal fee of $20,000 or less per year?"]
[]
[null,"File Name:",null,null,{"$f":"'Upload Checklist'!$B$149","v":"74. Housing and Transportation Collaboration"},null,null,null,null,null,null,null,{"$f":"'Upload Checklist'!$C$149","v":"Provide evidence that the project is either utilizing publicly-owned land, part of a related Strategic Growth Council project, or located within an environmentally cleared High Speed Rail Station Planning Area as identified in §107(c)(3). If utilizing Publicly-Owned Land, provide documentation as requested for each respective type of land as outlined in §107 Quantitative Policy Scoring(c)(3)(C)."},null,null,null,null,null,null,null,null,null,null,null,null,null,null,null,null,null,null,null,"Uploaded to HCD?"]
[]
[null,"(d) ","Location Efficiency and Access to Destinations - 3 Points Maximum",null,null,null,null,null,null,null,null,null,null,null,null,null,null,null,null,null,null,null,null,null,null,null,null,null,null,null,null,null,null,null,null,null,null,{"$f":"ROUNDUP(IF(isRIPA,MIN(COUNTIF($N$100:$N$110,\"Yes\")*0.5,3),MIN(COUNTIF($N$100:$N$110,\"Yes\")*0.333,3)),3)","v":0}]
[null,null,"(1)","Up to 3 points will be given for projects that provide the location of existing Key Destinations within one-half (0.50) mile of the AHD. For TOD Project Areas and ICP Project Areas each type of Key Destination is worth one third (0.333) of a point. For RIPA Project Areas each type of Key Destination is worth one half (0.50) of a point. Each Key Destination category may only be counted once. Facilities that meet multiple categories (e.g., a Grocery Store with a Pharmacy) may be counted toward multiple categories. Please see definitions and further specifications for each Key Destination in Appendix A. Please see Project Area Mapping Guidance for how to map and document Key Destinations. "]
[null,null,null,"(A) Market or Grocery store (SNAP Retailer)"]
[null,null,null,"(B) Food Bank"]
[null,null,null,"(C) Medical clinic that accepts Medi-Cal\n      payments or offers free medical services to\n      low-income individuals"]
[null,null,null,"(D) Licensed childcare facility as identified by\n      the California Department of Social Services"]
[null,null,null,"(E) Pharmacy"]
[null,null,null,"(F) Park accessible to the general public"]
[null,null,null,"(G) Community Center accessible to the general\n      public"]
[null,null,null,"(H) Public library"]
[null,null,null,"(I) Public elementary, middle, high school,\n    non-profit university or non-profit junior college"]
[null,null,null,"(J) Bank, or credit union"]
[null,null,null,"(K) Post Office"]
[]
[null,"(e) ","Funds Committed - 4 Points Maximum",null,null,null,null,null,null,null,null,null,null,null,null,null,null,null,null,null,null,null,null,null,null,null,null,null,null,null,null,null,null,null,null,null,null,{"$f":"$M$115*4","v":0}]
[null,null,"4 points will be awarded for applications demonstrating committed funding for all permanent financing, grants, project-based rental assistance, and operating subsidies, excluding: the amount requested from the AHSC Program, an allocation of tax-exempt bonds, and 4 percent or 9 percent tax credits. For Projects with bond financing, any applicable permanent lender commitment of bond financing is required for these points. Assistance for capital expenditures will be deemed to be an Enforceable Funding Commitment if it has been awarded to the Project or if the Department approves other evidence that the assistance will be reliably available. Contingencies in commitment documents based upon the receipt of an allocation of tax-exempt bonds, 4 percent tax credits or 9 percent tax credits will not disqualify a source from being counted as committed."]
[null,null,"For homeownership Affordable Housing Developments only: Construction loans which will be repaid with revenue from the sale of homes to low-income or moderate-income homebuyers will be considered committed funding."]
[null,null,"Does Applicant meet the above requirements?",null,null,null,null,null,null,null,null,null,{"$f":"IF(COUNTBLANK('Dev Sources'!$C$25:$C$39)=15,FALSE,IF(COUNTIF('Dev Sources'!$C$26:$C$39,\"No\")>0,FALSE,TRUE))","v":false}]
[]
[null,"(f) ","Prohousing Designation – 2 Points Maximum ",null,null,null,null,null,null,null,null,null,null,null,null,null,null,null,null,null,null,null,null,null,null,null,null,null,null,null,null,null,null,null,null,null,null,{"$f":"IF($AK$120=\"Yes\",2,0)","v":0}]
[]
[null,null,"(1)","2 Points will be awarded for Projects located in jurisdictions that have applied for a “Prohousing designation” by the application due date, and is certified by the Department within 45 days after the application due date."]
[null,null,null,"Is Project located in a jurisdiction that has been awarded \"Prohousing Designation\"  or has applied by the application due date? If applied, points are conditional on  designation within 45 days of application due date."]
[]
[null,"(g) ","Anti-Displacement Activities - 4 Points Maximum",null,null,null,null,null,null,null,null,null,null,null,null,null,null,null,null,null,null,null,null,null,null,null,null,null,null,null,null,null,null,null,null,null,null,{"$f":"IF(COUNTIF($AK$126:$AK$135,\"Yes\")>0,4,0)","v":0}]
[null,null,"(1)","Up to 4 points for Projects that document a commitment to implement at least one (1) new or expanded Anti-displacement activity listed in this section, as supported by an assessment of housing needs and displacement vulnerability."]
[null,null,null,"All proposals must complete the AHSC Commitment Letter Template (available on AHSC Guidelines page) that describes how each program or activity will be implemented.",null,null,null,null,null,null,null,null,null,null,null,null,null,null,null,null,null,null,"AHSC Guidelines",null,null,null,null,null,null,"# of Activities to be implemented",null,null,null,null,null,null,{"$f":"COUNTIF($AK$126:$AK$135,\"Yes\")","v":0}]
[null,null,null,"Projects may select any activity listed in this section. These activities must be implemented by an independent non-profit or Locality with dedicated Program Cost (PGM) funding of a minimum $150,000 per activity:"]
[null,null,null,null,"(A)","A non-profit and/or Locality developing a Community-Driven, Neighborhood-Scale Anti-Displacement Plan."]
[null,null,null,null,"(B)","A non-profit and/or Locality implementing a policy or action identified in a previously-adopted Anti-Displacement Plan that is not listed below."]
[null,null,null,null,"(C)","A non-profit and/or Locality implementing a policy identified in an existing Community-Driven, Neighborhood-Scale Anti-Displacement Plan."]
[null,null,null,null,"(D)","A non-profit and/or Locality developing or implementing a pipeline or training programs that will build capacity for local affordable housing developers ."]
[null,null,null,null,"(E)","A non-profit and/or Locality developing or implementing a process for data collection, monitoring, and tracking systems related to the causes of displacement (e.g., rental property registry, inventory of at-risk units, landlord licensing, local eviction tracking,  a speculation watchlist, or tracking the loss and formation of culturally-relevant and community-serving small businesses)."]
[null,null,null,null,"(F)","A non-profit and/or Locality developing or implementing foreclosure or eviction prevention and landlord anti-harassment programs."]
[null,null,null,null,"(G)","A non-profit and/or Locality developing, administering, or implementing rental assistance or voucher programs."]
[null,null,null,null,"(H)","A non-profit and/or Locality developing or implementing a Small/Family Business Protection Program for community businesses in the Project Area "]
[null,null,null,null,"(I)","A non-profit and/or Locality developing or operating a Community Land Trust or Land Banking activities."]
[null,null,null,null,"(J)","A non-profit and/or Locality developing or implementing programs that provide subsidized work to weatherize or repair existing Low-Income Households to increase energy efficiency and/or air quality in the Project Area."]
[null,"File Name:",null,null,{"$f":"'Upload Checklist'!$B$150","v":"75. AD Commitment Letter workplan"},null,null,null,null,null,null,null,{"$f":"'Upload Checklist'!$C$150","v":"All proposals in partnership with a non-profit or locality must provide a Commitment Letter and a proposed workplan describing how each program or activity will be implemented. Complete the AHSC Commitment Letter Template (available on AHSC Guidelines page) to describe how each program or activity will be implemented."},null,null,null,null,null,null,null,null,null,null,null,null,null,null,null,null,null,null,null,"Uploaded to HCD?"]
[null,"File Name:",null,null,{"$f":"'Upload Checklist'!$B$151","v":"76. Assessment Housing Needs"},null,null,null,null,null,null,null,{"$f":"'Upload Checklist'!$C$151","v":"Optional: Applicants may submit the AHSC Anti Displacement Tool or reference the jurisdiction’s housing element, other research, community feedback, or other existing documents to develop an assessment of the housing needs and displacement vulnerability for the communities overlapping the Project Area."},null,null,null,null,null,null,null,null,null,null,null,null,null,null,null,null,null,null,null,"Uploaded to HCD?"]
[]
[null,"(h) ","Local Workforce Development and Hiring Practices - 3 Points Maximum",null,null,null,null,null,null,null,null,null,null,null,null,null,null,null,null,null,null,null,null,null,null,null,null,null,null,null,null,null,null,null,null,null,null,{"$f":"MIN(IF($AG$142>0,$AG$142*1.5),3)","v":0}]
[]
[null,null,"(1)","Up to 3 points (1.5 points per strategy) for Projects that implement workforce development strategies that advance the recruitment, training, and hiring of individuals who live within Priority Populations census tracts or Low-Income Households. Strategies should aim to connect these populations with training and hiring opportunities created by the Project. Workforce development strategies may be implemented during Project construction or after completion of the Project, but they must be implemented within the contract reporting period. Choose from the following workforce development strategies:"]
[null,null,null,null,"Choose from the following AHSC workforce development strategies:",null,null,null,null,null,null,null,null,null,null,null,null,null,null,null,null,null,null,null,null,null,null,null,"# of Strategies",null,null,null,{"$f":"COUNTIF($AK$143,\"Yes\")+COUNTIF($AK$146,\"Yes\")+COUNTIF($AK$149,\"Yes\")+COUNTIF($AK$152,\"Yes\")","v":0}]
[null,null,null,"(A)","Partnership with a Workforce Development organization or a Workforce Development Board."]
[null,"File Name:",null,null,{"$f":"'Upload Checklist'!$B$152","v":"77. Workforce Strategy A"},null,null,null,null,null,null,null,{"$f":"'Upload Checklist'!$C$152","v":"Partnership with a Workforce Development Organization: If pursuing submit the certification letter submitted to a local government pursuant to Article 4 in AB 2011 or submit the information and verifiable documentation requested in §107 Quantitative Policy Scoring (h)(1)(A)(i)-(vi) in a letter jointly signed by the Applicant and external organization."},null,null,null,null,null,null,null,null,null,null,null,null,null,null,null,null,null,null,null,"Uploaded to HCD?"]
[]
[null,null,null,"(B)","Project is bound by a Skilled and Trained Workforce Commitment."]
[null,"File Name:",null,null,{"$f":"'Upload Checklist'!$B$153","v":"78. Workforce Strategy B"},null,null,null,null,null,null,null,{"$f":"'Upload Checklist'!$C$153","v":"Skilled and Trained Workforce Commitment: If pursuing Workforce Strategy B (§107 Quantitative Policy Scoring (h)(1)(B)), submit the information and verifiable documentation requested in §107 Quantitative Policy Scoring (h)(1)(B)(i)(ii) in a letter jointly signed by the Applicant and external organization."},null,null,null,null,null,null,null,null,null,null,null,null,null,null,null,null,null,null,null,"Uploaded to HCD?"]
[]
[null,null,null,"(C)","Projects that have developed a Project Labor or Community Workforce Agreement."]
[null,"File Name:",null,null,{"$f":"'Upload Checklist'!$B$154","v":"79. Workforce Strategy C"},null,null,null,null,null,null,null,{"$f":"'Upload Checklist'!$C$154","v":"Project Labor or Community Workforce Agreement: If pursuing Workforce Strategy C (§107 Quantitative Policy Scoring (h)(1)(C)), submit the information and verifiable documentation requested in §107 Quantitative Policy Scoring (h)(1)(C)(i) in a letter jointly signed by the Applicant and external organization."},null,null,null,null,null,null,null,null,null,null,null,null,null,null,null,null,null,null,null,"Uploaded to HCD?"]
[]
[null,null,null,"(D)","Projects that are located in jurisdictions with Local Hire Ordinances"]
[null,"File Name:",null,null,{"$f":"'Upload Checklist'!$B$155","v":"80. Workforce Strategy D"},null,null,null,null,null,null,null,{"$f":"'Upload Checklist'!$C$155","v":"Local Hire Ordinances: If pursuing Workforce Strategy D (§107 Quantitative Policy Scoring (h)(1)(D)), submit the information and verifiable documentation requested in §107 Quantitative Policy Scoring (h)(1)(D)(i)-(iii) in a letter."},null,null,null,null,null,null,null,null,null,null,null,null,null,null,null,null,null,null,null,"Uploaded to HCD?"]
[]
[null,"(i) ","Housing Affordability - 5 Points Maximum",null,null,null,null,null,null,null,null,null,null,null,null,null,null,null,null,null,null,null,null,null,null,null,null,null,null,null,null,null,null,null,null,null,null,{"$f":"MIN(SUM($AL$159+$AL$164+$AL$170),5)","v":0}]
[]
[null,null,"(1)","For rental Affordable Housing Developments, the following shall apply:"]
[null,null,null,"(A)","Up to 3 points will be awarded based on the percent of total units in a rental AHD restricted to Extremely Low Income (ELI) households as follows:"]
[null,null,null,null,"(i)","15 to 19.9 percent of total units = 1 points",null,null,null,null,null,null,null,null,null,null,null,null,null,null,null,null,null,null,null,null,null,"Extremely Low Income (ELI) Units",null,null,null,null,null,null,null,{"$f":"SUMIF('Max Funds & Unit Mix'!$D$7:$D$26,0.15,'Max Funds & Unit Mix'!$H$7:$H$26)+SUMIF('Max Funds & Unit Mix'!$D$7:$D$26,0.2,'Max Funds & Unit Mix'!$H$7:$H$26)+SUMIF('Max Funds & Unit Mix'!$D$7:$D$26,0.25,'Max Funds & Unit Mix'!$H$7:$H$26)+SUMIF('Max Funds & Unit Mix'!$D$7:$D$26,0.3,'Max Funds & Unit Mix'!$H$7:$H$26)","v":0},null,{"$f":"IF(AND($AJ$161>=15%,$AJ$161<20%),1,IF(AND($AJ$161>=20%,$AJ$161<25%),2,IF($AJ$161>=25%,3,0)))","v":0}]
[null,null,null,null,"(ii)","20.0 to 24.9 percent of total units = 2 points",null,null,null,null,null,null,null,null,null,null,null,null,null,null,null,null,null,null,null,null,null,"Total AHD Units",null,null,null,null,null,null,null,{"$f":"'Max Funds & Unit Mix'!$E$27","v":0}]
[null,null,null,null,"(iii)","25 percent or more of total units = 3 points",null,null,null,null,null,null,null,null,null,null,null,null,null,null,null,null,null,null,null,null,null,"ELI Units as a % of Total AHD Units",null,null,null,null,null,null,null,{"$f":"IF($AJ$160=0,0,$AJ$159/$AJ$160)","v":0}]
[]
[null,null,null,"(B)","Up to 2 points will be awarded based on the percent of total units in a rental AHD that are three-bedroom or larger and are restricted to ELI or Very Low-Income (VLI) households as follows:"]
[null,null,null,null,"(i)","10 to 19.9 percent of total units = 1 points",null,null,null,null,null,null,null,null,null,null,"Three-bedroom or larger units to Extremely Low Income or Very Low-Income households",null,null,null,null,null,null,null,null,null,null,null,null,null,null,null,null,null,null,{"$f":"SUMIFS('Max Funds & Unit Mix'!$F$7:$F$26,'Max Funds & Unit Mix'!$B$7:$B$26,\">=3\",'Max Funds & Unit Mix'!$D$7:$D$26,\"15%\")+SUMIFS('Max Funds & Unit Mix'!$F$7:$F$26,'Max Funds & Unit Mix'!$B$7:$B$26,\">=3\",'Max Funds & Unit Mix'!$D$7:$D$26,\"20%\")+SUMIFS('Max Funds & Unit Mix'!$F$7:$F$26,'Max Funds & Unit Mix'!$B$7:$B$26,\">=3\",'Max Funds & Unit Mix'!$D$7:$D$26,\"25%\")+SUMIFS('Max Funds & Unit Mix'!$F$7:$F$26,'Max Funds & Unit Mix'!$B$7:$B$26,\">=3\",'Max Funds & Unit Mix'!$D$7:$D$26,\"30%\")+SUMIFS('Max Funds & Unit Mix'!$F$7:$F$26,'Max Funds & Unit Mix'!$B$7:$B$26,\">=3\",'Max Funds & Unit Mix'!$D$7:$D$26,\"35%\")+SUMIFS('Max Funds & Unit Mix'!$F$7:$F$26,'Max Funds & Unit Mix'!$B$7:$B$26,\">=3\",'Max Funds & Unit Mix'!$D$7:$D$26,\"40%\")+SUMIFS('Max Funds & Unit Mix'!$F$7:$F$26,'Max Funds & Unit Mix'!$B$7:$B$26,\">=3\",'Max Funds & Unit Mix'!$D$7:$D$26,\"45%\")+SUMIFS('Max Funds & Unit Mix'!$F$7:$F$26,'Max Funds & Unit Mix'!$B$7:$B$26,\">=3\",'Max Funds & Unit Mix'!$D$7:$D$26,\"50%\")","v":0},null,{"$f":"IF(AND($AJ$166>=10%,$AJ$166<20%),1,IF($AJ$166>=20%,2,0))","v":0}]
[null,null,null,null,"(ii)","20 percent or more of total units = 2 points",null,null,null,null,null,null,null,null,null,null,"Total AHD Units",null,null,null,null,null,null,null,null,null,null,null,null,null,null,null,null,null,null,{"$f":"'Max Funds & Unit Mix'!$E$27","v":0}]
[null,null,null,null,null,null,null,null,null,null,null,null,null,null,null,null,"Three-bedroom or larger, ELI or VLI Units as a % of Total AHD Units",null,null,null,null,null,null,null,null,null,null,null,null,null,null,null,null,null,null,{"$f":"IF($AJ$165=0,0,$AJ$164/$AJ$165)","v":0}]
[]
[null,null,"(2)","For homeownership Affordable Housing Developments, the following shall apply:"]
[null,null,null,"(A)","Up to 5 points will be awarded for applications which restrict a percentage of units in a homeownership Affordable Housing Development to Low-Income (LI) households. Points will be awarded based on the percent of total units restricted to LI households as follows:"]
[null,null,null,null,"(i)","20 to 29.9 percent of total units = 2 points",null,null,null,null,null,null,null,null,null,null,null,null,null,null,null,null,null,null,"Total restricted LI units",null,null,null,null,null,null,null,null,null,null,{"$f":"'Max Funds & Unit Mix'!$O$27","v":0},null,{"$f":"IF($AJ$172<20%,0,IF(AND(OR(vmHousingType=\"Homeownership\",vmHousingType=\"Both\"),$AJ$172>0),IF(AND($AJ$172>=20%,$AJ$172<30%),2,IF(AND($AJ$172>=30%,$AJ$172<40%),3,IF(AND($AJ$172>=40%,$AJ$172<50%),4,IF($AJ$172>=50%,5,0))))))","v":0}]
[null,null,null,null,"(ii)","30 to 39.9 percent of total units = 3 points",null,null,null,null,null,null,null,null,null,null,null,null,null,null,null,null,null,null,"Total AHD Units",null,null,null,null,null,null,null,null,null,null,{"$f":"'Max Funds & Unit Mix'!$E$27","v":0}]
[null,null,null,null,"(iii)","40 to 49.9 percent of total units = 4 points",null,null,null,null,null,null,null,null,null,null,null,null,null,null,null,null,null,null,"Percent of total units restricted to LI households",null,null,null,null,null,null,null,null,null,null,{"$f":"IF($AJ$171=0,0,$AJ$170/$AJ$171)","v":0}]
[null,null,null,null,"(iv)","50 percent or more of total units = 5 points"]
[]
[null,"(j) ","Programs – 3 Points Maximum",null,null,null,null,null,null,null,null,null,null,null,null,null,null,null,null,null,null,null,null,null,null,null,null,null,null,null,null,null,null,null,null,null,null,{"$f":"IF(OR($AB$183=\"(A)\",$AB$183=\"(B)\",$AB$183=\"(C)\",$AB$183=\"(D)\"),3,0)","v":0}]
[]
[null,null,"(1)","3 points will be awarded to applicants that propose an AHSC-funded Program (PGM) Cost in partnership with a non-profit organization (including churches, Community Based Organizations, or other organization registered as a 501(c)(3) Organization) for at least $150,000. All proposals in partnership with a non-profit must complete the AHSC Commitment Letter Template provided that describes how each program or activity will be implemented. The template form will require a complete scope of work; current status of work, if applicable; current status of the role the non-profit plays in the Project Area; proposed measures of success & tracking protocols; why the program was chosen; and signatures from the Applicant and the implementing parties signifying an agreement to the scope of work. An Applicant seeking points for an activity under the Anti-Displacement category is not eligible for additional points for that same activity under the Programs section."]
[null,null,null,"Note: Not all eligible costs identified as Program (PGM) Costs in §103 will fully satisfy this scoring criteria. Programs proposed under this section must fall under one of these four categories to be eligible for points."]
[null,null,null,"(A)","Active Transportation Encouragement and Safety: Active Transportation programs that encourage residents to walk or bicycle more frequently and more safely. Programs may include, but are not limited to: Bike Safety Workshops, Walking School Buses or other group walking activities, Safe Routes to School or Transit. Additionally, distribution of lights, safety equipment, or bicycles to low-income residents are an eligible Program Cost as an incentive for participation in safety education programs."]
[null,null,null,"(B)","Low-Income Zero Emission Vehicle (ZEV) Car Sharing Programs: Programs that provide free or reduced cost access to ZEV Car Sharing Programs."]
[null,null,null,"(C)","AHD Resident Support: Instructor-led adult educational, health and wellness, or skill building classes for residents, including residents with disabilities. Includes, but is not limited to: Financial literacy, computer training, home-buyer education, GED classes, and resume building classes, ESL, nutrition class, exercise class, health information/awareness, art class, parenting class, on-site food cultivation and preparation classes, and smoking cessation classes. Drop-in computer labs, monitoring or technical assistance shall not qualify."]
[null,null,null,"(D)","Tenant Legal Counseling: Programs that provide legal advice and education to renters on their rights as a tenant and access to programs to help reduce risks of evictions and displacement. §103(f)(1)(A) applies."]
[null,null,null,null,"Which, above program, category will the applicant(s) choose from to propose the AHSC-funded Program (PGM) "]
[null,null,null,null,"Program Name"]
[null,null,null,null,"Non-profit organization name"]
[null,"File Name:",null,null,{"$f":"'Upload Checklist'!$B$156","v":"81. AHSC funded pgm Commitment letter"},null,null,null,null,null,null,null,{"$f":"'Upload Checklist'!$C$156","v":"Complete the AHSC Commitment Letter Template (available on AHSC Guidelines page). Template will include information outlined"},null,null,null,null,null,null,null,null,null,null,null,null,null,null,null,null,null,null,null,"Uploaded to HCD?"]
[]
[null,"End of Document"]

{"sheet":"Narrative-Based Policy Scoring","index":23,"n_rows":32,"n_cols":38,"rows_kept":32,"cut":false,"hidden":false,"merged":[[22,2,22,36],[22,37,22,38],[23,2,23,36],[24,1,24,3],[24,4,24,11],[24,12,24,31],[24,32,24,36],[24,37,24,38],[14,1,14,3],[14,4,14,11],[14,12,14,31],[14,32,14,36],[14,37,14,38],[31,1,31,38],[27,2,27,36],[27,37,27,38],[28,2,28,36],[29,2,29,11],[25,37,25,38],[25,1,25,3],[25,4,25,11],[25,12,25,31],[25,32,25,36],[1,1,1,35],[3,1,3,38],[6,1,6,3],[6,4,6,11],[6,12,6,31],[6,32,6,36],[1,37,1,38],[5,1,5,36],[16,2,16,36],[16,37,16,38],[17,2,17,36],[20,1,20,3],[20,4,20,11],[20,12,20,31],[20,32,20,36],[20,37,20,38],[19,3,19,16],[19,17,19,26],[18,3,18,15],[18,16,18,25],[14,39,14,44],[6,37,6,38],[10,37,10,38],[11,2,11,36],[8,1,8,38],[10,2,10,36],[13,37,13,38],[13,4,13,11],[13,12,13,31],[13,32,13,36],[13,1,13,3],[12,37,12,38],[12,1,12,3],[12,4,12,11],[12,12,12,31],[12,32,12,36]]}
[]
[null,{"$f":"CONCATENATE('Project Overview'!$F$27,\" Narrative-Based Scoring §107(a)(b)(c)(d) - 18 Points Maximum  \",\"     App \",'Project Overview'!$E$4)","v":" Narrative-Based Scoring §107(a)(b)(c)(d) - 18 Points Maximum       App "},null,null,null,null,null,null,null,null,null,null,null,null,null,null,null,null,null,null,null,null,null,null,null,null,null,null,null,null,null,null,null,null,null,null,{"$f":"'AHSC Coverpage'!$B$42","v":"V1"},{"$f":"'AHSC Coverpage'!$C$42","v":"2024-01-19"}]
[]
[null,"The narrative-based policy scoring section of the application will be scored only for projects that meet threshold requirements listed in Section 106."]
[]
[null,"The Narrative-Based Policy Scoring section of the application will be scored only for projects that meet threshold requirements listed in Section 106. For Narrative-Based Policy Scoring, applicants must provide responses to the questions and prompts outlined in the Narrative Prompts document. Please reference the Narrative Prompts document and rubric at the SGC AHSC Program Website for instructions, the specific questions to answer, and necessary application materials."]
[null,"File Name:",null,null,{"$f":"'Upload Checklist'!$B$159","v":"82. Narrative"},null,null,null,null,null,null,null,{"$f":"'Upload Checklist'!$C$159","v":"Provide a response to each prompt as outlined in the Narrative Prompts document. The responses must be uploaded as a PDF and must follow the stated word counts. See Narrative Scoring Rubric document for guidance in completing Narratives."},null,null,null,null,null,null,null,null,null,null,null,null,null,null,null,null,null,null,null,"Uploaded to HCD?"]
[]
[null,"The following is a summary of each section:"]
[]
[null,"(a)","Community Benefits & Engagement - 6 Points Maximum:"]
[null,null,"Community involvement and leadership are crucial to ensuring that both the principal objectives and co-benefits of the project respond to the true needs of its future residents and the existing community, broadly. The prompts will ask applicants, how: 1) local residents, the developer(s), stakeholders, government, and/or community-based organizations were engaged to help shape the Project to date; 2) community-based organizations and local residents, especially from Disadvantaged and Low-Income Communities and/or those with disabilities, were meaningfully engaged in identifying needs as well as  Project components; 3) the Project is planning to continue engagement in the future; and 4) the project is taking concrete steps to address community-identified needs and promote equity, community health, and well-being."]
[null,"File Name:",null,null,{"$f":"'Upload Checklist'!$B$160","v":"83. Community Tracker"},null,null,null,null,null,null,null,{"$f":"'Upload Checklist'!$C$160","v":"Provide a completed AHSC Round 7 Community Engagement Tracker."},null,null,null,null,null,null,null,null,null,null,null,null,null,null,null,null,null,null,null,"Uploaded to HCD?"]
[null,"File Name:",null,null,{"$f":"'Upload Checklist'!$B$161","v":"84. Community Needs"},null,null,null,null,null,null,null,{"$f":"'Upload Checklist'!$C$161","v":"Letter of support from local community-based, grassroots organization describing the community engagement process and how feedback from local residents was incorporated into the Project."},null,null,null,null,null,null,null,null,null,null,null,null,null,null,null,null,null,null,null,"Uploaded to HCD?"]
[null,"File Name:",null,null,{"$f":"'Upload Checklist'!$B$162","v":"85. Future Engagement"},null,null,null,null,null,null,null,{"$f":"'Upload Checklist'!$C$162","v":"Optional: Submit supporting documentation to demonstrate future engagement with either a CBO or residents (i.e. any engagement plans, agreements, etc.). Can be included as part of the Community Needs upload if it is the same CBO."},null,null,null,null,null,null,null,null,null,null,null,null,null,null,null,null,null,null,null,"Uploaded to HCD?"]
[]
[null,"(b)","Climate Adaptation & Community Resiliency - 5 Points Maximum"]
[null,null,"Communities will continue to experience effects of climate change in many ways, including increased likelihood of droughts, flooding, heatwaves, sea level rise, severe weather, and wildfires. Due to these effects, climate resiliency is a key part of planning, design, and project implementation. The prompts will ask Applicants to: 1) outline the risks posed from climate change and other environmental exposures; 2) address how the risks will be reduced by appropriate adaptation or mitigation strategies; and 3) how, more broadly, the Project will promote equity and reduce the health risks of climate change and other environmental exposures including extreme heat, wildfires and smoke, air pollution from vehicle emissions, and more. Under this section applicants will fill out the Climate Adaptation Assessment Matrix and related prompts."]
[null,null,null,"For tools to help assess general climate impacts, please visit",null,null,null,null,null,null,null,null,null,null,null,null,"Cal-Adapt’s Local Climate Snapshot tool."]
[null,null,null,"For adaptation tools, resources, strategies and case studies visit",null,null,null,null,null,null,null,null,null,null,null,null,null,"State’s Adaptation Clearinghouse."]
[null,"File Name:",null,null,{"$f":"'Upload Checklist'!$B$163","v":"86. Climate Matrix"},null,null,null,null,null,null,null,{"$f":"'Upload Checklist'!$C$163","v":"AHSC Round 8 Climate Adaptation Assessment Matrix."},null,null,null,null,null,null,null,null,null,null,null,null,null,null,null,null,null,null,null,"Uploaded to HCD?"]
[]
[null,"(c)","Collaboration & Planning – 4 Points Maximum"]
[null,null,"Collaboration across local governments and housing and transportation providers is critical to create a project that ensures connectivity and responds to the day to day needs of the community. Taken together, the responses to the prompts of this section should outline how the proposed project: 1) aligns with previous planning efforts of local government; 2) brings together local government, including housing and transportation agencies in collaboration, to realize the vision of those efforts through the project; and 3) will equitably translate that vision into improvements that address community needs related to climate adaptation, health, housing, mobility, access, and safety."]
[null,"File Name:",null,null,{"$f":"'Upload Checklist'!$B$164","v":"87. Local Planning Efforts"},null,null,null,null,null,null,null,{"$f":"'Upload Checklist'!$C$164","v":"Please provide a single PDF with the cover page of the plan and relevant pages of the plans referenced in the Local Planning Efforts Section. Please only include pages referenced in the narrative."},null,null,null,null,null,null,null,null,null,null,null,null,null,null,null,null,null,null,null,"Uploaded to HCD?"]
[null,"File Name:",null,null,{"$f":"'Upload Checklist'!$B$165","v":"88. Site Plan"},null,null,null,null,null,null,null,{"$f":"'Upload Checklist'!$C$165","v":"Provide the most current site plan."},null,null,null,null,null,null,null,null,null,null,null,null,null,null,null,null,null,null,null,"Uploaded to HCD?"]
[]
[null,"(d)","Equity & Transformation – 3 Points Maximum"]
[null,null,"As stated in the AHSC Program Overview, SGC is committed to achieving racial equity in its operations, investments, and policy initiatives and to achieving its vision that: All people in California live in healthy, thriving, and resilient communities regardless of race (read more in the SGC Racial Equity Action Plan.) The AHSC Program encourages a holistic approach to community development and broader investments in neighborhoods. Under this section, the prompts will ask applicants to describe how the Project is going above and beyond, either: piloting new or innovative approaches or policies, leveraging existing resources in a new way, advancing equity, or shaping future projects in the nearby communities."]
[null,null,"SGC Racial Equity Action Plan"]
[]
[null,"End of Document"]

{"sheet":"Certification & Legal","index":24,"n_rows":44,"n_cols":37,"rows_kept":44,"cut":false,"hidden":false,"merged":[[1,1,1,38],[12,11,12,19],[12,21,12,34],[12,36,12,38],[7,1,7,38],[3,1,3,38],[4,1,4,38],[5,1,5,38],[6,1,6,38],[8,1,8,38],[9,1,9,38],[10,1,10,38],[11,1,11,38],[12,1,12,9],[22,1,22,38],[13,1,13,9],[13,11,13,19],[13,21,13,34],[14,1,14,38],[15,1,15,38],[16,1,16,38],[17,1,17,38],[18,1,18,38],[19,1,19,38],[20,1,20,38],[21,1,21,38],[13,36,13,38],[29,1,29,36],[29,37,29,38],[23,1,23,36],[23,37,23,38],[24,1,24,36],[24,37,24,38],[25,1,25,36],[25,37,25,38],[26,1,26,36],[26,37,26,38],[27,1,27,36],[27,37,27,38],[28,1,28,36],[28,37,28,38],[30,1,30,36],[30,37,30,38],[31,1,31,36],[31,37,31,38],[32,1,32,36],[32,37,32,38],[33,1,33,36],[33,37,33,38],[34,1,34,36],[34,37,34,38],[35,1,35,36],[35,37,35,38],[43,1,43,38],[40,1,40,9],[40,11,40,19],[40,21,40,34],[36,1,36,38],[37,1,37,3],[37,4,37,11],[37,12,37,31],[37,32,37,36],[37,37,37,38],[38,1,38,38],[39,1,39,9],[39,11,39,19],[39,21,39,34],[39,36,39,38],[40,36,40,38]]}
[]
[null,"Certification & Legal Disclosure"]
[]
[null,"On behalf of the entity identified in the signature block below, I certify that:"]
[null,"1. The information, statements and attachments included in this application are, to the best of my knowledge and belief, true and correct."]
[null,"2. I possess the legal authority to submit this application on behalf of the entity identified in the signature block."]
[null,"3. The following is a complete disclosure of all identities of interest - of all persons or entities, including affiliates, that will provide goods or services to the Project either (a) in one or more capacity or (b) that qualify as a \"Related Party\" to any person or entity that will provide goods or services to the Project. \"Related Party\" is defined in Section 10302 of the California Code of Regulations (CTCAC Regulations): "]
[]
[null,"4. As of the date of application, the Project, or the real property on which the Project is proposed (Property) is not party to or the subject of any claim or action at the State or Federal appellate level."]
[null,"5. I have disclosed and described below any claim or action undertaken which affects or potentially affects the feasibility of the Project."]
[null,"In addition, I acknowledge that all information in this application and attachments is public, and may be disclosed by the State."]
[]
[null,"     "]
[null,"Printed Name",null,null,null,null,null,null,null,null,null,"Title of Signatory",null,null,null,null,null,null,null,null,null,"Signature",null,null,null,null,null,null,null,null,null,null,null,null,null,null,"Date"]
[null,"Legal Disclosure"]
[null,"For purposes of the following questions, and with the exceptions noted below, the term “applicant” shall include the applicant and joint applicant, and any subsidiary of the applicant or joint applicant if the subsidiary is involved in (for example, as a guarantor) or will be benefited by the application or the project. "]
[null,"In addition to each of these entities themselves, the term “applicant” shall also include the direct and indirect holders of more than ten percent (10%) of the ownership interests in the entity, as well as the officers, directors, principals and senior executives of the entity if the entity is a corporation, the general and limited partners of the entity if the entity is a partnership, and the members or managers of the entity if the entity is a limited liability company. For projects using tax-exempt bonds, it shall also include the individual who will be executing the bond purchase agreement."]
[null,"The following questions must be responded to for each entity and person qualifying as an \"applicant,\" or \"joint applicant\" as defined above.  "]
[null,"Explain all positive responses on a separate sheet and include with this questionnaire in the application."]
[null,"Exceptions:"]
[null,"Public entity applicants without an ownership interest in the proposed project, including but not limited to cities, counties, and joint powers authorities with 100 or more members, are not required to respond to this questionnaire. "]
[null,"Members of the boards of directors of non-profit corporations, including officers of the boards, are also not required to respond. However, chief executive officers (Executive Directors, Chief Executive Officers, Presidents or their equivalent) must respond, as must chief financial officers (Treasurers, Chief Financial Officers, or their equivalent)."]
[null,"Civil Matters"]
[null,"1. Has the applicant filed a bankruptcy or receivership case or had a bankruptcy or receivership action commenced against it, defaulted on a loan or been foreclosed against in past ten years? "]
[null,"2. Is the applicant currently a party to, or been notified that it may become a party to, any civil litigation that may materially and adversely affect (a) the financial condition of the applicant’s business, or (b) the project that is the subject of the application?"]
[null,"3. Have there been any administrative or civil settlements, decisions, or judgments against the applicant within the past ten years that materially and adversely affected (a) the financial condition of the applicant’s business, or (b) the project that is the subject of the application?"]
[null,"4. Is the applicant currently subject to, or been notified that it may become subject to, any civil or administrative proceeding, examination, or investigation by a local, state or federal licensing or accreditation agency, a local, state or federal taxing authority, or a local, state or federal regulatory or enforcement agency? "]
[null,"5. In the past ten years, has the applicant been subject to any civil or administrative proceeding, examination, or investigation by a local, state or federal licensing or accreditation agency, a local, state or federal taxing authority, or a local, state or federal regulatory or enforcement agency that resulted in a settlement, decision, or judgment? "]
[null,"Criminal Matters"]
[null,"6. Is the applicant currently a party to, or the subject of, or been notified that it may become a party to or the subject of, any criminal litigation, proceeding, charge, complaint, examination or investigation, of any kind, involving, or that could result in, felony charges against the applicant? "]
[null,"7. Is the applicant currently a party to, or the subject of, or been notified that it may become a party to or the subject of, any criminal litigation, proceeding, charge, complaint, examination or investigation, of any kind, involving, or that could result in, misdemeanor charges against the applicant for matters relating to the conduct of the applicant’s business? "]
[null,"8. Is the applicant currently a party to, or the subject of, or been notified that it may become a party to or the subject of, any criminal litigation, proceeding, charge, complaint, examination or investigation, of any kind, involving, or that could result in, criminal charges (whether felony or misdemeanor) against the applicant for any financial or fraud related crime? "]
[null,"9. Is the applicant currently a party to, or the subject of, or been notified that it may become a party to or the subject of, any criminal litigation, proceeding, charge, complaint, examination or investigation, of any kind, that could materially affect the financial condition of the applicant’s business?"]
[null,"10. Within the past ten years, has the applicant been convicted of any felony? "]
[null,"11. Within the past ten years, has the applicant been convicted of any misdemeanor related to the conduct of the applicant’s business?  "]
[null,"12. Within the past ten years, has the applicant been convicted of any misdemeanor for any financial or fraud related crime? "]
[null,"Please provide a letter of explanation if you responded \"Yes\" to any of the questions above."]
[null,"File Name:",null,null,{"$f":"'Upload Checklist'!$B$168","v":"89. Cert-Legal Explanation"},null,null,null,null,null,null,null,{"$f":"'Upload Checklist'!$C$168","v":"Letter of explanation for any \"Yes\" answers or red shaded items above. Copy this sheet and upload separate from the application."},null,null,null,null,null,null,null,null,null,null,null,null,null,null,null,null,null,null,null,"Uploaded to HCD?"]
[]
[null,"     "]
[null,"Printed Name",null,null,null,null,null,null,null,null,null,"Title of Signatory",null,null,null,null,null,null,null,null,null,"Signature",null,null,null,null,null,null,null,null,null,null,null,null,null,null,"Date"]
[]
[]
[null,"End of Document"]

{"sheet":"Applicant Documents","index":25,"n_rows":22,"n_cols":2,"rows_kept":22,"cut":false,"hidden":false,"merged":[[1,1,1,38],[6,1,6,38],[4,1,4,38],[5,1,5,38],[7,1,7,38],[3,1,3,38],[21,1,21,38],[16,1,16,38],[17,1,17,38],[18,1,18,38],[19,1,19,38],[13,1,13,38],[14,1,14,38],[15,1,15,38],[8,1,8,38],[9,1,9,38],[10,1,10,38],[11,1,11,38],[12,1,12,38]]}
[]
[null,"Entity Organizational Documents"]
[]
[null,"Organizational Documents"]
[null,"The following is intended as a brief summary of legal documents commonly required to verify the legal authority of the private entity or entities applying to HCD for an Award of funds and does not apply to public applicants. Documents required to apply for funds (threshold requirements) are legally distinct from those required to enter into a standard agreement or to receive bonus points. For projects receiving an Award of HCD funds, additional documents, or corrections, may be required prior to execution of the Standard Agreement."]
[]
[null,"Organizational Charts"]
[null,"Complete organizational charts are required for the Sponsor/Recipient, Borrower, MGP and AGP (if different from the Sponsor)."]
[]
[null,"Corporate Entities"]
[null,"Articles of Incorporation (Corp. Code §154, 200 and 202) as certified by the CA Secretary of State.\nBylaws and any amendments thereto (Corp. Code §207(b), 211 and 212).\nCertificate of Amendment of Articles of Incorporation (Corp. Code §900-910 (general stock), §5810-5820 (public benefit and religious corporations), §7810-7820 (mutual benefit corporations), or §12500-12510 (general cooperative corporations)) as applicable.\nRestated Articles of Incorporation (Corp. Code §901, 906, 910 (general stock), §5811, 5815, 5819 (public benefit and religious corporations), §7811, 7815 and 7819 (mutual benefit corporations) and §12501, 12506 and 12510 (general cooperative corporations)) as applicable.\nStatement of Information (CA Secretary of State form SI-100 or SI-200).\nShareholder Agreements (Corp. Code §186) if applicable.\nCertificate of Good Standing certified by Secretary of State. Certificate of Good Standing must be dated 30 days or less from the application due date."]
[]
[null,"Limited Liability Companies "]
[null,"Articles of Organization (CA Secretary of State form LLC-1).\nCertificate of Amendment (CA Secretary of State form LLC-2) if applicable.\nRestated Articles of Organization (CA Secretary of State form LLC-10) if applicable.\nCertificate of Correction (CA Secretary of State form LLC-11) if applicable.\nStatement of Information (CA Secretary of State form LLC-12 or LLC-12NC).\nOperating Agreement (Corp. Code §17707.02(s) and 17701.10).\nCertificate of Good Standing certified by Secretary of State. Certificate of Good Standing must be dated 30 days or less from the application due date."]
[]
[null,"Limited Partnerships"]
[null,"Certificate of Limited Partnership (CA Secretary of State form LP-1).\nAmendment to Certificate of Limited Partnership (CA Secretary of State form LP-2) if applicable.\nCertificate of Correction (CA Secretary of State form LP-2) if applicable.\nLimited Partnership Agreement (CA Corp. Code §15901.02(x) and 15901.10).\nAmended and Restated Limited Partnership Agreement.\nCertificate of Good Standing certified by Secretary of State."]
[]
[null,"Tribal Entity"]
[null,"Tribe Formation Documents (Constitution, Charters, etc.).\nFederal Register of Indian Entities Recognized (81 Fed Reg. 26826) if applicable.\nBIA Federal Acknowledgment Petitioner List (CFR Section 83.1 of Title 25) if applicable.\nContact List maintained by the Native American Heritage Commission (GC Section 65352.3) if applicable."]
[]
[null,"End of Document"]

{"sheet":"Upload Checklist","index":26,"n_rows":179,"n_cols":5,"rows_kept":179,"cut":false,"hidden":false,"merged":[[4,1,4,3],[178,1,178,3]]}
[]
[null,"Full list of Uploads",null,null,"Per answers within Application"]
[null,"FILE NAME","FILE DESCRIPTION"]
[]
[null,"HCD Excel Application"]
[null,"01. AHSC Application Workbook","AHSC Application Excel Workbook.",null,"P"]
[]
[null,"Project Overview Sheet/Tab"]
[null,"02. Tax Credit Reservation Letter","If the Project has already received a tax credit reservation, upload documentation.",null,{"$f":"IF('Project Overview'!$AL$205=\"Yes\",\"P\",\"O\")","v":"O"}]
[null,"03. Operating Subsidy Commitment","Documentation evidencing commitment of Operating Subsidies including source, term (in years), total subsidy amount, and estimated first year allocation.",null,{"$f":"IF('Project Overview'!$AL$224=\"Yes\",\"P\",\"O\")","v":"O"}]
[null,"04. Current Contract Rents","Projects proposing project-based rental assistance: Provide documentation of current contract rents for HAP, Shelter Plus or other source, as applicable.",null,{"$f":"IF('Project Overview'!$AL$225=\"Yes\",\"P\",\"O\")","v":"O"}]
[null,"05. 'STI-TRA Agreement","Provide an executed agreement with the Locality or transportation agency for the completion of the STI or TRA components.",null,{"$f":"IF('Project Overview'!$AL$233=\"Yes\",\"P\",\"O\")","v":"O"}]
[null,"06. Tribal Entity Waiver","Modifications or waivers as provided for in HSC §50406, subdivision (p) (Assembly Bill 1010 (Chapter 660, Statutes of 2019)",null,{"$f":"IF('Project Overview'!$AL$239=\"Yes\",\"P\",\"O\")","v":"O"}]
[null,"07. Indian Country Verification","Documentation verifying land is located in Indian Country as defined by 18 USC 1151.",null,{"$f":"IF('Project Overview'!$AL$240=\"Yes\",\"P\",\"O\")","v":"O"}]
[null,"08. Fee or Trust Land Verification","Documentation verifying land is located on Fee or Trust Land.",null,{"$f":"IF('Project Overview'!$AL$241=\"Yes\",\"P\",\"O\")","v":"O"}]
[null,"09. Public Agency Commitment","For Projects where the Public Agency is not a joint Applicant: Provide a commitment to enter into a contractural agreement to develop the Project.",null,{"$f":"IF('Project Overview'!$AL$248=\"Yes\",\"P\",\"O\")","v":"O"}]
[]
[null,"10. App1 Cert & Legal Disclosure","Reference: Applicant Certification Worksheet.",null,{"$f":"IF('Project Overview'!$AL$256=\"Yes\",\"P\",\"O\")","v":"O"}]
[null,"10. App1 OrgDoc1, OrgDoc2, etc.","Reference: Entity Org Docs Worksheet.",null,{"$f":"IF('Project Overview'!$AL$257=\"Yes\",\"P\",\"O\")","v":"O"}]
[null,"10. App1 Org Chart","Applicant Organization Chart.",null,{"$f":"IF('Project Overview'!$AL$258=\"Yes\",\"P\",\"O\")","v":"O"}]
[null,"10. App1 Signature Block","Signature Block - upload in Microsoft Word Document.",null,{"$f":"IF('Project Overview'!$AL$259=\"Yes\",\"P\",\"O\")","v":"O"}]
[null,"10. App1 Cert of Good Standing ","Dated 30 days or less from the application due date.",null,{"$f":"IF('Project Overview'!$AL$260=\"Yes\",\"P\",\"O\")","v":"O"}]
[null,"10. App1 Tax-Exempt Status","Evidence of tax-exempt status from IRS and FTB for Corporations (Non-Profits Only).",null,{"$f":"IF('Project Overview'!$AL$261=\"Yes\",\"P\",\"O\")","v":"O"}]
[null,"10. App1 Payee Data Record","Completed Payee Data Record.",null,{"$f":"IF('Project Overview'!$AL$262=\"Yes\",\"P\",\"O\")","v":"O"}]
[null,"10. App1 TIN Form","Completed Government TIN form.",null,{"$f":"IF('Project Overview'!$AL$263=\"Yes\",\"P\",\"O\")","v":"O"}]
[]
[null,"11. App2 Cert & Legal Disclosure","Reference: Applicant Certification Worksheet.",null,{"$f":"IF('Project Overview'!$AL$267=\"Yes\",\"P\",\"O\")","v":"O"}]
[null,"11. App2 OrgDoc1, OrgDoc2, etc.","Reference: Entity Org Docs Worksheet.",null,{"$f":"IF('Project Overview'!$AL$268=\"Yes\",\"P\",\"O\")","v":"O"}]
[null,"11. App2 Org Chart","Applicant Organization Chart.",null,{"$f":"IF('Project Overview'!$AL$269=\"Yes\",\"P\",\"O\")","v":"O"}]
[null,"11. App2 Signature Block","Signature Block - upload in Microsoft Word Document.",null,{"$f":"IF('Project Overview'!$AL$270=\"Yes\",\"P\",\"O\")","v":"O"}]
[null,"11. App2 Cert of Good Standing ","Dated 30 days or less from the application due date.",null,{"$f":"IF('Project Overview'!$AL$271=\"Yes\",\"P\",\"O\")","v":"O"}]
[null,"11. App2 Tax-Exempt Status","Evidence of tax-exempt status from IRS and FTB for Corporations (Non-Profits Only).",null,{"$f":"IF('Project Overview'!$AL$272=\"Yes\",\"P\",\"O\")","v":"O"}]
[null,"11. App2 Payee Data Record","Completed Payee Data Record.",null,{"$f":"IF('Project Overview'!$AL$273=\"Yes\",\"P\",\"O\")","v":"O"}]
[null,"11. App2 TIN Form","Completed Government TIN form.",null,{"$f":"IF('Project Overview'!$AL$274=\"Yes\",\"P\",\"O\")","v":"O"}]
[]
[null,"12. App3 Cert & Legal Disclosure","Reference: Applicant Certification Worksheet.",null,{"$f":"IF('Project Overview'!$AL$278=\"Yes\",\"P\",\"O\")","v":"O"}]
[null,"12. App3 OrgDoc1, OrgDoc2, etc.","Reference: Entity Org Docs Worksheet.",null,{"$f":"IF('Project Overview'!$AL$279=\"Yes\",\"P\",\"O\")","v":"O"}]
[null,"12. App3 Org Chart","Applicant Organization Chart.",null,{"$f":"IF('Project Overview'!$AL$280=\"Yes\",\"P\",\"O\")","v":"O"}]
[null,"12. App3 Signature Block","Signature Block - upload in Microsoft Word Document.",null,{"$f":"IF('Project Overview'!$AL$281=\"Yes\",\"P\",\"O\")","v":"O"}]
[null,"12. App3 Cert of Good Standing ","Dated 30 days or less from the application due date.",null,{"$f":"IF('Project Overview'!$AL$282=\"Yes\",\"P\",\"O\")","v":"O"}]
[null,"12. App3 Tax-Exempt Status","Evidence of tax-exempt status from IRS and FTB for Corporations (Non-Profits Only).",null,{"$f":"IF('Project Overview'!$AL$283=\"Yes\",\"P\",\"O\")","v":"O"}]
[null,"12. App3 Payee Data Record","Completed Payee Data Record.",null,{"$f":"IF('Project Overview'!$AL$284=\"Yes\",\"P\",\"O\")","v":"O"}]
[null,"12. App3 TIN Form","Completed Government TIN form.",null,{"$f":"IF('Project Overview'!$AL$285=\"Yes\",\"P\",\"O\")","v":"O"}]
[]
[null,"13. App4 Cert & Legal Disclosure","Reference: Applicant Certification Worksheet.",null,{"$f":"IF('Project Overview'!$AL$289=\"Yes\",\"P\",\"O\")","v":"O"}]
[null,"13. App4 OrgDoc1, OrgDoc2, etc.","Reference: Entity Org Docs Worksheet.",null,{"$f":"IF('Project Overview'!$AL$290=\"Yes\",\"P\",\"O\")","v":"O"}]
[null,"13. App4 Org Chart","Applicant Organization Chart.",null,{"$f":"IF('Project Overview'!$AL$291=\"Yes\",\"P\",\"O\")","v":"O"}]
[null,"13. App4 Signature Block","Signature Block - upload in Microsoft Word Document.",null,{"$f":"IF('Project Overview'!$AL$292=\"Yes\",\"P\",\"O\")","v":"O"}]
[null,"13. App4 Cert of Good Standing ","Dated 30 days or less from the application due date.",null,{"$f":"IF('Project Overview'!$AL$293=\"Yes\",\"P\",\"O\")","v":"O"}]
[null,"13. App4 Tax-Exempt Status","Evidence of tax-exempt status from IRS and FTB for Corporations (Non-Profits Only).",null,{"$f":"IF('Project Overview'!$AL$294=\"Yes\",\"P\",\"O\")","v":"O"}]
[null,"13. App4 Payee Data Record","Completed Payee Data Record.",null,{"$f":"IF('Project Overview'!$AL$295=\"Yes\",\"P\",\"O\")","v":"O"}]
[null,"13. App4 TIN Form","Completed Government TIN form.",null,{"$f":"IF('Project Overview'!$AL$296=\"Yes\",\"P\",\"O\")","v":"O"}]
[]
[null,"14. Owner Cert & Legal Disclosure","Reference: Applicant Certification Worksheet.",null,{"$f":"IF('Project Overview'!$AL$299=\"Yes\",\"P\",\"O\")","v":"O"}]
[null,"14. Owner OrgDoc1, OrgDoc2, etc.","Reference: Entity Org Docs Worksheet.",null,{"$f":"IF('Project Overview'!$AL$300=\"Yes\",\"P\",\"O\")","v":"O"}]
[null,"14. Owner Org Chart","Owner Organization Chart.",null,{"$f":"IF('Project Overview'!$AL$301=\"Yes\",\"P\",\"O\")","v":"O"}]
[null,"14. Owner Signature Block","Signature Block - upload in Microsoft Word Document.",null,{"$f":"IF('Project Overview'!$AL$302=\"Yes\",\"P\",\"O\")","v":"O"}]
[null,"14. Owner Cert of Good Standing ","Dated 30 days or less from the application due date.",null,{"$f":"IF('Project Overview'!$AL$303=\"Yes\",\"P\",\"O\")","v":"O"}]
[null,"14. Owner Payee Data Record","Completed Payee Data Record.",null,{"$f":"IF('Project Overview'!$AL$304=\"Yes\",\"P\",\"O\")","v":"O"}]
[null,"14. Owner Tax-Exempt Status","Evidence of tax-exempt status from IRS and FTB for Corporations (Non-Profits Only).",null,{"$f":"IF('Project Overview'!$AL$305=\"Yes\",\"P\",\"O\")","v":"O"}]
[]
[null,"15. MGP Cert & Legal","Reference: Applicant Certification Worksheet.",null,{"$f":"IF('Project Overview'!$AL$308=\"Yes\",\"P\",\"O\")","v":"O"}]
[null,"15. MGP OrgDoc1, OrgDoc2, etc.","Reference: Entity Org Docs Worksheet.",null,{"$f":"IF('Project Overview'!$AL$309=\"Yes\",\"P\",\"O\")","v":"O"}]
[null,"15. MGP Org Chart","MGP Organization Chart.",null,{"$f":"IF('Project Overview'!$AL$310=\"Yes\",\"P\",\"O\")","v":"O"}]
[null,"15. MGP Signature Block","Signature Block - upload in Microsoft Word Document.",null,{"$f":"IF('Project Overview'!$AL$311=\"Yes\",\"P\",\"O\")","v":"O"}]
[null,"15. MGP Cert of Good Standing","Dated 30 days or less from the application due date.",null,{"$f":"IF('Project Overview'!$AL$312=\"Yes\",\"P\",\"O\")","v":"O"}]
[null,"15. MGP Tax-Exempt Status","Evidence of tax-exempt status from IRS and FTB for Corporations (Non-Profits Only).",null,{"$f":"IF('Project Overview'!$AL$313=\"Yes\",\"P\",\"O\")","v":"O"}]
[]
[null,"16. AGP1 Cert & Legal","Reference: Applicant Certification Worksheet.",null,{"$f":"IF('Project Overview'!$AL$316=\"Yes\",\"P\",\"O\")","v":"O"}]
[null,"16. AGP1 OrgDoc1, OrgDoc2, etc.","Reference: Entity Org Docs Worksheet.",null,{"$f":"IF('Project Overview'!$AL$317=\"Yes\",\"P\",\"O\")","v":"O"}]
[null,"16. AGP1 Org Chart","AGP Organization Chart.",null,{"$f":"IF('Project Overview'!$AL$318=\"Yes\",\"P\",\"O\")","v":"O"}]
[null,"16. AGP1 Signature Block","Signature Block - upload in Microsoft Word Document.",null,{"$f":"IF('Project Overview'!$AL$319=\"Yes\",\"P\",\"O\")","v":"O"}]
[null,"16. AGP1 Cert of Good Standing","Dated 30 days or less from the application due date.",null,{"$f":"IF('Project Overview'!$AL$320=\"Yes\",\"P\",\"O\")","v":"O"}]
[null,"16. AGP1 Tax-Exempt Status","Evidence of tax-exempt status from IRS and FTB for Corporations (Non-Profits Only).",null,{"$f":"IF('Project Overview'!$AL$321=\"Yes\",\"P\",\"O\")","v":"O"}]
[]
[null,"17. AGP2 Cert & Legal","Reference: Applicant Certification Worksheet.",null,{"$f":"IF('Project Overview'!$AL$324=\"Yes\",\"P\",\"O\")","v":"O"}]
[null,"17. AGP2 OrgDoc1, OrgDoc2, etc.","Reference: Entity Org Docs Worksheet.",null,{"$f":"IF('Project Overview'!$AL$325=\"Yes\",\"P\",\"O\")","v":"O"}]
[null,"17. AGP2 Org Chart","AGP Organization Chart.",null,{"$f":"IF('Project Overview'!$AL$326=\"Yes\",\"P\",\"O\")","v":"O"}]
[null,"17. AGP2 Signature Block","Signature Block - upload in Microsoft Word Document.",null,{"$f":"IF('Project Overview'!$AL$327=\"Yes\",\"P\",\"O\")","v":"O"}]
[null,"17. AGP2 Cert of Good Standing","Dated 30 days or less from the application due date.",null,{"$f":"IF('Project Overview'!$AL$328=\"Yes\",\"P\",\"O\")","v":"O"}]
[null,"17. AGP2 Tax-Exempt Status","Evidence of tax-exempt status from IRS and FTB for Corporations (Non-Profits Only).",null,{"$f":"IF('Project Overview'!$AL$329=\"Yes\",\"P\",\"O\")","v":"O"}]
[]
[null,"18. MLLC Cert & Legal","Reference: Applicant Certification Worksheet.",null,{"$f":"IF('Project Overview'!$AL$332=\"Yes\",\"P\",\"O\")","v":"O"}]
[null,"18. MLLC OrgDoc1, OrgDoc2, etc.","Reference: Entity Org Docs Worksheet.",null,{"$f":"IF('Project Overview'!$AL$333=\"Yes\",\"P\",\"O\")","v":"O"}]
[null,"18. MLLC Org Chart","Manager of LLC Organization Chart.",null,{"$f":"IF('Project Overview'!$AL$334=\"Yes\",\"P\",\"O\")","v":"O"}]
[null,"18. MLLC Signature Block","Signature Block - upload in Microsoft Word Document.",null,{"$f":"IF('Project Overview'!$AL$335=\"Yes\",\"P\",\"O\")","v":"O"}]
[null,"18. MLLC Cert of Good Standing","Dated 30 days or less from the application due date.",null,{"$f":"IF('Project Overview'!$AL$336=\"Yes\",\"P\",\"O\")","v":"O"}]
[null,"18. MLLC Tax-Exempt Status","Evidence of tax-exempt status from IRS and FTB for Corporations (Non-Profits Only).",null,{"$f":"IF('Project Overview'!$AL$337=\"Yes\",\"P\",\"O\")","v":"O"}]
[]
[null,"19. AB1550","Applicable CARB Priority Population Benefit Criteria Tables.",null,{"$f":"IF('Project Overview'!$AL$344=\"Yes\",\"P\",\"O\")","v":"O"}]
[null,"20. Project Area Map","Map the items as outlined in the Project Area Mapping Guide. Items marked with PAM in this application must be identified on the Project Area Map (PAM)\" File must be submitted in a KML/KMZ format.",null,{"$f":"IF('Project Overview'!$AL$355=\"Yes\",\"P\",\"O\")","v":"O"}]
[null,"21. Transit Service Map","Provide the Published Transit Service Map of the Qualifying Transit line. Indicate the approximate location of the AHD on the map.",null,{"$f":"IF('Project Overview'!$AL$365=\"Yes\",\"P\",\"O\")","v":"O"}]
[null,"22. Transit Service Schedule","Upload is the service schedule for Qualifying Transit only. All documentation transit service schedule supporting the transit service area. All transit service schedules should be uploaded to \"Transit Service Schedule\" as one document.",null,{"$f":"IF('Project Overview'!$AL$366=\"Yes\",\"P\",\"O\")","v":"O"}]
[null,"23. Net Density Verification","Letter and sealed site map certified by a California State-licensed professional (e.g., an engineer, surveyor, or landscape architect) confirming the net density.",null,{"$f":"IF('Project Overview'!$AL$409=\"Yes\",\"P\",\"O\")","v":"O"}]
[null,"24. Cap Improvements Req","Documentation from a Locality, transit agency or special district that capital improvements are required.",null,{"$f":"IF('Project Overview'!$AL$440=\"Yes\",\"P\",\"O\")","v":"O"}]
[null,"25. Onsite Energy Storage","Documentation certified by an energy consultant or architect.",null,{"$f":"IF('Project Overview'!$AL$454=\"Yes\",\"P\",\"O\")","v":"O"}]
[null,"26. STI Cap Project Costs","Documentation showing Capital Project costs are required as a condition of local approval for STI.",null,{"$f":"IF('Project Overview'!$AL$468=\"Yes\",\"P\",\"O\")","v":"O"}]
[null,"27. TRA Cap Project Costs","Documentation showing Capital Project costs are required as condition of local approval for TRA.",null,{"$f":"IF('Project Overview'!$AL$480=\"Yes\",\"P\",\"O\")","v":"O"}]
[null,"28. Utility allowance","Schedule of utility allowances.",null,{"$f":"IF('Project Overview'!$AL$627=\"Yes\",\"P\",\"O\")","v":"O"}]
[]
[null,"Threshold Requirements Sheet/Tab"]
[null,"29. SCS Consistency Confirmation ","Document from MPO identified above confirming consistency with SCS, or alternative planning strategy in non-MPO regions, per §106(a).",null,{"$f":"IF('Threshold Requirements'!$AL$8=\"Yes\",\"P\",\"O\")","v":"O"}]
[null,"30. AHD Environmental","Copy of all environmental clearances (e.g. Environmental Impact Report) or Notice of Exemption.",null,{"$f":"IF('Threshold Requirements'!$AL$21=\"Yes\",\"P\",\"O\")","v":"O"}]
[null,"31. AHD Phase I Environmental Site Assessment","Submit a Phase I ESA, prepared or updated no earlier than 12 months prior to the application submittal date. If the Phase I ESA reveals known or potential contamination, a Phase II ESA will be required.\nTribal Entity Applications are exempt from this requirement.",null,{"$f":"IF('Threshold Requirements'!$AL$21=\"Yes\",\"P\",\"O\")","v":"O"}]
[null,"32. AHD Phase II Environmental Site Assessment","Submit a Phase II ESA prepared or updated no earlier than 12 months prior to the application submittal date if the Phase I ESA reveals known or potential contamination. \nTribal Entity Applications are exempt from this requirement.",null,{"$f":"IF('Threshold Requirements'!$AL$21=\"Yes\",\"P\",\"O\")","v":"O"}]
[null,"33. AHD Auth to Use Grant Funds","If NEPA applies and available at time of application, please provide copy of HUD 7015.16 . If not available now, it must be provided prior to construction loan closing.",null,{"$f":"IF('Threshold Requirements'!$AL$24=\"Yes\",\"P\",\"O\")","v":"O"}]
[null,"34. HRI Environmental","Copy of all environmental reports and clearances (e.g. EIR, Phase 1 Notice of Exemption).",null,{"$f":"IF('Threshold Requirements'!$AL$31=\"Yes\",\"P\",\"O\")","v":"O"}]
[null,"35. HRI Phase I Environmental Site Assessment","Submit a Phase I ESA, prepared or updated no earlier than 12 months prior to the application submittal date, indicating that site is free from severe adverse environmental conditions. If the Phase I ESA reveals known or potential contamination, a Phase II ESA will be required.\nTribal Entity Applications are exempt from this requirement.",null,{"$f":"IF('Threshold Requirements'!$AL$31=\"Yes\",\"P\",\"O\")","v":"O"}]
[null,"36. HRI Phase II Environmental Site Assessment","Submit a Phase II ESA prepared or updated no earlier than 12 months prior to the application submittal date if the Phase I ESA reveals known or potential contamination. \nTribal Entity Applications are exempt from this requirement.",null,{"$f":"IF('Threshold Requirements'!$AL$31=\"Yes\",\"P\",\"O\")","v":"O"}]
[null,"37. HRI Auth to Use Grant Funds","For NEPA only, copy of the HUD 7015.16 \"Authority To Use Grant Funds\" or clarify the current status of the issuance of the HUD form.",null,{"$f":"IF('Threshold Requirements'!$AL$34=\"Yes\",\"P\",\"O\")","v":"O"}]
[null,"38. STI Environmental","If available at time of application, copy of all environmental clearances (e.g. Environmental Impact Report) or Notice of Exemption.",null,{"$f":"IF('Threshold Requirements'!$AL$41=\"Yes\",\"P\",\"O\")","v":"O"}]
[null,"39. STI Auth to Use Grant Funds","For NEPA only, copy of the HUD 7015.16 \"Authority To Use Grant Funds\" or clarify the current status of the issuance of the HUD form.",null,{"$f":"IF('Threshold Requirements'!$AL$42=\"Yes\",\"P\",\"O\")","v":"O"}]
[null,"40. TRA Environmental","If available at time of application, copy of all environmental clearances (e.g. Environmental Impact Report) or Notice of Exemption.",null,{"$f":"IF('Threshold Requirements'!$AL$49=\"Yes\",\"P\",\"O\")","v":"O"}]
[null,"41. TRA Auth to Use Grant Funds","For NEPA only, copy of the HUD 7015.16 \"Authority To Use Grant Funds\" or clarify the current status of the issuance of the HUD form.",null,{"$f":"IF('Threshold Requirements'!$AL$50=\"Yes\",\"P\",\"O\")","v":"O"}]
[null,"42. Project Demolition","Provide a copy of the written order issued by a state or local governmental agency.",null,{"$f":"IF('Threshold Requirements'!$AL$89=\"Yes\",\"P\",\"O\")","v":"O"}]
[null,"43. Relocation Plan","Applicants must provide a Relocation Plan.",null,{"$f":"IF('Threshold Requirements'!$AL$94=\"Yes\",\"P\",\"O\")","v":"O"}]
[null,"44. AHD No Ag","Demonstrate the AHD site is not within land designated as agricultural land per FMMP tool.",null,{"$f":"IF('Threshold Requirements'!$AL$106=\"Yes\",\"P\",\"O\")","v":"O"}]
[null,"45. AHD Ag Infill","Applicants seeking an exemption to the FMMP determination must demonstrate that the AHD Project site qualifies as an Infill Site (as defined in Appendix A).",null,{"$f":"IF('Threshold Requirements'!$AL$107=\"Yes\",\"P\",\"O\")","v":"O"}]
[null,"46. HRI No Ag","Demonstrate the HRI site is not within land designated as agricultural land per FMMP tool.",null,{"$f":"IF('Threshold Requirements'!$AL$111=\"Yes\",\"P\",\"O\")","v":"O"}]
[null,"47. HRI Ag Infill","Applicants seeking an exemption to the FMMP determination must demonstrate that the HRI Project site qualifies as an Infill Site (as defined in Appendix A).",null,{"$f":"IF('Threshold Requirements'!$AL$112=\"Yes\",\"P\",\"O\")","v":"O"}]
[null,"48. STI No Ag","Demonstrate the HRI site is not within land designated as agricultural land per FMMP tool.",null,{"$f":"IF('Threshold Requirements'!$AL$116=\"Yes\",\"P\",\"O\")","v":"O"}]
[null,"49. STI Ag Infill","Applicants seeking an exemption to the FMMP determination must demonstrate that the HRI Project site qualifies as an Infill Site (as defined in Appendix A).",null,{"$f":"IF('Threshold Requirements'!$AL$117=\"Yes\",\"P\",\"O\")","v":"O"}]
[null,"50. TRA No Ag","Demonstrate the HRI site is not within land designated as agricultural land per FMMP tool.",null,{"$f":"IF('Threshold Requirements'!$AL$121=\"Yes\",\"P\",\"O\")","v":"O"}]
[null,"51. TRA Ag Infill","Applicants seeking an exemption to the FMMP determination must demonstrate that the HRI Project site qualifies as an Infill Site (as defined in Appendix A).",null,{"$f":"IF('Threshold Requirements'!$AL$122=\"Yes\",\"P\",\"O\")","v":"O"}]
[null,"52. STI-TRA Local Approvals","Statement from entity indicating the STI and/or TRA Capital Project is consistent with all applicable local rules, regulations, codes, policies and plans enforced or implemented by that entity.",null,{"$f":"IF('Threshold Requirements'!$AL$127=\"Yes\",\"P\",\"O\")","v":"O"}]
[null,"53. AHD-HRI Market Study","Provide a completed market study prepared within one year of the application due date.",null,{"$f":"IF('Threshold Requirements'!$AL$157=\"Yes\",\"P\",\"O\")","v":"O"}]
[null,"54. EFC AHD HRI1; EFC AHD HRI2; EFC AHD HRI3; etc.",{"$f":"CONCATENATE(\"Documentation for the \",COUNTIF('Dev Sources'!C25:C39,\"Yes\"),\" permanent sources, plus Equity Investor if known at time of application.\")","v":"Documentation for the 0 permanent sources, plus Equity Investor if known at time of application."},null,{"$f":"IF('Threshold Requirements'!$AL$161=\"Yes\",\"P\",\"O\")","v":"O"}]
[null,"55. EFC STI1; EFC STI2; EFC STI3; etc.",{"$f":"CONCATENATE(\"Supporting documentation for the \",'Threshold Requirements'!$AM$170,\" non-AHSC STI funding commitments.\")","v":"Supporting documentation for the 0 non-AHSC STI funding commitments."},null,{"$f":"IF('Threshold Requirements'!$AL$173=\"Yes\",\"P\",\"O\")","v":"O"}]
[null,"56. EFC TRA1; EFC TRA2; EFC TRA3; etc.",{"$f":"CONCATENATE(\"Supporting documentation for the \",'Threshold Requirements'!$AM$182,\" non-AHSC TRA funding commitments.\")","v":"Supporting documentation for the 0 non-AHSC TRA funding commitments."},null,{"$f":"IF('Threshold Requirements'!$AL$185=\"Yes\",\"P\",\"O\")","v":"O"}]
[null,"57. EFC PGM1; EFC PGM2; EFC PGM3; etc.",{"$f":"CONCATENATE(\"Supporting documentation for the \",'Threshold Requirements'!$AM$194,\" non-AHSC PGM funding commitments.\")","v":"Supporting documentation for the 0 non-AHSC PGM funding commitments."},null,{"$f":"IF('Threshold Requirements'!$AL$197=\"Yes\",\"P\",\"O\")","v":"O"}]
[null,"58. AHD Site Control","Appropriate documentation to demonstrate the form of site control indicated above.",null,{"$f":"IF('Threshold Requirements'!$AL$214=\"Yes\",\"P\",\"O\")","v":"O"}]
[null,"59. AHD Preliminary Title Report","PTR, that is no more than 6 months old for the AHD Project.",null,{"$f":"IF('Threshold Requirements'!$AL$215=\"Yes\",\"P\",\"O\")","v":"O"}]
[null,"60. HRI Site Control","Appropriate documentation to demonstrate the form of site control indicated above.",null,{"$f":"IF('Threshold Requirements'!$AL$224=\"Yes\",\"P\",\"O\")","v":"O"}]
[null,"61. STI Site Control","Appropriate documentation to demonstrate the form of site control indicated above.",null,{"$f":"IF('Threshold Requirements'!$AL$233=\"Yes\",\"P\",\"O\")","v":"O"}]
[null,"62. TRA Site Control","Appropriate documentation to demonstrate the form of site control indicated above.",null,{"$f":"IF('Threshold Requirements'!$AL$242=\"Yes\",\"P\",\"O\")","v":"O"}]
[null,"63. Past Exp AHD1, Past Exp AHD2","Certificates of Occupancy for two recently completed affordable housing developments.",null,{"$f":"IF('Threshold Requirements'!$AL$265=\"Yes\",\"P\",\"O\")","v":"O"}]
[null,"64. Past Exp HRI1, Past Exp HRI2","Certificates of Occupancy for two recently completed affordable housing developments.",null,{"$f":"IF('Threshold Requirements'!$AL$279=\"Yes\",\"P\",\"O\")","v":"O"}]
[null,"65. Past Exp STI1, Past Exp STI2","Where the party making improvements funded by AHSC is not a public entity, an executed agreement from a public agency certifying the satisfactory completion of similar infrastructure improvements.",null,{"$f":"IF('Threshold Requirements'!$AL$315=\"Yes\",\"P\",\"O\")","v":"O"}]
[null,"66. Past Exp TRA1, Past Exp TRA2","Where the party making improvements funded by AHSC in not a public entity, an executed agreement from a public agency certifying the satisfactory completion of similar infrastructure improvements.",null,{"$f":"IF('Threshold Requirements'!$AL$349=\"Yes\",\"P\",\"O\")","v":"O"}]
[null,"67. HE Determination letter","Provide HCD's determination letter.",null,{"$f":"IF('Threshold Requirements'!$AL$358=\"Yes\",\"P\",\"O\")","v":"O"}]
[null,"68. All Electric Design","Document affirming that the proposed Affordable Housing Development, or Mixed-Use Development in the case that non-residential uses are included, are powered entirely through electricity with no connections to natural gas infrastructure.",null,{"$f":"IF('Threshold Requirements'!$AL$365=\"Yes\",\"P\",\"O\")","v":"O"}]
[null,"69. Internet Service (other funding source)","If using another funding source to fund the required internet service, name the other source and the amount with developer Applicant signature.",null,{"$f":"IF('Threshold Requirements'!$AL$369=\"Yes\",\"P\",\"O\")","v":"O"}]
[null,"70. SFH Lease Addendum","Submit a draft of the development’s Smoke Free Housing lease addendum.",null,{"$f":"IF('Threshold Requirements'!$AL$373=\"Yes\",\"P\",\"O\")","v":"O"}]
[null,"71. HRI Local Approvals","Statement from entity indicating the HRI Capital Project is consistent with all applicable local rules, regulations, codes, policies and plans enforced or implemented by that entity.",null,{"$f":"IF('Threshold Requirements'!$AL$396=\"Yes\",\"P\",\"O\")","v":"O"}]
[]
[null,"Quantitative Policy Scoring Sheet/Tab"]
[null,"72. Local Transit Route Improvements","Provide maps and/or scopes of work identifying the proposed locations for the improvements to the local transit route identified in §107(a)(5) along the one transit route. If improving multiple transit routes, provide one map for each of the routes.",null,{"$f":"IF('Quantitative Policy Scoring'!$AL$53=\"Yes\",\"P\",\"O\")","v":"O"}]
[null,"73. Green Building Status","Provide signed letter from the project architect, energy analyst, and/or sustainability consultant stating the commitment to achieve green building status beyond State mandatory building code. Specify the Certification the AHD commits to.",null,{"$f":"IF('Quantitative Policy Scoring'!$AL$60=\"Yes\",\"P\",\"O\")","v":"O"}]
[null,"74. Housing and Transportation Collaboration","Provide evidence that the project is either utilizing publicly-owned land, part of a related Strategic Growth Council project, or located within an environmentally cleared High Speed Rail Station Planning Area as identified in §107(c)(3). If utilizing Publicly-Owned Land, provide documentation as requested for each respective type of land as outlined in §107 Quantitative Policy Scoring(c)(3)(C).",null,{"$f":"IF('Quantitative Policy Scoring'!$AL$96=\"Yes\",\"P\",\"O\")","v":"O"}]
[null,"75. AD Commitment Letter workplan","All proposals in partnership with a non-profit or locality must provide a Commitment Letter and a proposed workplan describing how each program or activity will be implemented. Complete the AHSC Commitment Letter Template (available on AHSC Guidelines page) to describe how each program or activity will be implemented.",null,{"$f":"IF('Quantitative Policy Scoring'!$AL$136=\"Yes\",\"P\",\"O\")","v":"O"}]
[null,"76. Assessment Housing Needs","Optional: Applicants may submit the AHSC Anti Displacement Tool or reference the jurisdiction’s housing element, other research, community feedback, or other existing documents to develop an assessment of the housing needs and displacement vulnerability for the communities overlapping the Project Area.",null,{"$f":"IF('Quantitative Policy Scoring'!$AL$137=\"Yes\",\"P\",\"O\")","v":"O"}]
[null,"77. Workforce Strategy A","Partnership with a Workforce Development Organization: If pursuing submit the certification letter submitted to a local government pursuant to Article 4 in AB 2011 or submit the information and verifiable documentation requested in §107 Quantitative Policy Scoring (h)(1)(A)(i)-(vi) in a letter jointly signed by the Applicant and external organization.",null,{"$f":"IF('Quantitative Policy Scoring'!$AL$144=\"Yes\",\"P\",\"O\")","v":"O"}]
[null,"78. Workforce Strategy B","Skilled and Trained Workforce Commitment: If pursuing Workforce Strategy B (§107 Quantitative Policy Scoring (h)(1)(B)), submit the information and verifiable documentation requested in §107 Quantitative Policy Scoring (h)(1)(B)(i)(ii) in a letter jointly signed by the Applicant and external organization.",null,{"$f":"IF('Quantitative Policy Scoring'!$AL$147=\"Yes\",\"P\",\"O\")","v":"O"}]
[null,"79. Workforce Strategy C","Project Labor or Community Workforce Agreement: If pursuing Workforce Strategy C (§107 Quantitative Policy Scoring (h)(1)(C)), submit the information and verifiable documentation requested in §107 Quantitative Policy Scoring (h)(1)(C)(i) in a letter jointly signed by the Applicant and external organization.",null,{"$f":"IF('Quantitative Policy Scoring'!$AL$150=\"Yes\",\"P\",\"O\")","v":"O"}]
[null,"80. Workforce Strategy D","Local Hire Ordinances: If pursuing Workforce Strategy D (§107 Quantitative Policy Scoring (h)(1)(D)), submit the information and verifiable documentation requested in §107 Quantitative Policy Scoring (h)(1)(D)(i)-(iii) in a letter.",null,{"$f":"IF('Quantitative Policy Scoring'!$AL$153=\"Yes\",\"P\",\"O\")","v":"O"}]
[null,"81. AHSC funded pgm Commitment letter","Complete the AHSC Commitment Letter Template (available on AHSC Guidelines page). Template will include information outlined",null,{"$f":"IF('Quantitative Policy Scoring'!$AL$186=\"Yes\",\"P\",\"O\")","v":"O"}]
[]
[null,"Narrative-Based Policy Scoring"]
[null,"82. Narrative","Provide a response to each prompt as outlined in the Narrative Prompts document. The responses must be uploaded as a PDF and must follow the stated word counts. See Narrative Scoring Rubric document for guidance in completing Narratives.",null,{"$f":"IF('Narrative-Based Policy Scoring'!$AL$7=\"Yes\",\"P\",\"O\")","v":"O"}]
[null,"83. Community Tracker","Provide a completed AHSC Round 7 Community Engagement Tracker.",null,{"$f":"IF('Narrative-Based Policy Scoring'!$AL$13=\"Yes\",\"P\",\"O\")","v":"O"}]
[null,"84. Community Needs","Letter of support from local community-based, grassroots organization describing the community engagement process and how feedback from local residents was incorporated into the Project.",null,{"$f":"IF('Narrative-Based Policy Scoring'!$AL$14=\"Yes\",\"P\",\"O\")","v":"O"}]
[null,"85. Future Engagement","Optional: Submit supporting documentation to demonstrate future engagement with either a CBO or residents (i.e. any engagement plans, agreements, etc.). Can be included as part of the Community Needs upload if it is the same CBO.",null,{"$f":"IF('Narrative-Based Policy Scoring'!$AL$15=\"Yes\",\"P\",\"O\")","v":"O"}]
[null,"86. Climate Matrix","AHSC Round 8 Climate Adaptation Assessment Matrix.",null,{"$f":"IF('Narrative-Based Policy Scoring'!$AL$21=\"Yes\",\"P\",\"O\")","v":"O"}]
[null,"87. Local Planning Efforts","Please provide a single PDF with the cover page of the plan and relevant pages of the plans referenced in the Local Planning Efforts Section. Please only include pages referenced in the narrative.",null,{"$f":"IF('Narrative-Based Policy Scoring'!$AL$25=\"Yes\",\"P\",\"O\")","v":"O"}]
[null,"88. Site Plan","Provide the most current site plan.",null,{"$f":"IF('Narrative-Based Policy Scoring'!$AL$26=\"Yes\",\"P\",\"O\")","v":"O"}]
[]
[null,"Certification & Legal"]
[null,"89. Cert-Legal Explanation","Letter of explanation for any \"Yes\" answers or red shaded items above. Copy this sheet and upload separate from the application.",null,{"$f":"IF('Certification & Legal'!$AL$38=\"Yes\",\"P\",\"O\")","v":"O"}]
[]
[null,"CARB GHG & Co-Benefits Quantification"]
[null,"90. AHSC Benefits Calculator Tool","Completed AHSC Benefits Calculator Tool, with worksheets applicable to the project and all fields in the GHG Summary and Co-benefits Summary tabs populated.",null,"P"]
[null,"91. GHG Affordable Housing Tab Inputs","Signed letter from housing project developer documenting inputs in the Affordable Housing Tab of the AHSC Benefits Calculator Tool. Follow this link for specific requirements and template.",null,"P"]
[null,"92. GHG Transit Tab Inputs","Signed letter from transit agency documenting inputs in the Transit Inputs Tab of the AHSC Benefits Calculator Tool. Follow this link for specific requirements and template.",null,"If applicable"]
[null,"93. GHG Solar PV Tab Inputs","Signed letter from licensed professional documenting inputs in the Solar PV Inputs Tab of the AHSC Benefits Calculator Tool and results from PVWatts Calculator. Follow this link for specific requirements and template.",null,"If applicable"]
[null,"94. Bike Share Inputs","Signed letter from bike share partner committing to deliver the proposed bike share project and confirming that project-specific inputs in the AHSC Benefits Calculator Tool are correct.\n-Is bike share electric (yes/no)?\n-Number of bike share trips per year in Year 1 and Year F.\n-Average cost per trip.\n-Explanation or calculation of how the expected number of trips was derived.",null,"If applicable"]
[null,"95. Clean Mobility Benefits Calculator Tool","If applicant is proposing shared mobility projects, submit a completed Clean Mobility Benefits Calculator Tool.",null,"If applicable"]
[null,"96. GHG Shared Mobility Inputs","Signed letter from shared mobility provider documenting inputs in the Shared Mobility Tab of the AHSC Benefits Calculator Tool. Follow this link for specific requirements and template.",null,"If applicable"]
[]
[null,"END OF DOCUMENT"]

{"sheet":"CARB Info","index":27,"n_rows":29,"n_cols":4,"rows_kept":29,"cut":false,"hidden":false,"merged":[[14,1,14,7],[1,1,1,7]]}
[]
[null,"Project information needed for the CARB AHSC Benefits Calculator Tool at \"Project Info\" Worksheet, Cell reference at right if each item below."]
[]
[null,"Project Name",{"$f":"IF(ProjectName>0,ProjectName,IF('Project Overview'!$F$36>0,'Project Overview'!$F$36,\"no data provided at application\"))","v":"no data provided at application"},"Cell = E25"]
[null,"HCD Project Application #",{"$f":"IF('Project Overview'!$E$4>0,'Project Overview'!$E$4,\"no data provided at application\")","v":"no data provided at application"},"Cell = E26"]
[null,"Project County",{"$f":"IF(County>0,County,IF(County2>0,County2,\"no data provided at application\"))","v":"no data provided at application"},"Cell = E27"]
[null,"Project Area Type",{"$f":"IF(vmProjectAreaType>0,vmProjectAreaType,\"no data provided at application\")","v":"no data provided at application"},"Cell = E28"]
[null,"Developer Contact Name",{"$f":"IF('Contact List'!$N$5>0,'Contact List'!$N$5,\"no data provided at application\")","v":"no data provided at application"},"Cell = E29"]
[null,"Developer Contact Phone",{"$f":"IF('Contact List'!$Q$5>0,'Contact List'!$Q$5,\"no data provided at application\")","v":"no data provided at application"},"Cell = E30"]
[null,"Developer Contact Email",{"$f":"IF('Contact List'!$P$5>0,'Contact List'!$P$5,\"no data provided at application\")","v":"no data provided at application"},"Cell = E31"]
[null,"AHSC GGRF Funds Requested ($)",{"$f":"IF('Project Overview'!$AC$18>0,'Project Overview'!$AC$18,\"no data provided at application\")","v":"no data provided at application"},"Cell = E33"]
[null,"Other GGRF Funds ($)",{"$f":"IF(OtherGGRFFunds>0,OtherGGRFFunds,\"no data provided at application\")","v":"no data provided at application"},"Cell = E34"]
[null,"Other GGRF Funds Sources",{"$f":"IF('Quantitative Policy Scoring'!$J$81>0,'Quantitative Policy Scoring'!$J$81,\"no data provided at application\")","v":"no data provided at application"},"Cell = E35"]
[]
[null,"Project information needed for the CARB AHSC Benefits Calculator Tool at \"Affordable Housing Inputs\" Worksheet, , Cell reference at right if each item below."]
[]
[]
[null,"Maximum stories",{"$f":"IF('Project Overview'!$P$220>0,'Project Overview'!$P$220,\"no data provided at application\")","v":"no data provided at application"},"Cell = C22"]
[null,"Total Dwelling Units",{"$f":"IF(TotalUnits>0,TotalUnits,\"no data provided at application\")","v":"no data provided at application"},"Cell = C23"]
[null,"Restricted Dwelling Units",{"$f":"IF(SUM('Max Funds & Unit Mix'!H27,'Max Funds & Unit Mix'!N27)>0,SUM('Max Funds & Unit Mix'!H27,'Max Funds & Unit Mix'!N27),\"no data provided at application\")","v":"no data provided at application"},"Cell = C24"]
[null,"Net Density (dwelling units/acre)",{"$f":"IF('Project Overview'!$L$216>0,'Project Overview'!$L$216,\"no data provided at application\")","v":"no data provided at application"},"Cell = C25"]
[null,"Mixed-use Development?",{"$f":"IF('Project Overview'!$AL$378>0,'Project Overview'!$AL$378,\"no data provided at application\")","v":"no data provided at application"},"Cell = C26"]
[null,"Total Residential Space (square feet)",{"$f":"IF(SUM('Project Overview'!$W$221,'Project Overview'!$AK$221)>0,SUM('Project Overview'!$W$221,'Project Overview'!$AK$221),\"no data provided at application\")","v":"no data provided at application"},"Cell = C27"]
[null,"Total Mixed-use Space (square feet)",{"$f":"IF('Project Overview'!$J$222>0,'Project Overview'!$J$222,\"no data provided at application\")","v":"no data provided at application"},"Cell = C28"]
[null,"Residential Parking Spaces",{"$f":"IF('Project Overview'!$J$581>0,'Project Overview'!$J$581,\"no data provided at application\")","v":"no data provided at application"},"Cell = C41"]
[null,"Unbundled Monthly Parking Income ($)",{"$f":"IF('Project Overview'!$K$602>0,'Project Overview'!$K$602/12,\"no data provided at application\")","v":"no data provided at application"},"Cell = C42"]
[null,"Dwelling Units Receiving Transit Passes",{"$f":"IF('Threshold Requirements'!$M$144>0,'Threshold Requirements'!$M$144,\"no data provided at application\")","v":"no data provided at application"},"Cell = C47"]
[null,"Annual Transit Passes Value ($)",{"$f":"IF('Threshold Requirements'!$J$145>0,'Threshold Requirements'!$J$145,\"no data provided at application\")","v":"no data provided at application"},"Cell = C48"]
[null,"Duration of Funding for Transit Passes (years)",{"$f":"IF('Threshold Requirements'!$X$145>0,'Threshold Requirements'!$X$145,\"no data provided at application\")","v":"no data provided at application"},"Cell = C49"]

{"sheet":"Application Support","index":28,"n_rows":18,"n_cols":37,"rows_kept":18,"cut":false,"hidden":false,"merged":[[15,1,15,2],[15,30,15,32],[14,1,14,2],[15,33,15,35],[15,36,15,38],[14,7,14,11],[15,7,15,11],[14,12,14,14],[15,12,15,14],[14,15,14,29],[15,15,15,29],[12,1,12,2],[12,30,12,32],[12,33,12,35],[12,36,12,38],[13,1,13,2],[13,30,13,32],[13,33,13,35],[13,36,13,38],[14,30,14,32],[14,33,14,35],[14,36,14,38],[12,7,12,11],[13,7,13,11],[9,30,9,32],[9,33,9,35],[9,36,9,38],[10,30,10,32],[10,33,10,35],[10,36,10,38],[11,1,11,2],[11,30,11,32],[10,1,10,2],[11,33,11,35],[11,36,11,38],[9,7,9,11],[10,7,10,11],[11,7,11,11],[1,1,1,34],[1,36,1,38],[3,4,3,22],[3,23,3,26],[3,27,3,30],[3,31,3,34],[7,33,7,35],[7,36,7,38],[5,1,5,2],[5,30,5,32],[5,33,5,35],[5,36,5,38],[4,1,4,4],[4,5,4,15],[4,16,4,17],[4,18,4,28],[4,29,4,32],[4,33,4,38],[2,1,2,38],[3,1,3,3],[3,35,3,38],[5,7,5,11],[6,7,6,11],[7,7,7,11],[17,1,17,38],[5,3,5,6],[6,3,6,6],[7,3,7,6],[8,3,8,6],[9,3,9,6],[10,3,10,6],[11,3,11,6],[12,3,12,6],[13,3,13,6],[14,3,14,6],[15,3,15,6],[8,1,8,2],[8,30,8,32],[8,33,8,35],[8,36,8,38],[6,30,6,32],[6,33,6,35],[6,36,6,38],[7,1,7,2],[7,30,7,32],[6,1,6,2],[8,7,8,11],[9,1,9,2],[5,12,5,14],[6,12,6,14],[7,12,7,14],[8,12,8,14],[9,12,9,14],[10,12,10,14],[11,12,11,14],[12,12,12,14],[13,12,13,14],[5,15,5,29],[6,15,6,29],[7,15,7,29],[8,15,8,29],[9,15,9,29],[10,15,10,29],[11,15,11,29],[12,15,12,29],[13,15,13,29]]}
[]
[null,"Application Development Team (ADT) Support Form",null,null,null,null,null,null,null,null,null,null,null,null,null,null,null,null,null,null,null,null,null,null,null,null,null,null,null,null,null,null,null,null,null,{"$f":"'AHSC Coverpage'!$B$42","v":"V1"},{"$f":"'AHSC Coverpage'!C42","v":"2024-01-19"}]
[null,"Please complete the \"yellow\" cells in the form below and email a copy to: AppSupport@hcd.ca.gov and AHSC@hcd.ca.gov. A member of the Application Development Team will respond to your request. "]
[null,"Full Name:",null,null,null,null,null,null,null,null,null,null,null,null,null,null,null,null,null,null,null,null,null,"Date Requested:",null,null,null,null,null,null,null,"Application Version Date:",null,null,null,{"$f":"AK2","v":"2024-01-19"}]
[null,"Organization:",null,null,null,null,null,null,null,null,null,null,null,null,null,null,"Email:",null,null,null,null,null,null,null,null,null,null,null,null,"Contact Phone:"]
[null,"Issue #",null,"Sheet/Tab name",null,null,null,"Section",null,null,null,null,"Cell#",null,null,"Describe the issue/error or suggestion",null,null,null,null,null,null,null,null,null,null,null,null,null,null,"Urgency ",null,null,"ADT Status",null,null,"Status Date"]
[null,1]
[null,2]
[null,3]
[null,4]
[null,5]
[null,6]
[null,7]
[null,8]
[null,9]
[null,10]
[]
[null,"End of Document"]

{"sheet":"Unit Des Table","index":29,"n_rows":27,"n_cols":11,"rows_kept":27,"cut":false,"hidden":true,"merged":[]}
["Limited Partnership","General Partnership","Limited Liability Company","Non-profit Corporation","Non-profit Public Benefit Corporation","For-profit Corporation ","Public Agency","Tribal Entity","Joint Powers Authority","Sole Proprietorship","Private/Public Partnership"]
["General Partner","General Partner","Manager","President","President","President","Chairperson of the Board","Tribal Council Leader","Chairperson of the Board","Individual","General Partner"]
["Co-General Partner","Co-General Partner","Member","Chief Executive Officer","Chief Executive Officer","Chief Executive Officer","Chief Executive Officer","Tribal Council Representative","Chief Executive Officer",null,"Co-General Partner"]
["Managing General Partner","Special General Partner","Member/Manager","Vice President","Vice President","Vice President","Chief Administrative Officer","Authorized Federal Official","Chief Administrative Officer",null,"Managing General Partner"]
["Administrative General Partner",null,null,"Chief Operating Officer","Chief Operating Officer","Chief Operating Officer","City Manager",null,"City Manager",null,"Administrative General Partner"]
[null,null,null,"Treasurer","Treasurer","Treasurer","Assistant City Manager",null,"Assistant City Manager",null,"Special General Partner"]
[null,null,null,"Chief Financial Officer","Chief Financial Officer","Chief Financial Officer","Finance Director",null,"Finance Director",null,"Manager"]
[null,null,null,"Secretary","Secretary","Secretary","Chief Financial Officer",null,"Chief Financial Officer",null,"Member"]
[null,null,null,null,null,null,"Mayor",null,"Mayor",null,"Member/Manager"]
[null,null,null,null,null,null,"Chancellor",null,null,null,"President"]
[null,null,null,null,null,null,"Superintendent",null,null,null,"Chief Executive Officer"]
[null,null,null,null,null,null,"Director",null,null,null,"Vice President"]
[null,null,null,null,null,null,"Secretary",null,null,null,"Chief Operating Officer"]
[null,null,null,null,null,null,null,null,null,null,"Treasurer"]
[null,null,null,null,null,null,null,null,null,null,"Chief Financial Officer"]
[null,null,null,null,null,null,null,null,null,null,"Secretary"]
[null,null,null,null,null,null,null,null,null,null,"Chairperson of the Board"]
[null,null,null,null,null,null,null,null,null,null,"Chief Executive Officer"]
[null,null,null,null,null,null,null,null,null,null,"Chief Administrative Officer"]
[null,null,null,null,null,null,null,null,null,null,"City Manager"]
[null,null,null,null,null,null,null,null,null,null,"Assistant City Manager"]
[null,null,null,null,null,null,null,null,null,null,"Finance Director"]
[null,null,null,null,null,null,null,null,null,null,"Chief Financial Officer"]
[null,null,null,null,null,null,null,null,null,null,"Mayor"]
[null,null,null,null,null,null,null,null,null,null,"Tribal Council Leader"]
[null,null,null,null,null,null,null,null,null,null,"Tribal Council Representative"]
[null,null,null,null,null,null,null,null,null,null,"Authorized Federal Official"]