{"text_format":"1","workbook":"xlsx","n_sheets":17,"sheets":["Matrix","Att A","Link Data A","Link Data A1","Att B","Link Data B","Link Data D","Att D","Att E Activity 1","E Data","Link E1","Att E Activity 2","E Data 2","Link E2","Att E Activity 3","E Data 3","Link E3"],"not_rendered":{"charts":0,"images":5,"macros":1,"external_links":2,"defined_names":10,"comments":6,"pivot_tables":0},"unopened":[],"bounds":{"document_bytes":16777216,"sheet_cells":100000,"rows_first":2000,"rows_last":500,"rows_between":2000,"halvings":0,"cell_chars":16384,"cell_head_chars":4096},"cells_cut":0,"cells_raw":0,"read":"whole","date_system":"1900"}

{"sheet":"Matrix","index":0,"n_rows":486,"n_cols":289,"rows_kept":486,"cut":false,"hidden":false,"merged":[[1,143,5,199],[6,41,9,126],[62,6,64,115],[0,41,2,128],[3,41,5,128],[12,149,14,159],[12,160,14,164],[12,166,14,171],[12,172,14,183],[9,149,11,183],[20,97,22,198],[46,4,48,74],[43,4,45,74],[46,77,48,94],[43,77,45,94],[24,97,24,146],[24,149,24,198],[34,97,36,146],[34,149,36,198],[41,160,48,198],[31,4,33,94],[29,149,31,167],[42,97,45,145],[37,97,39,107],[166,53,167,100],[24,4,24,94],[19,4,23,94],[35,4,37,39],[35,42,37,74],[35,77,37,94],[38,4,40,14],[38,42,40,53],[38,77,40,86],[66,3,68,199],[120,63,122,114],[124,63,126,114],[120,61,122,62],[124,61,126,62],[120,8,122,9],[124,8,126,9],[120,10,122,58],[124,10,126,58],[52,116,65,129],[52,130,56,143],[132,3,136,4],[137,3,142,4],[143,5,143,115],[143,3,143,4],[152,218,155,225],[152,227,155,284],[144,227,150,292],[150,3,153,50],[150,51,153,115],[132,186,136,199],[137,186,142,199],[137,116,142,129],[144,3,149,115],[137,144,142,157],[138,228,140,233],[144,218,150,225],[143,116,143,129],[143,186,143,199],[138,238,140,243],[138,248,140,251],[132,5,136,115],[143,228,143,237],[144,116,154,199],[132,116,136,129],[143,244,143,288],[29,97,31,117],[71,237,76,257],[129,228,132,236],[129,245,131,302],[100,172,105,185],[100,228,105,232],[132,144,136,157],[72,5,75,115],[76,7,78,115],[69,130,78,143],[69,228,78,232],[79,228,87,232],[79,144,87,157],[88,158,99,171],[52,6,60,115],[42,206,46,213],[52,186,56,199],[57,130,61,143],[57,144,61,157],[57,158,65,171],[57,172,65,185],[57,186,59,199],[115,211,118,216],[115,228,118,232],[127,228,127,232],[111,5,113,115],[115,5,118,115],[52,144,56,157],[52,158,56,171],[52,172,56,185],[37,149,39,159],[115,239,118,242],[69,5,71,115],[88,228,99,232],[107,228,109,232],[111,228,113,232],[69,3,72,4],[79,3,81,4],[79,5,81,115],[88,5,90,115],[137,5,142,115],[129,3,131,199],[60,186,65,199],[62,130,65,143],[52,3,65,5],[62,144,65,157],[82,5,87,115],[91,5,99,115],[103,5,105,115],[106,186,127,199],[88,3,90,4],[100,5,102,115],[100,3,102,4],[106,5,106,115],[106,3,106,4],[107,5,109,115]]}
[null,null,null,null,null,null,null,null,null,null,null,null,null,null,null,null,null,null,null,null,null,null,null,null,null,null,null,null,null,null,null,null,null,null,null,null,null,null,null,null,null,"APR MATRIX"]
[null,null,null,null,null,null,null,null,null,null,null,null,null,null,null,null,null,null,null,null,null,null,null,null,null,null,null,null,null,null,null,null,null,null,null,null,null,null,null,null,null,null,null,null,null,null,null,null,null,null,null,null,null,null,null,null,null,null,null,null,null,null,null,null,null,null,null,null,null,null,null,null,null,null,null,null,null,null,null,null,null,null,null,null,null,null,null,null,null,null,null,null,null,null,null,null,null,null,null,null,null,null,null,null,null,null,null,null,null,null,null,null,null,null,null,null,null,null,null,null,null,null,null,null,null,null,null,null,null,null,null,null,null,null,null,null,null,null,null,null,null,null,null,"DUE DATE:  Friday, July 19, 2024"]
[]
[null,null,null,null,null,null,null,null,null,null,null,null,null,null,null,null,null,null,null,null,null,null,null,null,null,null,null,null,null,null,null,null,null,null,null,null,null,null,null,null,null,"HOME Annual Performance Report"]
[]
["           "]
[null,null,null,null,null,null,null,null,null,null,null,null,null,null,null,null,null,null,null,null,null,null,null,null,null,null,null,null,null,null,null,null,null,null,null,null,null,null,null,null,null,"Reporting Period July 1, 2023 through June 30, 2024"]
[]
["             "]
[null,null,null,null,null,null,null,null,null,null,null,null,null,null,null,null,null,null,null,null,null,null,null,null,null,null,null,null,null,null,null,null,null,null,null,null,null,null,null,null,null,null,null,null,null,null,null,null,null,null,null,null,null,null,null,null,null,null,null,null,null,null,null,null,null,null,null,null,null,null,null,null,null,null,null,null,null,null,null,null,null,null,null,null,null,null,null,null,null,null,null,null,null,null,null,null,null,null,null,null,null,null,null,null,null,null,null,null,null,null,null,null,null,null,null,null,null,null,null,null,null,null,null,null,null,null,null,null,null,null,null,null,null,null,null,null,null,null,null,null,null,null,null,null,null,null,null,null,null,"FOR HOME RECIPIENT USE ONLY"]
[]
[]
[null,null,null,null,null,null,null,null,null,null,null,null,null,null,null,null,null,null,null,null,null,null,null,null,null,null,null,null,null,null,null,null,null,null,null,null,null,null,null,null,null,null,null,null,null,null,null,null,null,null,null,null,null,null,null,null,null,null,null,null,null,null,null,null,null,null,null,null,null,null,null,null,null,null,null,null,null,null,null,null,null,null,null,null,null,null,null,null,null,null,null,null,null,null,null,null,null,null,null,null,null,null,null,null,null,null,null,null,null,null,null,null,null,null,null,null,null,null,null,null,null,null,null,null,null,null,null,null,null,null,null,null,null,null,null,null,null,null,null,null,null,null,null,null,null,null,null,null,null,"Revision #",null,null,null,null,null,null,null,null,null,null,null,null,null,null,null,null,"Date"]
[]
[]
[]
[]
[]
[]
[null,null,null,null,"1. Name of the HOME Recipient (HR) "]
[null,null,null,null,null,null,null,null,null,null,null,null,null,null,null,null,null,null,null,null,null,null,null,null,null,null,null,null,null,null,null,null,null,null,null,null,null,null,null,null,null,null,null,null,null,null,null,null,null,null,null,null,null,null,null,null,null,null,null,null,null,null,null,null,null,null,null,null,null,null,null,null,null,null,null,null,null,null,null,null,null,null,null,null,null,null,null,null,null,null,null,null,null,null,null,null,null,"5. Contact Information:"]
[]
[]
[]
[null,null,null,null,"Select Option"]
[]
[]
[]
[]
[null,null,null,null,null,null,null,null,null,null,null,null,null,null,null,null,null,null,null,null,null,null,null,null,null,null,null,null,null,null,null,null,null,null,null,null,null,null,null,null,null,null,null,null,null,null,null,null,null,null,null,null,null,null,null,null,null,null,null,null,null,null,null,null,null,null,null,null,null,null,null,null,null,null,null,null,null,null,null,null,null,null,null,null,null,null,null,null,null,null,null,null,null,null,null,null,null,"Preparer's Name",null,null,null,null,null,null,null,null,null,null,null,null,null,null,null,null,null,null,null,null,null,null,null,null,null,null,null,null,null,null,null,null,null,null,null,null,null,null,null,null,null,null,null,null,null,null,null,null,null,null,null,"Organization"]
[]
[null,null,null,null,"2. HOME Recipient's Address:"]
[null,null,null,null,null,null,null,null,null,null,null,null,null,null,null,null,null,null,null,null,null,null,null,null,null,null,null,null,null,null,null,null,null,null,null,null,null,null,null,null,null,null,null,null,null,null,null,null,null,null,null,null,null,null,null,null,null,null,null,null,null,null,null,null,null,null,null,null,null,null,null,null,null,null,null,null,null,null,null,null,null,null,null,null,null,null,null,null,null,null,null,null,null,null,null,null,null,null,null,null,null,null,null,null,null,null,null,null,null,null,null,null,null,null,null,null,null,null,null,null,null,null,null,null,null,null,null,null,null,null,null,null,null,null,null,null,null,null,null,null,null,null,null,null,null,null,null,null,null,null,null,null,null,null,null,null,null,null,null,null,null,null,null,null,null,null,null,null,null,null,null,null,null,null,null,null,null,null,null,null,null,null,null,null,null,null,null,null,null,null,null,null,null,null,null,null,null,null,null,null,null,null,null,null,null,null,null,null,null,null,null,null,null,null,null,null,null,null,null,null,null,null,null,null,null,null,null,null,null,null,null,null,null,null,null,null,null,null,null,null,null,null,null,null,null,null,null,null,null,null,null,null,null,null,null,null,null,null,null,null,null,null,null,null,null,null,null,null,null,null,null,null,null,null,null,null,null,null,null,null,null,null,null,null,null,null,null,null,", City of"]
[null,null,null,null,null,null,null,null,null,null,null,null,null,null,null,null,null,null,null,null,null,null,null,null,null,null,null,null,null,null,null,null,null,null,null,null,null,null,null,null,null,null,null,null,null,null,null,null,null,null,null,null,null,null,null,null,null,null,null,null,null,null,null,null,null,null,null,null,null,null,null,null,null,null,null,null,null,null,null,null,null,null,null,null,null,null,null,null,null,null,null,null,null,null,null,null,null,null,null,null,null,null,null,null,null,null,null,null,null,null,null,null,null,null,null,null,null,null,null,null,null,null,null,null,null,null,null,null,null,null,null,null,null,null,null,null,null,null,null,null,null,null,null,null,null,null,null,null,null,null,null,null,null,null,null,null,null,null,null,null,null,null,null,null,null,null,null,null,null,null,null,null,null,null,null,null,null,null,null,null,null,null,null,null,null,null,null,null,null,null,null,null,null,null,null,null,null,null,null,null,null,null,null,null,null,null,null,null,null,null,null,null,null,null,null,null,null,null,null,null,null,null,null,null,null,null,null,null,null,null,null,null,null,null,null,null,null,null,null,null,null,null,null,null,null,null,null,null,null,null,null,null,null,null,null,null,null,null,null,null,null,null,null,null,null,null,null,null,null,null,null,null,null,null,null,null,null,null,null,null,null,null,null,null,null,null,null,null,", County of"]
[null,null,null,null,null,null,null,null,null,null,null,null,null,null,null,null,null,null,null,null,null,null,null,null,null,null,null,null,null,null,null,null,null,null,null,null,null,null,null,null,null,null,null,null,null,null,null,null,null,null,null,null,null,null,null,null,null,null,null,null,null,null,null,null,null,null,null,null,null,null,null,null,null,null,null,null,null,null,null,null,null,null,null,null,null,null,null,null,null,null,null,null,null,null,null,null,null,null,null,null,null,null,null,null,null,null,null,null,null,null,null,null,null,null,null,null,null,null,null,null,null,null,null,null,null,null,null,null,null,null,null,null,null,null,null,null,null,null,null,null,null,null,null,null,null,null,null,null,null,null,null,null,null,null,null,null,null,null,null,null,null,null,null,null,null,null,null,null,null,null,null,null,null,null,null,null,null,null,null,null,null,null,null,null,null,null,null,null,null,null,null,null,null,null,null,null,null,null,null,null,null,null,null,null,null,null,null,null,null,null,null,null,null,null,null,null,null,null,null,null,null,null,null,null,null,null,null,null,null,null,null,null,null,null,null,null,null,null,null,null,null,null,null,null,null,null,null,null,null,null,null,null,null,null,null,null,null,null,null,null,null,null,null,null,null,null,null,null,null,null,null,null,null,null,null,null,null,null,null,null,null,null,null,null,null,null,null,null,", Town of"]
[]
[]
[null,null,null,null,null,null,null,null,null,null,null,null,null,null,null,null,null,null,null,null,null,null,null,null,null,null,null,null,null,null,null,null,null,null,null,null,null,null,null,null,null,null,null,null,null,null,null,null,null,null,null,null,null,null,null,null,null,null,null,null,null,null,null,null,null,null,null,null,null,null,null,null,null,null,null,null,null,null,null,null,null,null,null,null,null,null,null,null,null,null,null,null,null,null,null,null,null,"Phone",null,null,null,null,null,null,null,null,null,null,null,null,null,null,null,null,null,null,null,null,null,null,null,null,null,null,null,null,null,null,null,null,null,null,null,null,null,null,null,null,null,null,null,null,null,null,null,null,null,null,null,"Email"]
[null,null,null,null,"Street",null,null,null,null,null,null,null,null,null,null,null,null,null,null,null,null,null,null,null,null,null,null,null,null,null,null,null,null,null,null,null,null,null,null,null,null,null,"City",null,null,null,null,null,null,null,null,null,null,null,null,null,null,null,null,null,null,null,null,null,null,null,null,null,null,null,null,null,null,null,null,null,null,"Zip"]
[]
[]
[null,null,null,null,null,null,null,null,null,null,null,null,null,null,null,null,null,null,null,null,null,null,null,null,null,null,null,null,null,null,null,null,null,null,null,null,null,null,null,null,null,null,null,null,null,null,null,null,null,null,null,null,null,null,null,null,null,null,null,null,null,null,null,null,null,null,null,null,null,null,null,null,null,null,null,null,null,null,null,null,null,null,null,null,null,null,null,null,null,null,null,null,null,null,null,null,null,null,null,null,null,null,null,null,null,null,null,null,null,null,null,null,null,null,null,null,null,null,null,null,null,null,null,null,null,null,null,null,null,null,null,null,null,null,null,null,null,null,null,null,null,null,null,null,null,null,null,null,null,null,null,null,null,null,null,null,null,null,null,null,"By selecting \"Yes\", preparer's contact information will auto-populate all APR Forms."]
[null,null,null,null,null,null,null,null,null,null,null,null,null,null,null,null,null,null,null,null,null,null,null,null,null,null,null,null,null,null,null,null,null,null,null,null,null,null,null,null,null,null,null,null,null,null,null,null,null,null,null,null,null,null,null,null,null,null,null,null,null,null,null,null,null,null,null,null,null,null,null,null,null,null,null,null,null,null,null,null,null,null,null,null,null,null,null,null,null,null,null,null,null,null,null,null,null,"Will the same person be preparing all APR forms?",null,null,null,null,null,null,null,null,null,null,null,null,null,null,null,null,null,null,null,null,null,null,null,null,null,null,null,null,null,null,null,null,null,null,null,null,null,null,null,null,null,null,null,null,null,null,null,null,null,null,null,null,null,null,null,null,null,null,null,null,null,null,null,null,null,null,null,null,null,null,null,null,null,null,null,null,null,null,null,null,null,null,null,null,null,null,null,null,null,null,null,null,null,null,null,null,null,null,null,null,null,null,null,null,null,null,null,null,1]
[null,null,null,null,"3. Name of the Administrative Subcontractor (if applicable)",null,null,null,null,null,null,null,null,null,null,null,null,null,null,null,null,null,null,null,null,null,null,null,null,null,null,null,null,null,null,null,null,null,null,null,null,null,null,null,null,null,null,null,null,null,null,null,null,null,null,null,null,null,null,null,null,null,null,null,null,null,null,null,null,null,null,null,null,null,null,null,null,"4. Date"]
[]
[]
[]
[]
[]
[]
[]
[]
[null,null,null,"6.",null,null,"The questions below pertain to contract activity during the reporting period.  Complete and submit all applicable Attachments for the questions that are answered with a \"Yes.\"                                                                                                                                                                                                                                                                                                                                                                                                                                                                                                                                                                                                                                                                                                                            ",null,null,null,null,null,null,null,null,null,null,null,null,null,null,null,null,null,null,null,null,null,null,null,null,null,null,null,null,null,null,null,null,null,null,null,null,null,null,null,null,null,null,null,null,null,null,null,null,null,null,null,null,null,null,null,null,null,null,null,null,null,null,null,null,null,null,null,null,null,null,null,null,null,null,null,null,null,null,null,null,null,null,null,null,null,null,null,null,null,null,null,null,null,null,null,null,null,null,null,null,null,null,null,null,null,null,null,null,null,"Yes/ No",null,null,null,null,null,null,null,null,null,null,null,null,null,"Attachment                       A",null,null,null,null,null,null,null,null,null,null,null,null,null,"Attachment                B",null,null,null,null,null,null,null,null,null,null,null,null,null,"Attachment        D",null,null,null,null,null,null,null,null,null,null,null,null,null,"Attachment                             E"]
[]
[]
[]
[]
[null,null,null,null,null,null,null,null,null,null,null,null,null,null,null,null,null,null,null,null,null,null,null,null,null,null,null,null,null,null,null,null,null,null,null,null,null,null,null,null,null,null,null,null,null,null,null,null,null,null,null,null,null,null,null,null,null,null,null,null,null,null,null,null,null,null,null,null,null,null,null,null,null,null,null,null,null,null,null,null,null,null,null,null,null,null,null,null,null,null,null,null,null,null,null,null,null,null,null,null,null,null,null,null,null,null,null,null,null,null,null,null,null,null,null,null,null,null,null,null,null,null,null,null,null,null,null,null,null,null,"Program Income",null,null,null,null,null,null,null,null,null,null,null,null,null,"MBE/WBE Report",null,null,null,null,null,null,null,null,null,null,null,null,null,"Relocation",null,null,null,null,null,null,null,null,null,null,null,null,null,"Fair Housing Demographic Analysis"]
[]
[]
[]
[]
[null,null,null,null,null,null,"  (\"Yes\" responses will have a bold \"X\" and be highlighted in Yellow.) ",null,null,null,null,null,null,null,null,null,null,null,null,null,null,null,null,null,null,null,null,null,null,null,null,null,null,null,null,null,null,null,null,null,null,null,null,null,null,null,null,null,null,null,null,null,null,null,null,null,null,null,null,null,null,null,null,null,null,null,null,null,null,null,null,null,null,null,null,null,null,null,null,null,null,null,null,null,null,null,null,null,null,null,null,null,null,null,null,null,null,null,null,null,null,null,null,null,null,null,null,null,null,null,null,null,null,null,null,null,null,null,null,null,null,null,null,null,null,null,null,null,null,null,"N/A for CHDOs or Developers"]
[]
[]
[]
[null,null,null,"APR FORMS FOR HOME RECIPIENT TO COMPLETE:"]
[]
[]
[null,null,null,"a)",null,"Attachment A - Program Income (PI)",null,null,null,null,null,null,null,null,null,null,null,null,null,null,null,null,null,null,null,null,null,null,null,null,null,null,null,null,null,null,null,null,null,null,null,null,null,null,null,null,null,null,null,null,null,null,null,null,null,null,null,null,null,null,null,null,null,null,null,null,null,null,null,null,null,null,null,null,null,null,null,null,null,null,null,null,null,null,null,null,null,null,null,null,null,null,null,null,null,null,null,null,null,null,null,null,null,null,null,null,null,null,null,null,null,null,null,null,null,null,null,null,null,null,null,null,null,null,null,null,null,null,null,null,{"$f":"IF(HU70=2,\"X\",\"\")","v":""},null,null,null,null,null,null,null,null,null,null,null,null,null,null,null,null,null,null,null,null,null,null,null,null,null,null,null,null,null,null,null,null,null,null,null,null,null,null,null,null,null,null,null,null,null,null,null,null,null,null,null,null,null,null,null,null,null,null,null,null,null,null,null,null,null,null,null,null,null,null,null,null,null,null,null,null,null,null,null,null,null,null,null,null,null,null,null,null,null,null,null,null,null,null,null,null,null,1]
[]
[]
[null,null,null,null,null,"Is the HOME Recipient (HR) that is listed in Box #1 above a City or County?"]
[]
["`",null,null,null,null,null,null,null,null,null,null,null,null,null,null,null,null,null,null,null,null,null,null,null,null,null,null,null,null,null,null,null,null,null,null,null,null,null,null,null,null,null,null,null,null,null,null,null,null,null,null,null,null,null,null,null,null,null,null,null,null,null,null,null,null,null,null,null,null,null,null,null,null,null,null,null,null,null,null,null,null,null,null,null,null,null,null,null,null,null,null,null,null,null,null,null,null,null,null,null,null,null,null,null,null,null,null,null,null,null,null,null,null,null,null,null,null,null,null,null,null,null,null,null,null,null,null,null,null,null,null,null,null,null,null,null,null,null,null,null,null,null,null,null,null,null,null,null,null,null,null,null,null,null,null,null,null,null,null,null,null,null,null,null,null,null,null,null,null,null,null,null,null,null,null,null,null,null,null,null,null,null,null,null,null,null,null,null,null,null,null,null,null,null,null,null,null,null,null,null,null,null,null,null,null,null,null,null,null,null,null,null,"Select Y/N"]
[null,null,null,null,null,null,null,null,null,null,null,null,null,null,null,null,null,null,null,null,null,null,null,null,null,null,null,null,null,null,null,null,null,null,null,null,null,null,null,null,null,null,null,null,null,null,null,null,null,null,null,null,null,null,null,null,null,null,null,null,null,null,null,null,null,null,null,null,null,null,null,null,null,null,null,null,null,null,null,null,null,null,null,null,null,null,null,null,null,null,null,null,null,null,null,null,null,null,null,null,null,null,null,null,null,null,null,null,null,null,null,null,null,null,null,null,null,null,null,null,null,null,null,null,null,null,null,null,null,null,null,null,null,null,null,null,null,null,null,null,null,null,null,null,null,null,null,null,null,null,null,null,null,null,null,null,null,null,null,null,null,null,null,null,null,null,null,null,null,null,null,null,null,null,null,null,null,null,null,null,null,null,null,null,null,null,null,null,null,null,null,null,null,null,null,null,null,null,null,null,null,null,null,null,null,null,null,null,null,null,null,null,"Yes"]
[null,null,null,null,null,null,null,"Note:  Not applicable for CHDOs or Developers.",null,null,null,null,null,null,null,null,null,null,null,null,null,null,null,null,null,null,null,null,null,null,null,null,null,null,null,null,null,null,null,null,null,null,null,null,null,null,null,null,null,null,null,null,null,null,null,null,null,null,null,null,null,null,null,null,null,null,null,null,null,null,null,null,null,null,null,null,null,null,null,null,null,null,null,null,null,null,null,null,null,null,null,null,null,null,null,null,null,null,null,null,null,null,null,null,null,null,null,null,null,null,null,null,null,null,null,null,null,null,null,null,null,null,null,null,null,null,null,null,null,null,null,null,null,null,null,null,null,null,null,null,null,null,null,null,null,null,null,null,null,null,null,null,null,null,null,null,null,null,null,null,null,null,null,null,null,null,null,null,null,null,null,null,null,null,null,null,null,null,null,null,null,null,null,null,null,null,null,null,null,null,null,null,null,null,null,null,null,null,null,null,null,null,null,null,null,null,null,null,null,null,null,null,"No"]
[]
[]
[null,null,null,"b)",null,"Attachment B - Minority Business Enterprise and Women Business Enterprise (MBE/WBE)",null,null,null,null,null,null,null,null,null,null,null,null,null,null,null,null,null,null,null,null,null,null,null,null,null,null,null,null,null,null,null,null,null,null,null,null,null,null,null,null,null,null,null,null,null,null,null,null,null,null,null,null,null,null,null,null,null,null,null,null,null,null,null,null,null,null,null,null,null,null,null,null,null,null,null,null,null,null,null,null,null,null,null,null,null,null,null,null,null,null,null,null,null,null,null,null,null,null,null,null,null,null,null,null,null,null,null,null,null,null,null,null,null,null,null,null,null,null,null,null,null,null,null,null,null,null,null,null,null,null,null,null,null,null,null,null,null,null,{"$f":"IF(HU80=2,\"X\",\"\")","v":""},null,null,null,null,null,null,null,null,null,null,null,null,null,null,null,null,null,null,null,null,null,null,null,null,null,null,null,null,null,null,null,null,null,null,null,null,null,null,null,null,null,null,null,null,null,null,null,null,null,null,null,null,null,null,null,null,null,null,null,null,null,null,null,null,null,null,null,null,null,null,null,null,null,null,null,null,null,null,null,null,null,null,null,1]
[]
[]
[null,null,null,null,null,"Did the HR enter into any contracts (construction or non-construction) with a general contractor, administrative subcontractor, architect, consultant, or any other party during the reporting period?"]
[]
[]
[]
[]
[]
[null,null,null,"c)",null,"Attachment D - Relocation",null,null,null,null,null,null,null,null,null,null,null,null,null,null,null,null,null,null,null,null,null,null,null,null,null,null,null,null,null,null,null,null,null,null,null,null,null,null,null,null,null,null,null,null,null,null,null,null,null,null,null,null,null,null,null,null,null,null,null,null,null,null,null,null,null,null,null,null,null,null,null,null,null,null,null,null,null,null,null,null,null,null,null,null,null,null,null,null,null,null,null,null,null,null,null,null,null,null,null,null,null,null,null,null,null,null,null,null,null,null,null,null,null,null,null,null,null,null,null,null,null,null,null,null,null,null,null,null,null,null,null,null,null,null,null,null,null,null,null,null,null,null,null,null,null,null,null,null,null,null,null,null,{"$f":"IF(HU89=2,\"X\",\"\")","v":""},null,null,null,null,null,null,null,null,null,null,null,null,null,null,null,null,null,null,null,null,null,null,null,null,null,null,null,null,null,null,null,null,null,null,null,null,null,null,null,null,null,null,null,null,null,null,null,null,null,null,null,null,null,null,null,null,null,null,null,null,null,null,null,null,null,null,null,null,null,1]
[]
[]
[null,null,null,null,null,"Did the HR assist a First-Time Homebuyer downpayment assistance activity and/or any activity which included the acquisition of real property and/or any temporary or permanent displacement (relocation) of any person, business, or non-profit organization during the reporting period?"]
[]
[]
[]
[]
[]
[]
[]
[]
[null,null,null,"d)",null,"Attachment E - Fair Housing Demographic Analysis",null,null,null,null,null,null,null,null,null,null,null,null,null,null,null,null,null,null,null,null,null,null,null,null,null,null,null,null,null,null,null,null,null,null,null,null,null,null,null,null,null,null,null,null,null,null,null,null,null,null,null,null,null,null,null,null,null,null,null,null,null,null,null,null,null,null,null,null,null,null,null,null,null,null,null,null,null,null,null,null,null,null,null,null,null,null,null,null,null,null,null,null,null,null,null,null,null,null,null,null,null,null,null,null,null,null,null,null,null,null,null,null,null,null,null,null,null,null,null,null,null,null,null,null,null,null,null,null,null,null,null,null,null,null,null,null,null,null,null,null,null,null,null,null,null,null,null,null,null,null,null,null,null,null,null,null,null,null,null,null,null,null,null,null,null,null,{"$f":"IF(HU101=2,\"X\",\"\")","v":""},null,null,null,null,null,null,null,null,null,null,null,null,null,null,null,null,null,null,null,null,null,null,null,null,null,null,null,null,null,null,null,null,null,null,null,null,null,null,null,null,null,null,null,null,null,null,null,null,null,null,null,null,null,null,null,1]
[]
[]
[null,null,null,null,null,"Did the HR have an active program activity during the reporting period?"]
[]
[]
[null,null,null,"e)",null,"Attachment F - Section 3",null,null,null,null,null,null,null,null,null,null,null,null,null,null,null,null,null,null,null,null,null,null,null,null,null,null,null,null,null,null,null,null,null,null,null,null,null,null,null,null,null,null,null,null,null,null,null,null,null,null,null,null,null,null,null,null,null,null,null,null,null,null,null,null,null,null,null,null,null,null,null,null,null,null,null,null,null,null,null,null,null,null,null,null,null,null,null,null,null,null,null,null,null,null,null,null,null,null,null,null,null,null,null,null,null,null,null,null,null,null,null,null,null,null,null,null,null,null,null,null,null,null,null,null,null,null,null,null,null,null,null,null,null,null,null,null,null,null,null,null,null,null,null,null,null,null,null,null,null,null,null,null,null,null,null,null,null,null,null,null,null,null,null,null,null,null,null,null,null,null,null,null,null,null,null,null,null,null,null,null,{"$f":"IF(HD116=8,\"X\",\"\")","v":""}]
[null,null,null,null,null,"1)  Did the HR have an active contract (HOME Standard Agreement) or a HOME Program Income/Recaptured Funds (PI/RF) activity? And",null,null,null,null,null,null,null,null,null,null,null,null,null,null,null,null,null,null,null,null,null,null,null,null,null,null,null,null,null,null,null,null,null,null,null,null,null,null,null,null,null,null,null,null,null,null,null,null,null,null,null,null,null,null,null,null,null,null,null,null,null,null,null,null,null,null,null,null,null,null,null,null,null,null,null,null,null,null,null,null,null,null,null,null,null,null,null,null,null,null,null,null,null,null,null,null,null,null,null,null,null,null,null,null,null,null,null,null,null,null,null,null,null,null,null,null,null,null,null,null,null,null,null,null,null,null,null,null,null,null,null,null,null,null,null,null,null,null,null,null,null,null,null,null,null,null,null,null,null,null,null,null,null,null,null,null,null,null,null,null,null,null,null,null,null,null,null,null,null,null,null,null,null,null,null,null,null,null,null,null,null,null,null,null,null,null,null,null,null,null,null,null,null,null,null,null,null,null,null,null,null,null,null,null,null,null,null,null,null,null,null,null,null,null,null,null,null,null,null,null,null,null,1]
[]
[]
[]
[null,null,null,null,null,"2)  Did the amount of HOME funds exceed $200,000? And",null,null,null,null,null,null,null,null,null,null,null,null,null,null,null,null,null,null,null,null,null,null,null,null,null,null,null,null,null,null,null,null,null,null,null,null,null,null,null,null,null,null,null,null,null,null,null,null,null,null,null,null,null,null,null,null,null,null,null,null,null,null,null,null,null,null,null,null,null,null,null,null,null,null,null,null,null,null,null,null,null,null,null,null,null,null,null,null,null,null,null,null,null,null,null,null,null,null,null,null,null,null,null,null,null,null,null,null,null,null,null,null,null,null,null,null,null,null,null,null,null,null,null,null,null,null,null,null,null,null,null,null,null,null,null,null,null,null,null,null,null,null,null,null,null,null,null,null,null,null,null,null,null,null,null,null,null,null,null,null,null,null,null,null,null,null,null,null,null,null,null,null,null,null,null,null,null,null,null,null,null,null,null,null,null,null,null,null,null,null,null,null,null,null,null,null,null,null,null,null,null,null,null,null,null,null,null,null,null,null,null,null,null,null,null,null,null,null,null,null,null,null,1]
[]
[]
[]
[null,null,null,null,null,"3)  Did this contract or PI/RF activity include any of the HOME activities (listed below) that resulted in new employment, contracting or training opportunities?",null,null,null,null,null,null,null,null,null,null,null,null,null,null,null,null,null,null,null,null,null,null,null,null,null,null,null,null,null,null,null,null,null,null,null,null,null,null,null,null,null,null,null,null,null,null,null,null,null,null,null,null,null,null,null,null,null,null,null,null,null,null,null,null,null,null,null,null,null,null,null,null,null,null,null,null,null,null,null,null,null,null,null,null,null,null,null,null,null,null,null,null,null,null,null,null,null,null,null,null,null,null,null,null,null,null,null,null,null,null,null,null,null,null,null,null,null,null,null,null,null,null,null,null,null,null,null,null,null,null,null,null,null,null,null,null,null,null,null,null,null,null,null,null,null,null,null,null,null,null,null,null,null,null,null,null,null,null,null,null,null,null,null,null,null,null,null,null,null,null,null,null,null,null,null,null,null,null,null,null,null,null,null,null,null,null,null,null,null,null,null,null,null,null,null,null,null,null,null,null,null,null,null,null,null,{"$f":"(HU108+HU112)*HU116","v":2},null,null,null,null,null,null,null,null,null,null,null,null,null,null,null,null,1,null,null,null,null,null,null,null,null,null,null,{"$f":"(HU108+HU112)*HU116+2","v":4}]
[]
[]
[]
[]
[null,null,null,null,null,null,null,null,"•",null,"Single-Family or Multi-Family New Construction Project",null,null,null,null,null,null,null,null,null,null,null,null,null,null,null,null,null,null,null,null,null,null,null,null,null,null,null,null,null,null,null,null,null,null,null,null,null,null,null,null,null,null,null,null,null,null,null,null,null,null,"•",null,"CHDO First-Time Homebuyer Acquisition and Rehabilitation Program"]
[]
[]
[]
[null,null,null,null,null,null,null,null,"•",null,"Rental Rehabilitation Project With or Without Acquisition",null,null,null,null,null,null,null,null,null,null,null,null,null,null,null,null,null,null,null,null,null,null,null,null,null,null,null,null,null,null,null,null,null,null,null,null,null,null,null,null,null,null,null,null,null,null,null,null,null,null,"•",null,"First-Time Home Buyer In-fill New Construction Program"]
[]
[]
[null,null,null,null,null,null,null,null,null,null,null,null,null,null,null,null,null,null,null,null,null,null,null,null,null,null,null,null,null,null,null,null,null,null,null,null,null,null,null,null,null,null,null,null,null,null,null,null,null,null,null,null,null,null,null,null,null,null,null,null,null,null,null,null,null,null,null,null,null,null,null,null,null,null,null,null,null,null,null,null,null,null,null,null,null,null,null,null,null,null,null,null,null,null,null,null,null,null,null,null,null,null,null,null,null,null,null,null,null,null,null,null,null,null,null,null,null,null,null,null,null,null,null,null,null,null,null,null,null,null,null,null,null,null,null,null,null,null,null,null,null,null,null,null,null,null,null,null,null,null,null,null,null,null,null,null,null,null,null,null,null,null,null,null,null,null,null,null,null,null,null,null,null,null,null,null,null,null,null,null,null,null,null,null,null,null,null,null,null,null,null,null,null,null,null,null,null,null,null,null,null,null,null,null,null,null,null,null,null,null,null,null,null,null,null,null,null,null,null,null,null,null,null,null,null,null,null,null,{"$f":"HU108+HU112+HU116","v":3}]
[]
[null,null,null,"STAND-ALONE FORM FOR CONTRACTORS AND SUBCONTRACTORS TO COMPLETE:",null,null,null,null,null,null,null,null,null,null,null,null,null,null,null,null,null,null,null,null,null,null,null,null,null,null,null,null,null,null,null,null,null,null,null,null,null,null,null,null,null,null,null,null,null,null,null,null,null,null,null,null,null,null,null,null,null,null,null,null,null,null,null,null,null,null,null,null,null,null,null,null,null,null,null,null,null,null,null,null,null,null,null,null,null,null,null,null,null,null,null,null,null,null,null,null,null,null,null,null,null,null,null,null,null,null,null,null,null,null,null,null,null,null,null,null,null,null,null,null,null,null,null,null,null,null,null,null,null,null,null,null,null,null,null,null,null,null,null,null,null,null,null,null,null,null,null,null,null,null,null,null,null,null,null,null,null,null,null,null,null,null,null,null,null,null,null,null,null,null,null,null,null,null,null,null,null,null,null,null,null,null,null,null,null,null,null,null,null,null,null,null,null,null,null,null,null,null,null,null,null,null,null,null,null,null,null,null,null,null,null,null,null,null,null,null,null,null,null,null,null,null,null,null,{"$f":"HU70+HU80+HU89+HU101+HU128","v":7},null,null,null,null,null,null,null,null,null,null,null,null,null,null,null,null,"STOP!  No additional reporting is required.  Submit this page to HOME@hcd.ca.gov."]
[]
[]
[null,null,null,"7.",null,"MBE/WBE Stand-Alone Form for Contractors and Subcontractors",null,null,null,null,null,null,null,null,null,null,null,null,null,null,null,null,null,null,null,null,null,null,null,null,null,null,null,null,null,null,null,null,null,null,null,null,null,null,null,null,null,null,null,null,null,null,null,null,null,null,null,null,null,null,null,null,null,null,null,null,null,null,null,null,null,null,null,null,null,null,null,null,null,null,null,null,null,null,null,null,null,null,null,null,null,null,null,null,null,null,null,null,null,null,null,null,null,null,null,null,null,null,null,null,null,null,null,null,null,null,"Yes/ No",null,null,null,null,null,null,null,null,null,null,null,null,null,null,null,null,null,null,null,null,null,null,null,null,null,null,null,"Att. B MBE/WBE Stand-Alone"]
[]
[]
[]
[]
[null,null,null,"a)",null,"Did the HR have any Contractors or Subcontractors who executed contracts during the reporting period ?",null,null,null,null,null,null,null,null,null,null,null,null,null,null,null,null,null,null,null,null,null,null,null,null,null,null,null,null,null,null,null,null,null,null,null,null,null,null,null,null,null,null,null,null,null,null,null,null,null,null,null,null,null,null,null,null,null,null,null,null,null,null,null,null,null,null,null,null,null,null,null,null,null,null,null,null,null,null,null,null,null,null,null,null,null,null,null,null,null,null,null,null,null,null,null,null,null,null,null,null,null,null,null,null,null,null,null,null,null,null,null,null,null,null,null,null,null,null,null,null,null,null,null,null,null,null,null,null,null,null,null,null,null,null,null,null,null,null,{"$f":"IF(HU139=2,\"X\",\"\")","v":""}]
[null,null,null,null,null,null,null,null,null,null,null,null,null,null,null,null,null,null,null,null,null,null,null,null,null,null,null,null,null,null,null,null,null,null,null,null,null,null,null,null,null,null,null,null,null,null,null,null,null,null,null,null,null,null,null,null,null,null,null,null,null,null,null,null,null,null,null,null,null,null,null,null,null,null,null,null,null,null,null,null,null,null,null,null,null,null,null,null,null,null,null,null,null,null,null,null,null,null,null,null,null,null,null,null,null,null,null,null,null,null,null,null,null,null,null,null,null,null,null,null,null,null,null,null,null,null,null,null,null,null,null,null,null,null,null,null,null,null,null,null,null,null,null,null,null,null,null,null,null,null,null,null,null,null,null,null,null,null,null,null,null,null,null,null,null,null,null,null,null,null,null,null,null,null,null,null,null,null,null,null,null,null,null,null,null,null,null,null,null,null,null,null,null,null,null,null,null,null,null,null,null,null,null,null,null,null,null,null,null,null,null,null,null,null,null,null,null,null,null,null,null,null,null,null,null,null,null,null,1,null,null,null,null,null,null,null,null,null,1,null,null,null,null,null,null,null,null,null,{"$f":"HU139*IE139","v":1}]
[]
[]
[]
[]
[null,null,null,"b)",null,"Did the HR have any Contractors or Subcontractors with construction or rehabilitation contracts exceeding $100,000 regardless of when the contracts were executed?",null,null,null,null,null,null,null,null,null,null,null,null,null,null,null,null,null,null,null,null,null,null,null,null,null,null,null,null,null,null,null,null,null,null,null,null,null,null,null,null,null,null,null,null,null,null,null,null,null,null,null,null,null,null,null,null,null,null,null,null,null,null,null,null,null,null,null,null,null,null,null,null,null,null,null,null,null,null,null,null,null,null,null,null,null,null,null,null,null,null,null,null,null,null,null,null,null,null,null,null,null,null,null,null,null,null,null,null,null,null,null,null,null,null,null,null,null,null,null,null,null,null,null,null,null,null,null,null,null,null,null,null,null,null,null,null,null,null,null,null,null,null,null,null,null,null,null,null,null,null,null,null,null,null,null,null,null,null,null,null,null,null,null,null,null,null,null,null,null,null,null,null,null,null,null,null,null,null,null,null,{"$f":"IF(IE139=2,\"X\",\"\")","v":""},null,null,null,null,null,null,null,null,null,null,null,null,null,null,null,null,null,null,null,null,null,null,null,null,null,null,null,null,null,null,null,null,null,null,null,null,null,null,null,null,null,{"$f":"HU70+HU80+HU89+HU101+IF116+HU139+IE139","v":10},null,null,null,null,null,null,null,null,null,null,null,null,null,null,null,"Stop!  No additional reporting is required.  Submit this document to:  HOME@hcd.ca.gov"]
[null,null,null,{"$f":"IF(IO139=2,HT145,IF(IO139=4,HT145,IF(IO139=6,HT145,\"\")))","v":""},null,null,null,null,null,null,null,null,null,null,null,null,null,null,null,null,null,null,null,null,null,null,null,null,null,null,null,null,null,null,null,null,null,null,null,null,null,null,null,null,null,null,null,null,null,null,null,null,null,null,null,null,null,null,null,null,null,null,null,null,null,null,null,null,null,null,null,null,null,null,null,null,null,null,null,null,null,null,null,null,null,null,null,null,null,null,null,null,null,null,null,null,null,null,null,null,null,null,null,null,null,null,null,null,null,null,null,null,null,null,null,null,null,null,null,null,null,null,null,null,null,null,null,null,null,null,null,null,null,null,null,null,null,null,null,null,null,null,null,null,null,null,null,null,null,null,null,null,null,null,null,null,null,null,null,null,null,null,null,null,null,null,null,null,null,null,null,null,null,null,null,null,null,null,null,null,null,null,null,null,null,null,null,null,null,null,null,null,null,null,null,null,null,null,null,null,null,null,null,null,null,null,null,null,null,null,null,null,null,null,null,null,null,null,"yes",null,null,null,null,null,null,null,null,"Please distribute \"Attachment B and F - HOME MBE/WBE & Section 3 Stand-Alone\" form to all Contractors and Subcontractors to complete."]
[]
[]
[]
[]
[]
[null,null,null,{"$f":"IF(IO139=2,\"Click link to retrieve Stand-Alone form:\",IF(IO139=4,\"Click link to retrieve Stand-Alone form:\",IF(IO139=6,\"Click link to retrieve Stand-Alone form:\",\"\")))","v":""},null,null,null,null,null,null,null,null,null,null,null,null,null,null,null,null,null,null,null,null,null,null,null,null,null,null,null,null,null,null,null,null,null,null,null,null,null,null,null,null,null,null,null,null,null,null,null,"Att B - HOME MBE/WBE Stand-Alone 2023/2024"]
[]
[null,null,null,null,null,null,null,null,null,null,null,null,null,null,null,null,null,null,null,null,null,null,null,null,null,null,null,null,null,null,null,null,null,null,null,null,null,null,null,null,null,null,null,null,null,null,null,null,null,null,null,null,null,null,null,null,null,null,null,null,null,null,null,null,null,null,null,null,null,null,null,null,null,null,null,null,null,null,null,null,null,null,null,null,null,null,null,null,null,null,null,null,null,null,null,null,null,null,null,null,null,null,null,null,null,null,null,null,null,null,null,null,null,null,null,null,null,null,null,null,null,null,null,null,null,null,null,null,null,null,null,null,null,null,null,null,null,null,null,null,null,null,null,null,null,null,null,null,null,null,null,null,null,null,null,null,null,null,null,null,null,null,null,null,null,null,null,null,null,null,null,null,null,null,null,null,null,null,null,null,null,null,null,null,null,null,null,null,null,null,null,null,null,null,null,null,null,null,null,null,null,null,null,null,null,null,null,null,null,null,null,null,null,null,null,null,null,null,"no",null,null,null,null,null,null,null,null,"No action necessary"]
[]
[]
[]
[]
[]
[]
[]
[]
[]
[]
[]
["Select Option"]
["A"]
["Alameda, County of ",null,null,null,null,null,null,null,null,null,null,null,null,null,null,null,null,null,null,null,null,null,null,null,null,null,null,null,null,null,null,null,null,null,null,null,null,null,null,null,null,null,null,null,null,null,null,null,null,null,null,null,null,"Checked 2018-current HOME award list (2.22.24) - JB"]
["Allied Real Estate Partners"]
["Amador, County of "]
["American Canyon, City of "]
["Anaheim, City of "]
["Anderson, City of "]
["Angels, City of"]
["Angels Camp, City of "]
["Apple Valley, Town of "]
["Arcata, City of "]
["Artesia, City of "]
["Asociacion Campesina Lazaro Cardenas (ACLC, Inc.)"]
["Atwater, City of "]
["Auburn, City of "]
["Avenal, City of "]
["B"]
["Biggs, City of "]
["Bishop, City of "]
["Brawley, City of "]
["Buena Park, City of "]
["Butte, County of "]
["C"]
["Cabrillo Economic Development Corporation"]
["Calaveras, County of "]
["Calexico, City of "]
["California Housing Finance Agency"]
["California Human Development Corporation"]
["Calimesa, City of "]
["Calipatria, City of "]
["Calistoga Affordable Housing, Incorporated"]
["Calistoga, City of "]
["Capitola, City of "]
["Carson, City of "]
["Cathedral City, City of"]
["Central Coast Housing"]
["Central Sierra Planning Council"]
["Central Valley Christian Housing Development Corporation (CVC Housing)"]
["Central Valley Coalition for Affordable Housing"]
["Ceres, City of "]
["Chelsea Investment Corporation"]
["Chico, City of "]
["Chino, City of "]
["Chowchilla, City of "]
["Citadel Community Development Corporation"]
["Citrus Heights, City of "]
["Clearlake, City of "]
["Clovis, City of "]
["Coachella Valley Housing Coalition"]
["Coachella, City of "]
["Coalinga, City of "]
["Colusa, City of "]
["Colusa, County of "]
["Community Housing Assistance Program, Inc."]
["Community Housing Improvement Program, Incorporated (CHIP)"]
["Community Housing Improvement Systems and Planning Association, Incorporated (CHISPA)"]
["Community Housing Opportunities Corporation"]
["Community Resource Project"]
["Corcoran, City of"]
["Corning, City of"]
["Corona, City of "]
["Corporation for Better Housing"]
["County of Madera Economic Development Commission"]
["County of San Benito Department of Community Services and Workforce Development"]
["Crescent City, City of"]
["D"]
["Davis, City of "]
["Del Norte, County of "]
["Delano, City of "]
["Dinuba, City of "]
["Dixon, City of "]
["Dorris, City of "]
["Dos Palos, City of "]
["Dunsmuir, City of "]
["E"]
["EAH Housing"]
["Eden Housing"]
["Eden South Bay, Incorporated"]
["El Cajon, City of "]
["El Centro, City of "]
["El Dorado County of Economic Development"]
["El Dorado, County of "]
["Elk Grove, City of "]
["Escondido, City of "]
["Esperanza Housing and Community Development Corporation"]
["Eureka, City of "]
["Exeter, City of "]
["F"]
["Fairfield, City of "]
["Family Apartments"]
["Farmersville, City of "]
["Firebaugh, City of "]
["Ford Street Project"]
["Fort Bragg, City of "]
["Fortuna, City of "]
["Fountain Valley, City of "]
["Fresno Housing Authority"]
["G"]
["Gardena, City of "]
["Glendora, City of "]
["Glenn County Human Resource Agency"]
["Glenn, County of "]
["Golden Empire Affordable Housing, Incorporated"]
["Gonzales, City of "]
["Grass Valley, City of "]
["Great Northern Corporation"]
["Greenfield, City of "]
["Gridley, City of "]
["Grover Beach, City of "]
["H"]
["Habitat for Humanity Monterey Bay"]
["Hanford, City of "]
["Hemet, City of "]
["Hesperia, City of "]
["Hollister, City of "]
["Holtville, City of "]
["Housing Assistance Corporation"]
["Housing Authority of the City and County of Fresno"]
["Housing Authority of the County of Fresno"]
["Housing Authority of the County of Kern"]
["Hughson, City of "]
["Humboldt Bay Housing Development Corporation"]
["Humboldt, County of "]
["Huron, City of "]
["I"]
["Imperial, City of "]
["Imperial, County of "]
["Indio, City of "]
["Inyo, County of "]
["Ione, City of "]
["Irvine, City of "]
["J"]
["Jackson, City of "]
["Jamboree Housing Corporation"]
["K"]
["King City, City of "]
["Kings, County of "]
["L"]
["La Habra, City of "]
["Lake Tahoe AIDS Task Force"]
["Lake, County of "]
["Lakeport, City of "]
["Lakewood, City of "]
["Lancaster, City of "]
["Lassen, County of "]
["Lemoore, City of "]
["LINC Community Development Corporation"]
["Lincoln, City of "]
["Lindsay, City of "]
["Live Oak, City of "]
["Livingston, City of "]
["Lodi, City of "]
["Lompoc, City of "]
["Long Beach, City of "]
["Los Angeles, City of "]
["Los Banos, City of "]
["Loyalton, City of "]
["M"]
["Madera, City of "]
["Madera, County of"]
["Mammoth Lakes, Town of "]
["Mammoth Lakes Housing"]
["Many Mansions, a California nonprofit corporation"]
["Maricopa, City of "]
["Marina, City of "]
["Mariposa, County of"]
["Marysville, City of "]
["McFarland, City of "]
["Mendocino, County of "]
["Mendota, City of "]
["Merced, City of "]
["Merced, County of "]
["Metropolitan Area Advisory Committee"]
["Mid-Peninsula Housing Corporation"]
["Mid-Peninsula, The Farm Incorporated"]
["Milpitas, City of "]
["Mono, County of "]
["Montague, City of "]
["Monterey County Housing, Incorporated"]
["Monterey, City of"]
["Monterey, County of "]
["Moreno Valley Economic Development"]
["Morro Bay, City of "]
["Mount Shasta, City of "]
["Mutual Housing California"]
["N"]
["Napa Valley Community Housing"]
["Napa, City of "]
["Neighborhood Housing Services of the Inland Empire, Incorporated"]
["Neighborhood Partners, LLC"]
["Neighborhood Partnership Housing Services, Inc."]
["Nevada County Housing Development Corporation"]
["Nevada, County of "]
["Newman, City of "]
["North Coast Energy Services, Incorporated"]
["Northern Circle Indian Housing Authority"]
["O"]
["Oakdale, City of "]
["Oakland, City of "]
["Orange County Community Housing Corporation"]
["Orange Cove, City of "]
["Orland, City of "]
["Oroville, City of "]
["P"]
["Pacific Development Corporation, Inc."]
["Pacific Southwest Community Development Corporation"]
["Pacific West Communities, Inc."]
["Pajaro Valley Housing Corporation"]
["Palm Springs, City of "]
["Palmdale, City of "]
["Palo Alto, City of "]
["Paradise, Town of "]
["Parlier, City of "]
["People's Self-Help Housing Corporation"]
["Perris, City of "]
["Petaluma, City of "]
["Pico Rivera, City of "]
["Placer, County of "]
["Placerville, City of "]
["Plymouth, City of "]
["Point Arena, City of "]
["Porterville, City of "]
["R"]
["Rancho Cordova, City of "]
["Red Bluff, City of "]
["Redding, City of "]
["Redlands, City of "]
["Redwood Community Action Agency"]
["Resources for Community Development"]
["Resources for Rural Community Development, Incorporated"]
["Rio Dell, City of "]
["Riverbank, City of "]
["Rocklin, City of"]
["Roseville, City of "]
["Rural California Housing Corporation"]
["Rural Communities Housing Development Corporation"]
["Rural Community Assistance"]
["S"]
["Sacramento Mutual Housing Association"]
["Sacramento, City of "]
["Salinas, City of "]
["San Benito, County of "]
["San Diego, City of "]
["San Diego, County of "]
["San Joaquin, City of "]
["San Jose, City of "]
["San Juan Capistrano, City of "]
["San Luis Obispo, County of "]
["Sand City, City of "]
["Sanger, City of"]
["Santa Clarita, City of "]
["Santa Cruz, City of "]
["Santa Cruz, County of "]
["Satellite Affordable Housing Associates"]
["Scotts Valley, City of "]
["Self-Help Enterprises"]
["Self-Help Home Improvement Project"]
["Shasta Housing Development Corporation"]
["Shasta Lake, City of "]
["Shasta, County of "]
["Sierra, County of "]
["Simi Valley, City of "]
["Siskiyou, County of "]
["Solano, County of "]
["Solar Community Housing Association"]
["Soledad Local Development Corporation"]
["Soledad, City of "]
["South Bay Improvement Association"]
["South County Housing Corporation"]
["South Lake Tahoe, City of "]
["Southern Humboldt Senior Care, Incorporated"]
["St. Helena, City of"]
["Stanislaus, County of"]
["Suisun City, City of "]
["Susanville, City of"]
["Sutter Creek, City of "]
["Sutter, County of "]
["T"]
["Taft, City of "]
["Tehama, County of "]
["The John Stewart Company"]
["The Related Companies of California, LLC"]
["Thousand Oaks, City of "]
["Trinity, County of "]
["Truckee, Town of "]
["Tulare, City of "]
["Tulare, County of "]
["Tuolumne, County of "]
["Turlock, City of "]
["U"]
["Ukiah, City of "]
["United Native Housing Development Corporation"]
["Upland, City of "]
["V"]
["Vacaville, City of "]
["Ventura, County of "]
["Visalia, City of "]
["Visalians Interested in Affordable Housing"]
["Visionary Home Builders of California, Inc."]
["W"]
["Wasco, City of "]
["Waterford, City of "]
["Watsonville, City of "]
["Weed, City of "]
["West Covina, City of "]
["West Sacramento Housing Development Corporation"]
["West Sacramento, City of "]
["Westminster, City of "]
["Westmorland, City of "]
["Wheatland, City of"]
["Williams, City of "]
["Willits, City of"]
["Willows, City of "]
["Winters, City of "]
["Woodlake, City of "]
["Woodland, City of "]
["Y"]
["Yolo, County of "]
["Yountville, Town of "]
["Yuba City, City of "]
["Yuba, County of "]

{"sheet":"Att A","index":1,"n_rows":666,"n_cols":305,"rows_kept":666,"cut":false,"hidden":false,"merged":[[244,137,244,143],[244,144,244,150],[245,88,245,98],[244,88,244,98],[244,99,244,109],[244,110,244,116],[244,117,244,130],[244,131,244,136],[245,99,245,109],[245,110,245,116],[245,117,245,130],[245,131,245,136],[245,137,245,143],[243,131,243,136],[243,137,243,143],[243,144,243,150],[242,137,242,143],[242,144,242,150],[243,88,243,98],[242,88,242,98],[242,99,242,109],[242,110,242,116],[242,117,242,130],[242,131,242,136],[243,99,243,109],[243,110,243,116],[243,117,243,130],[238,131,238,136],[240,137,240,143],[240,144,240,150],[241,88,241,98],[240,88,240,98],[240,99,240,109],[240,110,240,116],[240,117,240,130],[240,131,240,136],[241,99,241,109],[241,110,241,116],[241,117,241,130],[241,131,241,136],[241,137,241,143],[239,99,239,109],[239,110,239,116],[239,117,239,130],[238,99,238,109],[238,110,238,116],[238,117,238,130],[236,137,236,143],[236,144,236,150],[237,88,237,98],[236,88,236,98],[236,99,236,109],[236,110,236,116],[236,117,236,130],[236,131,236,136],[237,99,237,109],[237,110,237,116],[237,117,237,130],[237,131,237,136],[237,137,237,143],[235,131,235,136],[235,137,235,143],[235,144,235,150],[234,137,234,143],[234,144,234,150],[235,88,235,98],[234,88,234,98],[234,99,234,109],[234,110,234,116],[234,117,234,130],[234,131,234,136],[235,99,235,109],[235,110,235,116],[235,117,235,130],[232,137,232,143],[232,144,232,150],[233,88,233,98],[232,88,232,98],[232,99,232,109],[232,110,232,116],[232,117,232,130],[232,131,232,136],[233,99,233,109],[233,110,233,116],[233,117,233,130],[233,131,233,136],[233,137,233,143],[233,144,233,150],[231,131,231,136],[231,137,231,143],[231,144,231,150],[230,137,230,143],[230,144,230,150],[231,88,231,98],[230,88,230,98],[230,99,230,109],[230,110,230,116],[230,117,230,130],[230,131,230,136],[231,110,231,116],[231,117,231,130],[242,57,242,65],[242,66,242,76],[247,25,247,35],[247,36,247,44],[247,45,247,56],[247,57,247,65],[247,66,247,76],[246,25,246,35],[231,99,231,109],[247,99,247,109],[243,25,243,35],[243,36,243,44],[243,45,243,56],[239,88,239,98],[238,88,238,98],[247,88,247,98],[246,88,246,98],[246,99,246,109],[236,66,236,76],[234,36,234,44],[234,45,234,56],[234,57,234,65],[234,66,234,76],[239,25,239,35],[239,36,239,44],[239,45,239,56],[239,57,239,65],[239,66,239,76],[238,25,238,35],[238,36,238,44],[238,45,238,56],[238,57,238,65],[238,66,238,76],[0,45,2,122],[0,167,134,173],[3,62,5,114],[6,62,8,114],[22,82,23,100],[93,130,95,149],[97,4,98,149],[100,3,102,62],[100,63,102,86],[100,87,102,106],[100,107,102,148],[82,88,86,140],[83,4,85,7],[83,8,87,65],[83,67,85,86],[87,104,95,128],[89,4,91,7],[89,8,91,97],[89,130,91,149],[24,3,25,22],[24,38,25,57],[24,82,25,95],[93,4,95,7],[93,8,95,103],[25,176,39,206],[27,4,28,81],[29,4,36,150],[38,9,39,150],[8,183,8,193],[12,28,15,100],[12,107,25,149],[17,3,18,59],[17,62,18,100],[19,3,20,22],[19,62,20,79],[22,3,23,35],[22,38,23,79],[12,3,15,26],[53,189,57,196],[54,176,55,180],[57,176,59,180],[58,4,60,7],[58,8,60,73],[58,88,60,107],[58,109,60,128],[58,130,60,149],[41,3,42,150],[41,176,44,206],[43,88,45,107],[43,109,45,128],[43,130,45,149],[45,12,51,62],[45,63,51,86],[50,89,55,149],[50,176,50,180],[53,18,55,62],[60,176,62,180],[62,4,64,7],[62,8,63,85],[62,88,64,107],[62,109,64,128],[62,130,64,149],[63,176,65,180],[64,8,65,78],[53,63,55,86],[53,176,53,180],[75,176,77,188],[77,4,81,7],[77,8,81,86],[77,88,79,107],[77,109,79,128],[77,130,79,149],[66,4,68,7],[66,8,68,78],[66,88,68,107],[66,109,68,128],[66,130,68,149],[71,4,73,7],[71,8,75,86],[71,88,73,107],[71,109,73,128],[71,130,73,149],[112,8,114,78],[112,88,114,107],[116,4,118,7],[116,8,118,78],[116,88,118,107],[120,4,121,149],[104,4,106,7],[104,8,106,78],[104,88,106,107],[104,111,106,148],[107,111,118,148],[108,4,110,7],[108,8,109,78],[108,88,110,107],[110,8,111,78],[112,4,114,7],[123,4,124,149],[128,8,133,86],[128,4,133,7],[129,110,133,117],[129,119,133,149],[129,89,133,107],[125,89,125,149],[128,87,133,88],[126,108,133,108],[126,118,133,118],[126,109,133,109],[126,89,128,107],[126,110,128,117],[126,119,128,149],[125,4,127,88],[135,2,137,151],[135,167,191,173],[138,2,140,151],[141,2,143,151],[146,4,148,149],[149,4,154,149],[155,4,168,30],[155,31,168,58],[155,59,168,82],[155,83,168,97],[155,98,168,108],[155,109,168,118],[155,119,168,130],[155,131,168,139],[155,140,168,149],[169,4,169,30],[169,31,169,58],[169,59,169,82],[169,83,169,97],[169,98,169,108],[169,109,169,118],[169,119,169,130],[169,131,169,139],[169,140,169,149],[169,197,169,200],[170,4,170,30],[170,31,170,58],[170,59,170,82],[170,83,170,97],[170,98,170,108],[170,109,170,118],[170,119,170,130],[170,131,170,139],[170,140,170,149],[170,197,170,200],[171,197,171,200],[172,4,172,30],[172,31,172,58],[172,59,172,82],[172,83,172,97],[172,98,172,108],[172,109,172,118],[172,119,172,130],[172,131,172,139],[172,140,172,149],[172,197,172,200],[171,4,171,30],[171,31,171,58],[171,59,171,82],[171,83,171,97],[171,98,171,108],[171,109,171,118],[171,119,171,130],[171,131,171,139],[171,140,171,149],[173,197,173,200],[174,4,174,30],[174,31,174,58],[174,59,174,82],[174,83,174,97],[174,98,174,108],[174,109,174,118],[174,119,174,130],[174,131,174,139],[174,140,174,149],[174,197,174,200],[173,4,173,30],[173,31,173,58],[173,59,173,82],[173,83,173,97],[173,98,173,108],[173,109,173,118],[173,119,173,130],[173,131,173,139],[173,140,173,149],[175,197,175,200],[176,4,176,30],[176,31,176,58],[176,59,176,82],[176,83,176,97],[176,98,176,108],[176,109,176,118],[176,119,176,130],[176,131,176,139],[176,140,176,149],[176,197,176,200],[175,4,175,30],[175,31,175,58],[175,59,175,82],[175,83,175,97],[175,98,175,108],[175,109,175,118],[175,119,175,130],[175,131,175,139],[175,140,175,149],[177,197,177,200],[178,4,178,30],[178,31,178,58],[178,59,178,82],[178,83,178,97],[178,98,178,108],[178,109,178,118],[178,119,178,130],[178,131,178,139],[178,140,178,149],[178,197,178,200],[177,4,177,30],[177,31,177,58],[177,59,177,82],[177,83,177,97],[177,98,177,108],[177,109,177,118],[177,119,177,130],[177,131,177,139],[177,140,177,149],[179,197,179,200],[180,4,180,30],[180,31,180,58],[180,59,180,82],[180,83,180,97],[180,98,180,108],[180,109,180,118],[180,119,180,130],[180,131,180,139],[180,140,180,149],[180,197,180,200],[179,4,179,30],[179,31,179,58],[179,59,179,82],[179,83,179,97],[179,98,179,108],[179,109,179,118],[179,119,179,130],[179,131,179,139],[179,140,179,149],[181,197,181,200],[182,4,182,30],[182,31,182,58],[182,59,182,82],[182,83,182,97],[182,98,182,108],[182,109,182,118],[182,119,182,130],[182,131,182,139],[182,140,182,149],[182,197,182,200],[181,4,181,30],[181,31,181,58],[181,59,181,82],[181,83,181,97],[181,98,181,108],[181,109,181,118],[181,119,181,130],[181,131,181,139],[181,140,181,149],[183,4,183,30],[183,31,183,58],[183,59,183,82],[183,83,183,97],[183,98,183,108],[184,197,184,200],[185,4,185,30],[185,31,185,58],[185,59,185,82],[185,83,185,97],[185,98,185,108],[183,109,183,118],[183,119,183,130],[183,131,183,139],[183,140,183,149],[183,197,183,200],[184,4,184,30],[184,31,184,58],[184,59,184,82],[184,83,184,97],[184,98,184,108],[186,4,186,30],[186,31,186,58],[186,59,186,82],[186,83,186,97],[186,98,186,108],[184,109,184,118],[184,119,184,130],[184,131,184,139],[184,140,184,149],[186,109,186,118],[186,119,186,130],[186,140,186,149],[186,131,186,139],[186,197,186,200],[187,119,189,130],[185,109,185,118],[185,119,185,130],[185,131,185,139],[185,140,185,149],[185,197,185,200],[192,167,248,173],[193,2,195,151],[196,2,198,151],[199,2,201,151],[203,3,205,150],[206,3,213,150],[215,3,229,24],[215,25,229,35],[215,36,229,44],[215,45,229,56],[215,57,220,87],[215,88,218,143],[215,144,229,150],[219,88,229,98],[219,99,229,109],[219,110,222,130],[219,131,222,143],[221,57,229,65],[221,66,229,76],[221,77,229,87],[223,110,229,116],[223,117,229,130],[223,131,229,136],[223,137,229,143],[230,3,230,24],[230,25,230,35],[230,36,230,44],[230,45,230,56],[230,57,230,65],[230,66,230,76],[231,3,231,24],[231,77,231,87],[230,77,230,87],[231,25,231,35],[231,36,231,44],[233,3,233,24],[233,77,233,87],[232,77,232,87],[232,3,232,24],[231,45,231,56],[231,57,231,65],[231,66,231,76],[233,25,233,35],[233,36,233,44],[233,45,233,56],[233,57,233,65],[233,66,233,76],[232,25,232,35],[232,36,232,44],[232,45,232,56],[232,57,232,65],[232,66,232,76],[235,3,235,24],[235,77,235,87],[234,77,234,87],[234,3,234,24],[237,3,237,24],[237,77,237,87],[236,77,236,87],[236,3,236,24],[237,144,237,150],[235,25,235,35],[235,36,235,44],[235,45,235,56],[235,57,235,65],[235,66,235,76],[234,25,234,35],[237,25,237,35],[237,36,237,44],[237,45,237,56],[237,57,237,65],[237,66,237,76],[236,25,236,35],[236,36,236,44],[236,45,236,56],[236,57,236,65],[239,3,239,24],[239,77,239,87],[238,77,238,87],[238,3,238,24],[241,3,241,24],[241,77,241,87],[240,77,240,87],[240,3,240,24],[241,144,241,150],[241,25,241,35],[241,36,241,44],[241,45,241,56],[241,57,241,65],[241,66,241,76],[240,25,240,35],[240,36,240,44],[240,45,240,56],[240,57,240,65],[240,66,240,76],[239,131,239,136],[239,137,239,143],[239,144,239,150],[238,137,238,143],[238,144,238,150],[243,3,243,24],[243,77,243,87],[242,77,242,87],[242,3,242,24],[245,3,245,24],[245,77,245,87],[244,77,244,87],[244,3,244,24],[245,144,245,150],[243,57,243,65],[243,66,243,76],[242,25,242,35],[245,25,245,35],[245,36,245,44],[245,45,245,56],[245,57,245,65],[245,66,245,76],[244,25,244,35],[244,36,244,44],[244,45,244,56],[244,57,244,65],[244,66,244,76],[242,36,242,44],[242,45,242,56],[247,3,247,24],[247,77,247,87],[246,77,246,87],[246,3,246,24],[278,8,280,149],[247,110,247,116],[247,117,247,130],[247,131,247,136],[247,137,247,143],[247,144,247,150],[246,137,246,143],[246,144,246,150],[246,110,246,116],[246,117,246,130],[246,131,246,136],[249,167,357,173],[250,2,252,151],[253,2,255,151],[256,2,258,151],[261,4,263,149],[265,4,266,12],[267,4,269,113],[270,4,272,70],[274,4,276,149],[278,4,280,7],[299,4,301,7],[299,8,301,106],[302,4,304,7],[302,8,304,106],[306,4,308,149],[310,4,312,7],[310,8,312,134],[290,4,292,7],[339,3,341,123],[454,2,460,151],[290,8,292,104],[293,4,295,7],[293,8,295,118],[296,4,298,7],[296,8,298,97],[323,4,325,149],[327,3,328,62],[330,3,332,58],[333,3,335,104],[398,4,400,111],[401,4,403,85],[404,4,406,84],[407,4,409,82],[358,167,414,173],[362,2,364,151],[365,2,367,151],[370,4,372,149],[374,4,376,149],[377,4,379,149],[380,15,382,71],[383,4,385,85],[386,4,388,85],[389,4,391,149],[358,2,361,151],[187,4,190,117],[392,4,394,80],[395,4,397,110],[342,3,344,123],[345,3,347,138],[348,3,350,111],[351,3,353,109],[354,3,356,116],[336,3,338,105],[313,4,315,7],[313,8,315,123],[316,4,318,7],[316,8,318,99],[319,4,321,7],[319,8,321,118],[281,8,283,44],[284,4,286,7],[284,8,286,114],[287,4,289,7],[287,8,289,104],[246,36,246,44],[246,45,246,56],[246,57,246,65],[246,66,246,76]]}
[null,null,null,null,null,null,null,null,null,null,null,null,null,null,null,null,null,null,null,null,null,null,null,null,null,null,null,null,null,null,null,null,null,null,null,null,null,null,null,null,null,null,null,null,null,"Attachment A - Program Income and Recaptured Funds",null,null,null,null,null,null,null,null,null,null,null,null,null,null,null,null,null,null,null,null,null,null,null,null,null,null,null,null,null,null,null,null,null,null,null,null,null,null,null,null,null,null,null,null,null,null,null,null,null,null,null,null,null,null,null,null,null,null,null,null,null,null,null,null,null,null,null,null,null,null,null,null,null,null,null,null,null,null,null,null,null,null,null,null,null,null,null,null,null,null,null,null,null,null,null,null,null,null,null,null,null,null,null,null,null,null,null,null,null,null,null,null,null,null,null,null,null,null,null,null,null,"PAGE 1"]
[]
[]
[null,null,null,null,null,null,null,null,null,null,null,null,null,null,null,null,null,null,null,null,null,null,null,null,null,null,null,null,null,null,null,null,null,null,null,null,null,null,null,null,null,null,null,null,null,null,null,null,null,null,null,null,null,null,null,null,null,null,null,null,null,null,"HOME Annual Performance Report"]
[]
[]
[null,null,null,null,null,null,null,null,null,null,null,null,null,null,null,null,null,null,null,null,null,null,null,null,null,null,null,null,null,null,null,null,null,null,null,null,null,null,null,null,null,null,null,null,null,null,null,null,null,null,null,null,null,null,null,null,null,null,null,null,null,null,"Reporting Period July 1, 2023 through June 30, 2024"]
[]
[]
[]
[]
[]
[null,null,null,"HOME Recipient Name",null,null,null,null,null,null,null,null,null,null,null,null,null,null,null,null,null,null,null,null,null,null,null,null,{"$f":"IF(Matrix!E25=0,\"\",Matrix!E25)","v":"Select Option"},null,null,null,null,null,null,null,null,null,null,null,null,null,null,null,null,null,null,null,null,null,null,null,null,null,null,null,null,null,null,null,null,null,null,null,null,null,null,null,null,null,null,null,null,null,null,null,null,null,null,null,null,null,null,null,null,null,null,null,null,null,null,null,null,null,null,null,null,null,null,null,null,null,null,null,null,null,null,{"$f":"IF(OR(ISBLANK(BL46),ISBLANK(CK59),ISBLANK(DF59)+ISBLANK(CK63)+ISBLANK(DF63)+ISBLANK(CK72)+ISBLANK(DF72)+ISBLANK(CK78)+ISBLANK(DF78)+ISBLANK(BP84)+ISBLANK(BL101)+ISBLANK(CK105)+ISBLANK(CK113)+ISBLANK(CL127)+ISBLANK(DG127)), \"Please do not leave any blank entries on page 1.  Please enter data in all blank fields (yellow fields).  Enter zeros where applicable.\", \"\")","v":"Please do not leave any blank entries on page 1.  Please enter data in all blank fields (yellow fields).  Enter zeros where applicable."}]
[]
[]
[]
[]
[null,null,null,{"$f":"IF(Matrix!GY43=2,Matrix!CT25,\"\")","v":""},null,null,null,null,null,null,null,null,null,null,null,null,null,null,null,null,null,null,null,null,null,null,null,null,null,null,null,null,null,null,null,null,null,null,null,null,null,null,null,null,null,null,null,null,null,null,null,null,null,null,null,null,null,null,null,null,null,null,{"$f":"IF(Matrix!GY43=2,Matrix!ET25,\"\")","v":""}]
[]
[null,null,null,"Preparer's Name",null,null,null,null,null,null,null,null,null,null,null,null,null,null,null,null,null,null,null,null,null,null,null,null,null,null,null,null,null,null,null,null,null,null,null,null,null,null,null,null,null,null,null,null,null,null,null,null,null,null,null,null,null,null,null,null,null,null,"Organization"]
[]
[]
[null,null,null,{"$f":"IF(Matrix!GY43=2,Matrix!CT35,\"\")","v":""},null,null,null,null,null,null,null,null,null,null,null,null,null,null,null,null,null,null,null,null,null,null,null,null,null,null,null,null,null,null,null,null,null,null,{"$f":"IF(Matrix!GY43=2,Matrix!ET35,\"\")","v":""}]
[]
[null,null,null,"Phone",null,null,null,null,null,null,null,null,null,null,null,null,null,null,null,null,null,null,null,null,null,null,null,null,null,null,null,null,null,null,null,null,null,null,"Email",null,null,null,null,null,null,null,null,null,null,null,null,null,null,null,null,null,null,null,null,null,null,null,null,null,null,null,null,null,null,null,null,null,null,null,null,null,null,null,null,null,null,null,"Date"]
[null,null,null,null,null,null,null,null,null,null,null,null,null,null,null,null,null,null,null,null,null,null,null,null,null,null,null,null,null,null,null,null,null,null,null,null,null,null,null,null,null,null,null,null,null,null,null,null,null,null,null,null,null,null,null,null,null,null,null,null,null,null,null,null,null,null,null,null,null,null,null,null,null,null,null,null,null,null,null,null,null,null,null,null,null,null,null,null,null,null,null,null,null,null,null,null,null,null,null,null,null,null,null,null,null,null,null,null,null,null,null,null,null,null,null,null,null,null,null,null,null,null,null,null,null,null,null,null,null,null,null,null,null,null,null,null,null,null,null,null,null,null,null,null,null,null,null,null,null,null,null,null,null,null,null,null,null,null,null,null,null,null,null,null,null,null,null,null,null,null,null,null,null,null,null,null,"If you report a negative balance at any time,                                                                        you must attach a PI ledger to this report."]
[]
[null,null,null,null,"Provide information for all Program Income and Recaptured Funds:"]
[]
[null,null,null,null,"HOME Recipients are required to differentiate between Program Income (PI) and Recaptured Funds (RF) due to the fact that 10% of PI can be used for administrative costs, whereas RF cannot be used for administrative costs.  Additionally, the accounting of PI and RF should be separate from Admin PI Funds.                                                                                                                                                                                                                     NOTE:    Do not leave any blanks (yellow fields) on page 1 (enter zeros where applicable).  Reporting negative PI or PI Admin is not permissable."]
[]
[]
[]
[]
[]
[]
[]
[]
[null,null,null,null,null,null,null,null,null,"By checking this box, the HOME Recipient is certifying that they have no beginning PI/RF balance, have not received PI/RF,  have no PI/RF expenditures, and do not anticipate receving any PI/RF.  (Blank fields on page 1 will auto-populate with zeros.)"]
[]
[]
[null,null,null,"Program Income/Recaptured Funds Summary",null,null,null,null,null,null,null,null,null,null,null,null,null,null,null,null,null,null,null,null,null,null,null,null,null,null,null,null,null,null,null,null,null,null,null,null,null,null,null,null,null,null,null,null,null,null,null,null,null,null,null,null,null,null,null,null,null,null,null,null,null,null,null,null,null,null,null,null,null,null,null,null,null,null,null,null,null,null,null,null,null,null,null,null,null,null,null,null,null,null,null,null,null,null,null,null,null,null,null,null,null,null,null,null,null,null,null,null,null,null,null,null,null,null,null,null,null,null,null,null,null,null,null,null,null,null,null,null,null,null,null,null,null,null,null,null,null,null,null,null,null,null,null,null,null,null,null,null,null,null,null,null,null,null,null,null,null,null,null,null,null,null,null,null,null,null,null,null,null,null,null,null,"Amount retained for Admnistrative Funds cannot exceed 10% of P.I. received during the period."]
[]
[null,null,null,null,null,null,null,null,null,null,null,null,null,null,null,null,null,null,null,null,null,null,null,null,null,null,null,null,null,null,null,null,null,null,null,null,null,null,null,null,null,null,null,null,null,null,null,null,null,null,null,null,null,null,null,null,null,null,null,null,null,null,null,null,null,null,null,null,null,null,null,null,null,null,null,null,null,null,null,null,null,null,null,null,null,null,null,null,"Program Income",null,null,null,null,null,null,null,null,null,null,null,null,null,null,null,null,null,null,null,null,"Recaptured Funds",null,null,null,null,null,null,null,null,null,null,null,null,null,null,null,null,null,null,null,null,"Total"]
[]
[null,null,null,null,null,null,null,null,null,null,null,null,"Ending balance from 2022-23 APR, Attachment A (Line 8)"]
[]
[]
[]
[null,null,null,null,null,null,null,null,null,null,null,null,null,null,null,null,null,null,null,null,null,null,null,null,null,null,null,null,null,null,null,null,null,null,null,null,null,null,null,null,null,null,null,null,null,null,null,null,null,null,null,null,null,null,null,null,null,null,null,null,null,null,null,null,null,null,null,null,null,null,null,null,null,null,null,null,null,null,null,null,null,null,null,null,null,null,null,null,null,null,null,null,null,null,null,null,null,null,null,null,null,null,null,null,null,null,null,null,null,null,null,null,null,null,null,null,null,null,null,null,null,null,null,null,null,null,null,null,null,null,null,null,null,null,null,null,null,null,null,null,null,null,null,null,null,null,null,null,null,null,null,null,null,null,null,null,null,null,null,null,null,null,null,null,null,null,null,null,null,null,null,null,null,null,null,null,{"$f":"IF(CK59=0,\"\",FU26)","v":""}]
[null,null,null,null,null,null,null,null,null,null,null,null,null,null,null,null,null,null,null,null,null,null,null,null,null,null,null,null,null,null,null,null,null,null,null,null,null,null,null,null,null,null,null,null,null,null,null,null,null,null,null,null,null,null,null,null,null,null,null,null,null,null,null,null,null,null,null,null,null,null,null,null,null,null,null,null,null,null,null,null,null,null,null,null,null,null,null,null,null,{"$f":"IF(BL46<>EA59,\"Total beginning balance must match ending balance from last APR Attachment A.  If last year's ending balance was incorrect, please make adjusting entries on lines 2 or 4 below to get the correct ending balance on line 8, and explain in Comments box below.\",\"\")","v":""},null,null,null,null,null,null,null,null,null,null,null,null,null,null,null,null,null,null,null,null,null,null,null,null,null,null,null,null,null,null,null,null,null,null,null,null,null,null,null,null,null,null,null,null,null,null,null,null,null,null,null,null,null,null,null,null,null,null,null,null,null,null,null,null,null,null,null,null,null,null,null,null,null,null,null,null,null,null,null,null,null,null,null,null,null,null,{"$f":"IF(DF59<0,1,0)","v":0}]
[]
[]
[null,null,null,null,null,null,null,null,null,null,null,null,null,null,null,null,null,null,"or check box if 2022-23 APR was not submitted to HCD",null,null,null,null,null,null,null,null,null,null,null,null,null,null,null,null,null,null,null,null,null,null,null,null,null,null,null,null,null,null,null,null,null,null,null,null,null,null,null,null,null,null,null,null,"Not Submitted",null,null,null,null,null,null,null,null,null,null,null,null,null,null,null,null,null,null,null,null,null,null,null,null,null,null,null,null,null,null,null,null,null,null,null,null,null,null,null,null,null,null,null,null,null,null,null,null,null,null,null,null,null,null,null,null,null,null,null,null,null,null,null,null,null,null,null,null,null,null,null,null,null,null,null,null,null,null,null,null,null,null,null,null,null,null,null,null,null,null,null,null,null,null,null,null,null,null,null,null,null,null,null,null,null,null,null,null,null,null,null,null,{"$f":"IF(EA59<0,1,0)","v":0},null,null,null,null,null,null,null,null,null,null,null,null,false]
[]
[]
[]
[]
[null,null,null,null,"1.",null,null,null,"Beginning balance (balance from prior FY):",null,null,null,null,null,null,null,null,null,null,null,null,null,null,null,null,null,null,null,null,null,null,null,null,null,null,null,null,null,null,null,null,null,null,null,null,null,null,null,null,null,null,null,null,null,null,null,null,null,null,null,null,null,null,null,null,null,null,null,null,null,null,null,null,null,null,null,null,null,null,null,null,null,null,null,null,null,null,null,null,null,null,null,null,null,null,null,null,null,null,null,null,null,null,null,null,null,null,null,null,null,null,null,null,null,null,null,null,null,null,null,null,null,null,null,null,null,null,null,null,null,{"$f":"DF59+(CK59)","v":0}]
[]
[null,null,null,null,null,null,null,null,null,null,null,null,null,null,null,null,null,null,null,null,null,null,null,null,null,null,null,null,null,null,null,null,null,null,null,null,null,null,null,null,null,null,null,null,null,null,null,null,null,null,null,null,null,null,null,null,null,null,null,null,null,null,null,null,null,null,null,null,null,null,null,null,null,null,0]
[]
[null,null,null,null,"2.",null,null,null,"Amount received during reporting period July 1, 2023 through June 30, 2024:",null,null,null,null,null,null,null,null,null,null,null,null,null,null,null,null,null,null,null,null,null,null,null,null,null,null,null,null,null,null,null,null,null,null,null,null,null,null,null,null,null,null,null,null,null,null,null,null,null,null,null,null,null,null,null,null,null,null,null,null,null,null,null,null,null,null,null,null,null,null,null,null,null,null,null,null,null,null,null,null,null,null,null,null,null,null,null,null,null,null,null,null,null,null,null,null,null,null,null,null,null,null,null,null,null,null,null,null,null,null,null,null,null,null,null,null,null,null,null,null,null,{"$f":"DF63+CK63","v":0}]
[null,null,null,null,null,null,null,null,null,null,null,null,null,null,null,null,null,null,null,null,null,null,null,null,null,null,null,null,null,null,null,null,null,null,null,null,null,null,null,null,null,null,null,null,null,null,null,null,null,null,null,null,null,null,null,null,null,null,null,null,null,null,null,null,null,null,null,null,null,null,null,null,null,null,null,null,null,null,null,null,null,null,null,null,null,null,null,null,null,null,null,null,null,null,null,null,null,null,null,null,null,null,null,null,null,null,null,null,null,null,null,null,null,null,null,null,null,null,null,null,null,null,null,null,null,null,null,null,null,null,null,null,null,null,null,null,null,null,null,null,null,null,null,null,null,null,null,null,null,null,null,null,null,null,null,null,null,null,null,null,null,null,null,null,null,null,null,null,null,null,null,null,null,null,null,null,{"$f":"SUM(FU51:FY63)","v":0}]
[null,null,null,null,null,null,null,null,"(Include interest earned on PI, RF and PI Admin funds)"]
[]
[null,null,null,null,"3.",null,null,null,"Total Available for reporting period July 1, 2023 through June 30, 2024:",null,null,null,null,null,null,null,null,null,null,null,null,null,null,null,null,null,null,null,null,null,null,null,null,null,null,null,null,null,null,null,null,null,null,null,null,null,null,null,null,null,null,null,null,null,null,null,null,null,null,null,null,null,null,null,null,null,null,null,null,null,null,null,null,null,null,null,null,null,null,null,null,null,null,null,null,null,null,null,{"$f":"CK59+CK63","v":0},null,null,null,null,null,null,null,null,null,null,null,null,null,null,null,null,null,null,null,null,{"$f":"DF59+DF63","v":0},null,null,null,null,null,null,null,null,null,null,null,null,null,null,null,null,null,null,null,null,{"$f":"EA59+EA63","v":0}]
[]
[]
[]
[]
[null,null,null,null,"4.",null,null,null,"Amount Disbursed for units also funded with HOME funds drawn down from HCD:                                 (Do not list these projects on page 2) ",null,null,null,null,null,null,null,null,null,null,null,null,null,null,null,null,null,null,null,null,null,null,null,null,null,null,null,null,null,null,null,null,null,null,null,null,null,null,null,null,null,null,null,null,null,null,null,null,null,null,null,null,null,null,null,null,null,null,null,null,null,null,null,null,null,null,null,null,null,null,null,null,null,null,null,null,null,null,null,null,null,null,null,null,null,null,null,null,null,null,null,null,null,null,null,null,null,null,null,null,null,null,null,null,null,null,null,null,null,null,null,null,null,null,null,null,null,null,null,null,null,{"$f":"DF72+CK72","v":0}]
[]
[]
[]
[null,null,null,null,null,null,null,null,null,null,null,null,null,null,null,null,null,null,null,null,null,null,null,null,null,null,null,null,null,null,null,null,null,null,null,null,null,null,null,null,null,null,null,null,null,null,null,null,null,null,null,null,null,null,null,null,null,null,null,null,null,null,null,null,null,null,null,null,null,null,null,null,null,null,null,null,null,null,null,null,null,null,null,null,null,null,null,null,null,null,null,null,null,null,null,null,null,null,null,null,null,null,null,null,null,null,null,null,null,null,null,null,null,null,null,null,null,null,null,null,null,null,null,null,null,null,null,null,null,null,null,null,null,null,null,null,null,null,null,null,null,null,null,null,null,null,null,null,null,null,null,null,null,null,null,null,null,null,null,null,null,null,null,null,null,null,null,null,null,null,null,null,null,null,null,null,{"$f":"CK63*0.1","v":0}]
[]
[null,null,null,null,"5.",null,null,null,"Amount Disbursed for units assisted with HOME Program Income or Recaptured Funds, but not with HOME funds drawn down from HCD (list each project on page 2):",null,null,null,null,null,null,null,null,null,null,null,null,null,null,null,null,null,null,null,null,null,null,null,null,null,null,null,null,null,null,null,null,null,null,null,null,null,null,null,null,null,null,null,null,null,null,null,null,null,null,null,null,null,null,null,null,null,null,null,null,null,null,null,null,null,null,null,null,null,null,null,null,null,null,null,null,null,null,null,null,null,null,null,null,null,null,null,null,null,null,null,null,null,null,null,null,null,null,null,null,null,null,null,null,null,null,null,null,null,null,null,null,null,null,null,null,null,null,null,null,null,{"$f":"DF78+CK78","v":0}]
[]
[]
[]
[]
[null,null,null,null,null,null,null,null,null,null,null,null,null,null,null,null,null,null,null,null,null,null,null,null,null,null,null,null,null,null,null,null,null,null,null,null,null,null,null,null,null,null,null,null,null,null,null,null,null,null,null,null,null,null,null,null,null,null,null,null,null,null,null,null,null,null,null,null,null,null,null,null,null,null,null,null,null,null,null,null,null,null,null,null,null,null,null,null,{"$f":"IF(BP84>(ROUND(CK63*0.1,0)),FU42,\"\")","v":""}]
[null,null,null,null,"6.",null,null,null,"Amount Retained for Administrative Funds:                                                                   (No more than 10% of received PI)"]
[]
[]
[]
[null,null,null,null,null,null,null,null,null,null,null,null,null,null,null,null,null,null,null,null,null,null,null,null,null,null,null,null,null,null,null,null,null,null,null,null,null,null,null,null,null,null,null,null,null,null,null,null,null,null,null,null,null,null,null,null,null,null,null,null,null,null,null,null,null,null,null,null,null,null,null,null,null,null,null,null,null,null,null,null,null,null,null,null,null,null,null,null,null,null,null,null,null,null,null,null,null,null,null,null,null,null,null,null,{"$f":"IF(EA94<0,\"Do not report a negative ending balance (line 8).\",\"\")","v":""}]
[]
[null,null,null,null,"7.",null,null,null,"Total Program Income/Recaptured Funds expended by the end of the reporting period:",null,null,null,null,null,null,null,null,null,null,null,null,null,null,null,null,null,null,null,null,null,null,null,null,null,null,null,null,null,null,null,null,null,null,null,null,null,null,null,null,null,null,null,null,null,null,null,null,null,null,null,null,null,null,null,null,null,null,null,null,null,null,null,null,null,null,null,null,null,null,null,null,null,null,null,null,null,null,null,null,null,null,null,null,null,null,null,null,null,null,null,null,null,null,null,null,null,null,null,null,null,null,null,null,null,null,null,null,null,null,null,null,null,null,null,null,null,null,null,null,null,{"$f":"EA72+EA78","v":0}]
[]
[]
[]
[null,null,null,null,"8.",null,null,null,"Balance of Program Income/Recaptured Funds in local account at the end of the reporting period:",null,null,null,null,null,null,null,null,null,null,null,null,null,null,null,null,null,null,null,null,null,null,null,null,null,null,null,null,null,null,null,null,null,null,null,null,null,null,null,null,null,null,null,null,null,null,null,null,null,null,null,null,null,null,null,null,null,null,null,null,null,null,null,null,null,null,null,null,null,null,null,null,null,null,null,null,null,null,null,null,null,null,null,null,null,null,null,null,null,null,null,null,null,null,null,null,null,null,null,null,null,null,null,null,null,null,null,null,null,null,null,null,null,null,null,null,null,null,null,null,null,{"$f":"EA67-EA72-EA78-BP84","v":0}]
[]
[]
[]
[null,null,null,null,"Program Income Administrative Funds Summary"]
[]
[]
[null,null,null,"Ending balance from 2022-23 APR, Attachment A (Line d)",null,null,null,null,null,null,null,null,null,null,null,null,null,null,null,null,null,null,null,null,null,null,null,null,null,null,null,null,null,null,null,null,null,null,null,null,null,null,null,null,null,null,null,null,null,null,null,null,null,null,null,null,null,null,null,null,null,null,null,null,null,null,null,null,null,null,null,null,null,null,null,null,null,null,null,null,null,null,null,null,null,null,null,{"$f":"IF(GH54=TRUE,BL54,\"\")","v":""},null,null,null,null,null,null,null,null,null,null,null,null,null,null,null,null,null,null,null,{"$f":"IF(BL101<>CK105,\"Beginning balance must match ending balance from last APR (Line d)\",\"\")","v":""}]
[]
[]
[]
[null,null,null,null,"a.",null,null,null,"Amount of PI Administrative Funds Beginning Balance:",null,null,null,null,null,null,null,null,null,null,null,null,null,null,null,null,null,null,null,null,null,null,null,null,null,null,null,null,null,null,null,null,null,null,null,null,null,null,null,null,null,null,null,null,null,null,null,null,null,null,null,null,null,null,null,null,null,null,null,null,null,null,null,null,null,null,null,null,null,null,null,null,null,null,null,null,null,null,null,null,null,null,null,null,null,null,null,null,null,null,null,null,null,null,null,null,null,null,null,null,null,null,"Comments/Explanations:"]
[]
[]
[]
[null,null,null,null,"b.",null,null,null,"Amount of PI Administrative Funds Received this reporting period:",null,null,null,null,null,null,null,null,null,null,null,null,null,null,null,null,null,null,null,null,null,null,null,null,null,null,null,null,null,null,null,null,null,null,null,null,null,null,null,null,null,null,null,null,null,null,null,null,null,null,null,null,null,null,null,null,null,null,null,null,null,null,null,null,null,null,null,null,null,null,null,null,null,null,null,null,null,null,null,{"$f":"BP84","v":0}]
[]
[]
[]
[null,null,null,null,"c.",null,null,null,"Amount of PI Administrative Funds Expended this reporting period:",null,null,null,null,null,null,null,null,null,null,null,null,null,null,null,null,null,null,null,null,null,null,null,null,null,null,null,null,null,null,null,null,null,null,null,null,null,null,null,null,null,null,null,null,null,null,null,null,null,null,null,null,null,null,null,null,null,null,null,null,null,null,null,null,null,null,null,null,null,null,null,null,null,null,null,null,null,null,null,0]
[]
[]
[]
[null,null,null,null,"d.",null,null,null,"Balance of PI Administrative Funds Available:",null,null,null,null,null,null,null,null,null,null,null,null,null,null,null,null,null,null,null,null,null,null,null,null,null,null,null,null,null,null,null,null,null,null,null,null,null,null,null,null,null,null,null,null,null,null,null,null,null,null,null,null,null,null,null,null,null,null,null,null,null,null,null,null,null,null,null,null,null,null,null,null,null,null,null,null,null,null,null,{"$f":"CK105+CK109-CK113","v":0}]
[]
[]
[]
[null,null,null,null,"Anticipated Program Income/Recaptured Funds (2024/2025)"]
[]
[]
[null,null,null,null,"Per 24 CFR 91.220 and 91.320 HOME Recipients are required to report  PI/RF funds anticipated to be received during the next reporting period (July 1, 2024 through June 30, 2025)."]
[]
[null,null,null,null,"IMPORTANT! Submit with APR a Project Setup/Completion Report and Project Drawdown Request for each PI-only project, and an Administrative Funds Drawdown Request for line c. Administrative Funds expenditures, or else evidence of prior submittal to your HOME Representative."]
[null,null,null,null,null,null,null,null,null,null,null,null,null,null,null,null,null,null,null,null,null,null,null,null,null,null,null,null,null,null,null,null,null,null,null,null,null,null,null,null,null,null,null,null,null,null,null,null,null,null,null,null,null,null,null,null,null,null,null,null,null,null,null,null,null,null,null,null,null,null,null,null,null,null,null,null,null,null,null,null,null,null,null,null,null,null,null,null,null,"Total anticipated HOME PI/RF receipts?",null,null,null,null,null,null,null,null,null,null,null,null,null,null,null,null,null,null,null,null,"Total # of Units?",null,null,null,null,null,null,null,null,"Anticipated PI-only HOME Activities                                                                      (FTHB, OOR, TBRA, Multifamily Projects)"]
[]
[null,null,null,null,"9.",null,null,null,"Anticipated PI/RF amount received, total # of units, and types of HOME activites using only HOME PI/RF during the next reporting period, July 1, 2024 - June 30, 2025:"]
[]
[]
[]
[]
[]
[]
[null,null,{"$f":"AT1","v":"Attachment A - Program Income and Recaptured Funds"},null,null,null,null,null,null,null,null,null,null,null,null,null,null,null,null,null,null,null,null,null,null,null,null,null,null,null,null,null,null,null,null,null,null,null,null,null,null,null,null,null,null,null,null,null,null,null,null,null,null,null,null,null,null,null,null,null,null,null,null,null,null,null,null,null,null,null,null,null,null,null,null,null,null,null,null,null,null,null,null,null,null,null,null,null,null,null,null,null,null,null,null,null,null,null,null,null,null,null,null,null,null,null,null,null,null,null,null,null,null,null,null,null,null,null,null,null,null,null,null,null,null,null,null,null,null,null,null,null,null,null,null,null,null,null,null,null,null,null,null,null,null,null,null,null,null,null,null,null,null,null,null,null,null,null,null,null,null,null,null,null,null,null,null,"PAGE 2"]
[]
[]
[null,null,{"$f":"BK4","v":"HOME Annual Performance Report"}]
[]
[]
[null,null,{"$f":"BK7","v":"Reporting Period July 1, 2023 through June 30, 2024"}]
[]
[]
[]
[]
[null,null,null,null,"Chart 1 -  Projects funded with HOME Program Income (PI) / Recaptured Funds (RF) Only  (Do not include projects with HOME funds drawn down from HCD)"]
[]
[]
[null,null,null,null,"Note:  Yellow fields are required; blue fields will automatically populate.  Click on the \"Project Completed\" box 9 and a \"yes\" or \"no\" drop-down box will appear.   Any \"yes\" response will automatically populate the project address on the next page, on Chart 2, and that chart must be completed.  IMPORTANT: Submit a HOME Project Setup/Completion Report  and signed HOME Project Drawdown Request for each project, or attach evidence of prior submittal to HOME Program Representative."]
[]
[]
[]
[]
[]
[null,null,null,null,"1.                                               Owner or Project Name (enter one household per line, regardless of Activity)",null,null,null,null,null,null,null,null,null,null,null,null,null,null,null,null,null,null,null,null,null,null,null,null,null,null,"2.                                                             Address of Project Location",null,null,null,null,null,null,null,null,null,null,null,null,null,null,null,null,null,null,null,null,null,null,null,null,null,null,null,"3.                                                                Activity                                 (Choose activity)",null,null,null,null,null,null,null,null,null,null,null,null,null,null,null,null,null,null,null,null,null,null,null,"4.                                      Were Program Guidelines approved by HCD?",null,null,null,null,null,null,null,null,null,null,null,null,null,null,"5.                                    Amount of Activity Funds (PI & RF) Expended this Reporting Period",null,null,null,null,null,null,null,null,null,null,"6.                                           Amount of Activity Delivery Costs, PI & RF Expended this Reporting Period",null,null,null,null,null,null,null,null,null,"7.                             Total Expenditures",null,null,null,null,null,null,null,null,null,null,null,"8.                               # of HOME-Assisted Units",null,null,null,null,null,null,null,null,"9.                                         Is the Project Completed?"]
[]
[]
[null,null,null,null,null,null,null,null,null,null,null,null,null,null,null,null,null,null,null,null,null,null,null,null,null,null,null,null,null,null,null,null,null,null,null,null,null,null,null,null,null,null,null,null,null,null,null,null,null,null,null,null,null,null,null,null,null,null,null,null,null,null,null,null,null,null,null,null,null,null,null,null,null,null,null,null,null,null,null,null,null,null,null,null,null,null,null,null,null,null,null,null,null,null,null,null,null,null,null,null,null,null,null,null,null,null,null,null,null,null,null,null,null,null,null,null,null,null,null,null,null,null,null,null,null,null,null,null,null,null,null,null,null,null,null,null,null,null,null,null,null,null,null,null,null,null,null,null,null,null,null,null,null,null,null,null,null,null,null,null,null,null,null,null,null,null,null,null,null,null,null,null,null,null,null,null,"Yes"]
[null,null,null,null,null,null,null,null,null,null,null,null,null,null,null,null,null,null,null,null,null,null,null,null,null,null,null,null,null,null,null,null,null,null,null,null,null,null,null,null,null,null,null,null,null,null,null,null,null,null,null,null,null,null,null,null,null,null,null,null,null,null,null,null,null,null,null,null,null,null,null,null,null,null,null,null,null,null,null,null,null,null,null,null,null,null,null,null,null,null,null,null,null,null,null,null,null,null,null,null,null,null,null,null,null,null,null,null,null,null,null,null,null,null,null,null,null,null,null,null,null,null,null,null,null,null,null,null,null,null,null,null,null,null,null,null,null,null,null,null,null,null,null,null,null,null,null,null,null,null,null,null,null,null,null,null,null,null,null,null,null,null,null,null,null,null,null,null,null,null,null,null,null,null,null,null,"No"]
[]
[]
[]
[]
[null,null,null,null,null,null,null,null,null,null,null,null,null,null,null,null,null,null,null,null,null,null,null,null,null,null,null,null,null,null,null,null,null,null,null,null,null,null,null,null,null,null,null,null,null,null,null,null,null,null,null,null,null,null,null,null,null,null,null,null,null,null,null,null,null,null,null,null,null,null,null,null,null,null,null,null,null,null,null,null,null,null,null,null,null,null,null,null,null,null,null,null,null,null,null,null,null,null,null,null,null,null,null,null,null,null,null,null,null,null,null,null,null,null,null,null,null,null,null,null,null,null,null,null,null,null,null,null,null,null,null,null,null,null,null,null,null,null,null,null,null,null,null,null,null,null,null,null,null,null,null,null,null,null,null,null,null,null,null,null,null,null,null,null,null,null,null,null,null,null,null,null,null,null,null,null,null,null,null,null,null,null,null,null,null,null,1]
[]
[]
[]
[null,null,null,null,null,null,null,null,null,null,null,null,null,null,null,null,null,null,null,null,null,null,null,null,null,null,null,null,null,null,null,null,null,null,null,null,null,null,null,null,null,null,null,null,null,null,null,null,null,null,null,null,null,null,null,null,null,null,null,null,null,null,null,null,null,null,null,null,null,null,null,null,null,null,null,null,null,null,null,null,null,null,null,null,null,null,null,null,null,null,null,null,null,null,null,null,null,null,null,null,null,null,null,null,null,null,null,null,null,null,null,null,null,null,null,null,null,null,null,null,null,null,null,null,null,null,null,null,null,null,null,null,null,null,null,null,null,null,null,null,null,null,null,null,null,null,null,null,null,null,null,null,null,null,null,null,null,null,null,null,null,null,null,null,null,null,null,null,null,null,null,null,null,null,null,null,null,null,null,null,null,null,null,null,null,null,1]
[null,null,null,null,null,null,null,null,null,null,null,null,null,null,null,null,null,null,null,null,null,null,null,null,null,null,null,null,null,null,null,null,null,null,null,null,null,null,null,null,null,null,null,null,null,null,null,null,null,null,null,null,null,null,null,null,null,null,null,null,null,null,null,null,null,null,null,null,null,null,null,null,null,null,null,null,null,null,null,null,null,null,null,null,null,null,null,null,null,null,null,null,null,null,null,null,null,null,null,null,null,null,null,null,null,null,null,null,null,null,null,null,null,null,null,null,null,null,null,{"$f":"CU170+DF170","v":0},null,null,null,null,null,null,null,null,null,null,null,null,null,null,null,null,null,null,null,null,null,null,null,null,null,null,null,null,null,null,null,null,null,null,null,null,null,null,null,null,null,null,null,null,null,null,null,null,null,null,null,null,null,null,null,null,null,null,null,null,null,null,null,null,null,null,null,null,null,null,null,null,null,null,null,null,null,1,null,null,null,null,null,null,null,null,"FTHB Acquisition Only",null,null,null,null,null,null,null,null,null,null,null,null,null,null,null,null,null,null,null,null,null,null,null,null,null,null,null,null,null,null,null,null,null,null,null,null,null,null,null,null,null,null,null,null,null,null,null,null,null,null,null,null,"1 (0-30%)",null,null,null,null,null,null,null,null,null,null,null,null,null,null,null,null,null,null,null,null,null,null,null,null,"09 - Vacant Unit",null,null,null,null,null,null,null,null,null,null,null,null,null,null,null,null,null,null,null,"1-Single/Non-Elderly"]
[null,null,null,null,null,null,null,null,null,null,null,null,null,null,null,null,null,null,null,null,null,null,null,null,null,null,null,null,null,null,null,null,null,null,null,null,null,null,null,null,null,null,null,null,null,null,null,null,null,null,null,null,null,null,null,null,null,null,null,null,null,null,null,null,null,null,null,null,null,null,null,null,null,null,null,null,null,null,null,null,null,null,null,null,null,null,null,null,null,null,null,null,null,null,null,null,null,null,null,null,null,null,null,null,null,null,null,null,null,null,null,null,null,null,null,null,null,null,null,{"$f":"CU171+DF171","v":0},null,null,null,null,null,null,null,null,null,null,null,null,null,null,null,null,null,null,null,null,null,null,null,null,null,null,null,null,null,null,null,null,null,null,null,null,null,null,null,null,null,null,null,null,null,null,null,null,null,null,null,null,null,null,null,null,null,null,null,null,null,null,null,null,null,null,null,null,null,null,null,null,null,null,null,null," ",1,null,null,null,null,null,null,null,null,"OOR",null,null,null,null,null,null,null,null,null,null,null,null,null,null,null,null,null,null,null,null,null,null,null,null,null,null,null,null,null,null,null,null,null,null,null,null,null,null,null,null,null,null,null,null,null,null,null,null,null,null,null,null,"2 (31 - 50%)",null,null,null,null,null,null,null,null,null,null,null,null,null,null,null,null,null,null,null,null,null,null,null,null,"10 - Manager's Unit",null,null,null,null,null,null,null,null,null,null,null,null,null,null,null,null,null,null,null,"2-Elderly"]
[null,null,null,null,null,null,null,null,null,null,null,null,null,null,null,null,null,null,null,null,null,null,null,null,null,null,null,null,null,null,null,null,null,null,null,null,null,null,null,null,null,null,null,null,null,null,null,null,null,null,null,null,null,null,null,null,null,null,null,null,null,null,null,null,null,null,null,null,null,null,null,null,null,null,null,null,null,null,null,null,null,null,null,null,null,null,null,null,null,null,null,null,null,null,null,null,null,null,null,null,null,null,null,null,null,null,null,null,null,null,null,null,null,null,null,null,null,null,null,0,null,null,null,null,null,null,null,null,null,null,null,null,null,null,null,null,null,null,null,null,null,null,null,null,null,null,null,null,null,null,null,null,null,null,null,null,null,null,null,null,null,null,null,null,null,null,null,null,null,null,null,null,null,null,null,null,null,null,null,null,null,null,null,null,null,null,null,null,null,null,null,null,null,null,null,null,null,1,null,null,null,null,null,null,null,null,"TBRA",null,null,null,null,null,null,null,null,null,null,null,null,null,null,null,null,null,null,null,null,null,null,null,null,null,null,null,null,null,null,null,null,null,null,null,null,null,null,null,null,null,null,null,null,null,null,null,null,null,null,null,null,"3 (51 - 60%)",null,null,null,null,null,null,null,null,null,null,null,null,null,null,null,null,null,null,null,null,null,null,null,null,"11 - White",null,null,null,null,null,null,null,null,null,null,null,null,null,null,null,null,null,null,null,"3-Related/Single Parent"]
[null,null,null,null,null,null,null,null,null,null,null,null,null,null,null,null,null,null,null,null,null,null,null,null,null,null,null,null,null,null,null,null,null,null,null,null,null,null,null,null,null,null,null,null,null,null,null,null,null,null,null,null,null,null,null,null,null,null,null,null,null,null,null,null,null,null,null,null,null,null,null,null,null,null,null,null,null,null,null,null,null,null,null,null,null,null,null,null,null,null,null,null,null,null,null,null,null,null,null,null,null,null,null,null,null,null,null,null,null,null,null,null,null,null,null,null,null,null,null,0,null,null,null,null,null,null,null,null,null,null,null,null,null,null,null,null,null,null,null,null,null,null,null,null,null,null,null,null,null,null,null,null,null,null,null,null,null,null,null,null,null,null,null,null,null,null,null,null,null,null,null,null,null,null,null,null,null,null,null,null,null,null,null,null,null,null,null,null,null,null,null,null,null,null,null,null,null,1,null,null,null,null,null,null,null,null,"Rental New Const. acquisition",null,null,null,null,null,null,null,null,null,null,null,null,null,null,null,null,null,null,null,null,null,null,null,null,null,null,null,null,null,null,null,null,null,null,null,null,null,null,null,null,null,null,null,null,null,null,null,null,null,null,null,null,"4 (61 - 80%)",null,null,null,null,null,null,null,null,null,null,null,null,null,null,null,null,null,null,null,null,null,null,null,null,"12 - Black/African American",null,null,null,null,null,null,null,null,null,null,null,null,null,null,null,null,null,null,null,"4-Related/Two Parents"]
[null,null,null,null,null,null,null,null,null,null,null,null,null,null,null,null,null,null,null,null,null,null,null,null,null,null,null,null,null,null,null,null,null,null,null,null,null,null,null,null,null,null,null,null,null,null,null,null,null,null,null,null,null,null,null,null,null,null,null,null,null,null,null,null,null,null,null,null,null,null,null,null,null,null,null,null,null,null,null,null,null,null,null,null,null,null,null,null,null,null,null,null,null,null,null,null,null,null,null,null,null,null,null,null,null,null,null,null,null,null,null,null,null,null,null,null,null,null,null,0,null,null,null,null,null,null,null,null,null,null,null,null,null,null,null,null,null,null,null,null,null,null,null,null,null,null,null,null,null,null,null,null,null,null,null,null,null,null,null,null,null,null,null,null,null,null,null,null,null,null,null,null,null,null,null,null,null,null,null,null,null,null,null,null,null,null,null,null,null,null,null,null,null,null,null,null,null,1,null,null,null,null,null,null,null,null,"Rental New Const. w/o acquisition",null,null,null,null,null,null,null,null,null,null,null,null,null,null,null,null,null,null,null,null,null,null,null,null,null,null,null,null,null,null,null,null,null,null,null,null,null,null,null,null,null,null,null,null,null,null,null,null,null,null,null,null,"9  Vacant",null,null,null,null,null,null,null,null,null,null,null,null,null,null,null,null,null,null,null,null,null,null,null,null,"13 - Asian",null,null,null,null,null,null,null,null,null,null,null,null,null,null,null,null,null,null,null,"5-Other"]
[null,null,null,null,null,null,null,null,null,null,null,null,null,null,null,null,null,null,null,null,null,null,null,null,null,null,null,null,null,null,null,null,null,null,null,null,null,null,null,null,null,null,null,null,null,null,null,null,null,null,null,null,null,null,null,null,null,null,null,null,null,null,null,null,null,null,null,null,null,null,null,null,null,null,null,null,null,null,null,null,null,null,null,null,null,null,null,null,null,null,null,null,null,null,null,null,null,null,null,null,null,null,null,null,null,null,null,null,null,null,null,null,null,null,null,null,null,null,null,0,null,null,null,null,null,null,null,null,null,null,null,null,null,null,null,null,null,null,null,null,null,null,null,null,null,null,null,null,null,null,null,null,null,null,null,null,null,null,null,null,null,null,null,null,null,null,null,null,null,null,null,null,null,null,null,null,null,null,null,null,null,null,null,null,null,null,null,null,null,null,null,null,null,null,null,null,null,1,null,null,null,null,null,null,null,null,"Rental Rehabilitation",null,null,null,null,null,null,null,null,null,null,null,null,null,null,null,null,null,null,null,null,null,null,null,null,null,null,null,null,null,null,null,null,null,null,null,null,null,null,null,null,null,null,null,null,null,null,null,null,null,null,null,null,null,null,null,null,null,null,null,null,null,null,null,null,null,null,null,null,null,null,null,null,null,null,null,null,null,"14 - American Indian/Alaskan Native",null,null,null,null,null,null,null,null,null,null,null,null,null,null,null,null,null,null,null,"9-Vacant Unit"]
[null,null,null,null,null,null,null,null,null,null,null,null,null,null,null,null,null,null,null,null,null,null,null,null,null,null,null,null,null,null,null,null,null,null,null,null,null,null,null,null,null,null,null,null,null,null,null,null,null,null,null,null,null,null,null,null,null,null,null,null,null,null,null,null,null,null,null,null,null,null,null,null,null,null,null,null,null,null,null,null,null,null,null,null,null,null,null,null,null,null,null,null,null,null,null,null,null,null,null,null,null,null,null,null,null,null,null,null,null,null,null,null,null,null,null,null,null,null,null,0,null,null,null,null,null,null,null,null,null,null,null,null,null,null,null,null,null,null,null,null,null,null,null,null,null,null,null,null,null,null,null,null,null,null,null,null,null,null,null,null,null,null,null,null,null,null,null,null,null,null,null,null,null,null,null,null,null,null,null,null,null,null,null,null,null,null,null,null,null,null,null,null,null,null,null,null,null,1,null,null,null,null,null,null,null,null,"FTHB Acquisition Rehabilitation",null,null,null,null,null,null,null,null,null,null,null,null,null,null,null,null,null,null,null,null,null,null,null,null,null,null,null,null,null,null,null,null,null,null,null,null,null,null,null,null,null,null,null,null,null,null,null,null,null,null,null,null,"Yes",null,null,null,null,null,null,null,null,null,null,null,null,null,null,null,null,null,null,null,null,null,null,null,null,"15 - Native Hawaiian/Other Pacific Islander"]
[null,null,null,null,null,null,null,null,null,null,null,null,null,null,null,null,null,null,null,null,null,null,null,null,null,null,null,null,null,null,null,null,null,null,null,null,null,null,null,null,null,null,null,null,null,null,null,null,null,null,null,null,null,null,null,null,null,null,null,null,null,null,null,null,null,null,null,null,null,null,null,null,null,null,null,null,null,null,null,null,null,null,null,null,null,null,null,null,null,null,null,null,null,null,null,null,null,null,null,null,null,null,null,null,null,null,null,null,null,null,null,null,null,null,null,null,null,null,null,0,null,null,null,null,null,null,null,null,null,null,null,null,null,null,null,null,null,null,null,null,null,null,null,null,null,null,null,null,null,null,null,null,null,null,null,null,null,null,null,null,null,null,null,null,null,null,null,null,null,null,null,null,null,null,null,null,null,null,null,null,null,null,null,null,null,null,null,null,null,null,null,null,null,null,null,null,null,1,null,null,null,null,null,null,null,null,null,null,null,null,null,null,null,null,null,null,null,null,null,null,null,null,null,null,null,null,null,null,null,null,null,null,null,null,null,null,null,null,null,null,null,null,null,null,null,null,null,null,null,null,null,null,null,null,null,null,null,null,null,"No",null,null,null,null,null,null,null,null,null,null,null,null,null,null,null,null,null,null,null,null,null,null,null,null,"16 - American Indian/Alaskan Native & White",null,null,null,null,null,null,null,null,null,null,null,null,null,null,null,null,null,null,null,"1-Section 8"]
[null,null,null,null,null,null,null,null,null,null,null,null,null,null,null,null,null,null,null,null,null,null,null,null,null,null,null,null,null,null,null,null,null,null,null,null,null,null,null,null,null,null,null,null,null,null,null,null,null,null,null,null,null,null,null,null,null,null,null,null,null,null,null,null,null,null,null,null,null,null,null,null,null,null,null,null,null,null,null,null,null,null,null,null,null,null,null,null,null,null,null,null,null,null,null,null,null,null,null,null,null,null,null,null,null,null,null,null,null,null,null,null,null,null,null,null,null,null,null,0,null,null,null,null,null,null,null,null,null,null,null,null,null,null,null,null,null,null,null,null,null,null,null,null,null,null,null,null,null,null,null,null,null,null,null,null,null,null,null,null,null,null,null,null,null,null,null,null,null,null,null,null,null,null,null,null,null,null,null,null,null,null,null,null,null,null,null,null,null,null,null,null,null,null,null,null,null,1,null,null,null,null,null,null,null,null,"0 Bdrm",null,null,null,null,null,null,null,null,null,null,null,null,null,null,null,null,null,null,null,null,null,null,null,null,null,null,null,null,null,null,null,null,null,null,null,null,null,null,null,null,null,null,null,null,null,null,null,null,null,null,null,null,null,null,null,null,null,null,null,null,null,null,null,null,null,null,null,null,null,null,null,null,null,null,null,null,null,"17 - Asian & White",null,null,null,null,null,null,null,null,null,null,null,null,null,null,null,null,null,null,null,"2-HOME"]
[null,null,null,null,null,null,null,null,null,null,null,null,null,null,null,null,null,null,null,null,null,null,null,null,null,null,null,null,null,null,null,null,null,null,null,null,null,null,null,null,null,null,null,null,null,null,null,null,null,null,null,null,null,null,null,null,null,null,null,null,null,null,null,null,null,null,null,null,null,null,null,null,null,null,null,null,null,null,null,null,null,null,null,null,null,null,null,null,null,null,null,null,null,null,null,null,null,null,null,null,null,null,null,null,null,null,null,null,null,null,null,null,null,null,null,null,null,null,null,0,null,null,null,null,null,null,null,null,null,null,null,null,null,null,null,null,null,null,null,null,null,null,null,null,null,null,null,null,null,null,null,null,null,null,null,null,null,null,null,null,null,null,null,null,null,null,null,null,null,null,null,null,null,null,null,null,null,null,null,null,null,null,null,null,null,null,2,null,null,null,null,null,null,null,null,null,null,1,null,null,null,null,null,null,null,null,"1 Bdrm",null,null,null,null,null,null,null,null,null,null,null,null,null,null,null,null,null,null,null,null,null,null,null,null,null,null,null,null,null,null,null,null,null,null,null,null,null,null,null,null,null,null,"1 Person",null,null,null,null,null,null,null,null,null,null,null,null,null,null,null,null,null,null,null,null,null,null,null,null,null,null,null,null,null,null,null,null,null,null,"18 - Black/African American & White",null,null,null,null,null,null,null,null,null,null,null,null,null,null,null,null,null,null,null,"3-Other"]
[null,null,null,null,null,null,null,null,null,null,null,null,null,null,null,null,null,null,null,null,null,null,null,null,null,null,null,null,null,null,null,null,null,null,null,null,null,null,null,null,null,null,null,null,null,null,null,null,null,null,null,null,null,null,null,null,null,null,null,null,null,null,null,null,null,null,null,null,null,null,null,null,null,null,null,null,null,null,null,null,null,null,null,null,null,null,null,null,null,null,null,null,null,null,null,null,null,null,null,null,null,null,null,null,null,null,null,null,null,null,null,null,null,null,null,null,null,null,null,0,null,null,null,null,null,null,null,null,null,null,null,null,null,null,null,null,null,null,null,null,null,null,null,null,null,null,null,null,null,null,null,null,null,null,null,null,null,null,null,null,null,null,null,null,null,null,null,null,null,null,null,null,null,null,null,null,null,null,null,null,null,null,null,null,null,null,null,null,null,null,null,null,null,null,null,null,null,1,null,null,null,null,null,null,null,null,"2 Bdrms",null,null,null,null,null,null,null,null,null,null,null,null,null,null,null,null,null,null,null,null,null,null,null,null,null,null,null,null,null,null,null,null,null,null,null,null,null,null,null,null,null,null,"2 Persons",null,null,null,null,null,null,null,null,null,null,null,null,null,null,null,null,null,null,null,null,null,null,null,null,null,null,null,null,null,null,null,null,null,null,"19 - American Indian/Alaskan Native & Black/African",null,null,null,null,null,null,null,null,null,null,null,null,null,null,null,null,null,null,null,"4-No Assistance"]
[null,null,null,null,null,null,null,null,null,null,null,null,null,null,null,null,null,null,null,null,null,null,null,null,null,null,null,null,null,null,null,null,null,null,null,null,null,null,null,null,null,null,null,null,null,null,null,null,null,null,null,null,null,null,null,null,null,null,null,null,null,null,null,null,null,null,null,null,null,null,null,null,null,null,null,null,null,null,null,null,null,null,null,null,null,null,null,null,null,null,null,null,null,null,null,null,null,null,null,null,null,null,null,null,null,null,null,null,null,null,null,null,null,null,null,null,null,null,null,0,null,null,null,null,null,null,null,null,null,null,null,null,null,null,null,null,null,null,null,null,null,null,null,null,null,null,null,null,null,null,null,null,null,null,null,null,null,null,null,null,null,null,null,null,null,null,null,null,null,null,null,null,null,null,null,null,null,null,null,null,null,null,null,null,null,null,null,null,null,null,null,null,null,null,null,null,null,1,null,null,null,null,null,null,null,null,"3 Bdrms",null,null,null,null,null,null,null,null,null,null,null,null,null,null,null,null,null,null,null,null,null,null,null,null,null,null,null,null,null,null,null,null,null,null,null,null,null,null,null,null,null,null,"3 Persons",null,null,null,null,null,null,null,null,null,null,null,null,null,null,null,null,null,null,null,null,null,null,null,null,null,null,null,null,null,null,null,null,null,null,"20 - Other",null,null,null,null,null,null,null,null,null,null,null,null,null,null,null,null,null,null,null,"5-Vacant Unit"]
[null,null,null,null,null,null,null,null,null,null,null,null,null,null,null,null,null,null,null,null,null,null,null,null,null,null,null,null,null,null,null,null,null,null,null,null,null,null,null,null,null,null,null,null,null,null,null,null,null,null,null,null,null,null,null,null,null,null,null,null,null,null,null,null,null,null,null,null,null,null,null,null,null,null,null,null,null,null,null,null,null,null,null,null,null,null,null,null,null,null,null,null,null,null,null,null,null,null,null,null,null,null,null,null,null,null,null,null,null,null,null,null,null,null,null,null,null,null,null,0,null,null,null,null,null,null,null,null,null,null,null,null,null,null,null,null,null,null,null,null,null,null,null,null,null,null,null,null,null,null,null,null,null,null,null,null,null,null,null,null,null,null,null,null,null,null,null,null,null,null,null,null,null,null,null,null,null,null,null,null,null,null,null,null,null,null,null,null,null,null,null,null,null,null,null,null,null,1,null,null,null,null,null,null,null,null,"4 Bdrms",null,null,null,null,null,null,null,null,null,null,null,null,null,null,null,null,null,null,null,null,null,null,null,null,null,null,null,null,null,null,null,null,null,null,null,null,null,null,null,null,null,null,"4 Persons"]
[null,null,null,null,null,null,null,null,null,null,null,null,null,null,null,null,null,null,null,null,null,null,null,null,null,null,null,null,null,null,null,null,null,null,null,null,null,null,null,null,null,null,null,null,null,null,null,null,null,null,null,null,null,null,null,null,null,null,null,null,null,null,null,null,null,null,null,null,null,null,null,null,null,null,null,null,null,null,null,null,null,null,null,null,null,null,null,null,null,null,null,null,null,null,null,null,null,null,null,null,null,null,null,null,null,null,null,null,null,null,null,null,null,null,null,null,null,null,null,0,null,null,null,null,null,null,null,null,null,null,null,null,null,null,null,null,null,null,null,null,null,null,null,null,null,null,null,null,null,null,null,null,null,null,null,null,null,null,null,null,null,null,null,null,null,null,null,null,null,null,null,null,null,null,null,null,null,null,null,null,null,null,null,null,null,null,null,null,null,null,null,null,null,null,null,null,null,1,null,null,null,null,null,null,null,null,"5 or more Bdrms",null,null,null,null,null,null,null,null,null,null,null,null,null,null,null,null,null,null,null,null,null,null,null,null,null,null,null,null,null,null,null,null,null,null,null,null,null,null,null,null,null,null,"5 Persons"]
[null,null,null,null,null,null,null,null,null,null,null,null,null,null,null,null,null,null,null,null,null,null,null,null,null,null,null,null,null,null,null,null,null,null,null,null,null,null,null,null,null,null,null,null,null,null,null,null,null,null,null,null,null,null,null,null,null,null,null,null,null,null,null,null,null,null,null,null,null,null,null,null,null,null,null,null,null,null,null,null,null,null,null,null,null,null,null,null,null,null,null,null,null,null,null,null,null,null,null,null,null,null,null,null,null,null,null,null,null,null,null,null,null,null,null,null,null,null,null,0,null,null,null,null,null,null,null,null,null,null,null,null,null,null,null,null,null,null,null,null,null,null,null,null,null,null,null,null,null,null,null,null,null,null,null,null,null,null,null,null,null,null,null,null,null,null,null,null,null,null,null,null,null,null,null,null,null,null,null,null,null,null,null,null,null,null,null,null,null,null,null,null,null,null,null,null,null,1,null,null,null,null,null,null,null,null,null,null,null,null,null,null,null,null,null,null,null,null,null,null,null,null,null,null,null,null,null,null,null,null,null,null,null,null,null,null,null,null,null,null,null,null,null,null,null,null,null,null,null,"6 Persons"]
[null,null,null,null,null,null,null,null,null,null,null,null,null,null,null,null,null,null,null,null,null,null,null,null,null,null,null,null,null,null,null,null,null,null,null,null,null,null,null,null,null,null,null,null,null,null,null,null,null,null,null,null,null,null,null,null,null,null,null,null,null,null,null,null,null,null,null,null,null,null,null,null,null,null,null,null,null,null,null,null,null,null,null,null,null,null,null,null,null,null,null,null,null,null,null,null,null,null,null,null,null,null,null,null,null,null,null,null,null,null,null,null,null,null,null,null,null,null,null,0,null,null,null,null,null,null,null,null,null,null,null,null,null,null,null,null,null,null,null,null,null,null,null,null,null,null,null,null,null,null,null,null,null,null,null,null,null,null,null,null,null,null,null,null,null,null,null,null,null,null,null,null,null,null,null,null,null,null,null,null,null,null,null,null,null,null,null,null,null,null,null,null,null,null,null,null,null,1,null,null,null,null,null,null,null,null,"1 - Tenant",null,null,null,null,null,null,null,null,null,null,null,null,null,null,null,null,null,null,null,null,null,null,null,null,null,null,null,null,null,null,null,null,null,null,null,null,null,null,null,null,null,null,"7 Persons"]
[null,null,null,null,null,null,null,null,null,null,null,null,null,null,null,null,null,null,null,null,null,null,null,null,null,null,null,null,null,null,null,null,null,null,null,null,null,null,null,null,null,null,null,null,null,null,null,null,null,null,null,null,null,null,null,null,null,null,null,null,null,null,null,null,null,null,null,null,null,null,null,null,null,null,null,null,null,null,null,null,null,null,null,null,null,null,null,null,null,null,null,null,null,null,null,null,null,null,null,null,null,null,null,null,null,null,null,null,null,null,null,null,null,null,null,null,null,null,null,0,null,null,null,null,null,null,null,null,null,null,null,null,null,null,null,null,null,null,null,null,null,null,null,null,null,null,null,null,null,null,null,null,null,null,null,null,null,null,null,null,null,null,null,null,null,null,null,null,null,null,null,null,null,null,null,null,null,null,null,null,null,null,null,null,null,null,null,null,null,null,null,null,null,null,null,null,null,1,null,null,null,null,null,null,null,null,"2 - Owner",null,null,null,null,null,null,null,null,null,null,null,null,null,null,null,null,null,null,null,null,null,null,null,null,null,null,null,null,null,null,null,null,null,null,null,null,null,null,null,null,null,null,"8 or more"]
[null,null,null,null,null,null,null,null,null,null,null,null,null,null,null,null,null,null,null,null,null,null,null,null,null,null,null,null,null,null,null,null,null,null,null,null,null,null,null,null,null,null,null,null,null,null,null,null,null,null,null,null,null,null,null,null,null,null,null,null,null,null,null,null,null,null,null,null,null,null,null,null,null,null,null,null,null,null,null,null,null,null,null,null,null,null,null,null,null,null,null,null,null,null,null,null,null,null,null,null,null,null,null,null,null,null,null,null,null,null,null,null,null,null,null,null,null,null,null,0,null,null,null,null,null,null,null,null,null,null,null,null,null,null,null,null,null,null,null,null,null,null,null,null,null,null,null,null,null,null,null,null,null,null,null,null,null,null,null,null,null,null,null,null,null,null,null,null,null,null,null,null,null,null,null,null,null,null,null,null,null,null,null,null,null,null,null,null,null,null,null,null,null,null,null,null,null,1,null,null,null,null,null,null,null,null,"3 - Vacant"]
[null,null,null,null,"Total Expenditures (should equal line 5 \"Total\" from page 1).  If more lines are needed, submit additional APRs with just Attachment A pages 2 and 3 completed.  This is very common with TBRA PI-only projects.",null,null,null,null,null,null,null,null,null,null,null,null,null,null,null,null,null,null,null,null,null,null,null,null,null,null,null,null,null,null,null,null,null,null,null,null,null,null,null,null,null,null,null,null,null,null,null,null,null,null,null,null,null,null,null,null,null,null,null,null,null,null,null,null,null,null,null,null,null,null,null,null,null,null,null,null,null,null,null,null,null,null,null,null,null,null,null,null,null,null,null,null,null,null,null,null,null,null,null,null,null,null,null,null,null,null,null,null,null,null,null,null,null,null,{"$f":"SUM(DP170:EA187)","v":0}]
[]
[]
[]
[]
[null,null,null,null,null,null,null,null,null,null,null,null,null,null,null,null,null,null,null,null,null,null,null,null,null,null,null,null,null,null,null,null,null,null,null,null,null,null,null,null,null,null,null,null,null,null,null,null,null,null,null,null,null,null,null,null,null,null,null,null,null,null,null,null,null,null,null,null,null,null,null,null,null,null,null,null,null,null,null,null,null,null,null,null,null,null,null,null,null,null,null,null,null,null,null,null,null,null,null,null,null,null,null,null,null,null,null,null,null,null,null,null,null,null,null,null,null,null,null,null,null,null,null,null,null,null,null,null,null,null,null,null,null,null,null,null,null,null,null,null,null,null,null,null,null,null,null,null,null,null,null,null,null,null,null,null,null,null,null,null,null,null,null,null,null,null,null,"PAGE 3"]
[null,null,{"$f":"AT1","v":"Attachment A - Program Income and Recaptured Funds"}]
[]
[]
[null,null,{"$f":"BK4","v":"HOME Annual Performance Report"}]
[]
[]
[null,null,{"$f":"BK7","v":"Reporting Period July 1, 2023 through June 30, 2024"}]
[]
[]
[]
[null,null,null,"Chart 2 -  Program Income Reporting By Household Characteristics "]
[]
[]
[null,null,null,"List each assisted-unit funded with only State HOME Program Income (PI) / Recaptured Funds (RF).  In the second column, indicate the Total HOME PI/RF in the project (this may not be the same as funds expended in the 2022/2023 Reporting Period, as additional funds may have been expended in prior Reporting Periods).  For multi-family projects and TBRA, complete a line for each household.  For TBRA only, complete the \"Tenant Contribution\" and \"Subsidy Amount\" columns, which are under the \"Monthly Rent\" heading.  One household per line only."]
[]
[]
[]
[]
[]
[]
[]
[]
[null,null,null,"1.                                               Address of Project Location                                                       (automatically populates from Chart 1) ",null,null,null,null,null,null,null,null,null,null,null,null,null,null,null,null,null,null,null,null,null,"2.                                       Total HOME     PI/RF Amount (include ADC)",null,null,null,null,null,null,null,null,null,null,"3.                                                          Number of Bedrooms",null,null,null,null,null,null,null,null,"4.                                         Occupancy",null,null,null,null,null,null,null,null,null,null,null,"5.                                                                                               Monthly Rent                                                             (Include Tenant-Paid Utilities)",null,null,null,null,null,null,null,null,null,null,null,null,null,null,null,null,null,null,null,null,null,null,null,null,null,null,null,null,null,null,"6.                                                                                                                                                                                     Household Data",null,null,null,null,null,null,null,null,null,null,null,null,null,null,null,null,null,null,null,null,null,null,null,null,null,null,null,null,null,null,null,null,null,null,null,null,null,null,null,null,null,null,null,null,null,null,null,null,null,null,null,null,null,null,null,"7.                       Rental Assistance"]
[]
[]
[]
[null,null,null,null,null,null,null,null,null,null,null,null,null,null,null,null,null,null,null,null,null,null,null,null,null,null,null,null,null,null,null,null,null,null,null,null,null,null,null,null,null,null,null,null,null,null,null,null,null,null,null,null,null,null,null,null,null,null,null,null,null,null,null,null,null,null,null,null,null,null,null,null,null,null,null,null,null,null,null,null,null,null,null,null,null,null,null,null,"a. Monthly Gross                    Income",null,null,null,null,null,null,null,null,null,null,"b. % of Area Median Income",null,null,null,null,null,null,null,null,null,null,"c. Head of Household (HH)",null,null,null,null,null,null,null,null,null,null,null,null,null,null,null,null,null,null,null,null,"d. Household"]
[]
[null,null,null,null,null,null,null,null,null,null,null,null,null,null,null,null,null,null,null,null,null,null,null,null,null,null,null,null,null,null,null,null,null,null,null,null,null,null,null,null,null,null,null,null,null,null,null,null,null,null,null,null,null,null,null,null,null,"a. Tenant Contribution (include Utilities)",null,null,null,null,null,null,null,null,"b. Subsidy Amount",null,null,null,null,null,null,null,null,null,null,"c. Total Housing Cost"]
[]
[null,null,null,null,null,null,null,null,null,null,null,null,null,null,null,null,null,null,null,null,null,null,null,null,null,null,null,null,null,null,null,null,null,null,null,null,null,null,null,null,null,null,null,null,null,null,null,null,null,null,null,null,null,null,null,null,null,null,null,null,null,null,null,null,null,null,null,null,null,null,null,null,null,null,null,null,null,null,null,null,null,null,null,null,null,null,null,null,null,null,null,null,null,null,null,null,null,null,null,null,null,null,null,null,null,null,null,null,null,null,"(1) Ethnicity   Hispanic?",null,null,null,null,null,null,"(2)                                                                  Race",null,null,null,null,null,null,null,null,null,null,null,null,null,"(1)                Size",null,null,null,null,null," (2)                     Type"]
[]
[]
[]
[]
[]
[]
[null,null,null,{"$f":"IF(GP170=2,AF170,\"\")","v":""},null,null,null,null,null,null,null,null,null,null,null,null,null,null,null,null,null,null,null,null,null,null,null,null,null,null,null,null,null,null,null,null,null,null,null,null,null,null,null,null,null,null,null,null,null,null,null,null,null,null,null,null,null,null,null,null,null,null,null,null,null,null,null,null,null,null,null,null,null,null,null,null,null,{"$f":"SUM(BF231:BY231)","v":0}]
[null,null,null,"",null,null,null,null,null,null,null,null,null,null,null,null,null,null,null,null,null,null,null,null,null,null,null,null,null,null,null,null,null,null,null,null,null,null,null,null,null,null,null,null,null,null,null,null,null,null,null,null,null,null,null,null,null,null,null,null,null,null,null,null,null,null,null,null,null,null,null,null,null,null,null,null,null,{"$f":"SUM(BF232:BY232)","v":0}]
[null,null,null,{"$f":"IF(GP172=2,AF172,\"\")","v":""},null,null,null,null,null,null,null,null,null,null,null,null,null,null,null,null,null,null,null,null,null,null,null,null,null,null,null,null,null,null,null,null,null,null,null,null,null,null,null,null,null,null,null,null,null,null,null,null,null,null,null,null,null,null,null,null,null,null,null,null,null,null,null,null,null,null,null,null,null,null,null,null,null,{"$f":"SUM(BF233:BY233)","v":0}]
[null,null,null,"",null,null,null,null,null,null,null,null,null,null,null,null,null,null,null,null,null,null,null,null,null,null,null,null,null,null,null,null,null,null,null,null,null,null,null,null,null,null,null,null,null,null,null,null,null,null,null,null,null,null,null,null,null,null,null,null,null,null,null,null,null,null,null,null,null,null,null,null,null,null,null,null,null,{"$f":"SUM(BF234:BY234)","v":0}]
[null,null,null,"",null,null,null,null,null,null,null,null,null,null,null,null,null,null,null,null,null,null,null,null,null,null,null,null,null,null,null,null,null,null,null,null,null,null,null,null,null,null,null,null,null,null,null,null,null,null,null,null,null,null,null,null,null,null,null,null,null,null,null,null,null,null,null,null,null,null,null,null,null,null,null,null,null,0]
[null,null,null,"",null,null,null,null,null,null,null,null,null,null,null,null,null,null,null,null,null,null,null,null,null,null,null,null,null,null,null,null,null,null,null,null,null,null,null,null,null,null,null,null,null,null,null,null,null,null,null,null,null,null,null,null,null,null,null,null,null,null,null,null,null,null,null,null,null,null,null,null,null,null,null,null,null,0]
[null,null,null,"",null,null,null,null,null,null,null,null,null,null,null,null,null,null,null,null,null,null,null,null,null,null,null,null,null,null,null,null,null,null,null,null,null,null,null,null,null,null,null,null,null,null,null,null,null,null,null,null,null,null,null,null,null,null,null,null,null,null,null,null,null,null,null,null,null,null,null,null,null,null,null,null,null,0]
[null,null,null,"",null,null,null,null,null,null,null,null,null,null,null,null,null,null,null,null,null,null,null,null,null,null,null,null,null,null,null,null,null,null,null,null,null,null,null,null,null,null,null,null,null,null,null,null,null,null,null,null,null,null,null,null,null,null,null,null,null,null,null,null,null,null,null,null,null,null,null,null,null,null,null,null,null,0]
[null,null,null,"",null,null,null,null,null,null,null,null,null,null,null,null,null,null,null,null,null,null,null,null,null,null,null,null,null,null,null,null,null,null,null,null,null,null,null,null,null,null,null,null,null,null,null,null,null,null,null,null,null,null,null,null,null,null,null,null,null,null,null,null,null,null,null,null,null,null,null,null,null,null,null,null,null,0]
[null,null,null,"",null,null,null,null,null,null,null,null,null,null,null,null,null,null,null,null,null,null,null,null,null,null,null,null,null,null,null,null,null,null,null,null,null,null,null,null,null,null,null,null,null,null,null,null,null,null,null,null,null,null,null,null,null,null,null,null,null,null,null,null,null,null,null,null,null,null,null,null,null,null,null,null,null,0]
[null,null,null,"",null,null,null,null,null,null,null,null,null,null,null,null,null,null,null,null,null,null,null,null,null,null,null,null,null,null,null,null,null,null,null,null,null,null,null,null,null,null,null,null,null,null,null,null,null,null,null,null,null,null,null,null,null,null,null,null,null,null,null,null,null,null,null,null,null,null,null,null,null,null,null,null,null,0]
[null,null,null,"",null,null,null,null,null,null,null,null,null,null,null,null,null,null,null,null,null,null,null,null,null,null,null,null,null,null,null,null,null,null,null,null,null,null,null,null,null,null,null,null,null,null,null,null,null,null,null,null,null,null,null,null,null,null,null,null,null,null,null,null,null,null,null,null,null,null,null,null,null,null,null,null,null,0]
[null,null,null,"",null,null,null,null,null,null,null,null,null,null,null,null,null,null,null,null,null,null,null,null,null,null,null,null,null,null,null,null,null,null,null,null,null,null,null,null,null,null,null,null,null,null,null,null,null,null,null,null,null,null,null,null,null,null,null,null,null,null,null,null,null,null,null,null,null,null,null,null,null,null,null,null,null,0]
[null,null,null,"",null,null,null,null,null,null,null,null,null,null,null,null,null,null,null,null,null,null,null,null,null,null,null,null,null,null,null,null,null,null,null,null,null,null,null,null,null,null,null,null,null,null,null,null,null,null,null,null,null,null,null,null,null,null,null,null,null,null,null,null,null,null,null,null,null,null,null,null,null,null,null,null,null,0]
[null,null,null,"",null,null,null,null,null,null,null,null,null,null,null,null,null,null,null,null,null,null,null,null,null,null,null,null,null,null,null,null,null,null,null,null,null,null,null,null,null,null,null,null,null,null,null,null,null,null,null,null,null,null,null,null,null,null,null,null,null,null,null,null,null,null,null,null,null,null,null,null,null,null,null,null,null,0]
[null,null,null,"",null,null,null,null,null,null,null,null,null,null,null,null,null,null,null,null,null,null,null,null,null,null,null,null,null,null,null,null,null,null,null,null,null,null,null,null,null,null,null,null,null,null,null,null,null,null,null,null,null,null,null,null,null,null,null,null,null,null,null,null,null,null,null,null,null,null,null,null,null,null,null,null,null,0]
[null,null,null,"",null,null,null,null,null,null,null,null,null,null,null,null,null,null,null,null,null,null,null,null,null,null,null,null,null,null,null,null,null,null,null,null,null,null,null,null,null,null,null,null,null,null,null,null,null,null,null,null,null,null,null,null,null,null,null,null,null,null,null,null,null,null,null,null,null,null,null,null,null,null,null,null,null,0]
[null,null,null,"",null,null,null,null,null,null,null,null,null,null,null,null,null,null,null,null,null,null,null,null,null,null,null,null,null,null,null,null,null,null,null,null,null,null,null,null,null,null,null,null,null,null,null,null,null,null,null,null,null,null,null,null,null,null,null,null,null,null,null,null,null,null,null,null,null,null,null,null,null,null,null,null,null,0]
[]
[null,null,null,null,null,null,null,null,null,null,null,null,null,null,null,null,null,null,null,null,null,null,null,null,null,null,null,null,null,null,null,null,null,null,null,null,null,null,null,null,null,null,null,null,null,null,null,null,null,null,null,null,null,null,null,null,null,null,null,null,null,null,null,null,null,null,null,null,null,null,null,null,null,null,null,null,null,null,null,null,null,null,null,null,null,null,null,null,null,null,null,null,null,null,null,null,null,null,null,null,null,null,null,null,null,null,null,null,null,null,null,null,null,null,null,null,null,null,null,null,null,null,null,null,null,null,null,null,null,null,null,null,null,null,null,null,null,null,null,null,null,null,null,null,null,null,null,null,null,null,null,null,null,null,null,null,null,null,null,null,null,null,null,null,null,null,null,"PAGE 4"]
[null,null,{"$f":"AT1","v":"Attachment A - Program Income and Recaptured Funds"}]
[]
[]
[null,null,{"$f":"BK4","v":"HOME Annual Performance Report"}]
[]
[]
[null,null,{"$f":"BK7","v":"Reporting Period July 1, 2023 through June 30, 2024"}]
[]
[]
[]
[]
[null,null,null,null,"Instructions"]
[]
[]
[]
[null,null,null,null,"Note:"]
[]
[null,null,null,null,"•  All areas marked in blue are fields that will automatically populate based on the data you enter in other fields. "]
[]
[]
[null,null,null,null,"•  For name of HOME Recipient, insert your city or county’s name."]
[]
[]
[]
[null,null,null,null,"Program Income/Recaptured Funds Summary"]
[]
[]
[]
[null,null,null,null,"(1)",null,null,null,"Enter the beginning balance of Program Income and Recaptured Funds in each column.  The amount in each column should reflect the ending balance from the prior"]
[]
[]
[null,null,null,null,null,null,null,null,"Reporting Period."]
[]
[]
[null,null,null,null,"(2)",null,null,null,"Identify the amount of funds received during the Reporting Period in both Program Income and Recaptured Funds. "]
[]
[]
[null,null,null,null,"(3)",null,null,null,"Do not enter.  Total Available for the reporting period will automatically populate."]
[]
[]
[null,null,null,null,"(4)",null,null,null,"Enter the amount of Program Income and Recaptured Funds used with funds from HOME contract."]
[]
[]
[null,null,null,null,"(5)",null,null,null,"Identify the amount of funds for units assisted with PI and RF, but not with HOME funds drawn down from HCD."]
[]
[]
[null,null,null,null,"(6)",null,null,null,"Enter the amount of PI retained for Administative Funds (no more than 10% of PI received)."]
[]
[]
[null,null,null,null,"(7)",null,null,null,"Do not enter - Total Program Income/Recaptured Funds expended.  This will automatically populate."]
[]
[]
[null,null,null,null,"(8)",null,null,null,"Do not enter - Balance of Program Income/Recaptured Funds.  This will automatically populate."]
[]
[]
[]
[null,null,null,null,"Program Income Administrative Funds Summary "]
[]
[]
[]
[null,null,null,null,"a)",null,null,null,"Enter beginning balance of Program Income Administrative Funds.  This is the ending balance from the previous Annual PI Report. "]
[]
[]
[null,null,null,null,"b)",null,null,null,"Do not enter - The Program Income Administrative Funds Received this Reporting Period will automatically populate from (6)."]
[]
[]
[null,null,null,null,"c)",null,null,null,"Enter amount of Program Income Administrative Funds Expended in the Reporting Period."]
[]
[]
[null,null,null,null,"d)",null,null,null,"Do not enter - The balance of Program Income/Recaptured Funds Available will automatically populate from (a), (b) and (c)."]
[]
[]
[]
[null,null,null,null,"Chart 1 -  Projects funded with HOME Program Income (PI) / Recaptured Funds (RF) Only  (Do not include projects with HOME funds drawn down from HCD)"]
[]
[]
[]
[null,null,null,"Provide project information in each column:"]
[]
[]
[null,null,null,"Column 1:  Enter name of owner(s) or project name."]
[]
[]
[null,null,null,"Column 2:  Enter address of project location. "]
[]
[]
[null,null,null,"Column 3:  From the drop-down menu, select the project activity."]
[]
[]
[null,null,null,"Column 4:  From the drop-down menu, indicate whether or not the Program Guidelines were approved by HCD."]
[]
[]
[null,null,null,"Column 5:  Enter the amount of expended Program Income/Recaptured Funds during the reporting period."]
[]
[]
[null,null,null,"Column 6:  Enter the amount of Activity Delivery Costs and Program Income/Recaptured Funds expended (leave blank if TBRA) during the reporting period."]
[]
[]
[null,null,null,"Column 7:  Do not enter total expenditures, as this will automatically populate."]
[]
[]
[null,null,null,"Column 8:  Enter the number of HOME-Assisted units."]
[]
[]
[null,null,null,"Column 9:  From the drop-down menu, indicate whether or not the project has been completed."]
[]
[]
[]
[null,null,{"$f":"AT1","v":"Attachment A - Program Income and Recaptured Funds"},null,null,null,null,null,null,null,null,null,null,null,null,null,null,null,null,null,null,null,null,null,null,null,null,null,null,null,null,null,null,null,null,null,null,null,null,null,null,null,null,null,null,null,null,null,null,null,null,null,null,null,null,null,null,null,null,null,null,null,null,null,null,null,null,null,null,null,null,null,null,null,null,null,null,null,null,null,null,null,null,null,null,null,null,null,null,null,null,null,null,null,null,null,null,null,null,null,null,null,null,null,null,null,null,null,null,null,null,null,null,null,null,null,null,null,null,null,null,null,null,null,null,null,null,null,null,null,null,null,null,null,null,null,null,null,null,null,null,null,null,null,null,null,null,null,null,null,null,null,null,null,null,null,null,null,null,null,null,null,null,null,null,null,null,"PAGE 5"]
[]
[]
[]
[null,null,{"$f":"BK4","v":"HOME Annual Performance Report"}]
[]
[]
[null,null,{"$f":"BK7","v":"Reporting Period July 1, 2023 through June 30, 2024"}]
[]
[]
[]
[]
[null,null,null,null,"Chart 2 -  Program Income Reporting by Household Characteristics"]
[]
[]
[]
[null,null,null,null,"Column 1:  Do not enter.  If the project is complete and you marked \"yes\" in the \"Project Completed\" column in Chart 1, the address will automatically populate."]
[]
[]
[null,null,null,null,"Column 2:  Enter the total amount of Program Income/Recaptured Funds.  (Note: This total amount may not be the same as Chart 1, as additional funds may have been"]
[]
[]
[null,null,null,null,null,null,null,null,null,null,null,null,null,null,null," used in the prior reporting period.)"]
[]
[]
[null,null,null,null,"Column 3:  From the drop-down menu, select the total number of bedrooms."]
[]
[]
[null,null,null,null,"Column 4:  From the drop-down menu, select the code for occupancy."]
[]
[]
[null,null,null,null,"Columns 5a, 5b, and 5c:  For TBRA, enter the Tenant Contribution (including utilities) and HOME Subsidy Amount.  The Total Housing Cost column will automatically populate."]
[]
[]
[null,null,null,null,"Column 6a:  Enter the monthly gross income."]
[]
[]
[null,null,null,null,"Column 6b:  From the drop-down menu, select the appropriate code for the AMI."]
[]
[]
[null,null,null,null,"Column 6c(1) and 6c(2):  From the drop-down menus, select the appropriate codes for ethnicity and race."]
[]
[]
[null,null,null,null,"Column 6d(1):  From the drop-down menu, select the household size."]
[]
[]
[null,null,null,null,"Column 6d(2):  From the drop-down menu, select the household type."]
[]
[]
[null,null,null,null,"Column 7:  From the drop-down menu, select the type of rental assistance."]
[]
[]
[]
[]
[]
[]
[]
[]
[]
[]
[]
[]
[]
[]
[]
[]
[]
[]
[]
[]
[]
[]
[]
[]
[]
[]
[]
[]
[]
[]
[]
[]
[]
[]
[]
[]
[]
[]
[]
[]
[]
[]
[]
[]
[]
[]
[null,null,"END OF DOCUMENT"]
[]
[]
[]
[]
[]
[]
[]
[]
[]
[]
[]
[]
[]
[]
[]
[]
[]
[]
[]
[]
[]
[]
[]
[]
[]
[]
[]
[]
[]
[]
[]
[]
[]
[]
[]
[]
[]
[]
[]
[]
[]
[]
[]
[]
[]
[]
[]
[]
[]
[]
[]
[]
[]
[]
[]
[]
[]
[]
[]
[]
[]
[]
[]
[]
[]
[]
[]
[]
[]
[]
[]
[]
[]
[]
[]
[]
[]
[]
[]
[]
[]
[]
[]
[]
[]
[]
[]
[]
[]
[]
[]
[]
[]
[]
[]
[]
[]
[]
[]
[]
[]
[]
[]
[]
[]
[]
[]
[]
[]
[]
[]
[]
[]
[]
[]
[]
[]
[]
[]
[]
[]
[]
[]
[]
[]
[]
[]
[]
[]
[]
[]
[]
[]
[]
[]
[]
[]
[]
[]
[]
[]
[]
[]
[]
[]
[]
[]
[]
[]
[]
[]
[]
[]
[]
[]
[]
[]
[]
[]
[]
[]
[]
[]
[]
[]
[]
[]
[]
[]
[]
[]
[]
[]
[]
[]
[]
[]
[]
[]
[]
[]
[]
[]
[]
[]
[]
[]
[]
[]
[]
[]
[]
[]
[]
[]
[]
[]
[]
[]
[]
[]
[]
[]
[]
[null,null,null,null,null,null,null,null,null,null,null,null,null,null,null,null,null,null,null,null,null,null,null,null,null,null,null,null,null,null,null,null,null,null,null,null,null,null,null,null,null,null,null,null,null,null,null,null,null,null,null,null,null,null,null,null,null,null,null,null,null,null,null,null,null,null,null,null,null,null,null,null,null,null,null,null,null,null,null,null,null,null,null,null,null,null,null,null,null,null,null,null,null,null,null,null,null,null,null,null,null,null,null,null,null,null,null,null,null,null,null,null,null,null,null,null,null,null,null,null,null,null,null,null,null,null,null,null,null,null,null,null,null,null,null,null,null,null,null,null,null,null,null,null,null,null,null,null,null,null,null,null,null,null,null,null,null,null,null,null,null,null,null,null,null,null,null,null,null,null,null,null,null,null,"FTHB Acquisition Only",null,null,null,null,null,null,null,null,null,null,null,null,null,null,null,null,null,null,null,null,null,null,null,null,null,null,null,null,null,null,null,null,"Rental New Const. acqusition"]
[null,null,null,null,null,null,null,null,null,null,null,null,null,null,null,null,null,null,null,null,null,null,null,null,null,null,null,null,null,null,null,null,null,null,null,null,null,null,null,null,null,null,null,null,null,null,null,null,null,null,null,null,null,null,null,null,null,null,null,null,null,null,null,null,null,null,null,null,null,null,null,null,null,null,null,null,null,null,null,null,null,null,null,null,null,null,null,null,null,null,null,null,null,null,null,null,null,null,null,null,null,null,null,null,null,null,null,null,null,null,null,null,null,null,null,null,null,null,null,null,null,null,null,null,null,null,null,null,null,null,null,null,null,null,null,null,null,null,null,null,null,null,null,null,null,null,null,null,null,null,null,null,null,null,null,null,null,null,null,null,null,null,null,null,null,null,null,null,null,null,null,null,null,null,"OOR",null,null,null,null,null,null,null,null,null,null,null,null,null,null,null,null,null,null,null,null,null,null,null,null,null,null,null,null,null,null,null,null,"Rental New Const. w/o acqusition"]
[null,null,null,null,null,null,null,null,null,null,null,null,null,null,null,null,null,null,null,null,null,null,null,null,null,null,null,null,null,null,null,null,null,null,null,null,null,null,null,null,null,null,null,null,null,null,null,null,null,null,null,null,null,null,null,null,null,null,null,null,null,null,null,null,null,null,null,null,null,null,null,null,null,null,null,null,null,null,null,null,null,null,null,null,null,null,null,null,null,null,null,null,null,null,null,null,null,null,null,null,null,null,null,null,null,null,null,null,null,null,null,null,null,null,null,null,null,null,null,null,null,null,null,null,null,null,null,null,null,null,null,null,null,null,null,null,null,null,null,null,null,null,null,null,null,null,null,null,null,null,null,null,null,null,null,null,null,null,null,null,null,null,null,null,null,null,null,null,null,null,null,null,null,null,"TBRA",null,null,null,null,null,null,null,null,null,null,null,null,null,null,null,null,null,null,null,null,null,null,null,null,null,null,null,null,null,null,null,null,"Rental Rehabilitation"]
[null,null,null,null,null,null,null,null,null,null,null,null,null,null,null,null,null,null,null,null,null,null,null,null,null,null,null,null,null,null,null,null,null,null,null,null,null,null,null,null,null,null,null,null,null,null,null,null,null,null,null,null,null,null,null,null,null,null,null,null,null,null,null,null,null,null,null,null,null,null,null,null,null,null,null,null,null,null,null,null,null,null,null,null,null,null,null,null,null,null,null,null,null,null,null,null,null,null,null,null,null,null,null,null,null,null,null,null,null,null,null,null,null,null,null,null,null,null,null,null,null,null,null,null,null,null,null,null,null,null,null,null,null,null,null,null,null,null,null,null,null,null,null,null,null,null,null,null,null,null,null,null,null,null,null,null,null,null,null,null,null,null,null,null,null,null,null,null,null,null,null,null,null,null,"Rental New Const. acqusition",null,null,null,null,null,null,null,null,null,null,null,null,null,null,null,null,null,null,null,null,null,null,null,null,null,null,null,null,null,null,null,null,"FTHB Acquisition Only"]
[null,null,null,null,null,null,null,null,null,null,null,null,null,null,null,null,null,null,null,null,null,null,null,null,null,null,null,null,null,null,null,null,null,null,null,null,null,null,null,null,null,null,null,null,null,null,null,null,null,null,null,null,null,null,null,null,null,null,null,null,null,null,null,null,null,null,null,null,null,null,null,null,null,null,null,null,null,null,null,null,null,null,null,null,null,null,null,null,null,null,null,null,null,null,null,null,null,null,null,null,null,null,null,null,null,null,null,null,null,null,null,null,null,null,null,null,null,null,null,null,null,null,null,null,null,null,null,null,null,null,null,null,null,null,null,null,null,null,null,null,null,null,null,null,null,null,null,null,null,null,null,null,null,null,null,null,null,null,null,null,null,null,null,null,null,null,null,null,null,null,null,null,null,null,"Rental New Const. w/o acqusition",null,null,null,null,null,null,null,null,null,null,null,null,null,null,null,null,null,null,null,null,null,null,null,null,null,null,null,null,null,null,null,null,"FTHB Acquisition Rehabilitation"]
[null,null,null,null,null,null,null,null,null,null,null,null,null,null,null,null,null,null,null,null,null,null,null,null,null,null,null,null,null,null,null,null,null,null,null,null,null,null,null,null,null,null,null,null,null,null,null,null,null,null,null,null,null,null,null,null,null,null,null,null,null,null,null,null,null,null,null,null,null,null,null,null,null,null,null,null,null,null,null,null,null,null,null,null,null,null,null,null,null,null,null,null,null,null,null,null,null,null,null,null,null,null,null,null,null,null,null,null,null,null,null,null,null,null,null,null,null,null,null,null,null,null,null,null,null,null,null,null,null,null,null,null,null,null,null,null,null,null,null,null,null,null,null,null,null,null,null,null,null,null,null,null,null,null,null,null,null,null,null,null,null,null,null,null,null,null,null,null,null,null,null,null,null,null,"Rental Rehabilitation",null,null,null,null,null,null,null,null,null,null,null,null,null,null,null,null,null,null,null,null,null,null,null,null,null,null,null,null,null,null,null,null,"OOR"]
[null,null,null,null,null,null,null,null,null,null,null,null,null,null,null,null,null,null,null,null,null,null,null,null,null,null,null,null,null,null,null,null,null,null,null,null,null,null,null,null,null,null,null,null,null,null,null,null,null,null,null,null,null,null,null,null,null,null,null,null,null,null,null,null,null,null,null,null,null,null,null,null,null,null,null,null,null,null,null,null,null,null,null,null,null,null,null,null,null,null,null,null,null,null,null,null,null,null,null,null,null,null,null,null,null,null,null,null,null,null,null,null,null,null,null,null,null,null,null,null,null,null,null,null,null,null,null,null,null,null,null,null,null,null,null,null,null,null,null,null,null,null,null,null,null,null,null,null,null,null,null,null,null,null,null,null,null,null,null,null,null,null,null,null,null,null,null,null,null,null,null,null,null,null,"FTHB Acquisition Rehabilitation",null,null,null,null,null,null,null,null,null,null,null,null,null,null,null,null,null,null,null,null,null,null,null,null,null,null,null,null,null,null,null,null,"TBRA"]

{"sheet":"Link Data A","index":2,"n_rows":4,"n_cols":32,"rows_kept":4,"cut":false,"hidden":true,"merged":[]}
["2014-2015 HOME Recipient",null,null,null,null,null," Activity Beginning Program Income Balance"," Activity Beginning Recaptured Funds Balance","Activity Beginning Balance Sum 1a & 1b","Activity Program Income Received","Activity Recaptured Funds Received","Total Pi & Recaptured Funds and Admin Received","Activity Only PI  RF Received         (Total of 1 on form)             2A +2B-5"," Activity Program Income Disb On HOME SA Activities","Activities Recaptured Funds Disb with  SA HOME Activities","Activity HOMESA  Activities Total Disb with  3a + 3b","PI Only Projects Disbursed ","Recap Only Projects Disbursed","Amount Retained for Admin","PI Only Projects Total Disbursed 4A + 4B","Total LA PI  & Recap Disbursed 3c + 4c","Activity Ending Balance LA PI  & Recap Balance ","PI Admin Beginning Balance (a)","PI ADMIN Received (b)","PI ADMIN Disbursed (c)  ","PI ADMIN Balance","Total Begginning  Balance","Total PI/Recaptured  & ADMIN Disbursed ","Total Ending Balance PI/Recaptured  & ADMIN "]
[null,null,null,null,null,null,"line 1a","line 1b","1c","line 2a (B1)","line 2b","B (2C)","2d","line 3a","line 3b","line 3c","4a","4b",5,"4c","line 6","line 7","Admin","Admin","Admin","Admin","A","C","D (7)"]
[1,"Formula","Preparer","Preparer Org","Phone","Email",2,3,4,5,6,7,"Formula",9,10,11,12,13,14,15,16,17,18,19,20,21,"Formula","Formula","Formula",22,23,24]
[{"$f":"'Att A'!AC13","v":"Select Option"},{"$f":"Matrix!GY43","v":1},{"$f":"IF(B2=2,Matrix!CT25,'Att A'!D18)","v":""},{"$f":"IF(B2=2,Matrix!ET25,'Att A'!BK18)","v":""},{"$f":"IF(B2=2,Matrix!CT35,'Att A'!D23)","v":""},{"$f":"IF(B2=2,Matrix!ET35,'Att A'!AM23)","v":""},{"$f":"'Att A'!CK59","v":0},{"$f":"'Att A'!DF59","v":0},{"$f":"'Att A'!EA59","v":0},{"$f":"'Att A'!CK63","v":0},{"$f":"'Att A'!DF63","v":0},{"$f":"'Att A'!EA63","v":0},null,{"$f":"'Att A'!CK72","v":0},{"$f":"'Att A'!DF72","v":0},{"$f":"'Att A'!EA72","v":0},{"$f":"'Att A'!CK78","v":0},{"$f":"'Att A'!DF78","v":0},{"$f":"'Att A'!BP84","v":0},{"$f":"'Att A'!EA78","v":0},{"$f":"'Att A'!EA90","v":0},{"$f":"'Att A'!EA94","v":0},{"$f":"'Att A'!CK105","v":0},{"$f":"'Att A'!CK109","v":0},{"$f":"'Att A'!CK113","v":0},{"$f":"'Att A'!CK117","v":0},null,null,null,{"$f":"'Att A'!CL130","v":0},{"$f":"'Att A'!DG130","v":0},{"$f":"'Att A'!DP130","v":0}]

{"sheet":"Link Data A1","index":3,"n_rows":18,"n_cols":15,"rows_kept":18,"cut":false,"hidden":true,"merged":[]}
[{"$f":"'Att A'!AC13","v":"Select Option"},{"$f":"'Att A'!E170","v":0},{"$f":"'Att A'!AF170","v":0},{"$f":"'Att A'!BH170","v":0},{"$f":"'Att A'!EB170","v":0},{"$f":"'Att A'!Z231","v":0},{"$f":"'Att A'!AK231","v":0},{"$f":"'Att A'!AT231","v":0},{"$f":"'Att A'!CK231","v":0},{"$f":"'Att A'!CV231","v":0},{"$f":"'Att A'!DG231","v":0},{"$f":"'Att A'!DN231","v":0},{"$f":"'Att A'!EB231","v":0},{"$f":"'Att A'!EH231","v":0},{"$f":"'Att A'!EO231","v":0}]
[{"$f":"'Att A'!AC13","v":"Select Option"},{"$f":"'Att A'!E171","v":0},{"$f":"'Att A'!AF171","v":0},{"$f":"'Att A'!BH171","v":0},{"$f":"'Att A'!EB171","v":0},{"$f":"'Att A'!Z232","v":0},{"$f":"'Att A'!AK232","v":0},{"$f":"'Att A'!AT232","v":0},{"$f":"'Att A'!CK232","v":0},{"$f":"'Att A'!CV232","v":0},{"$f":"'Att A'!DG232","v":0},{"$f":"'Att A'!DN232","v":0},{"$f":"'Att A'!EB232","v":0},{"$f":"'Att A'!EH232","v":0},{"$f":"'Att A'!EO232","v":0}]
[{"$f":"'Att A'!AC13","v":"Select Option"},{"$f":"'Att A'!E172","v":0},{"$f":"'Att A'!AF172","v":0},{"$f":"'Att A'!BH172","v":0},{"$f":"'Att A'!EB172","v":0},{"$f":"'Att A'!Z233","v":0},{"$f":"'Att A'!AK233","v":0},{"$f":"'Att A'!AT233","v":0},{"$f":"'Att A'!CK233","v":0},{"$f":"'Att A'!CV233","v":0},{"$f":"'Att A'!DG233","v":0},{"$f":"'Att A'!DN233","v":0},{"$f":"'Att A'!EB233","v":0},{"$f":"'Att A'!EH233","v":0},{"$f":"'Att A'!EO233","v":0}]
[{"$f":"'Att A'!AC13","v":"Select Option"},{"$f":"'Att A'!E173","v":0},{"$f":"'Att A'!AF173","v":0},{"$f":"'Att A'!BH173","v":0},{"$f":"'Att A'!EB173","v":0},{"$f":"'Att A'!Z234","v":0},{"$f":"'Att A'!AK234","v":0},{"$f":"'Att A'!AT234","v":0},{"$f":"'Att A'!CK234","v":0},{"$f":"'Att A'!CV234","v":0},{"$f":"'Att A'!DG234","v":0},{"$f":"'Att A'!DN234","v":0},{"$f":"'Att A'!EB234","v":0},{"$f":"'Att A'!EH234","v":0},{"$f":"'Att A'!EO234","v":0}]
[{"$f":"'Att A'!AC13","v":"Select Option"},{"$f":"'Att A'!E174","v":0},{"$f":"'Att A'!AF174","v":0},{"$f":"'Att A'!BH174","v":0},{"$f":"'Att A'!EB174","v":0},{"$f":"'Att A'!Z235","v":0},{"$f":"'Att A'!AK235","v":0},{"$f":"'Att A'!AT235","v":0},{"$f":"'Att A'!CK235","v":0},{"$f":"'Att A'!CV235","v":0},{"$f":"'Att A'!DG235","v":0},{"$f":"'Att A'!DN235","v":0},{"$f":"'Att A'!EB235","v":0},{"$f":"'Att A'!EH235","v":0},{"$f":"'Att A'!EO235","v":0}]
[{"$f":"'Att A'!AC13","v":"Select Option"},{"$f":"'Att A'!E175","v":0},{"$f":"'Att A'!AF175","v":0},{"$f":"'Att A'!BH175","v":0},{"$f":"'Att A'!EB175","v":0},{"$f":"'Att A'!Z236","v":0},{"$f":"'Att A'!AK236","v":0},{"$f":"'Att A'!AT236","v":0},{"$f":"'Att A'!CK236","v":0},{"$f":"'Att A'!CV236","v":0},{"$f":"'Att A'!DG236","v":0},{"$f":"'Att A'!DN236","v":0},{"$f":"'Att A'!EB236","v":0},{"$f":"'Att A'!EH236","v":0},{"$f":"'Att A'!EO236","v":0}]
[{"$f":"'Att A'!AC13","v":"Select Option"},{"$f":"'Att A'!E176","v":0},{"$f":"'Att A'!AF176","v":0},{"$f":"'Att A'!BH176","v":0},{"$f":"'Att A'!EB176","v":0},{"$f":"'Att A'!Z237","v":0},{"$f":"'Att A'!AK237","v":0},{"$f":"'Att A'!AT237","v":0},{"$f":"'Att A'!CK237","v":0},{"$f":"'Att A'!CV237","v":0},{"$f":"'Att A'!DG237","v":0},{"$f":"'Att A'!DN237","v":0},{"$f":"'Att A'!EB237","v":0},{"$f":"'Att A'!EH237","v":0},{"$f":"'Att A'!EO237","v":0}]
[{"$f":"'Att A'!AC13","v":"Select Option"},{"$f":"'Att A'!E177","v":0},{"$f":"'Att A'!AF177","v":0},{"$f":"'Att A'!BH177","v":0},{"$f":"'Att A'!EB177","v":0},{"$f":"'Att A'!Z238","v":0},{"$f":"'Att A'!AK238","v":0},{"$f":"'Att A'!AT238","v":0},{"$f":"'Att A'!CK238","v":0},{"$f":"'Att A'!CV238","v":0},{"$f":"'Att A'!DG238","v":0},{"$f":"'Att A'!DN238","v":0},{"$f":"'Att A'!EB238","v":0},{"$f":"'Att A'!EH238","v":0},{"$f":"'Att A'!EO238","v":0}]
[{"$f":"'Att A'!AC13","v":"Select Option"},{"$f":"'Att A'!E178","v":0},{"$f":"'Att A'!AF178","v":0},{"$f":"'Att A'!BH178","v":0},{"$f":"'Att A'!EB178","v":0},{"$f":"'Att A'!Z239","v":0},{"$f":"'Att A'!AK239","v":0},{"$f":"'Att A'!AT239","v":0},{"$f":"'Att A'!CK239","v":0},{"$f":"'Att A'!CV239","v":0},{"$f":"'Att A'!DG239","v":0},{"$f":"'Att A'!DN239","v":0},{"$f":"'Att A'!EB239","v":0},{"$f":"'Att A'!EH239","v":0},{"$f":"'Att A'!EO239","v":0}]
[{"$f":"'Att A'!AC13","v":"Select Option"},{"$f":"'Att A'!E179","v":0},{"$f":"'Att A'!AF179","v":0},{"$f":"'Att A'!BH179","v":0},{"$f":"'Att A'!EB179","v":0},{"$f":"'Att A'!Z240","v":0},{"$f":"'Att A'!AK240","v":0},{"$f":"'Att A'!AT240","v":0},{"$f":"'Att A'!CK240","v":0},{"$f":"'Att A'!CV240","v":0},{"$f":"'Att A'!DG240","v":0},{"$f":"'Att A'!DN240","v":0},{"$f":"'Att A'!EB240","v":0},{"$f":"'Att A'!EH240","v":0},{"$f":"'Att A'!EO240","v":0}]
[{"$f":"'Att A'!AC13","v":"Select Option"},{"$f":"'Att A'!E180","v":0},{"$f":"'Att A'!AF180","v":0},{"$f":"'Att A'!BH180","v":0},{"$f":"'Att A'!EB180","v":0},{"$f":"'Att A'!Z241","v":0},{"$f":"'Att A'!AK241","v":0},{"$f":"'Att A'!AT241","v":0},{"$f":"'Att A'!CK241","v":0},{"$f":"'Att A'!CV241","v":0},{"$f":"'Att A'!DG241","v":0},{"$f":"'Att A'!DN241","v":0},{"$f":"'Att A'!EB241","v":0},{"$f":"'Att A'!EH241","v":0},{"$f":"'Att A'!EO241","v":0}]
[{"$f":"'Att A'!AC13","v":"Select Option"},{"$f":"'Att A'!E181","v":0},{"$f":"'Att A'!AF181","v":0},{"$f":"'Att A'!BH181","v":0},{"$f":"'Att A'!EB181","v":0},{"$f":"'Att A'!Z242","v":0},{"$f":"'Att A'!AK242","v":0},{"$f":"'Att A'!AT242","v":0},{"$f":"'Att A'!CK242","v":0},{"$f":"'Att A'!CV242","v":0},{"$f":"'Att A'!DG242","v":0},{"$f":"'Att A'!DN242","v":0},{"$f":"'Att A'!EB242","v":0},{"$f":"'Att A'!EH242","v":0},{"$f":"'Att A'!EO242","v":0}]
[{"$f":"'Att A'!AC13","v":"Select Option"},{"$f":"'Att A'!E182","v":0},{"$f":"'Att A'!AF182","v":0},{"$f":"'Att A'!BH182","v":0},{"$f":"'Att A'!EB182","v":0},{"$f":"'Att A'!Z243","v":0},{"$f":"'Att A'!AK243","v":0},{"$f":"'Att A'!AT243","v":0},{"$f":"'Att A'!CK243","v":0},{"$f":"'Att A'!CV243","v":0},{"$f":"'Att A'!DG243","v":0},{"$f":"'Att A'!DN243","v":0},{"$f":"'Att A'!EB243","v":0},{"$f":"'Att A'!EH243","v":0},{"$f":"'Att A'!EO243","v":0}]
[{"$f":"'Att A'!AC13","v":"Select Option"},{"$f":"'Att A'!E183","v":0},{"$f":"'Att A'!AF183","v":0},{"$f":"'Att A'!BH183","v":0},{"$f":"'Att A'!EB183","v":0},{"$f":"'Att A'!Z244","v":0},{"$f":"'Att A'!AK244","v":0},{"$f":"'Att A'!AT244","v":0},{"$f":"'Att A'!CK244","v":0},{"$f":"'Att A'!CV244","v":0},{"$f":"'Att A'!DG244","v":0},{"$f":"'Att A'!DN244","v":0},{"$f":"'Att A'!EB244","v":0},{"$f":"'Att A'!EH244","v":0},{"$f":"'Att A'!EO244","v":0}]
[{"$f":"'Att A'!AC13","v":"Select Option"},{"$f":"'Att A'!E184","v":0},{"$f":"'Att A'!AF184","v":0},{"$f":"'Att A'!BH184","v":0},{"$f":"'Att A'!EB184","v":0},{"$f":"'Att A'!Z245","v":0},{"$f":"'Att A'!AK245","v":0},{"$f":"'Att A'!AT245","v":0},{"$f":"'Att A'!CK245","v":0},{"$f":"'Att A'!CV245","v":0},{"$f":"'Att A'!DG245","v":0},{"$f":"'Att A'!DN245","v":0},{"$f":"'Att A'!EB245","v":0},{"$f":"'Att A'!EH245","v":0},{"$f":"'Att A'!EO245","v":0}]
[{"$f":"'Att A'!AC13","v":"Select Option"},{"$f":"'Att A'!E185","v":0},{"$f":"'Att A'!AF185","v":0},{"$f":"'Att A'!BH185","v":0},{"$f":"'Att A'!EB185","v":0},{"$f":"'Att A'!Z246","v":0},{"$f":"'Att A'!AK246","v":0},{"$f":"'Att A'!AT246","v":0},{"$f":"'Att A'!CK246","v":0},{"$f":"'Att A'!CV246","v":0},{"$f":"'Att A'!DG246","v":0},{"$f":"'Att A'!DN246","v":0},{"$f":"'Att A'!EB246","v":0},{"$f":"'Att A'!EH246","v":0},{"$f":"'Att A'!EO246","v":0}]
[{"$f":"'Att A'!AC13","v":"Select Option"},{"$f":"'Att A'!E186","v":0},{"$f":"'Att A'!AF186","v":0},{"$f":"'Att A'!BH186","v":0},{"$f":"'Att A'!EB186","v":0},{"$f":"'Att A'!Z247","v":0},{"$f":"'Att A'!AK247","v":0},{"$f":"'Att A'!AT247","v":0},{"$f":"'Att A'!CK247","v":0},{"$f":"'Att A'!CV247","v":0},{"$f":"'Att A'!DG247","v":0},{"$f":"'Att A'!DN247","v":0},{"$f":"'Att A'!EB247","v":0},{"$f":"'Att A'!EH247","v":0},{"$f":"'Att A'!EO247","v":0}]
[{"$f":"'Att A'!AC13","v":"Select Option"},{"$f":"'Att A'!E187","v":0},{"$f":"'Att A'!AF187","v":0},{"$f":"'Att A'!BH187","v":0},{"$f":"'Att A'!EB187","v":0},{"$f":"'Att A'!Z248","v":0},{"$f":"'Att A'!AK248","v":0},{"$f":"'Att A'!AT248","v":0},{"$f":"'Att A'!CK248","v":0},{"$f":"'Att A'!CV248","v":0},{"$f":"'Att A'!DG248","v":0},{"$f":"'Att A'!DN248","v":0},{"$f":"'Att A'!EB248","v":0},{"$f":"'Att A'!EH248","v":0},{"$f":"'Att A'!EO248","v":0}]

{"sheet":"Att B","index":4,"n_rows":165,"n_cols":270,"rows_kept":165,"cut":false,"hidden":false,"merged":[[112,100,112,108],[113,100,113,108],[115,100,115,108],[116,100,116,108],[117,100,117,108],[107,100,107,108],[111,124,111,134],[112,124,112,134],[113,124,113,134],[115,124,115,134],[116,124,116,134],[117,124,117,134],[110,118,110,123],[111,118,111,123],[112,118,112,123],[113,118,113,123],[115,118,115,123],[116,118,116,123],[117,118,117,123],[107,118,107,123],[107,124,107,134],[109,118,109,123],[109,124,109,134],[117,109,117,117],[71,182,71,187],[71,188,71,193],[71,76,71,86],[71,87,71,99],[71,100,71,108],[71,109,71,117],[71,118,71,123],[71,124,71,134],[112,13,112,22],[111,13,111,22],[110,13,110,22],[106,13,106,22],[105,13,105,22],[105,23,105,34],[106,23,106,34],[110,23,110,34],[111,23,111,34],[112,23,112,34],[105,35,105,45],[106,46,106,55],[110,46,110,55],[111,46,111,55],[112,46,112,55],[108,23,108,34],[69,64,69,75],[69,76,69,86],[69,87,69,99],[69,100,69,108],[69,109,69,117],[70,171,70,181],[70,182,70,187],[70,188,70,193],[71,1,71,12],[71,13,71,22],[71,23,71,34],[71,35,71,45],[71,46,71,55],[71,56,71,63],[71,64,71,75],[70,100,70,108],[70,109,70,117],[70,118,70,123],[70,124,70,134],[70,135,70,150],[70,151,70,170],[71,135,71,150],[71,151,71,170],[71,171,71,181],[70,1,70,12],[70,13,70,22],[70,23,70,34],[70,35,70,45],[70,46,70,55],[70,56,70,63],[70,64,70,75],[70,76,70,86],[70,87,70,99],[68,135,68,150],[68,151,68,170],[68,171,68,181],[68,182,68,187],[68,188,68,193],[68,118,68,123],[68,124,68,134],[69,1,69,12],[69,13,69,22],[69,23,69,34],[69,35,69,45],[69,46,69,55],[68,76,68,86],[68,87,68,99],[68,100,68,108],[68,109,68,117],[69,188,69,193],[69,118,69,123],[69,124,69,134],[69,135,69,150],[69,151,69,170],[69,171,69,181],[69,182,69,187],[69,56,69,63],[68,1,68,12],[68,13,68,22],[68,23,68,34],[68,35,68,45],[68,46,68,55],[68,56,68,63],[68,64,68,75],[67,100,67,108],[67,109,67,117],[67,1,67,12],[67,13,67,22],[67,23,67,34],[67,35,67,45],[67,46,67,55],[66,100,66,108],[66,109,66,117],[66,56,66,63],[66,64,66,75],[66,76,66,86],[66,87,66,99],[67,171,67,181],[67,182,67,187],[67,188,67,193],[67,118,67,123],[67,124,67,134],[67,135,67,150],[67,151,67,170],[67,56,67,63],[67,64,67,75],[67,76,67,86],[67,87,67,99],[65,188,65,193],[65,118,65,123],[65,124,65,134],[66,1,66,12],[66,13,66,22],[66,23,66,34],[66,35,66,45],[66,46,66,55],[65,76,65,86],[65,87,65,99],[65,100,65,108],[65,109,65,117],[66,188,66,193],[66,118,66,123],[66,124,66,134],[66,135,66,150],[66,151,66,170],[66,171,66,181],[66,182,66,187],[65,1,65,12],[65,13,65,22],[65,23,65,34],[65,35,65,45],[65,46,65,55],[65,151,65,170],[65,171,65,181],[65,182,65,187],[64,1,64,12],[64,13,64,22],[64,23,64,34],[64,35,64,45],[64,46,64,55],[64,56,64,63],[64,64,64,75],[64,76,64,86],[64,87,64,99],[65,56,65,63],[65,64,65,75],[65,135,65,150],[62,100,62,108],[62,109,62,117],[62,124,62,134],[63,188,63,193],[63,118,63,123],[63,124,63,134],[63,135,63,150],[63,151,63,170],[63,171,63,181],[63,182,63,187],[63,64,63,75],[63,76,63,86],[63,87,63,99],[63,100,63,108],[63,109,63,117],[64,171,64,181],[64,182,64,187],[64,188,64,193],[63,1,63,12],[63,13,63,22],[63,23,63,34],[63,35,63,45],[63,46,63,55],[63,56,63,63],[64,100,64,108],[64,109,64,117],[64,118,64,123],[64,124,64,134],[64,135,64,150],[64,151,64,170],[61,171,61,181],[61,182,61,187],[61,188,61,193],[61,118,61,123],[61,124,61,134],[61,135,61,150],[61,151,61,170],[62,1,62,12],[62,13,62,22],[62,23,62,34],[62,35,62,45],[62,46,62,55],[62,56,62,63],[62,64,62,75],[61,100,61,108],[61,109,61,117],[62,135,62,150],[62,151,62,170],[62,171,62,181],[62,182,62,187],[62,188,62,193],[62,118,62,123],[62,76,62,86],[62,87,62,99],[61,1,61,12],[61,13,61,22],[61,23,61,34],[61,35,61,45],[61,46,61,55],[61,56,61,63],[61,64,61,75],[61,76,61,86],[61,87,61,99],[43,100,59,108],[60,171,60,181],[60,182,60,187],[60,188,60,193],[60,203,60,210],[60,100,60,108],[60,109,60,117],[60,118,60,123],[60,124,60,134],[60,135,60,150],[60,151,60,170],[43,109,59,117],[43,118,54,134],[43,135,54,193],[55,118,59,123],[55,124,59,134],[55,135,59,150],[55,151,59,170],[55,171,59,181],[55,182,59,187],[5,212,7,250],[8,237,10,250],[8,212,10,223],[8,224,10,229],[8,230,10,236],[22,212,24,242],[26,212,28,242],[18,31,20,115],[18,2,20,28],[23,2,25,41],[23,44,25,94],[23,98,25,129],[23,132,25,191],[26,2,27,23],[26,44,27,63],[26,98,27,107],[26,132,27,147],[18,151,20,175],[18,146,20,150],[79,2,81,28],[79,31,81,95],[79,106,81,134],[79,136,81,192],[43,1,59,12],[43,13,59,22],[43,23,59,34],[43,35,59,45],[43,46,59,55],[43,56,59,63],[43,64,59,75],[43,76,59,86],[43,87,59,99],[55,188,59,193],[60,1,60,12],[60,13,60,22],[60,23,60,34],[74,1,74,193],[60,35,60,45],[60,46,60,55],[60,56,60,63],[60,64,60,75],[60,76,60,86],[60,87,60,99],[83,100,99,108],[83,109,99,117],[83,118,94,134],[83,135,94,193],[95,118,99,123],[95,124,99,134],[95,135,99,150],[95,151,99,170],[95,171,99,181],[95,182,99,187],[95,188,99,193],[83,1,99,12],[83,13,99,22],[83,23,99,34],[83,35,99,45],[83,46,99,55],[83,56,99,63],[83,64,99,75],[83,76,99,86],[83,87,99,99],[100,1,100,12],[100,13,100,22],[100,23,100,34],[100,35,100,45],[100,46,100,55],[100,56,100,63],[100,64,100,75],[100,76,100,86],[100,87,100,99],[100,100,100,108],[100,109,100,117],[100,118,100,123],[100,124,100,134],[100,135,100,150],[100,151,100,170],[100,171,100,181],[100,182,100,187],[100,188,100,193],[101,1,101,12],[101,13,101,22],[101,23,101,34],[101,35,101,45],[101,46,101,55],[101,56,101,63],[101,64,101,75],[101,76,101,86],[101,87,101,99],[101,100,101,108],[101,109,101,117],[101,118,101,123],[101,124,101,134],[101,135,101,150],[101,151,101,170],[101,171,101,181],[101,182,101,187],[101,188,101,193],[102,1,102,12],[102,13,102,22],[102,23,102,34],[102,35,102,45],[102,46,102,55],[102,56,102,63],[102,64,102,75],[102,76,102,86],[102,87,102,99],[102,100,102,108],[102,109,102,117],[102,118,102,123],[102,124,102,134],[102,135,102,150],[102,151,102,170],[102,171,102,181],[102,182,102,187],[102,188,102,193],[103,1,103,12],[103,13,103,22],[103,23,103,34],[103,35,103,45],[103,46,103,55],[103,56,103,63],[103,64,103,75],[103,76,103,86],[103,87,103,99],[103,100,103,108],[103,109,103,117],[103,118,103,123],[103,124,103,134],[103,135,103,150],[103,151,103,170],[103,171,103,181],[103,182,103,187],[103,188,103,193],[104,188,104,193],[104,1,104,12],[104,13,104,22],[104,23,104,34],[104,35,104,45],[104,46,104,55],[104,56,104,63],[104,64,104,75],[104,76,104,86],[104,87,104,99],[108,151,108,170],[105,46,105,55],[106,56,106,63],[105,76,105,86],[106,76,106,86],[107,109,107,117],[105,1,105,12],[106,1,106,12],[104,182,104,187],[105,56,105,63],[108,35,108,45],[108,46,108,55],[108,56,108,63],[108,64,108,75],[108,76,108,86],[108,87,108,99],[105,100,105,108],[106,100,106,108],[105,118,105,123],[106,118,106,123],[108,182,108,187],[107,46,107,55],[107,56,107,63],[107,64,107,75],[108,188,108,193],[107,135,107,150],[107,151,107,170],[107,171,107,181],[107,182,107,187],[107,188,107,193],[107,1,107,12],[104,100,104,108],[104,109,104,117],[104,118,104,123],[104,124,104,134],[104,135,104,150],[104,151,104,170],[104,171,104,181],[106,35,106,45],[105,64,105,75],[106,64,106,75],[105,87,105,99],[106,87,106,99],[105,109,105,117],[106,109,106,117],[105,124,105,134],[106,124,106,134],[107,35,107,45],[75,1,75,193],[76,1,76,193],[114,100,114,108],[114,109,114,117],[114,118,114,123],[114,124,114,134],[114,135,114,150],[114,151,114,170],[114,171,114,181],[114,182,114,187],[114,188,114,193],[114,1,114,12],[114,13,114,22],[114,23,114,34],[109,188,109,193],[111,1,111,12],[111,135,111,150],[111,151,111,170],[111,171,111,181],[111,182,111,187],[111,188,111,193],[112,1,112,12],[108,171,108,181],[112,151,112,170],[112,171,112,181],[112,182,112,187],[112,188,112,193],[109,100,109,108],[109,109,109,117],[109,23,109,34],[109,35,109,45],[109,46,109,55],[109,56,109,63],[109,64,109,75],[109,76,109,86],[109,87,109,99],[110,35,110,45],[111,35,111,45],[112,35,112,45],[110,87,110,99],[111,87,111,99],[112,87,112,99],[110,109,110,117],[111,109,111,117],[112,109,112,117],[110,124,110,134],[112,64,112,75],[110,151,110,170],[107,76,107,86],[107,87,107,99],[108,1,108,12],[108,13,108,22],[112,135,112,150],[110,64,110,75],[111,64,111,75],[110,56,110,63],[111,56,111,63],[112,56,112,63],[110,76,110,86],[111,76,111,86],[108,100,108,108],[108,109,108,117],[108,118,108,123],[108,124,108,134],[108,135,108,150],[112,76,112,86],[110,100,110,108],[111,100,111,108],[110,1,110,12],[110,135,110,150],[107,13,107,22],[107,23,107,34],[105,135,105,150],[105,151,105,170],[105,171,105,181],[105,182,105,187],[105,188,105,193],[106,135,106,150],[106,151,106,170],[106,171,106,181],[106,182,106,187],[106,188,106,193],[110,171,110,181],[110,182,110,187],[110,188,110,193],[109,1,109,12],[109,13,109,22],[109,135,109,150],[109,151,109,170],[109,171,109,181],[109,182,109,187],[113,135,113,150],[113,151,113,170],[113,171,113,181],[113,182,113,187],[113,188,113,193],[115,1,115,12],[115,135,115,150],[115,151,115,170],[115,171,115,181],[115,182,115,187],[115,188,115,193],[114,35,114,45],[114,46,114,55],[114,56,114,63],[114,64,114,75],[114,76,114,86],[114,87,114,99],[113,35,113,45],[115,35,115,45],[113,87,113,99],[115,87,115,99],[113,109,113,117],[115,109,115,117],[113,64,113,75],[118,1,118,98],[116,23,116,34],[116,13,116,22],[116,56,116,63],[117,56,117,63],[116,87,116,99],[117,87,117,99],[113,1,113,12],[115,64,115,75],[115,23,115,34],[115,13,115,22],[113,13,113,22],[115,46,115,55],[113,56,113,63],[115,56,115,63],[113,23,113,34],[113,46,113,55],[113,76,113,86],[115,76,115,86],[116,76,116,86],[117,76,117,86],[120,1,120,193],[121,1,121,193],[122,1,122,193],[116,1,116,12],[116,135,116,150],[116,151,116,170],[116,171,116,181],[116,182,116,187],[116,188,116,193],[117,1,117,12],[117,135,117,150],[117,151,117,170],[117,171,117,181],[117,182,117,187],[117,188,117,193],[116,35,116,45],[117,35,117,45],[117,23,117,34],[117,13,117,22],[116,46,116,55],[117,46,117,55],[116,64,116,75],[117,64,117,75],[116,109,116,117],[125,2,127,28],[125,31,127,95],[125,106,127,134],[125,136,127,192],[129,1,145,12],[129,13,145,22],[129,23,145,34],[129,35,145,45],[129,46,145,55],[129,56,145,63],[129,64,145,75],[129,76,145,86],[129,87,145,99],[129,100,145,108],[129,109,145,117],[129,118,140,134],[129,135,140,193],[141,118,145,123],[141,124,145,134],[141,135,145,150],[141,151,145,170],[141,171,145,181],[141,182,145,187],[141,188,145,193],[146,1,146,12],[146,13,146,22],[146,23,146,34],[146,35,146,45],[146,46,146,55],[146,56,146,63],[146,64,146,75],[146,76,146,86],[146,87,146,99],[146,100,146,108],[146,109,146,117],[146,118,146,123],[146,124,146,134],[146,135,146,150],[146,151,146,170],[146,171,146,181],[146,182,146,187],[146,188,146,193],[147,1,147,12],[147,13,147,22],[147,23,147,34],[147,35,147,45],[147,46,147,55],[147,56,147,63],[147,64,147,75],[147,76,147,86],[147,87,147,99],[147,100,147,108],[147,109,147,117],[147,118,147,123],[147,124,147,134],[147,135,147,150],[147,151,147,170],[147,171,147,181],[147,182,147,187],[147,188,147,193],[148,1,148,12],[148,13,148,22],[148,23,148,34],[148,35,148,45],[148,46,148,55],[148,56,148,63],[148,64,148,75],[148,76,148,86],[148,87,148,99],[148,100,148,108],[148,109,148,117],[148,118,148,123],[148,124,148,134],[148,135,148,150],[148,151,148,170],[148,171,148,181],[148,182,148,187],[148,188,148,193],[149,1,149,12],[149,13,149,22],[149,23,149,34],[149,35,149,45],[149,46,149,55],[149,56,149,63],[149,64,149,75],[149,76,149,86],[149,87,149,99],[149,100,149,108],[149,109,149,117],[149,118,149,123],[149,124,149,134],[149,135,149,150],[149,151,149,170],[149,171,149,181],[149,182,149,187],[149,188,149,193],[150,1,150,12],[150,13,150,22],[150,23,150,34],[150,35,150,45],[150,46,150,55],[150,56,150,63],[150,64,150,75],[150,76,150,86],[150,87,150,99],[150,100,150,108],[150,109,150,117],[150,118,150,123],[150,124,150,134],[150,135,150,150],[150,151,150,170],[150,171,150,181],[150,182,150,187],[150,188,150,193],[151,1,151,12],[151,13,151,22],[151,23,151,34],[151,35,151,45],[151,46,151,55],[151,56,151,63],[151,64,151,75],[151,76,151,86],[151,87,151,99],[151,100,151,108],[151,109,151,117],[151,118,151,123],[151,124,151,134],[151,135,151,150],[151,151,151,170],[151,171,151,181],[151,182,151,187],[151,188,151,193],[152,1,152,12],[152,13,152,22],[152,23,152,34],[152,35,152,45],[152,46,152,55],[152,56,152,63],[152,64,152,75],[152,76,152,86],[152,87,152,99],[152,100,152,108],[152,109,152,117],[152,118,152,123],[152,124,152,134],[152,135,152,150],[152,151,152,170],[152,171,152,181],[152,182,152,187],[152,188,152,193],[153,1,153,12],[153,13,153,22],[153,23,153,34],[153,35,153,45],[153,46,153,55],[153,56,153,63],[153,64,153,75],[153,76,153,86],[153,87,153,99],[153,100,153,108],[153,109,153,117],[153,118,153,123],[153,124,153,134],[153,135,153,150],[153,151,153,170],[153,171,153,181],[153,182,153,187],[153,188,153,193],[154,1,154,12],[154,13,154,22],[154,23,154,34],[154,35,154,45],[154,46,154,55],[154,56,154,63],[154,64,154,75],[154,76,154,86],[154,87,154,99],[154,100,154,108],[154,109,154,117],[154,118,154,123],[154,124,154,134],[154,135,154,150],[154,151,154,170],[154,171,154,181],[154,182,154,187],[154,188,154,193],[155,1,155,12],[155,13,155,22],[155,23,155,34],[155,35,155,45],[155,46,155,55],[155,56,155,63],[155,64,155,75],[155,76,155,86],[155,87,155,99],[155,100,155,108],[155,109,155,117],[155,118,155,123],[155,124,155,134],[155,135,155,150],[155,151,155,170],[155,171,155,181],[155,182,155,187],[155,188,155,193],[156,1,156,12],[156,13,156,22],[156,23,156,34],[156,35,156,45],[156,46,156,55],[156,56,156,63],[156,64,156,75],[156,76,156,86],[156,87,156,99],[156,100,156,108],[156,109,156,117],[156,118,156,123],[156,124,156,134],[156,135,156,150],[156,151,156,170],[156,171,156,181],[156,182,156,187],[156,188,156,193],[157,1,157,12],[157,13,157,22],[157,23,157,34],[157,35,157,45],[157,46,157,55],[157,56,157,63],[157,64,157,75],[157,76,157,86],[157,87,157,99],[157,100,157,108],[157,109,157,117],[157,118,157,123],[157,124,157,134],[157,135,157,150],[157,151,157,170],[157,171,157,181],[157,182,157,187],[157,188,157,193],[158,1,158,12],[158,13,158,22],[158,23,158,34],[158,35,158,45],[158,46,158,55],[158,56,158,63],[158,64,158,75],[158,76,158,86],[158,87,158,99],[158,100,158,108],[158,109,158,117],[158,118,158,123],[158,124,158,134],[158,135,158,150],[158,151,158,170],[158,171,158,181],[158,182,158,187],[158,188,158,193],[159,1,159,12],[159,13,159,22],[159,23,159,34],[159,35,159,45],[159,46,159,55],[159,56,159,63],[159,64,159,75],[159,76,159,86],[159,87,159,99],[159,100,159,108],[159,109,159,117],[159,118,159,123],[159,124,159,134],[159,135,159,150],[159,151,159,170],[159,171,159,181],[159,182,159,187],[159,188,159,193],[160,1,160,12],[160,13,160,22],[160,23,160,34],[160,35,160,45],[160,46,160,55],[160,56,160,63],[160,64,160,75],[160,76,160,86],[160,87,160,99],[160,100,160,108],[160,109,160,117],[160,118,160,123],[160,124,160,134],[160,135,160,150],[160,151,160,170],[160,171,160,181],[160,182,160,187],[160,188,160,193],[161,1,161,12],[161,13,161,22],[161,23,161,34],[161,35,161,45],[161,46,161,55],[161,56,161,63],[161,64,161,75],[161,76,161,86],[161,87,161,99],[161,100,161,108],[161,109,161,117],[161,118,161,123],[161,124,161,134],[161,135,161,150],[161,151,161,170],[161,171,161,181],[161,182,161,187],[161,188,161,193],[162,151,162,170],[162,171,162,181],[162,182,162,187],[162,188,162,193],[162,1,162,12],[162,13,162,22],[162,23,162,34],[162,35,162,45],[162,46,162,55],[162,56,162,63],[162,64,162,75],[162,76,162,86],[162,87,162,99],[163,56,163,63],[163,64,163,75],[163,76,163,86],[163,87,163,99],[162,100,162,108],[162,109,162,117],[162,118,162,123],[162,124,162,134],[162,135,162,150],[1,4,3,193],[4,4,6,193],[7,4,9,193],[72,1,72,104],[164,1,164,97],[40,2,41,192],[30,2,38,192],[0,195,73,201],[74,195,119,201],[120,195,164,201],[163,100,163,108],[163,109,163,117],[163,118,163,123],[163,124,163,134],[163,135,163,150],[163,151,163,170],[163,171,163,181],[163,182,163,187],[163,188,163,193],[163,1,163,12],[163,13,163,22],[163,23,163,34],[163,35,163,45],[163,46,163,55]]}
[null,null,null,null,null,null,null,null,null,null,null,null,null,null,null,null,null,null,null,null,null,null,null,null,null,null,null,null,null,null,null,null,null,null,null,null,null,null,null,null,null,null,null,null,null,null,null,null,null,null,null,null,null,null,null,null,null,null,null,null,null,null,null,null,null,null,null,null,null,null,null,null,null,null,null,null,null,null,null,null,null,null,null,null,null,null,null,null,null,null,null,null,null,null,null,null,null,null,null,null,null,null,null,null,null,null,null,null,null,null,null,null,null,null,null,null,null,null,null,null,null,null,null,null,null,null,null,null,null,null,null,null,null,null,null,null,null,null,null,null,null,null,null,null,null,null,null,null,null,null,null,null,null,null,null,null,null,null,null,null,null,null,null,null,null,null,null,null,null,null,null,null,null,null,null,null,null,null,null,null,null,null,null,null,null,null,null,null,null,null,null,null,null,null,null,"PAGE 1"]
[null,null,null,null,"Attachment B - MBE/WBE (for HOME Recipients only)"]
[]
[]
[null,null,null,null,"HOME Annual Performance Report"]
[]
[]
[null,null,null,null,"Reporting Period July 1, 2023 through June 30, 2024"]
[]
[]
[]
[]
[]
[]
[]
[]
[]
[]
[null,null,"HOME Recipient Name",null,null,null,null,null,null,null,null,null,null,null,null,null,null,null,null,null,null,null,null,null,null,null,null,null,null,null,null,{"$f":"IF(Matrix!E25=0,\"\",Matrix!E25)","v":"Select Option"},null,null,null,null,null,null,null,null,null,null,null,null,null,null,null,null,null,null,null,null,null,null,null,null,null,null,null,null,null,null,null,null,null,null,null,null,null,null,null,null,null,null,null,null,null,null,null,null,null,null,null,null,null,null,null,null,null,null,null,null,null,null,null,null,null,null,null,null,null,null,null,null,null,null,null,null,null,null,null,null,null,null,null,null,null,null,null,null,null,null,null,null,null,null,null,null,null,null,null,null,null,null,null,null,null,null,null,null,null,null,null,null,null,null,"Date:"]
[]
[]
[]
[]
[null,null,{"$f":"IF(Matrix!GY43=2,Matrix!CT25,\"\")","v":""},null,null,null,null,null,null,null,null,null,null,null,null,null,null,null,null,null,null,null,null,null,null,null,null,null,null,null,null,null,null,null,null,null,null,null,null,null,null,null,null,null,{"$f":"IF(Matrix!GY43=2,Matrix!ET25,\"\")","v":""},null,null,null,null,null,null,null,null,null,null,null,null,null,null,null,null,null,null,null,null,null,null,null,null,null,null,null,null,null,null,null,null,null,null,null,null,null,null,null,null,null,null,null,null,null,null,null,null,null,null,null,null,null,{"$f":"IF(Matrix!GY43=2,Matrix!CT35,\"\")","v":""},null,null,null,null,null,null,null,null,null,null,null,null,null,null,null,null,null,null,null,null,null,null,null,null,null,null,null,null,null,null,null,null,null,{"$f":"IF(Matrix!GY43=2,Matrix!ET35,\"\")","v":""}]
[]
[]
[null,null,"Preparer's Name",null,null,null,null,null,null,null,null,null,null,null,null,null,null,null,null,null,null,null,null,null,null,null,null,null,null,null,null,null,null,null,null,null,null,null,null,null,null,null,null,null,"Organization",null,null,null,null,null,null,null,null,null,null,null,null,null,null,null,null,null,null,null,null,null,null,null,null,null,null,null,null,null,null,null,null,null,null,null,null,null,null,null,null,null,null,null,null,null,null,null,null,null,null,null,null,null,"Phone",null,null,null,null,null,null,null,null,null,null,null,null,null,null,null,null,null,null,null,null,null,null,null,null,null,null,null,null,null,null,null,null,null,"Email"]
[]
[]
[]
[null,null,"This form must be completed by HOME Recipients to report ALL contracts and subcontracts (regardless of dollar amount) executed during the reporting period.  (NOTE:  Multiple HOME contracts can be listed on this page.  A separate \"Attachment B\" is not needed for each active HOME contract.  Enter the codes in columns 9 and 10 which indicate the racial/ethnic and gender characteristics of the owner(s) and controller(s).  If 51% or more is not owned and controlled by any single racial/ethnic or gender category, enter the code which is most appropriate.)                                                                                                                                                                                                                                                                                     "]
[]
[]
[]
[]
[]
[]
[]
[]
[]
[null,null,"It is the Home Recipient's responsibility to ensure that they collect the contract information from their Contractors and Subcontractors.  HOME Recipients must distribute the \"Attachment B - Stand-Alone Report\" to all Contractors and Subcontractors to report all contracts and subcontracts (regardless of dollar amount) executed during the reporting period."]
[]
[]
[null,"1.                           HOME         Standard Agreement Number(s)",null,null,null,null,null,null,null,null,null,null,null,"2.                    Is the HOME Recipient a CHDO or Developer?",null,null,null,null,null,null,null,null,null,"3.                         Is this Activity a New Construction or Rental Rehab?                      Y or N",null,null,null,null,null,null,null,null,null,null,null,"4.                               Total HOME Award Amount",null,null,null,null,null,null,null,null,null,null,"5.                                    Contract or Subcontract Amount*                       (see note below)",null,null,null,null,null,null,null,null,null,"6.                                        Contract or Subcontract Execution                                    Date                         (mm/dd/yy)",null,null,null,null,null,null,null,"7.                             Contract Type",null,null,null,null,null,null,null,null,null,null,null,"8.                                    Trade Code                Type ",null,null,null,null,null,null,null,null,null,null,"9.                                        Contractor or Subcontractor Business Racial/Ethnic Code ",null,null,null,null,null,null,null,null,null,null,null,null,"10.                                     Women- Owned Business?               Y or N",null,null,null,null,null,null,null,null,"11.                                         Section 3 Business?                  Y or N",null,null,null,null,null,null,null,null,"12.                     Contractor (C) or Subcontractor(S) and IRS Employer ID # (EIN) ",null,null,null,null,null,null,null,null,null,null,null,null,null,null,null,null,"13.                                                                                                                            Contractor/Subcontractor Information"]
[]
[]
[]
[null,null,null,null,null,null,null,null,null,null,null,null,null,null,null,null,null,null,null,null,null,null,null,null,null,null,null,null,null,null,null,null,null,null,null,null,null,null,null,null,null,null,null,null,null,null,null,null,null,null,null,null,null,null,null,null,null,null,null,null,null,null,null,null,null,null,null,null,null,null,null,null,null,null,null,null,null,null,null,null,null,null,null,null,null,null,null,null,null,null,null,null,null,null,null,null,null,null,null,null,null,null,null,null,null,null,null,null,null,null,null,null,null,null,null,null,null,null,null,null,null,null,null,null,null,null,null,null,null,null,null,null,null,null,null,null,null,null,null,null,null,null,null,null,null,null,null,null,null,null,null,null,null,null,null,null,null,null,null,null,null,null,null,null,null,null,null,null,null,null,null,null,null,null,null,null,null,null,null,null,null,null,null,null,null,null,null,null,null,null,null,null,null,null,null,null,null,null,null,null,null,null,null,null,null,null,null,null,null,null,null,null,null,null,null,null,null,null,null,null,null,null,null,null,1]
[null,null,null,null,null,null,null,null,null,null,null,null,null,null,null,null,null,null,null,null,null,null,null,null,null,null,null,null,null,null,null,null,null,null,null,null,null,null,null,null,null,null,null,null,null,null,null,null,null,null,null,null,null,null,null,null,null,null,null,null,null,null,null,null,null,null,null,null,null,null,null,null,null,null,null,null,null,null,null,null,null,null,null,null,null,null,null,null,null,null,null,null,null,null,null,null,null,null,null,null,null,null,null,null,null,null,null,null,null,null,null,null,null,null,null,null,null,null,null,null,null,null,null,null,null,null,null,null,null,null,null,null,null,null,null,null,null,null,null,null,null,null,null,null,null,null,null,null,null,null,null,null,null,null,null,null,null,null,null,null,null,null,null,null,null,null,null,null,null,null,null,null,null,null,null,null,null,null,null,null,null,null,null,null,null,null,null,null,null,null,null,null,null,null,null,null,null,null,null,null,null,null,null,null,null,null,null,null,null,null,null,null,null,null,null,null,null,null,null,null,null,null,null,null,2]
[null,null,null,null,null,null,null,null,null,null,null,null,null,null,null,null,null,null,null,null,null,null,null,null,null,null,null,null,null,null,null,null,null,null,null,null,null,null,null,null,null,null,null,null,null,null,null,null,null,null,null,null,null,null,null,null,null,null,null,null,null,null,null,null,null,null,null,null,null,null,null,null,null,null,null,null,null,null,null,null,null,null,null,null,null,null,null,null,null,null,null,null,null,null,null,null,null,null,null,null,null,null,null,null,null,null,null,null,null,null,null,null,null,null,null,null,null,null,null,null,null,null,null,null,null,null,null,null,null,null,null,null,null,null,null,null,null,null,null,null,null,null,null,null,null,null,null,null,null,null,null,null,null,null,null,null,null,null,null,null,null,null,null,null,null,null,null,null,null,null,null,null,null,null,null,null,null,null,null,null,null,null,null,null,null,null,null,null,null,null,null,null,null,null,null,null,null,null,null,null,null,null,null,null,null,null,null,null,null,null,null,null,null,null,null,null,null,null,null,null,null,null,null,null,3]
[null,null,null,null,null,null,null,null,null,null,null,null,null,null,null,null,null,null,null,null,null,null,null,null,null,null,null,null,null,null,null,null,null,null,null,null,null,null,null,null,null,null,null,null,null,null,null,null,null,null,null,null,null,null,null,null,null,null,null,null,null,null,null,null,null,null,null,null,null,null,null,null,null,null,null,null,null,null,null,null,null,null,null,null,null,null,null,null,null,null,null,null,null,null,null,null,null,null,null,null,null,null,null,null,null,null,null,null,null,null,null,null,null,null,null,null,null,null,null,null,null,null,null,null,null,null,null,null,null,null,null,null,null,null,null,null,null,null,null,null,null,null,null,null,null,null,null,null,null,null,null,null,null,null,null,null,null,null,null,null,null,null,null,null,null,null,null,null,null,null,null,null,null,null,null,null,null,null,null,null,null,null,null,null,null,null,null,null,null,null,null,null,null,null,null,null,null,null,null,null,null,null,null,null,null,null,null,null,null,null,null,null,null,null,null,null,null,null,null,null,null,null,null,null,4,null,null,null,null,null,null,null,null,null,null,null,null,null,{"$f":"FN63","v":0}]
[null,null,null,null,null,null,null,null,null,null,null,null,null,null,null,null,null,null,null,null,null,null,null,null,null,null,null,null,null,null,null,null,null,null,null,null,null,null,null,null,null,null,null,null,null,null,null,null,null,null,null,null,null,null,null,null,null,null,null,null,null,null,null,null,null,null,null,null,null,null,null,null,null,null,null,null,null,null,null,null,null,null,null,null,null,null,null,null,null,null,null,null,null,null,null,null,null,null,null,null,null,null,null,null,null,null,null,null,null,null,null,null,null,null,null,null,null,null,null,null,null,null,null,null,null,null,null,null,null,null,null,null,null,null,null,null,null,null,null,null,null,null,null,null,null,null,null,null,null,null,null,null,null,null,null,null,null,null,null,null,null,null,null,null,null,null,null,null,null,null,null,null,null,null,null,null,null,null,null,null,null,null,null,null,null,null,null,null,null,null,null,null,null,null,null,null,null,null,null,null,null,null,null,null,null,null,null,null,null,null,null,null,null,null,null,null,null,null,null,null,null,null,null,null,5]
[null,null,null,null,null,null,null,null,null,null,null,null,null,null,null,null,null,null,null,null,null,null,null,null,null,null,null,null,null,null,null,null,null,null,null,null,null,null,null,null,null,null,null,null,null,null,null,null,null,null,null,null,null,null,null,null,null,null,null,null,null,null,null,null,null,null,null,null,null,null,null,null,null,null,null,null,null,null,null,null,null,null,null,null,null,null,null,null,null,null,null,null,null,null,null,null,null,null,null,null,null,null,null,null,null,null,null,null,null,null,null,null,null,null,null,null,null,null,null,null,null,null,null,null,null,null,null,null,null,null,null,null,null,null,null,null,null,null,null,null,null,null,null,null,null,null,null,null,null,null,null,null,null,null,null,null,null,null,null,null,null,null,null,null,null,null,null,null,null,null,null,null,null,null,null,null,null,null,null,null,null,null,null,null,null,null,null,null,null,null,null,null,null,null,null,null,null,null,null,null,null,null,null,null,null,null,null,null,null,null,null,null,null,null,null,null,null,null,null,null,null,null,null,null,6]
[null,null,null,null,null,null,null,null,null,null,null,null,null,null,null,null,null,null,null,null,null,null,null,null,null,null,null,null,null,null,null,null,null,null,null,null,null,null,null,null,null,null,null,null,null,null,null,null,null,null,null,null,null,null,null,null,null,null,null,null,null,null,null,null,null,null,null,null,null,null,null,null,null,null,null,null,null,null,null,null,null,null,null,null,null,null,null,null,null,null,null,null,null,null,null,null,null,null,null,null,null,null,null,null,null,null,null,null,null,null,null,null,null,null,null,null,null,null,null,null,null,null,null,null,null,null,null,null,null,null,null,null,null,null,null,null,null,null,null,null,null,null,null,null,null,null,null,null,null,null,null,null,null,null,null,null,null,null,null,null,null,null,null,null,null,null,null,null,null,null,null,null,null,null,null,null,null,null,null,null,null,null,null,null,null,null,null,null,null,null,null,null,null,null,null,null,null,null,null,null,null,null,null,null,null,null,null,null,null,null,null,null,null,null,null,null,null,null,null,null,null,null,null,null,7]
[null,null,null,null,null,null,null,null,null,null,null,null,null,null,null,null,null,null,null,null,null,null,null,null,null,null,null,null,null,null,null,null,null,null,null,null,null,null,null,null,null,null,null,null,null,null,null,null,null,null,null,null,null,null,null,null,null,null,null,null,null,null,null,null,null,null,null,null,null,null,null,null,null,null,null,null,null,null,null,null,null,null,null,null,null,null,null,null,null,null,null,null,null,null,null,null,null,null,null,null,null,null,null,null,null,null,null,null,null,null,null,null,null,null,null,null,null,null,null,null,null,null,null,null,null,null,null,null,null,null,null,null,null,null,null,null,null,null,null,null,null,null,null,null,null,null,null,null,null,null,null,null,null,null,null,null,null,null,null,null,null,null,null,null,null,null,null,null,null,null,null,null,null,null,null,null,null,null,null,null,null,null,null,null,null,null,null,null,null,null,null,null,null,null,null,null,null,null,null,null,null,null,null,null,null,null,null,null,null,null,null,null,null,null,null,null,null,null,null,null,null,null,null,null,8]
[null,null,null,null,null,null,null,null,null,null,null,null,null,null,null,null,null,null,null,null,null,null,null,null,null,null,null,null,null,null,null,null,null,null,null,null,null,null,null,null,null,null,null,null,null,null,null,null,null,null,null,null,null,null,null,null,null,null,null,null,null,null,null,null,null,null,null,null,null,null,null,null,null,null,null,null,null,null,null,null,null,null,null,null,null,null,null,null,null,null,null,null,null,null,null,null,null,null,null,null,null,null,null,null,null,null,null,null,null,null,null,null,null,null,null,null,null,null,"C           or             S",null,null,null,null,null,"EIN (Not SSN)           (must be 9 digits)",null,null,null,null,null,null,null,null,null,null,"Name                       ",null,null,null,null,null,null,null,null,null,null,null,null,null,null,null,"Address",null,null,null,null,null,null,null,null,null,null,null,null,null,null,null,null,null,null,null,"City",null,null,null,null,null,null,null,null,null,null,"State",null,null,null,null,null,"Zip Code"]
[null,null,null,null,null,null,null,null,null,null,null,null,null,null,null,null,null,null,null,null,null,null,null,null,null,null,null,null,null,null,null,null,null,null,null,null,null,null,null,null,null,null,null,null,null,null,null,null,null,null,null,null,null,null,null,null,null,null,null,null,null,null,null,null,null,null,null,null,null,null,null,null,null,null,null,null,null,null,null,null,null,null,null,null,null,null,null,null,null,null,null,null,null,null,null,null,null,null,null,null,null,null,null,null,null,null,null,null,null,null,null,null,null,null,null,null,null,null,null,null,null,null,null,null,null,null,null,null,null,null,null,null,null,null,null,null,null,null,null,null,null,null,null,null,null,null,null,null,null,null,null,null,null,null,null,null,null,null,null,null,null,null,null,null,null,null,null,null,null,null,null,null,null,null,null,null,null,null,null,null,null,null,null,null,null,null,null,null,null,null,null,null,null,null,null,null,null,null,null,null,null,null,null,null,null,null,null,null,null,null,null,null,null,null,null,null,null,null,null,null,null,null,null,null,null,null,null,null,null,null,null,null,null,null,null,null,null,null,{"$f":"FN68","v":0}]
[]
[null,null,null,null,null,null,null,null,null,null,null,null,null,null,null,null,null,null,null,null,null,null,null,null,null,null,null,null,null,null,null,null,null,null,null,null,null,null,null,null,null,null,null,null,null,null,null,null,null,null,null,null,null,null,null,null,null,null,null,null,null,null,null,null,null,null,null,null,null,null,null,null,null,null,null,null,null,null,null,null,null,null,null,null,null,null,null,null,null,null,null,null,null,null,null,null,null,null,null,null,null,null,null,null,null,null,null,null,null,null,null,null,null,null,null,null,null,null,null,null,null,null,null,null,null,null,null,null,null,null,null,null,null,null,null,null,null,null,null,null,null,null,null,null,null,null,null,null,null,null,null,null,null,null,null,null,null,null,null,null,null,null,null,null,null,null,null,null,null,null,null,null,null,null,null,null,null,null,null,null,null,null,null,null,null,null,null,null,null,null,null,null,null,null,null,null,null,null,null,null,null,null,null,null,null,null,null,null,null,null,null,null,null,null,null,null,null,null,null,null,null,null,null,null,null,null,null,null,null,null,null,null,null,null,null,null,null,null,{"$f":"FN71","v":0}]
[]
[null,null,null,null,null,null,null,null,null,null,null,null,null,null,null,null,null,null,null,null,null,null,null,null,null,null,null,null,null,null,null,null,null,null,null,null,null,null,null,null,null,null,null,null,null,null,null,null,null,null,null,null,null,null,null,null,null,null,null,null,null,null,null,null,null,null,null,null,null,null,null,null,null,null,null,null,null,null,null,null,null,null,null,null,null,null,null,null,null,null,null,null,null,null,null,null,null,null,null,null,null,null,null,null,null,null,null,null,null,null,null,null,null,null,null,null,null,null,null,null,null,null,null,null,null,null,null,null,null,null,null,null,null,null,null,null,null,null,null,null,null,null,null,null,null,null,null,null,null,null,null,null,null,null,null,null,null,null,null,null,null,null,null,null,null,null,null,null,null,null,null,null,null,null,null,null,null,null,null,null,null,null,null,null,null,null,null,null,null,null,null,null,null,null,null,null,null,null,null,null,null,null,null,null,null,null,null,null,null,null,null,null,null,null,null,null,null,null,null,null,null,null,null,null,null,null,null,null,null,null,null,null,null,null,null,null,null,null,{"$f":"#REF!","v":{"$error":"#REF!"}}]
[]
[]
[]
[]
[]
[]
[]
[]
[]
[]
[]
[null,"*Dollar amount must be listed even if contract is \"Based on Performance\" or \"Estimate.\""]
[]
[null,{"$f":"E2","v":"Attachment B - MBE/WBE (for HOME Recipients only)"},null,null,null,null,null,null,null,null,null,null,null,null,null,null,null,null,null,null,null,null,null,null,null,null,null,null,null,null,null,null,null,null,null,null,null,null,null,null,null,null,null,null,null,null,null,null,null,null,null,null,null,null,null,null,null,null,null,null,null,null,null,null,null,null,null,null,null,null,null,null,null,null,null,null,null,null,null,null,null,null,null,null,null,null,null,null,null,null,null,null,null,null,null,null,null,null,null,null,null,null,null,null,null,null,null,null,null,null,null,null,null,null,null,null,null,null,null,null,null,null,null,null,null,null,null,null,null,null,null,null,null,null,null,null,null,null,null,null,null,null,null,null,null,null,null,null,null,null,null,null,null,null,null,null,null,null,null,null,null,null,null,null,null,null,null,null,null,null,null,null,null,null,null,null,null,null,null,null,null,null,null,null,null,null,null,null,null,null,null,null,null,null,null,"PAGE 2"]
[null,"Minority Business Enterprise (MBE) and Women Business Enterprise (WBE) "]
[null,{"$f":"E8","v":"Reporting Period July 1, 2023 through June 30, 2024"}]
[]
[]
[null,null,"HOME Recipient Name",null,null,null,null,null,null,null,null,null,null,null,null,null,null,null,null,null,null,null,null,null,null,null,null,null,null,null,null,{"$f":"IF(AF19=0,\"\",AF19)","v":"Select Option"},null,null,null,null,null,null,null,null,null,null,null,null,null,null,null,null,null,null,null,null,null,null,null,null,null,null,null,null,null,null,null,null,null,null,null,null,null,null,null,null,null,null,null,null,null,null,null,null,null,null,null,null,null,null,null,null,null,null,null,null,null,null,null,null,null,null,null,null,null,null,null,null,null,null,"Preparer's Organization",null,null,null,null,null,null,null,null,null,null,null,null,null,null,null,null,null,null,null,null,null,null,null,null,null,null,null,null,null,{"$f":"IF(AS24=0,\"\",AS24)","v":""}]
[]
[]
[]
[null,"1.                           HOME         Standard Agreement Number(s)",null,null,null,null,null,null,null,null,null,null,null,"2.                    Is the HOME Recipient a CHDO or Developer?",null,null,null,null,null,null,null,null,null,"3.                         Is this Activity a New Construction or Rental Rehab?                      Y or N",null,null,null,null,null,null,null,null,null,null,null,"4.                               Total HOME Award Amount",null,null,null,null,null,null,null,null,null,null,"5.                                    Contract or Subcontract Amount*                       (see note below)",null,null,null,null,null,null,null,null,null,"6.                                        Contract or Subcontract Execution                                    Date                         (mm/dd/yy)",null,null,null,null,null,null,null,"7.                             Contract Type",null,null,null,null,null,null,null,null,null,null,null,"8.                                    Trade Code                Type ",null,null,null,null,null,null,null,null,null,null,"9.                                        Contractor or Subcontractor Business Racial/Ethnic Code ",null,null,null,null,null,null,null,null,null,null,null,null,"10.                                     Women- Owned Business?               Y or N",null,null,null,null,null,null,null,null,"11.                                         Section 3 Business?              Y or N",null,null,null,null,null,null,null,null,"12.                     Contractor (C) or Subcontractor(S) and IRS Employer ID # (EIN) ",null,null,null,null,null,null,null,null,null,null,null,null,null,null,null,null,"13.                                                                                                                            Contractor/Subcontractor Information"]
[]
[]
[]
[]
[]
[]
[]
[]
[]
[]
[]
[null,null,null,null,null,null,null,null,null,null,null,null,null,null,null,null,null,null,null,null,null,null,null,null,null,null,null,null,null,null,null,null,null,null,null,null,null,null,null,null,null,null,null,null,null,null,null,null,null,null,null,null,null,null,null,null,null,null,null,null,null,null,null,null,null,null,null,null,null,null,null,null,null,null,null,null,null,null,null,null,null,null,null,null,null,null,null,null,null,null,null,null,null,null,null,null,null,null,null,null,null,null,null,null,null,null,null,null,null,null,null,null,null,null,null,null,null,null,"C           or             S",null,null,null,null,null,"EIN (Not SSN)           (must be 9 digits)",null,null,null,null,null,null,null,null,null,null,"Name                       ",null,null,null,null,null,null,null,null,null,null,null,null,null,null,null,"Address",null,null,null,null,null,null,null,null,null,null,null,null,null,null,null,null,null,null,null,"City",null,null,null,null,null,null,null,null,null,null,"State",null,null,null,null,null,"Zip Code"]
[]
[]
[]
[]
[null,null,null,null,null,null,null,null,null,null,null,null,null,null,null,null,null,null,null,null,null,null,null,null,null,null,null,null,null,null,null,null,null,null,null,null,null,null,null,null,null,null,null,null,null,null,null,null,null,null,null,null,null,null,null,null,null,null,null,null,null,null,null,null,null,null,null,null,null,null,null,null,null,null,null,null,null,null,null,null,null,null,null,null,null,null,null,null,null,null,null,null,null,null,null,null,null,null,null,null,null,null,null,null,null,null,null,null,null,null,null,null,null,null,null,null,null,null,null,null,null,null,null,null,null,null,null,null,null,null,null,null,null,null,null,null,null,null,null,null,null,null,null,null,null,null,null,null,null,null,null,null,null,null,null,null,null,null,null,null,null,null,null,null,null,null,null,null,null,null,null,null,null,null,null,null,null,null,null,null,null,null,null,null,null,null,null,null,null,null,null,null,null,null,null,null,null,null,null,null,null,null,null,null,null,null,null,null,null,null,null,null,null,null,null,null,null,null,null,null,null,null,null,null,null,null,null,null,null,null,null,null,null,"1-Construction",null,null,null,null,null,null,null,null,null,null,null,null,null,null,null,null,null,null,null,null,null,null,null,null,null,null,null,null,null,null,null,null,null,null,null,"1-New Construction"]
[null,null,null,null,null,null,null,null,null,null,null,null,null,null,null,null,null,null,null,null,null,null,null,null,null,null,null,null,null,null,null,null,null,null,null,null,null,null,null,null,null,null,null,null,null,null,null,null,null,null,null,null,null,null,null,null,null,null,null,null,null,null,null,null,null,null,null,null,null,null,null,null,null,null,null,null,null,null,null,null,null,null,null,null,null,null,null,null,null,null,null,null,null,null,null,null,null,null,null,null,null,null,null,null,null,null,null,null,null,null,null,null,null,null,null,null,null,null,null,null,null,null,null,null,null,null,null,null,null,null,null,null,null,null,null,null,null,null,null,null,null,null,null,null,null,null,null,null,null,null,null,null,null,null,null,null,null,null,null,null,null,null,null,null,null,null,null,null,null,null,null,null,null,null,null,null,null,null,null,null,null,null,null,null,null,null,null,null,null,null,null,null,null,null,null,null,null,null,null,null,null,null,null,null,null,null,null,null,null,null,null,null,null,null,null,null,null,null,null,null,null,null,null,null,null,null,null,null,null,null,null,null,null,"2-Non-Construction",null,null,null,null,null,null,null,null,null,null,null,null,null,null,null,null,null,null,null,null,null,null,null,null,null,null,null,null,null,null,null,null,null,null,null,"2-Substantial Rehabilitation"]
[null,null,null,null,null,null,null,null,null,null,null,null,null,null,null,null,null,null,null,null,null,null,null,null,null,null,null,null,null,null,null,null,null,null,null,null,null,null,null,null,null,null,null,null,null,null,null,null,null,null,null,null,null,null,null,null,null,null,null,null,null,null,null,null,null,null,null,null,null,null,null,null,null,null,null,null,null,null,null,null,null,null,null,null,null,null,null,null,null,null,null,null,null,null,null,null,null,null,null,null,null,null,null,null,null,null,null,null,null,null,null,null,null,null,null,null,null,null,null,null,null,null,null,null,null,null,null,null,null,null,null,null,null,null,null,null,null,null,null,null,null,null,null,null,null,null,null,null,null,null,null,null,null,null,null,null,null,null,null,null,null,null,null,null,null,null,null,null,null,null,null,null,null,null,null,null,null,null,null,null,null,null,null,null,null,null,null,null,null,null,null,null,null,null,null,null,null,null,null,null,null,null,null,null,null,null,null,null,null,null,null,null,null,null,null,null,null,null,null,null,null,null,null,null,null,null,null,null,null,null,null,null,null,null,null,null,null,null,null,null,null,null,null,null,null,null,null,null,null,null,null,null,null,null,null,null,null,null,null,null,null,null,null,null,null,null,null,null,null,"3-Repair"]
[null,null,null,null,null,null,null,null,null,null,null,null,null,null,null,null,null,null,null,null,null,null,null,null,null,null,null,null,null,null,null,null,null,null,null,null,null,null,null,null,null,null,null,null,null,null,null,null,null,null,null,null,null,null,null,null,null,null,null,null,null,null,null,null,null,null,null,null,null,null,null,null,null,null,null,null,null,null,null,null,null,null,null,null,null,null,null,null,null,null,null,null,null,null,null,null,null,null,null,null,null,null,null,null,null,null,null,null,null,null,null,null,null,null,null,null,null,null,null,null,null,null,null,null,null,null,null,null,null,null,null,null,null,null,null,null,null,null,null,null,null,null,null,null,null,null,null,null,null,null,null,null,null,null,null,null,null,null,null,null,null,null,null,null,null,null,null,null,null,null,null,null,null,null,null,null,null,null,null,null,null,null,null,null,null,null,null,null,null,null,null,null,null,null,null,null,null,null,null,null,null,null,null,null,null,null,null,null,null,null,null,null,null,null,null,null,null,null,null,null,null,null,null,null,null,null,null,null,null,null,null,null,null,null,null,null,null,null,null,null,null,null,null,null,null,null,null,null,null,null,null,null,null,null,null,null,null,null,null,null,null,null,null,null,null,null,null,null,null,"4-Service"]
[null,null,null,null,null,null,null,null,null,null,null,null,null,null,null,null,null,null,null,null,null,null,null,null,null,null,null,null,null,null,null,null,null,null,null,null,null,null,null,null,null,null,null,null,null,null,null,null,null,null,null,null,null,null,null,null,null,null,null,null,null,null,null,null,null,null,null,null,null,null,null,null,null,null,null,null,null,null,null,null,null,null,null,null,null,null,null,null,null,null,null,null,null,null,null,null,null,null,null,null,null,null,null,null,null,null,null,null,null,null,null,null,null,null,null,null,null,null,null,null,null,null,null,null,null,null,null,null,null,null,null,null,null,null,null,null,null,null,null,null,null,null,null,null,null,null,null,null,null,null,null,null,null,null,null,null,null,null,null,null,null,null,null,null,null,null,null,null,null,null,null,null,null,null,null,null,null,null,null,null,null,null,null,null,null,null,null,null,null,null,null,null,null,null,null,null,null,null,null,null,null,null,null,null,null,null,null,null,null,null,null,null,null,null,null,null,null,null,null,null,null,null,null,null,null,null,null,null,null,null,null,null,null,null,null,null,null,null,null,null,null,null,null,null,null,null,null,null,null,null,null,null,null,null,null,null,null,null,null,null,null,null,null,null,null,null,null,null,null,"5-Project Management"]
[null,null,null,null,null,null,null,null,null,null,null,null,null,null,null,null,null,null,null,null,null,null,null,null,null,null,null,null,null,null,null,null,null,null,null,null,null,null,null,null,null,null,null,null,null,null,null,null,null,null,null,null,null,null,null,null,null,null,null,null,null,null,null,null,null,null,null,null,null,null,null,null,null,null,null,null,null,null,null,null,null,null,null,null,null,null,null,null,null,null,null,null,null,null,null,null,null,null,null,null,null,null,null,null,null,null,null,null,null,null,null,null,null,null,null,null,null,null,null,null,null,null,null,null,null,null,null,null,null,null,null,null,null,null,null,null,null,null,null,null,null,null,null,null,null,null,null,null,null,null,null,null,null,null,null,null,null,null,null,null,null,null,null,null,null,null,null,null,null,null,null,null,null,null,null,null,null,null,null,null,null,null,null,null,null,null,null,null,null,null,null,null,null,null,null,null,null,null,null,null,null,null,null,null,null,null,null,null,null,null,null,null,null,null,null,null,"1-White Americans",null,null,null,null,null,null,null,null,null,null,null,null,null,null,null,null,null,null,null,null,null,null,null,null,null,null,null,null,null,null,null,null,null,"Yes",null,null,null,null,null,null,null,null,null,null,null,null,null,null,null,null,null,null,"6-Professional Services"]
[null,null,null,null,null,null,null,null,null,null,null,null,null,null,null,null,null,null,null,null,null,null,null,null,null,null,null,null,null,null,null,null,null,null,null,null,null,null,null,null,null,null,null,null,null,null,null,null,null,null,null,null,null,null,null,null,null,null,null,null,null,null,null,null,null,null,null,null,null,null,null,null,null,null,null,null,null,null,null,null,null,null,null,null,null,null,null,null,null,null,null,null,null,null,null,null,null,null,null,null,null,null,null,null,null,null,null,null,null,null,null,null,null,null,null,null,null,null,null,null,null,null,null,null,null,null,null,null,null,null,null,null,null,null,null,null,null,null,null,null,null,null,null,null,null,null,null,null,null,null,null,null,null,null,null,null,null,null,null,null,null,null,null,null,null,null,null,null,null,null,null,null,null,null,null,null,null,null,null,null,null,null,null,null,null,null,null,null,null,null,null,null,null,null,null,null,null,null,null,null,null,null,null,null,null,null,null,null,null,null,null,null,null,null,null,null,"2-Black Americans",null,null,null,null,null,null,null,null,null,null,null,null,null,null,null,null,null,null,null,null,null,null,null,null,null,null,null,null,null,null,null,null,null,"No",null,null,null,null,null,null,null,null,null,null,null,null,null,null,null,null,null,null,"7-Tenant Services"]
[null,null,null,null,null,null,null,null,null,null,null,null,null,null,null,null,null,null,null,null,null,null,null,null,null,null,null,null,null,null,null,null,null,null,null,null,null,null,null,null,null,null,null,null,null,null,null,null,null,null,null,null,null,null,null,null,null,null,null,null,null,null,null,null,null,null,null,null,null,null,null,null,null,null,null,null,null,null,null,null,null,null,null,null,null,null,null,null,null,null,null,null,null,null,null,null,null,null,null,null,null,null,null,null,null,null,null,null,null,null,null,null,null,null,null,null,null,null,null,null,null,null,null,null,null,null,null,null,null,null,null,null,null,null,null,null,null,null,null,null,null,null,null,null,null,null,null,null,null,null,null,null,null,null,null,null,null,null,null,null,null,null,null,null,null,null,null,null,null,null,null,null,null,null,null,null,null,null,null,null,null,null,null,null,null,null,null,null,null,null,null,null,null,null,null,null,null,null,null,null,null,null,null,null,null,null,null,null,null,null,null,null,null,null,null,null,"3-Native Americans",null,null,null,null,null,null,null,null,null,null,null,null,null,null,null,null,null,null,null,null,null,null,null,null,null,null,null,null,null,null,null,null,null,null,null,null,null,null,null,null,null,null,null,null,null,null,null,null,null,null,null,null,"8-Education/    Training"]
[null,null,null,null,null,null,null,null,null,null,null,null,null,null,null,null,null,null,null,null,null,null,null,null,null,null,null,null,null,null,null,null,null,null,null,null,null,null,null,null,null,null,null,null,null,null,null,null,null,null,null,null,null,null,null,null,null,null,null,null,null,null,null,null,null,null,null,null,null,null,null,null,null,null,null,null,null,null,null,null,null,null,null,null,null,null,null,null,null,null,null,null,null,null,null,null,null,null,null,null,null,null,null,null,null,null,null,null,null,null,null,null,null,null,null,null,null,null,null,null,null,null,null,null,null,null,null,null,null,null,null,null,null,null,null,null,null,null,null,null,null,null,null,null,null,null,null,null,null,null,null,null,null,null,null,null,null,null,null,null,null,null,null,null,null,null,null,null,null,null,null,null,null,null,null,null,null,null,null,null,null,null,null,null,null,null,null,null,null,null,null,null,null,null,null,null,null,null,null,null,null,null,null,null,null,null,null,null,null,null,null,null,null,null,null,null,"4-Hispanic Americans",null,null,null,null,null,null,null,null,null,null,null,null,null,null,null,null,null,null,null,null,null,null,null,null,null,null,null,null,null,null,null,null,null,null,null,null,null,null,null,null,null,null,null,null,null,null,null,null,null,null,null,null,"9-Architect/   Engineering/      Appraisal"]
[null,null,null,null,null,null,null,null,null,null,null,null,null,null,null,null,null,null,null,null,null,null,null,null,null,null,null,null,null,null,null,null,null,null,null,null,null,null,null,null,null,null,null,null,null,null,null,null,null,null,null,null,null,null,null,null,null,null,null,null,null,null,null,null,null,null,null,null,null,null,null,null,null,null,null,null,null,null,null,null,null,null,null,null,null,null,null,null,null,null,null,null,null,null,null,null,null,null,null,null,null,null,null,null,null,null,null,null,null,null,null,null,null,null,null,null,null,null,null,null,null,null,null,null,null,null,null,null,null,null,null,null,null,null,null,null,null,null,null,null,null,null,null,null,null,null,null,null,null,null,null,null,null,null,null,null,null,null,null,null,null,null,null,null,null,null,null,null,null,null,null,null,null,null,null,null,null,null,null,null,null,null,null,null,null,null,null,null,null,null,null,null,null,null,null,null,null,null,null,null,null,null,null,null,null,null,null,null,null,null,null,null,null,null,null,null,"5-Asian/Pacific Americans",null,null,null,null,null,null,null,null,null,null,null,null,null,null,null,null,null,null,null,null,null,null,null,null,null,null,null,null,null,null,null,null,null,null,null,"C"]
[null,null,null,null,null,null,null,null,null,null,null,null,null,null,null,null,null,null,null,null,null,null,null,null,null,null,null,null,null,null,null,null,null,null,null,null,null,null,null,null,null,null,null,null,null,null,null,null,null,null,null,null,null,null,null,null,null,null,null,null,null,null,null,null,null,null,null,null,null,null,null,null,null,null,null,null,null,null,null,null,null,null,null,null,null,null,null,null,null,null,null,null,null,null,null,null,null,null,null,null,null,null,null,null,null,null,null,null,null,null,null,null,null,null,null,null,null,null,null,null,null,null,null,null,null,null,null,null,null,null,null,null,null,null,null,null,null,null,null,null,null,null,null,null,null,null,null,null,null,null,null,null,null,null,null,null,null,null,null,null,null,null,null,null,null,null,null,null,null,null,null,null,null,null,null,null,null,null,null,null,null,null,null,null,null,null,null,null,null,null,null,null,null,null,null,null,null,null,null,null,null,null,null,null,null,null,null,null,null,null,null,null,null,null,null,null,"6-Hasidic Jews",null,null,null,null,null,null,null,null,null,null,null,null,null,null,null,null,null,null,null,null,null,null,null,null,null,null,null,null,null,null,null,null,null,null,null,"S"]
[null,null,null,null,null,null,null,null,null,null,null,null,null,null,null,null,null,null,null,null,null,null,null,null,null,null,null,null,null,null,null,null,null,null,null,null,null,null,null,null,null,null,null,null,null,null,null,null,null,null,null,null,null,null,null,null,null,null,null,null,null,null,null,null,null,null,null,null,null,null,null,null,null,null,null,null,null,null,null,null,null,null,null,null,null,null,null,null,null,null,null,null,null,null,null,null,null,null,null,null,null,null,null,null,null,null,null,null,null,null,null,null,null,null,null,null,null,null,null,null,null,null,null,null,null,null,null,null,null,null,null,null,null,null,null,null,null,null,null,null,null,null,null,null,null,null,null,null,null,null,null,null,null,null,null,null,null,null,null,null,null,null,null,null,null,null,null,null,null,null,null,null,null,null,null,null,null,null,null,null,null,null,null,null,null,null,null,null,null,null,null,null,null,null,null,null,null,null,null,null,null,null,null,null,null,null,null,null,null,null,null,null,null,null,null,null,"7-Governmental Agency"]
[null,null,null,null,null,null,null,null,null,null,null,null,null,null,null,null,null,null,null,null,null,null,null,null,null,null,null,null,null,null,null,null,null,null,null,null,null,null,null,null,null,null,null,null,null,null,null,null,null,null,null,null,null,null,null,null,null,null,null,null,null,null,null,null,null,null,null,null,null,null,null,null,null,null,null,null,null,null,null,null,null,null,null,null,null,null,null,null,null,null,null,null,null,null,null,null,null,null,null,null,null,null,null,null,null,null,null,null,null,null,null,null,null,null,null,null,null,null,null,null,null,null,null,null,null,null,null,null,null,null,null,null,null,null,null,null,null,null,null,null,null,null,null,null,null,null,null,null,null,null,null,null,null,null,null,null,null,null,null,null,null,null,null,null,null,null,null,null,null,null,null,null,null,null,null,null,null,null,null,null,null,null,null,null,null,null,null,null,null,null,null,null,null,null,null,null,null,null,null,null,null,null,null,null,null,null,null,null,null,null,null,null,null,null,null,null,"8-Non-Profit"]
[]
[]
[]
[]
[]
[null,"*Dollar amount must be listed even if contract is \"Based on Performance\" or \"Estimate.\""]
[]
[null,{"$f":"E2","v":"Attachment B - MBE/WBE (for HOME Recipients only)"},null,null,null,null,null,null,null,null,null,null,null,null,null,null,null,null,null,null,null,null,null,null,null,null,null,null,null,null,null,null,null,null,null,null,null,null,null,null,null,null,null,null,null,null,null,null,null,null,null,null,null,null,null,null,null,null,null,null,null,null,null,null,null,null,null,null,null,null,null,null,null,null,null,null,null,null,null,null,null,null,null,null,null,null,null,null,null,null,null,null,null,null,null,null,null,null,null,null,null,null,null,null,null,null,null,null,null,null,null,null,null,null,null,null,null,null,null,null,null,null,null,null,null,null,null,null,null,null,null,null,null,null,null,null,null,null,null,null,null,null,null,null,null,null,null,null,null,null,null,null,null,null,null,null,null,null,null,null,null,null,null,null,null,null,null,null,null,null,null,null,null,null,null,null,null,null,null,null,null,null,null,null,null,null,null,null,null,null,null,null,null,null,null,"PAGE 3"]
[null,"Minority Business Enterprise (MBE) and Women Business Enterprise (WBE) "]
[null,{"$f":"E8","v":"Reporting Period July 1, 2023 through June 30, 2024"}]
[]
[]
[null,null,"HOME Recipient Name",null,null,null,null,null,null,null,null,null,null,null,null,null,null,null,null,null,null,null,null,null,null,null,null,null,null,null,null,{"$f":"IF(AF19=0,\"\",AF19)","v":"Select Option"},null,null,null,null,null,null,null,null,null,null,null,null,null,null,null,null,null,null,null,null,null,null,null,null,null,null,null,null,null,null,null,null,null,null,null,null,null,null,null,null,null,null,null,null,null,null,null,null,null,null,null,null,null,null,null,null,null,null,null,null,null,null,null,null,null,null,null,null,null,null,null,null,null,null,"Preparer's Organization",null,null,null,null,null,null,null,null,null,null,null,null,null,null,null,null,null,null,null,null,null,null,null,null,null,null,null,null,null,{"$f":"IF(AS24=0,\"\",AS24)","v":""}]
[]
[]
[]
[null,"1.                           HOME         Standard Agreement Number(s)",null,null,null,null,null,null,null,null,null,null,null,"2.                    Is the HOME Recipient a CHDO or Developer?",null,null,null,null,null,null,null,null,null,"3.                         Is this Activity a New Construction or Rental Rehab?                      Y or N",null,null,null,null,null,null,null,null,null,null,null,"4.                               Total HOME Award Amount",null,null,null,null,null,null,null,null,null,null,"5.                                    Contract or Subcontract Amount*                       (see note below)",null,null,null,null,null,null,null,null,null,"6.                                        Contract or Subcontract Execution                                    Date                         (mm/dd/yy)",null,null,null,null,null,null,null,"7.                             Contract Type",null,null,null,null,null,null,null,null,null,null,null,"8.                                    Trade Code                Type ",null,null,null,null,null,null,null,null,null,null,"9.                                        Contractor or Subcontractor Business Racial/Ethnic Code ",null,null,null,null,null,null,null,null,null,null,null,null,"10.                                     Women- Owned Business?               Y or N",null,null,null,null,null,null,null,null,"11.                                         Section 3 Business?              Y or N",null,null,null,null,null,null,null,null,"12.                     Contractor (C) or Subcontractor(S) and IRS Employer ID # (EIN) ",null,null,null,null,null,null,null,null,null,null,null,null,null,null,null,null,"13.                                                                                                                            Contractor/Subcontractor Information"]
[]
[]
[]
[]
[]
[]
[]
[]
[]
[]
[]
[null,null,null,null,null,null,null,null,null,null,null,null,null,null,null,null,null,null,null,null,null,null,null,null,null,null,null,null,null,null,null,null,null,null,null,null,null,null,null,null,null,null,null,null,null,null,null,null,null,null,null,null,null,null,null,null,null,null,null,null,null,null,null,null,null,null,null,null,null,null,null,null,null,null,null,null,null,null,null,null,null,null,null,null,null,null,null,null,null,null,null,null,null,null,null,null,null,null,null,null,null,null,null,null,null,null,null,null,null,null,null,null,null,null,null,null,null,null,"C           or             S",null,null,null,null,null,"EIN (Not SSN)           (must be 9 digits)",null,null,null,null,null,null,null,null,null,null,"Name                       ",null,null,null,null,null,null,null,null,null,null,null,null,null,null,null,"Address",null,null,null,null,null,null,null,null,null,null,null,null,null,null,null,null,null,null,null,"City",null,null,null,null,null,null,null,null,null,null,"State",null,null,null,null,null,"Zip Code"]
[]
[]
[]
[]
[]
[]
[]
[]
[]
[]
[]
[]
[]
[]
[]
[]
[]
[]
[]
[]
[]
[]
[null,"*Dollar amount must be listed even if contract is \"Based on Performance\" or \"Estimate.\""]

{"sheet":"Link Data B","index":5,"n_rows":48,"n_cols":20,"rows_kept":48,"cut":false,"hidden":true,"merged":[]}
[{"$f":"'Att B'!AF19","v":"Select Option"},{"$f":"'Att B'!$AS$24","v":""},{"$f":"'Att B'!B61","v":0},{"$f":"'Att B'!N61","v":0},{"$f":"'Att B'!X61","v":0},{"$f":"'Att B'!AJ61","v":0},{"$f":"'Att B'!AU61","v":0},{"$f":"'Att B'!BE61","v":"00:00:00"},{"$f":"'Att B'!BM61","v":0},{"$f":"'Att B'!BY61","v":0},{"$f":"'Att B'!CJ61","v":0},{"$f":"'Att B'!CW61","v":0},{"$f":"'Att B'!DF61","v":0},{"$f":"'Att B'!DO61","v":0},{"$f":"'Att B'!DU61","v":0},{"$f":"'Att B'!EF61","v":0},{"$f":"'Att B'!EV61","v":0},{"$f":"'Att B'!FP61","v":0},{"$f":"'Att B'!GA61","v":0},{"$f":"'Att B'!GG61","v":0}]
[{"$f":"'Att B'!AF19","v":"Select Option"},{"$f":"'Att B'!$AS$24","v":""},{"$f":"'Att B'!B62","v":0},{"$f":"'Att B'!N62","v":0},{"$f":"'Att B'!X62","v":0},{"$f":"'Att B'!AJ62","v":0},{"$f":"'Att B'!AU62","v":0},{"$f":"'Att B'!BE62","v":"00:00:00"},{"$f":"'Att B'!BM62","v":0},{"$f":"'Att B'!BY62","v":0},{"$f":"'Att B'!CJ62","v":0},{"$f":"'Att B'!CW62","v":0},{"$f":"'Att B'!DF62","v":0},{"$f":"'Att B'!DO62","v":0},{"$f":"'Att B'!DU62","v":0},{"$f":"'Att B'!EF62","v":0},{"$f":"'Att B'!EV62","v":0},{"$f":"'Att B'!FP62","v":0},{"$f":"'Att B'!GA62","v":0},{"$f":"'Att B'!GG62","v":0}]
[{"$f":"'Att B'!AF19","v":"Select Option"},{"$f":"'Att B'!$AS$24","v":""},{"$f":"'Att B'!B63","v":0},{"$f":"'Att B'!N63","v":0},{"$f":"'Att B'!X63","v":0},{"$f":"'Att B'!AJ63","v":0},{"$f":"'Att B'!AU63","v":0},{"$f":"'Att B'!BE63","v":"00:00:00"},{"$f":"'Att B'!BM63","v":0},{"$f":"'Att B'!BY63","v":0},{"$f":"'Att B'!CJ63","v":0},{"$f":"'Att B'!CW63","v":0},{"$f":"'Att B'!DF63","v":0},{"$f":"'Att B'!DO63","v":0},{"$f":"'Att B'!DU63","v":0},{"$f":"'Att B'!EF63","v":0},{"$f":"'Att B'!EV63","v":0},{"$f":"'Att B'!FP63","v":0},{"$f":"'Att B'!GA63","v":0},{"$f":"'Att B'!GG63","v":0}]
[{"$f":"'Att B'!AF19","v":"Select Option"},{"$f":"'Att B'!$AS$24","v":""},{"$f":"'Att B'!B64","v":0},{"$f":"'Att B'!N64","v":0},{"$f":"'Att B'!X64","v":0},{"$f":"'Att B'!AJ64","v":0},{"$f":"'Att B'!AU64","v":0},{"$f":"'Att B'!BE64","v":"00:00:00"},{"$f":"'Att B'!BM64","v":0},{"$f":"'Att B'!BY64","v":0},{"$f":"'Att B'!CJ64","v":0},{"$f":"'Att B'!CW64","v":0},{"$f":"'Att B'!DF64","v":0},{"$f":"'Att B'!DO64","v":0},{"$f":"'Att B'!DU64","v":0},{"$f":"'Att B'!EF64","v":0},{"$f":"'Att B'!EV64","v":0},{"$f":"'Att B'!FP64","v":0},{"$f":"'Att B'!GA64","v":0},{"$f":"'Att B'!GG64","v":0}]
[{"$f":"'Att B'!AF19","v":"Select Option"},{"$f":"'Att B'!$AS$24","v":""},{"$f":"'Att B'!B65","v":0},{"$f":"'Att B'!N65","v":0},{"$f":"'Att B'!X65","v":0},{"$f":"'Att B'!AJ65","v":0},{"$f":"'Att B'!AU65","v":0},{"$f":"'Att B'!BE65","v":"00:00:00"},{"$f":"'Att B'!BM65","v":0},{"$f":"'Att B'!BY65","v":0},{"$f":"'Att B'!CJ65","v":0},{"$f":"'Att B'!CW65","v":0},{"$f":"'Att B'!DF65","v":0},{"$f":"'Att B'!DO65","v":0},{"$f":"'Att B'!DU65","v":0},{"$f":"'Att B'!EF65","v":0},{"$f":"'Att B'!EV65","v":0},{"$f":"'Att B'!FP65","v":0},{"$f":"'Att B'!GA65","v":0},{"$f":"'Att B'!GG65","v":0}]
[{"$f":"'Att B'!AF19","v":"Select Option"},{"$f":"'Att B'!$AS$24","v":""},{"$f":"'Att B'!B66","v":0},{"$f":"'Att B'!N66","v":0},{"$f":"'Att B'!X66","v":0},{"$f":"'Att B'!AJ66","v":0},{"$f":"'Att B'!AU66","v":0},{"$f":"'Att B'!BE66","v":"00:00:00"},{"$f":"'Att B'!BM66","v":0},{"$f":"'Att B'!BY66","v":0},{"$f":"'Att B'!CJ66","v":0},{"$f":"'Att B'!CW66","v":0},{"$f":"'Att B'!DF66","v":0},{"$f":"'Att B'!DO66","v":0},{"$f":"'Att B'!DU66","v":0},{"$f":"'Att B'!EF66","v":0},{"$f":"'Att B'!EV66","v":0},{"$f":"'Att B'!FP66","v":0},{"$f":"'Att B'!GA66","v":0},{"$f":"'Att B'!GG66","v":0}]
[{"$f":"'Att B'!AF19","v":"Select Option"},{"$f":"'Att B'!$AS$24","v":""},{"$f":"'Att B'!B67","v":0},{"$f":"'Att B'!N67","v":0},{"$f":"'Att B'!X67","v":0},{"$f":"'Att B'!AJ67","v":0},{"$f":"'Att B'!AU67","v":0},{"$f":"'Att B'!BE67","v":"00:00:00"},{"$f":"'Att B'!BM67","v":0},{"$f":"'Att B'!BY67","v":0},{"$f":"'Att B'!CJ67","v":0},{"$f":"'Att B'!CW67","v":0},{"$f":"'Att B'!DF67","v":0},{"$f":"'Att B'!DO67","v":0},{"$f":"'Att B'!DU67","v":0},{"$f":"'Att B'!EF67","v":0},{"$f":"'Att B'!EV67","v":0},{"$f":"'Att B'!FP67","v":0},{"$f":"'Att B'!GA67","v":0},{"$f":"'Att B'!GG67","v":0}]
[{"$f":"'Att B'!AF19","v":"Select Option"},{"$f":"'Att B'!$AS$24","v":""},{"$f":"'Att B'!B68","v":0},{"$f":"'Att B'!N68","v":0},{"$f":"'Att B'!X68","v":0},{"$f":"'Att B'!AJ68","v":0},{"$f":"'Att B'!AU68","v":0},{"$f":"'Att B'!BE68","v":"00:00:00"},{"$f":"'Att B'!BM68","v":0},{"$f":"'Att B'!BY68","v":0},{"$f":"'Att B'!CJ68","v":0},{"$f":"'Att B'!CW68","v":0},{"$f":"'Att B'!DF68","v":0},{"$f":"'Att B'!DO68","v":0},{"$f":"'Att B'!DU68","v":0},{"$f":"'Att B'!EF68","v":0},{"$f":"'Att B'!EV68","v":0},{"$f":"'Att B'!FP68","v":0},{"$f":"'Att B'!GA68","v":0},{"$f":"'Att B'!GG68","v":0}]
[{"$f":"'Att B'!AF19","v":"Select Option"},{"$f":"'Att B'!$AS$24","v":""},{"$f":"'Att B'!B69","v":0},{"$f":"'Att B'!N69","v":0},{"$f":"'Att B'!X69","v":0},{"$f":"'Att B'!AJ69","v":0},{"$f":"'Att B'!AU69","v":0},{"$f":"'Att B'!BE69","v":"00:00:00"},{"$f":"'Att B'!BM69","v":0},{"$f":"'Att B'!BY69","v":0},{"$f":"'Att B'!CJ69","v":0},{"$f":"'Att B'!CW69","v":0},{"$f":"'Att B'!DF69","v":0},{"$f":"'Att B'!DO69","v":0},{"$f":"'Att B'!DU69","v":0},{"$f":"'Att B'!EF69","v":0},{"$f":"'Att B'!EV69","v":0},{"$f":"'Att B'!FP69","v":0},{"$f":"'Att B'!GA69","v":0},{"$f":"'Att B'!GG69","v":0}]
[{"$f":"'Att B'!AF19","v":"Select Option"},{"$f":"'Att B'!$AS$24","v":""},{"$f":"'Att B'!B70","v":0},{"$f":"'Att B'!N70","v":0},{"$f":"'Att B'!X70","v":0},{"$f":"'Att B'!AJ70","v":0},{"$f":"'Att B'!AU70","v":0},{"$f":"'Att B'!BE70","v":"00:00:00"},{"$f":"'Att B'!BM70","v":0},{"$f":"'Att B'!BY70","v":0},{"$f":"'Att B'!CJ70","v":0},{"$f":"'Att B'!CW70","v":0},{"$f":"'Att B'!DF70","v":0},{"$f":"'Att B'!DO70","v":0},{"$f":"'Att B'!DU70","v":0},{"$f":"'Att B'!EF70","v":0},{"$f":"'Att B'!EV70","v":0},{"$f":"'Att B'!FP70","v":0},{"$f":"'Att B'!GA70","v":0},{"$f":"'Att B'!GG70","v":0}]
[{"$f":"'Att B'!AF19","v":"Select Option"},{"$f":"'Att B'!$AS$24","v":""},{"$f":"'Att B'!B71","v":0},{"$f":"'Att B'!N71","v":0},{"$f":"'Att B'!X71","v":0},{"$f":"'Att B'!AJ71","v":0},{"$f":"'Att B'!AU71","v":0},{"$f":"'Att B'!BE71","v":"00:00:00"},{"$f":"'Att B'!BM71","v":0},{"$f":"'Att B'!BY71","v":0},{"$f":"'Att B'!CJ71","v":0},{"$f":"'Att B'!CW71","v":0},{"$f":"'Att B'!DF71","v":0},{"$f":"'Att B'!DO71","v":0},{"$f":"'Att B'!DU71","v":0},{"$f":"'Att B'!EF71","v":0},{"$f":"'Att B'!EV71","v":0},{"$f":"'Att B'!FP71","v":0},{"$f":"'Att B'!GA71","v":0},{"$f":"'Att B'!GG71","v":0}]
[{"$f":"'Att B'!AF19","v":"Select Option"},{"$f":"'Att B'!$AS$24","v":""},{"$f":"'Att B'!B72","v":0},{"$f":"'Att B'!N72","v":0},{"$f":"'Att B'!X72","v":0},{"$f":"'Att B'!AJ72","v":0},{"$f":"'Att B'!AU72","v":0},{"$f":"'Att B'!BE72","v":"00:00:00"},{"$f":"'Att B'!BM72","v":0},{"$f":"'Att B'!BY72","v":0},{"$f":"'Att B'!CJ72","v":0},{"$f":"'Att B'!CW72","v":0},{"$f":"'Att B'!DF72","v":0},{"$f":"'Att B'!DO72","v":0},{"$f":"'Att B'!DU72","v":0},{"$f":"'Att B'!EF72","v":0},{"$f":"'Att B'!EV72","v":0},{"$f":"'Att B'!FP72","v":0},{"$f":"'Att B'!GA72","v":0},{"$f":"'Att B'!GG72","v":0}]
[{"$f":"'Att B'!AF19","v":"Select Option"},{"$f":"'Att B'!$AS$24","v":""},{"$f":"'Att B'!B101","v":0},{"$f":"'Att B'!N101","v":0},{"$f":"'Att B'!X101","v":0},{"$f":"'Att B'!AJ101","v":0},{"$f":"'Att B'!AU101","v":0},{"$f":"'Att B'!BE101","v":"00:00:00"},{"$f":"'Att B'!BM101","v":0},{"$f":"'Att B'!BY101","v":0},{"$f":"'Att B'!CJ101","v":0},{"$f":"'Att B'!CW101","v":0},{"$f":"'Att B'!DF101","v":0},{"$f":"'Att B'!DO101","v":0},{"$f":"'Att B'!DU101","v":0},{"$f":"'Att B'!EF101","v":0},{"$f":"'Att B'!EV101","v":0},{"$f":"'Att B'!FP101","v":0},{"$f":"'Att B'!GA101","v":0},{"$f":"'Att B'!GG101","v":0}]
[{"$f":"'Att B'!AF19","v":"Select Option"},{"$f":"'Att B'!$AS$24","v":""},{"$f":"'Att B'!B102","v":0},{"$f":"'Att B'!N102","v":0},{"$f":"'Att B'!X102","v":0},{"$f":"'Att B'!AJ102","v":0},{"$f":"'Att B'!AU102","v":0},{"$f":"'Att B'!BE102","v":"00:00:00"},{"$f":"'Att B'!BM102","v":0},{"$f":"'Att B'!BY102","v":0},{"$f":"'Att B'!CJ102","v":0},{"$f":"'Att B'!CW102","v":0},{"$f":"'Att B'!DF102","v":0},{"$f":"'Att B'!DO102","v":0},{"$f":"'Att B'!DU102","v":0},{"$f":"'Att B'!EF102","v":0},{"$f":"'Att B'!EV102","v":0},{"$f":"'Att B'!FP102","v":0},{"$f":"'Att B'!GA102","v":0},{"$f":"'Att B'!GG102","v":0}]
[{"$f":"'Att B'!AF19","v":"Select Option"},{"$f":"'Att B'!$AS$24","v":""},{"$f":"'Att B'!B103","v":0},{"$f":"'Att B'!N103","v":0},{"$f":"'Att B'!X103","v":0},{"$f":"'Att B'!AJ103","v":0},{"$f":"'Att B'!AU103","v":0},{"$f":"'Att B'!BE103","v":"00:00:00"},{"$f":"'Att B'!BM103","v":0},{"$f":"'Att B'!BY103","v":0},{"$f":"'Att B'!CJ103","v":0},{"$f":"'Att B'!CW103","v":0},{"$f":"'Att B'!DF103","v":0},{"$f":"'Att B'!DO103","v":0},{"$f":"'Att B'!DU103","v":0},{"$f":"'Att B'!EF103","v":0},{"$f":"'Att B'!EV103","v":0},{"$f":"'Att B'!FP103","v":0},{"$f":"'Att B'!GA103","v":0},{"$f":"'Att B'!GG103","v":0}]
[{"$f":"'Att B'!AF19","v":"Select Option"},{"$f":"'Att B'!$AS$24","v":""},{"$f":"'Att B'!B104","v":0},{"$f":"'Att B'!N104","v":0},{"$f":"'Att B'!X104","v":0},{"$f":"'Att B'!AJ104","v":0},{"$f":"'Att B'!AU104","v":0},{"$f":"'Att B'!BE104","v":"00:00:00"},{"$f":"'Att B'!BM104","v":0},{"$f":"'Att B'!BY104","v":0},{"$f":"'Att B'!CJ104","v":0},{"$f":"'Att B'!CW104","v":0},{"$f":"'Att B'!DF104","v":0},{"$f":"'Att B'!DO104","v":0},{"$f":"'Att B'!DU104","v":0},{"$f":"'Att B'!EF104","v":0},{"$f":"'Att B'!EV104","v":0},{"$f":"'Att B'!FP104","v":0},{"$f":"'Att B'!GA104","v":0},{"$f":"'Att B'!GG104","v":0}]
[{"$f":"'Att B'!AF19","v":"Select Option"},{"$f":"'Att B'!$AS$24","v":""},{"$f":"'Att B'!B105","v":0},{"$f":"'Att B'!N105","v":0},{"$f":"'Att B'!X105","v":0},{"$f":"'Att B'!AJ105","v":0},{"$f":"'Att B'!AU105","v":0},{"$f":"'Att B'!BE105","v":"00:00:00"},{"$f":"'Att B'!BM105","v":0},{"$f":"'Att B'!BY105","v":0},{"$f":"'Att B'!CJ105","v":0},{"$f":"'Att B'!CW105","v":0},{"$f":"'Att B'!DF105","v":0},{"$f":"'Att B'!DO105","v":0},{"$f":"'Att B'!DU105","v":0},{"$f":"'Att B'!EF105","v":0},{"$f":"'Att B'!EV105","v":0},{"$f":"'Att B'!FP105","v":0},{"$f":"'Att B'!GA105","v":0},{"$f":"'Att B'!GG105","v":0}]
[{"$f":"'Att B'!AF19","v":"Select Option"},{"$f":"'Att B'!$AS$24","v":""},{"$f":"'Att B'!B106","v":0},{"$f":"'Att B'!N106","v":0},{"$f":"'Att B'!X106","v":0},{"$f":"'Att B'!AJ106","v":0},{"$f":"'Att B'!AU106","v":0},{"$f":"'Att B'!BE106","v":"00:00:00"},{"$f":"'Att B'!BM106","v":0},{"$f":"'Att B'!BY106","v":0},{"$f":"'Att B'!CJ106","v":0},{"$f":"'Att B'!CW106","v":0},{"$f":"'Att B'!DF106","v":0},{"$f":"'Att B'!DO106","v":0},{"$f":"'Att B'!DU106","v":0},{"$f":"'Att B'!EF106","v":0},{"$f":"'Att B'!EV106","v":0},{"$f":"'Att B'!FP106","v":0},{"$f":"'Att B'!GA106","v":0},{"$f":"'Att B'!GG106","v":0}]
[{"$f":"'Att B'!AF19","v":"Select Option"},{"$f":"'Att B'!$AS$24","v":""},{"$f":"'Att B'!B107","v":0},{"$f":"'Att B'!N107","v":0},{"$f":"'Att B'!X107","v":0},{"$f":"'Att B'!AJ107","v":0},{"$f":"'Att B'!AU107","v":0},{"$f":"'Att B'!BE107","v":"00:00:00"},{"$f":"'Att B'!BM107","v":0},{"$f":"'Att B'!BY107","v":0},{"$f":"'Att B'!CJ107","v":0},{"$f":"'Att B'!CW107","v":0},{"$f":"'Att B'!DF107","v":0},{"$f":"'Att B'!DO107","v":0},{"$f":"'Att B'!DU107","v":0},{"$f":"'Att B'!EF107","v":0},{"$f":"'Att B'!EV107","v":0},{"$f":"'Att B'!FP107","v":0},{"$f":"'Att B'!GA107","v":0},{"$f":"'Att B'!GG107","v":0}]
[{"$f":"'Att B'!AF19","v":"Select Option"},{"$f":"'Att B'!$AS$24","v":""},{"$f":"'Att B'!B108","v":0},{"$f":"'Att B'!N108","v":0},{"$f":"'Att B'!X108","v":0},{"$f":"'Att B'!AJ108","v":0},{"$f":"'Att B'!AU108","v":0},{"$f":"'Att B'!BE108","v":"00:00:00"},{"$f":"'Att B'!BM108","v":0},{"$f":"'Att B'!BY108","v":0},{"$f":"'Att B'!CJ108","v":0},{"$f":"'Att B'!CW108","v":0},{"$f":"'Att B'!DF108","v":0},{"$f":"'Att B'!DO108","v":0},{"$f":"'Att B'!DU108","v":0},{"$f":"'Att B'!EF108","v":0},{"$f":"'Att B'!EV108","v":0},{"$f":"'Att B'!FP108","v":0},{"$f":"'Att B'!GA108","v":0},{"$f":"'Att B'!GG108","v":0}]
[{"$f":"'Att B'!AF19","v":"Select Option"},{"$f":"'Att B'!$AS$24","v":""},{"$f":"'Att B'!B109","v":0},{"$f":"'Att B'!N109","v":0},{"$f":"'Att B'!X109","v":0},{"$f":"'Att B'!AJ109","v":0},{"$f":"'Att B'!AU109","v":0},{"$f":"'Att B'!BE109","v":"00:00:00"},{"$f":"'Att B'!BM109","v":0},{"$f":"'Att B'!BY109","v":0},{"$f":"'Att B'!CJ109","v":0},{"$f":"'Att B'!CW109","v":0},{"$f":"'Att B'!DF109","v":0},{"$f":"'Att B'!DO109","v":0},{"$f":"'Att B'!DU109","v":0},{"$f":"'Att B'!EF109","v":0},{"$f":"'Att B'!EV109","v":0},{"$f":"'Att B'!FP109","v":0},{"$f":"'Att B'!GA109","v":0},{"$f":"'Att B'!GG109","v":0}]
[{"$f":"'Att B'!AF19","v":"Select Option"},{"$f":"'Att B'!$AS$24","v":""},{"$f":"'Att B'!B110","v":0},{"$f":"'Att B'!N110","v":0},{"$f":"'Att B'!X110","v":0},{"$f":"'Att B'!AJ110","v":0},{"$f":"'Att B'!AU110","v":0},{"$f":"'Att B'!BE110","v":"00:00:00"},{"$f":"'Att B'!BM110","v":0},{"$f":"'Att B'!BY110","v":0},{"$f":"'Att B'!CJ110","v":0},{"$f":"'Att B'!CW110","v":0},{"$f":"'Att B'!DF110","v":0},{"$f":"'Att B'!DO110","v":0},{"$f":"'Att B'!DU110","v":0},{"$f":"'Att B'!EF110","v":0},{"$f":"'Att B'!EV110","v":0},{"$f":"'Att B'!FP110","v":0},{"$f":"'Att B'!GA110","v":0},{"$f":"'Att B'!GG110","v":0}]
[{"$f":"'Att B'!AF19","v":"Select Option"},{"$f":"'Att B'!$AS$24","v":""},{"$f":"'Att B'!B111","v":0},{"$f":"'Att B'!N111","v":0},{"$f":"'Att B'!X111","v":0},{"$f":"'Att B'!AJ111","v":0},{"$f":"'Att B'!AU111","v":0},{"$f":"'Att B'!BE111","v":"00:00:00"},{"$f":"'Att B'!BM111","v":0},{"$f":"'Att B'!BY111","v":0},{"$f":"'Att B'!CJ111","v":0},{"$f":"'Att B'!CW111","v":0},{"$f":"'Att B'!DF111","v":0},{"$f":"'Att B'!DO111","v":0},{"$f":"'Att B'!DU111","v":0},{"$f":"'Att B'!EF111","v":0},{"$f":"'Att B'!EV111","v":0},{"$f":"'Att B'!FP111","v":0},{"$f":"'Att B'!GA111","v":0},{"$f":"'Att B'!GG111","v":0}]
[{"$f":"'Att B'!AF19","v":"Select Option"},{"$f":"'Att B'!$AS$24","v":""},{"$f":"'Att B'!B112","v":0},{"$f":"'Att B'!N112","v":0},{"$f":"'Att B'!X112","v":0},{"$f":"'Att B'!AJ112","v":0},{"$f":"'Att B'!AU112","v":0},{"$f":"'Att B'!BE112","v":"00:00:00"},{"$f":"'Att B'!BM112","v":0},{"$f":"'Att B'!BY112","v":0},{"$f":"'Att B'!CJ112","v":0},{"$f":"'Att B'!CW112","v":0},{"$f":"'Att B'!DF112","v":0},{"$f":"'Att B'!DO112","v":0},{"$f":"'Att B'!DU112","v":0},{"$f":"'Att B'!EF112","v":0},{"$f":"'Att B'!EV112","v":0},{"$f":"'Att B'!FP112","v":0},{"$f":"'Att B'!GA112","v":0},{"$f":"'Att B'!GG112","v":0}]
[{"$f":"'Att B'!AF19","v":"Select Option"},{"$f":"'Att B'!$AS$24","v":""},{"$f":"'Att B'!B113","v":0},{"$f":"'Att B'!N113","v":0},{"$f":"'Att B'!X113","v":0},{"$f":"'Att B'!AJ113","v":0},{"$f":"'Att B'!AU113","v":0},{"$f":"'Att B'!BE113","v":"00:00:00"},{"$f":"'Att B'!BM113","v":0},{"$f":"'Att B'!BY113","v":0},{"$f":"'Att B'!CJ113","v":0},{"$f":"'Att B'!CW113","v":0},{"$f":"'Att B'!DF113","v":0},{"$f":"'Att B'!DO113","v":0},{"$f":"'Att B'!DU113","v":0},{"$f":"'Att B'!EF113","v":0},{"$f":"'Att B'!EV113","v":0},{"$f":"'Att B'!FP113","v":0},{"$f":"'Att B'!GA113","v":0},{"$f":"'Att B'!GG113","v":0}]
[{"$f":"'Att B'!AF19","v":"Select Option"},{"$f":"'Att B'!$AS$24","v":""},{"$f":"'Att B'!B114","v":0},{"$f":"'Att B'!N114","v":0},{"$f":"'Att B'!X114","v":0},{"$f":"'Att B'!AJ114","v":0},{"$f":"'Att B'!AU114","v":0},{"$f":"'Att B'!BE114","v":"00:00:00"},{"$f":"'Att B'!BM114","v":0},{"$f":"'Att B'!BY114","v":0},{"$f":"'Att B'!CJ114","v":0},{"$f":"'Att B'!CW114","v":0},{"$f":"'Att B'!DF114","v":0},{"$f":"'Att B'!DO114","v":0},{"$f":"'Att B'!DU114","v":0},{"$f":"'Att B'!EF114","v":0},{"$f":"'Att B'!EV114","v":0},{"$f":"'Att B'!FP114","v":0},{"$f":"'Att B'!GA114","v":0},{"$f":"'Att B'!GG114","v":0}]
[{"$f":"'Att B'!AF19","v":"Select Option"},{"$f":"'Att B'!$AS$24","v":""},{"$f":"'Att B'!B115","v":0},{"$f":"'Att B'!N115","v":0},{"$f":"'Att B'!X115","v":0},{"$f":"'Att B'!AJ115","v":0},{"$f":"'Att B'!AU115","v":0},{"$f":"'Att B'!BE115","v":"00:00:00"},{"$f":"'Att B'!BM115","v":0},{"$f":"'Att B'!BY115","v":0},{"$f":"'Att B'!CJ115","v":0},{"$f":"'Att B'!CW115","v":0},{"$f":"'Att B'!DF115","v":0},{"$f":"'Att B'!DO115","v":0},{"$f":"'Att B'!DU115","v":0},{"$f":"'Att B'!EF115","v":0},{"$f":"'Att B'!EV115","v":0},{"$f":"'Att B'!FP115","v":0},{"$f":"'Att B'!GA115","v":0},{"$f":"'Att B'!GG115","v":0}]
[{"$f":"'Att B'!AF19","v":"Select Option"},{"$f":"'Att B'!$AS$24","v":""},{"$f":"'Att B'!B116","v":0},{"$f":"'Att B'!N116","v":0},{"$f":"'Att B'!X116","v":0},{"$f":"'Att B'!AJ116","v":0},{"$f":"'Att B'!AU116","v":0},{"$f":"'Att B'!BE116","v":"00:00:00"},{"$f":"'Att B'!BM116","v":0},{"$f":"'Att B'!BY116","v":0},{"$f":"'Att B'!CJ116","v":0},{"$f":"'Att B'!CW116","v":0},{"$f":"'Att B'!DF116","v":0},{"$f":"'Att B'!DO116","v":0},{"$f":"'Att B'!DU116","v":0},{"$f":"'Att B'!EF116","v":0},{"$f":"'Att B'!EV116","v":0},{"$f":"'Att B'!FP116","v":0},{"$f":"'Att B'!GA116","v":0},{"$f":"'Att B'!GG116","v":0}]
[{"$f":"'Att B'!AF19","v":"Select Option"},{"$f":"'Att B'!$AS$24","v":""},{"$f":"'Att B'!B117","v":0},{"$f":"'Att B'!N117","v":0},{"$f":"'Att B'!X117","v":0},{"$f":"'Att B'!AJ117","v":0},{"$f":"'Att B'!AU117","v":0},{"$f":"'Att B'!BE117","v":"00:00:00"},{"$f":"'Att B'!BM117","v":0},{"$f":"'Att B'!BY117","v":0},{"$f":"'Att B'!CJ117","v":0},{"$f":"'Att B'!CW117","v":0},{"$f":"'Att B'!DF117","v":0},{"$f":"'Att B'!DO117","v":0},{"$f":"'Att B'!DU117","v":0},{"$f":"'Att B'!EF117","v":0},{"$f":"'Att B'!EV117","v":0},{"$f":"'Att B'!FP117","v":0},{"$f":"'Att B'!GA117","v":0},{"$f":"'Att B'!GG117","v":0}]
[{"$f":"'Att B'!AF19","v":"Select Option"},{"$f":"'Att B'!$AS$24","v":""},{"$f":"'Att B'!B118","v":0},{"$f":"'Att B'!N118","v":0},{"$f":"'Att B'!X118","v":0},{"$f":"'Att B'!AJ118","v":0},{"$f":"'Att B'!AU118","v":0},{"$f":"'Att B'!BE118","v":"00:00:00"},{"$f":"'Att B'!BM118","v":0},{"$f":"'Att B'!BY118","v":0},{"$f":"'Att B'!CJ118","v":0},{"$f":"'Att B'!CW118","v":0},{"$f":"'Att B'!DF118","v":0},{"$f":"'Att B'!DO118","v":0},{"$f":"'Att B'!DU118","v":0},{"$f":"'Att B'!EF118","v":0},{"$f":"'Att B'!EV118","v":0},{"$f":"'Att B'!FP118","v":0},{"$f":"'Att B'!GA118","v":0},{"$f":"'Att B'!GG118","v":0}]
[{"$f":"'Att B'!AF19","v":"Select Option"},{"$f":"'Att B'!$AS$24","v":""},{"$f":"'Att B'!B147","v":0},{"$f":"'Att B'!N147","v":0},{"$f":"'Att B'!X147","v":0},{"$f":"'Att B'!AJ147","v":0},{"$f":"'Att B'!AU147","v":0},{"$f":"'Att B'!BE147","v":"00:00:00"},{"$f":"'Att B'!BM147","v":0},{"$f":"'Att B'!BY147","v":0},{"$f":"'Att B'!CJ147","v":0},{"$f":"'Att B'!CW147","v":0},{"$f":"'Att B'!DF147","v":0},{"$f":"'Att B'!DO147","v":0},{"$f":"'Att B'!DU147","v":0},{"$f":"'Att B'!EF147","v":0},{"$f":"'Att B'!EV147","v":0},{"$f":"'Att B'!FP147","v":0},{"$f":"'Att B'!GA147","v":0},{"$f":"'Att B'!GG147","v":0}]
[{"$f":"'Att B'!AF19","v":"Select Option"},{"$f":"'Att B'!$AS$24","v":""},{"$f":"'Att B'!B148","v":0},{"$f":"'Att B'!N148","v":0},{"$f":"'Att B'!X148","v":0},{"$f":"'Att B'!AJ148","v":0},{"$f":"'Att B'!AU148","v":0},{"$f":"'Att B'!BE148","v":"00:00:00"},{"$f":"'Att B'!BM148","v":0},{"$f":"'Att B'!BY148","v":0},{"$f":"'Att B'!CJ148","v":0},{"$f":"'Att B'!CW148","v":0},{"$f":"'Att B'!DF148","v":0},{"$f":"'Att B'!DO148","v":0},{"$f":"'Att B'!DU148","v":0},{"$f":"'Att B'!EF148","v":0},{"$f":"'Att B'!EV148","v":0},{"$f":"'Att B'!FP148","v":0},{"$f":"'Att B'!GA148","v":0},{"$f":"'Att B'!GG148","v":0}]
[{"$f":"'Att B'!AF19","v":"Select Option"},{"$f":"'Att B'!$AS$24","v":""},{"$f":"'Att B'!B149","v":0},{"$f":"'Att B'!N149","v":0},{"$f":"'Att B'!X149","v":0},{"$f":"'Att B'!AJ149","v":0},{"$f":"'Att B'!AU149","v":0},{"$f":"'Att B'!BE149","v":"00:00:00"},{"$f":"'Att B'!BM149","v":0},{"$f":"'Att B'!BY149","v":0},{"$f":"'Att B'!CJ149","v":0},{"$f":"'Att B'!CW149","v":0},{"$f":"'Att B'!DF149","v":0},{"$f":"'Att B'!DO149","v":0},{"$f":"'Att B'!DU149","v":0},{"$f":"'Att B'!EF149","v":0},{"$f":"'Att B'!EV149","v":0},{"$f":"'Att B'!FP149","v":0},{"$f":"'Att B'!GA149","v":0},{"$f":"'Att B'!GG149","v":0}]
[{"$f":"'Att B'!AF19","v":"Select Option"},{"$f":"'Att B'!$AS$24","v":""},{"$f":"'Att B'!B150","v":0},{"$f":"'Att B'!N150","v":0},{"$f":"'Att B'!X150","v":0},{"$f":"'Att B'!AJ150","v":0},{"$f":"'Att B'!AU150","v":0},{"$f":"'Att B'!BE150","v":"00:00:00"},{"$f":"'Att B'!BM150","v":0},{"$f":"'Att B'!BY150","v":0},{"$f":"'Att B'!CJ150","v":0},{"$f":"'Att B'!CW150","v":0},{"$f":"'Att B'!DF150","v":0},{"$f":"'Att B'!DO150","v":0},{"$f":"'Att B'!DU150","v":0},{"$f":"'Att B'!EF150","v":0},{"$f":"'Att B'!EV150","v":0},{"$f":"'Att B'!FP150","v":0},{"$f":"'Att B'!GA150","v":0},{"$f":"'Att B'!GG150","v":0}]
[{"$f":"'Att B'!AF19","v":"Select Option"},{"$f":"'Att B'!$AS$24","v":""},{"$f":"'Att B'!B151","v":0},{"$f":"'Att B'!N151","v":0},{"$f":"'Att B'!X151","v":0},{"$f":"'Att B'!AJ151","v":0},{"$f":"'Att B'!AU151","v":0},{"$f":"'Att B'!BE151","v":"00:00:00"},{"$f":"'Att B'!BM151","v":0},{"$f":"'Att B'!BY151","v":0},{"$f":"'Att B'!CJ151","v":0},{"$f":"'Att B'!CW151","v":0},{"$f":"'Att B'!DF151","v":0},{"$f":"'Att B'!DO151","v":0},{"$f":"'Att B'!DU151","v":0},{"$f":"'Att B'!EF151","v":0},{"$f":"'Att B'!EV151","v":0},{"$f":"'Att B'!FP151","v":0},{"$f":"'Att B'!GA151","v":0},{"$f":"'Att B'!GG151","v":0}]
[{"$f":"'Att B'!AF19","v":"Select Option"},{"$f":"'Att B'!$AS$24","v":""},{"$f":"'Att B'!B152","v":0},{"$f":"'Att B'!N152","v":0},{"$f":"'Att B'!X152","v":0},{"$f":"'Att B'!AJ152","v":0},{"$f":"'Att B'!AU152","v":0},{"$f":"'Att B'!BE152","v":"00:00:00"},{"$f":"'Att B'!BM152","v":0},{"$f":"'Att B'!BY152","v":0},{"$f":"'Att B'!CJ152","v":0},{"$f":"'Att B'!CW152","v":0},{"$f":"'Att B'!DF152","v":0},{"$f":"'Att B'!DO152","v":0},{"$f":"'Att B'!DU152","v":0},{"$f":"'Att B'!EF152","v":0},{"$f":"'Att B'!EV152","v":0},{"$f":"'Att B'!FP152","v":0},{"$f":"'Att B'!GA152","v":0},{"$f":"'Att B'!GG152","v":0}]
[{"$f":"'Att B'!AF19","v":"Select Option"},{"$f":"'Att B'!$AS$24","v":""},{"$f":"'Att B'!B153","v":0},{"$f":"'Att B'!N153","v":0},{"$f":"'Att B'!X153","v":0},{"$f":"'Att B'!AJ153","v":0},{"$f":"'Att B'!AU153","v":0},{"$f":"'Att B'!BE153","v":"00:00:00"},{"$f":"'Att B'!BM153","v":0},{"$f":"'Att B'!BY153","v":0},{"$f":"'Att B'!CJ153","v":0},{"$f":"'Att B'!CW153","v":0},{"$f":"'Att B'!DF153","v":0},{"$f":"'Att B'!DO153","v":0},{"$f":"'Att B'!DU153","v":0},{"$f":"'Att B'!EF153","v":0},{"$f":"'Att B'!EV153","v":0},{"$f":"'Att B'!FP153","v":0},{"$f":"'Att B'!GA153","v":0},{"$f":"'Att B'!GG153","v":0}]
[{"$f":"'Att B'!AF19","v":"Select Option"},{"$f":"'Att B'!$AS$24","v":""},{"$f":"'Att B'!B154","v":0},{"$f":"'Att B'!N154","v":0},{"$f":"'Att B'!X154","v":0},{"$f":"'Att B'!AJ154","v":0},{"$f":"'Att B'!AU154","v":0},{"$f":"'Att B'!BE154","v":"00:00:00"},{"$f":"'Att B'!BM154","v":0},{"$f":"'Att B'!BY154","v":0},{"$f":"'Att B'!CJ154","v":0},{"$f":"'Att B'!CW154","v":0},{"$f":"'Att B'!DF154","v":0},{"$f":"'Att B'!DO154","v":0},{"$f":"'Att B'!DU154","v":0},{"$f":"'Att B'!EF154","v":0},{"$f":"'Att B'!EV154","v":0},{"$f":"'Att B'!FP154","v":0},{"$f":"'Att B'!GA154","v":0},{"$f":"'Att B'!GG154","v":0}]
[{"$f":"'Att B'!AF19","v":"Select Option"},{"$f":"'Att B'!$AS$24","v":""},{"$f":"'Att B'!B155","v":0},{"$f":"'Att B'!N155","v":0},{"$f":"'Att B'!X155","v":0},{"$f":"'Att B'!AJ155","v":0},{"$f":"'Att B'!AU155","v":0},{"$f":"'Att B'!BE155","v":"00:00:00"},{"$f":"'Att B'!BM155","v":0},{"$f":"'Att B'!BY155","v":0},{"$f":"'Att B'!CJ155","v":0},{"$f":"'Att B'!CW155","v":0},{"$f":"'Att B'!DF155","v":0},{"$f":"'Att B'!DO155","v":0},{"$f":"'Att B'!DU155","v":0},{"$f":"'Att B'!EF155","v":0},{"$f":"'Att B'!EV155","v":0},{"$f":"'Att B'!FP155","v":0},{"$f":"'Att B'!GA155","v":0},{"$f":"'Att B'!GG155","v":0}]
[{"$f":"'Att B'!AF19","v":"Select Option"},{"$f":"'Att B'!$AS$24","v":""},{"$f":"'Att B'!B156","v":0},{"$f":"'Att B'!N156","v":0},{"$f":"'Att B'!X156","v":0},{"$f":"'Att B'!AJ156","v":0},{"$f":"'Att B'!AU156","v":0},{"$f":"'Att B'!BE156","v":"00:00:00"},{"$f":"'Att B'!BM156","v":0},{"$f":"'Att B'!BY156","v":0},{"$f":"'Att B'!CJ156","v":0},{"$f":"'Att B'!CW156","v":0},{"$f":"'Att B'!DF156","v":0},{"$f":"'Att B'!DO156","v":0},{"$f":"'Att B'!DU156","v":0},{"$f":"'Att B'!EF156","v":0},{"$f":"'Att B'!EV156","v":0},{"$f":"'Att B'!FP156","v":0},{"$f":"'Att B'!GA156","v":0},{"$f":"'Att B'!GG156","v":0}]
[{"$f":"'Att B'!AF19","v":"Select Option"},{"$f":"'Att B'!$AS$24","v":""},{"$f":"'Att B'!B157","v":0},{"$f":"'Att B'!N157","v":0},{"$f":"'Att B'!X157","v":0},{"$f":"'Att B'!AJ157","v":0},{"$f":"'Att B'!AU157","v":0},{"$f":"'Att B'!BE157","v":"00:00:00"},{"$f":"'Att B'!BM157","v":0},{"$f":"'Att B'!BY157","v":0},{"$f":"'Att B'!CJ157","v":0},{"$f":"'Att B'!CW157","v":0},{"$f":"'Att B'!DF157","v":0},{"$f":"'Att B'!DO157","v":0},{"$f":"'Att B'!DU157","v":0},{"$f":"'Att B'!EF157","v":0},{"$f":"'Att B'!EV157","v":0},{"$f":"'Att B'!FP157","v":0},{"$f":"'Att B'!GA157","v":0},{"$f":"'Att B'!GG157","v":0}]
[{"$f":"'Att B'!AF19","v":"Select Option"},{"$f":"'Att B'!$AS$24","v":""},{"$f":"'Att B'!B158","v":0},{"$f":"'Att B'!N158","v":0},{"$f":"'Att B'!X158","v":0},{"$f":"'Att B'!AJ158","v":0},{"$f":"'Att B'!AU158","v":0},{"$f":"'Att B'!BE158","v":"00:00:00"},{"$f":"'Att B'!BM158","v":0},{"$f":"'Att B'!BY158","v":0},{"$f":"'Att B'!CJ158","v":0},{"$f":"'Att B'!CW158","v":0},{"$f":"'Att B'!DF158","v":0},{"$f":"'Att B'!DO158","v":0},{"$f":"'Att B'!DU158","v":0},{"$f":"'Att B'!EF158","v":0},{"$f":"'Att B'!EV158","v":0},{"$f":"'Att B'!FP158","v":0},{"$f":"'Att B'!GA158","v":0},{"$f":"'Att B'!GG158","v":0}]
[{"$f":"'Att B'!AF19","v":"Select Option"},{"$f":"'Att B'!$AS$24","v":""},{"$f":"'Att B'!B159","v":0},{"$f":"'Att B'!N159","v":0},{"$f":"'Att B'!X159","v":0},{"$f":"'Att B'!AJ159","v":0},{"$f":"'Att B'!AU159","v":0},{"$f":"'Att B'!BE159","v":"00:00:00"},{"$f":"'Att B'!BM159","v":0},{"$f":"'Att B'!BY159","v":0},{"$f":"'Att B'!CJ159","v":0},{"$f":"'Att B'!CW159","v":0},{"$f":"'Att B'!DF159","v":0},{"$f":"'Att B'!DO159","v":0},{"$f":"'Att B'!DU159","v":0},{"$f":"'Att B'!EF159","v":0},{"$f":"'Att B'!EV159","v":0},{"$f":"'Att B'!FP159","v":0},{"$f":"'Att B'!GA159","v":0},{"$f":"'Att B'!GG159","v":0}]
[{"$f":"'Att B'!AF19","v":"Select Option"},{"$f":"'Att B'!$AS$24","v":""},{"$f":"'Att B'!B160","v":0},{"$f":"'Att B'!N160","v":0},{"$f":"'Att B'!X160","v":0},{"$f":"'Att B'!AJ160","v":0},{"$f":"'Att B'!AU160","v":0},{"$f":"'Att B'!BE160","v":"00:00:00"},{"$f":"'Att B'!BM160","v":0},{"$f":"'Att B'!BY160","v":0},{"$f":"'Att B'!CJ160","v":0},{"$f":"'Att B'!CW160","v":0},{"$f":"'Att B'!DF160","v":0},{"$f":"'Att B'!DO160","v":0},{"$f":"'Att B'!DU160","v":0},{"$f":"'Att B'!EF160","v":0},{"$f":"'Att B'!EV160","v":0},{"$f":"'Att B'!FP160","v":0},{"$f":"'Att B'!GA160","v":0},{"$f":"'Att B'!GG160","v":0}]
[{"$f":"'Att B'!AF19","v":"Select Option"},{"$f":"'Att B'!$AS$24","v":""},{"$f":"'Att B'!B161","v":0},{"$f":"'Att B'!N161","v":0},{"$f":"'Att B'!X161","v":0},{"$f":"'Att B'!AJ161","v":0},{"$f":"'Att B'!AU161","v":0},{"$f":"'Att B'!BE161","v":"00:00:00"},{"$f":"'Att B'!BM161","v":0},{"$f":"'Att B'!BY161","v":0},{"$f":"'Att B'!CJ161","v":0},{"$f":"'Att B'!CW161","v":0},{"$f":"'Att B'!DF161","v":0},{"$f":"'Att B'!DO161","v":0},{"$f":"'Att B'!DU161","v":0},{"$f":"'Att B'!EF161","v":0},{"$f":"'Att B'!EV161","v":0},{"$f":"'Att B'!FP161","v":0},{"$f":"'Att B'!GA161","v":0},{"$f":"'Att B'!GG161","v":0}]
[{"$f":"'Att B'!AF19","v":"Select Option"},{"$f":"'Att B'!$AS$24","v":""},{"$f":"'Att B'!B162","v":0},{"$f":"'Att B'!N162","v":0},{"$f":"'Att B'!X162","v":0},{"$f":"'Att B'!AJ162","v":0},{"$f":"'Att B'!AU162","v":0},{"$f":"'Att B'!BE162","v":"00:00:00"},{"$f":"'Att B'!BM162","v":0},{"$f":"'Att B'!BY162","v":0},{"$f":"'Att B'!CJ162","v":0},{"$f":"'Att B'!CW162","v":0},{"$f":"'Att B'!DF162","v":0},{"$f":"'Att B'!DO162","v":0},{"$f":"'Att B'!DU162","v":0},{"$f":"'Att B'!EF162","v":0},{"$f":"'Att B'!EV162","v":0},{"$f":"'Att B'!FP162","v":0},{"$f":"'Att B'!GA162","v":0},{"$f":"'Att B'!GG162","v":0}]
[{"$f":"'Att B'!AF19","v":"Select Option"},{"$f":"'Att B'!$AS$24","v":""},{"$f":"'Att B'!B163","v":0},{"$f":"'Att B'!N163","v":0},{"$f":"'Att B'!X163","v":0},{"$f":"'Att B'!AJ163","v":0},{"$f":"'Att B'!AU163","v":0},{"$f":"'Att B'!BE163","v":"00:00:00"},{"$f":"'Att B'!BM163","v":0},{"$f":"'Att B'!BY163","v":0},{"$f":"'Att B'!CJ163","v":0},{"$f":"'Att B'!CW163","v":0},{"$f":"'Att B'!DF163","v":0},{"$f":"'Att B'!DO163","v":0},{"$f":"'Att B'!DU163","v":0},{"$f":"'Att B'!EF163","v":0},{"$f":"'Att B'!EV163","v":0},{"$f":"'Att B'!FP163","v":0},{"$f":"'Att B'!GA163","v":0},{"$f":"'Att B'!GG163","v":0}]
[{"$f":"'Att B'!AF19","v":"Select Option"},{"$f":"'Att B'!$AS$24","v":""},{"$f":"'Att B'!B164","v":0},{"$f":"'Att B'!N164","v":0},{"$f":"'Att B'!X164","v":0},{"$f":"'Att B'!AJ164","v":0},{"$f":"'Att B'!AU164","v":0},{"$f":"'Att B'!BE164","v":"00:00:00"},{"$f":"'Att B'!BM164","v":0},{"$f":"'Att B'!BY164","v":0},{"$f":"'Att B'!CJ164","v":0},{"$f":"'Att B'!CW164","v":0},{"$f":"'Att B'!DF164","v":0},{"$f":"'Att B'!DO164","v":0},{"$f":"'Att B'!DU164","v":0},{"$f":"'Att B'!EF164","v":0},{"$f":"'Att B'!EV164","v":0},{"$f":"'Att B'!FP164","v":0},{"$f":"'Att B'!GA164","v":0},{"$f":"'Att B'!GG164","v":0}]

{"sheet":"Link Data D","index":6,"n_rows":4,"n_cols":29,"rows_kept":4,"cut":false,"hidden":true,"merged":[[1,21,1,22],[1,23,1,24],[1,25,1,26],[1,27,1,28],[0,19,0,28],[1,19,1,20],[0,9,0,18],[1,9,1,10],[1,11,1,12],[1,13,1,14],[1,15,1,16],[1,17,1,18]]}
[null,null,null,null,null,null,null,null,null,"Hispanic",null,null,null,null,null,null,null,null,null,"Non-Hispanic"]
[null,null,null,null,null,null,null,null,null,"Alaskan Native or American Indian",null,"Asian",null,"Black or African American",null,"White",null,"Other",null,"Alaskan Native or American Indian",null,"Asian",null,"Black or African American",null,"White",null,"Other"]
["Contractor","Property Acquired","Cost","Business Displaced","Cost","Nonprofit Organization Displaced Permanently","Cost","Household Temporary Relocated","Cost","# HH Displaced","Relocation Cost","# HH Displaced","Relocation Cost","# HH Displaced","Relocation Cost","# HH Displaced","Relocation Cost","# HH Displaced","Relocation Cost","# HH Displaced","Relocation Cost","# HH Displaced","Relocation Cost","# HH Displaced","Relocation Cost","# HH Displaced","Relocation Cost","# HH Displaced","Relocation Cost"]
[{"$f":"'Att D'!AC26","v":"Select Option"},{"$f":"'Att D'!BU62","v":0},{"$f":"'Att D'!CI62","v":0},{"$f":"'Att D'!BU66","v":0},{"$f":"'Att D'!CI66","v":0},{"$f":"'Att D'!BU70","v":0},{"$f":"'Att D'!CI70","v":0},{"$f":"'Att D'!BU74","v":0},{"$f":"'Att D'!CI74","v":0},{"$f":"'Att D'!AS98","v":0},{"$f":"'Att D'!BN98","v":0},{"$f":"'Att D'!AS102","v":0},{"$f":"'Att D'!BN102","v":0},{"$f":"'Att D'!AS106","v":0},{"$f":"'Att D'!BN106","v":0},{"$f":"'Att D'!AS110","v":0},{"$f":"'Att D'!BN110","v":0},{"$f":"'Att D'!AS114","v":0},{"$f":"'Att D'!BN114","v":0},{"$f":"'Att D'!CH98","v":0},{"$f":"'Att D'!DA98","v":0},{"$f":"'Att D'!CH102","v":0},{"$f":"'Att D'!DA102","v":0},{"$f":"'Att D'!CH106","v":0},{"$f":"'Att D'!DA106","v":0},{"$f":"'Att D'!CH110","v":0},{"$f":"'Att D'!DA110","v":0},{"$f":"'Att D'!CH114","v":0},{"$f":"'Att D'!DA114","v":0}]

{"sheet":"Att D","index":7,"n_rows":114,"n_cols":126,"rows_kept":114,"cut":false,"hidden":false,"merged":[[113,65,116,84],[113,85,116,103],[113,104,116,122],[109,44,112,64],[109,65,112,84],[109,85,112,103],[109,104,112,122],[105,65,108,84],[105,85,108,103],[105,104,108,122],[101,44,104,64],[101,65,104,84],[101,85,104,103],[101,104,104,122],[113,3,116,43],[109,3,112,43],[105,3,108,43],[101,3,104,43],[105,44,108,64],[113,44,116,64],[97,3,100,43],[97,44,100,64],[97,65,100,84],[97,85,100,103],[97,104,100,122],[91,3,96,43],[91,44,96,64],[91,65,96,84],[91,85,96,103],[91,104,96,122],[78,3,85,122],[86,3,90,43],[86,44,90,84],[86,85,90,122],[65,3,68,71],[69,3,72,71],[65,72,68,85],[65,86,68,122],[69,72,72,85],[69,86,72,122],[73,72,76,85],[73,86,76,122],[73,3,76,71],[0,2,2,123],[3,2,5,123],[6,2,8,123],[52,3,57,122],[58,3,60,71],[58,72,60,85],[58,86,60,122],[42,3,49,122],[39,4,40,14],[39,34,40,45],[36,33,38,89],[36,92,38,122],[25,3,27,27],[39,92,40,99],[25,28,27,122],[36,3,38,30],[33,3,34,24],[30,3,32,58],[61,3,64,71],[61,72,64,85],[30,61,32,122],[33,61,34,88],[61,86,64,122]]}
[null,null,"Attachment D - Relocation and Real Property Acquisition"]
[]
[]
[null,null,"HOME Annual Performance Report"]
[]
[]
[null,null,"Reporting Period July 1, 2023 through June 30, 2024"]
[]
[null,null,null,null,null,null,null,null,null,null,null,null,null,null,null,null,null,null,null,null,null,null,null,null,null,null,null,null,null,null,null,null,null,null,null,null,null,null,null,null,null,null,null,null,null,null,null,null,null,null,null,null,null,null,null,null,null,null,null,null,null,null,null,null,null,null,null,null,null,null,null,null,null,null,null,null,null,null,null,null,null,null,null,null,null,null,null,null,null,null,null,null,null,null,null,null,null,null,null,null,null,null,null,null,null,null,null,null,null,null,null,null,null,null,null,null,null,null,null,null,null,null,null,null,null,"PAGE 1"]
[]
[]
[]
[]
[]
[]
[]
[]
[]
[]
[]
[]
[]
[]
[]
[]
[null,null,null,"HOME Recipient Name",null,null,null,null,null,null,null,null,null,null,null,null,null,null,null,null,null,null,null,null,null,null,null,null,{"$f":"IF(Matrix!E25=0,\"\",Matrix!E25)","v":"Select Option"}]
[]
[]
[]
[]
[null,null,null,{"$f":"IF(Matrix!GY43=2,Matrix!CT25,\"\")","v":""},null,null,null,null,null,null,null,null,null,null,null,null,null,null,null,null,null,null,null,null,null,null,null,null,null,null,null,null,null,null,null,null,null,null,null,null,null,null,null,null,null,null,null,null,null,null,null,null,null,null,null,null,null,null,null,null,null,{"$f":"IF(Matrix!GY43=2,Matrix!ET25,\"\")","v":""}]
[]
[]
[null,null,null,"Preparer's Name",null,null,null,null,null,null,null,null,null,null,null,null,null,null,null,null,null,null,null,null,null,null,null,null,null,null,null,null,null,null,null,null,null,null,null,null,null,null,null,null,null,null,null,null,null,null,null,null,null,null,null,null,null,null,null,null,null,"Organization"]
[]
[]
[null,null,null,{"$f":"IF(Matrix!GY43=2,Matrix!CT35,\"\")","v":""},null,null,null,null,null,null,null,null,null,null,null,null,null,null,null,null,null,null,null,null,null,null,null,null,null,null,null,null,null,{"$f":"IF(Matrix!GY43=2,Matrix!ET35,\"\")","v":""}]
[]
[]
[null,null,null,null,"Phone",null,null,null,null,null,null,null,null,null,null,null,null,null,null,null,null,null,null,null,null,null,null,null,null,null,null,null,null,null,"Email",null,null,null,null,null,null,null,null,null,null,null,null,null,null,null,null,null,null,null,null,null,null,null,null,null,null,null,null,null,null,null,null,null,null,null,null,null,null,null,null,null,null,null,null,null,null,null,null,null,null,null,null,null,null,null,null,null,"Date"]
[]
[]
[null,null,null,"Complete this form if assisting an activity which entails acquisition of real property and/or displacement of any person, business or nonprofit organization during the reporting period. "]
[]
[]
[]
[]
[]
[]
[]
[]
[]
[null,null,null,"Table I - Please provide the following information for all real property (land and/or buildings) either acquired or assisted by HOME funds. "]
[]
[]
[]
[]
[]
[null,null,null,null,null,null,null,null,null,null,null,null,null,null,null,null,null,null,null,null,null,null,null,null,null,null,null,null,null,null,null,null,null,null,null,null,null,null,null,null,null,null,null,null,null,null,null,null,null,null,null,null,null,null,null,null,null,null,null,null,null,null,null,null,null,null,null,null,null,null,null,null,"Number",null,null,null,null,null,null,null,null,null,null,null,null,null,"Cost"]
[]
[]
[null,null,null,"Properties Acquired (number and purchase price)"]
[]
[]
[]
[null,null,null,"Businesses Displaced Permanently"]
[]
[]
[]
[null,null,null,"Nonprofit Organizations Displaced Permanently"]
[]
[]
[]
[null,null,null,"Households Temporarily Relocated (less than 12 months)"]
[]
[]
[]
[]
[null,null,null,"Table II - Permanent Displacements Only - Provide information on any households permanently displaced as a result of real property (land and /or buildings) either acquired or assisted by HOME Funds."]
[]
[]
[]
[]
[]
[]
[]
[null,null,null,"Households Displaced Permanently Race/Ethnicity Group",null,null,null,null,null,null,null,null,null,null,null,null,null,null,null,null,null,null,null,null,null,null,null,null,null,null,null,null,null,null,null,null,null,null,null,null,null,null,null,null,"Hispanic Ethnicity",null,null,null,null,null,null,null,null,null,null,null,null,null,null,null,null,null,null,null,null,null,null,null,null,null,null,null,null,null,null,null,null,null,null,null,null,null,null,null,null,"Non-Hispanic Ethnicity"]
[]
[]
[]
[]
[null,null,null,"Race",null,null,null,null,null,null,null,null,null,null,null,null,null,null,null,null,null,null,null,null,null,null,null,null,null,null,null,null,null,null,null,null,null,null,null,null,null,null,null,null,"Number of Households Displaced",null,null,null,null,null,null,null,null,null,null,null,null,null,null,null,null,null,null,null,null,"Relocation Cost",null,null,null,null,null,null,null,null,null,null,null,null,null,null,null,null,null,null,null,"Number of Households Displaced ",null,null,null,null,null,null,null,null,null,null,null,null,null,null,null,null,null,null,"Relocation Cost"]
[]
[]
[]
[]
[]
[null,null,null,"Alaskan Native or American Indian "]
[]
[]
[]
[null,null,null,"Asian or Pacific Islander"]
[]
[]
[]
[null,null,null,"Black or African American"]
[]
[]
[]
[null,null,null,"White"]
[]
[]
[]
[null,null,null,"Other"]

{"sheet":"Att E Activity 1","index":8,"n_rows":392,"n_cols":220,"rows_kept":392,"cut":false,"hidden":false,"merged":[[115,1,120,37],[127,54,134,69],[127,135,134,149],[18,213,20,215],[18,219,20,221],[22,73,25,115],[22,182,24,193],[22,197,24,208],[22,213,24,215],[22,219,24,221],[29,117,32,130],[29,132,33,160],[31,85,32,114],[32,4,33,15],[32,17,33,35],[37,110,39,120],[42,1,47,37],[42,38,44,53],[42,56,44,80],[42,83,44,107],[42,110,44,134],[45,118,47,125],[45,126,47,134],[32,41,33,77],[1,19,4,136],[4,170,139,175],[5,19,8,136],[9,15,12,136],[12,182,15,193],[12,213,15,215],[13,15,16,136],[17,1,20,63],[18,182,20,193],[18,197,20,208],[23,2,24,19],[23,21,24,35],[23,37,24,57],[23,58,24,72],[23,117,26,130],[23,132,26,160],[26,4,27,22],[26,27,27,35],[26,41,27,114],[26,213,29,219],[29,4,30,22],[29,27,30,35],[29,41,30,77],[29,85,30,114],[37,1,39,16],[37,17,39,52],[37,54,39,82],[37,84,39,90],[37,92,39,108],[48,145,50,152],[48,153,50,161],[48,99,50,107],[48,110,50,117],[48,118,50,125],[48,126,50,134],[48,137,50,144],[42,137,44,161],[45,38,47,45],[45,46,47,53],[45,56,47,63],[45,64,47,71],[45,72,47,80],[45,83,47,90],[45,91,47,98],[45,99,47,107],[45,110,47,117],[45,137,47,144],[45,145,47,152],[45,153,47,161],[51,1,53,37],[51,38,53,45],[51,46,53,53],[51,56,53,63],[51,64,53,71],[51,72,53,80],[51,83,53,90],[51,91,53,98],[48,91,50,98],[48,1,50,37],[48,38,50,45],[48,46,50,53],[48,56,50,63],[48,64,50,71],[48,72,50,80],[48,83,50,90],[58,145,60,152],[58,153,60,161],[51,153,53,161],[54,38,54,45],[54,46,54,53],[54,56,54,63],[54,64,54,71],[54,72,54,78],[54,83,54,90],[54,91,54,98],[54,99,54,107],[54,110,54,117],[51,99,53,107],[51,110,53,117],[51,118,53,125],[51,126,53,134],[51,137,53,144],[51,145,53,152],[54,118,54,125],[54,126,54,134],[54,137,54,144],[54,145,54,152],[54,153,54,161],[61,137,63,144],[61,145,63,152],[61,153,63,161],[61,99,63,107],[61,110,63,117],[61,118,63,125],[55,1,60,37],[55,38,57,53],[55,56,57,80],[55,83,57,107],[55,110,57,134],[55,137,57,161],[58,38,60,45],[58,46,60,53],[58,56,60,63],[58,64,60,71],[58,72,60,80],[58,83,60,90],[58,91,60,98],[58,99,60,107],[58,110,60,117],[58,118,60,125],[58,126,60,134],[58,137,60,144],[61,72,63,80],[61,83,63,90],[61,91,63,98],[61,1,63,37],[61,38,63,45],[61,46,63,53],[61,56,63,63],[61,64,63,71],[61,126,63,134],[64,153,66,161],[67,1,69,37],[67,38,69,45],[67,46,69,53],[67,56,69,63],[67,64,69,71],[67,72,69,80],[67,83,69,90],[64,83,66,90],[64,91,66,98],[64,99,66,107],[64,110,66,117],[64,118,66,125],[64,126,66,134],[67,145,69,152],[67,153,69,161],[67,99,69,107],[67,110,69,117],[67,118,69,125],[67,126,69,134],[67,137,69,144],[64,1,66,37],[64,38,66,45],[64,46,66,53],[70,46,72,53],[70,56,72,63],[70,64,72,71],[70,72,72,80],[70,83,72,90],[70,91,72,98],[67,91,69,98],[64,137,66,144],[64,145,66,152],[64,56,66,63],[64,64,66,71],[64,72,66,80],[73,110,75,117],[73,118,75,125],[73,126,75,134],[73,137,75,144],[73,145,75,152],[73,153,75,161],[70,153,72,161],[73,1,75,37],[73,38,75,45],[73,46,75,53],[73,56,75,63],[73,64,75,71],[73,72,75,80],[73,83,75,90],[73,91,75,98],[73,99,75,107],[70,99,72,107],[70,110,72,117],[70,118,72,125],[70,126,72,134],[70,137,72,144],[70,145,72,152],[70,1,72,37],[70,38,72,45],[76,126,78,134],[76,1,78,37],[76,38,78,45],[76,46,78,53],[76,56,78,63],[76,64,78,71],[76,72,78,80],[83,46,85,53],[83,56,85,63],[83,64,85,71],[83,72,85,80],[83,83,85,90],[76,137,78,144],[76,145,78,152],[76,153,78,161],[86,1,88,37],[86,38,88,45],[86,46,88,53],[86,56,88,63],[86,64,88,71],[86,72,88,80],[86,83,88,90],[86,91,88,98],[86,99,88,107],[80,1,85,37],[80,38,82,53],[80,56,82,80],[80,83,82,107],[80,110,82,134],[80,137,82,161],[83,38,85,45],[76,83,78,90],[76,91,78,98],[76,99,78,107],[76,110,78,117],[76,118,78,125],[89,64,91,71],[89,72,91,80],[86,110,88,117],[86,118,88,125],[86,126,88,134],[86,137,88,144],[86,145,88,152],[86,153,88,161],[83,153,85,161],[83,99,85,107],[83,110,85,117],[83,118,85,125],[83,126,85,134],[83,137,85,144],[83,145,85,152],[83,91,85,98],[96,64,98,71],[96,72,98,80],[96,83,98,90],[96,91,98,98],[89,137,91,144],[89,145,91,152],[89,153,91,161],[93,1,98,37],[93,38,95,53],[93,56,95,80],[93,83,95,107],[93,110,95,134],[93,137,95,161],[96,38,98,45],[89,83,91,90],[89,91,91,98],[89,99,91,107],[89,110,91,117],[89,118,91,125],[89,126,91,134],[89,1,91,37],[89,38,91,45],[89,46,91,53],[89,56,91,63],[99,110,101,117],[99,118,101,125],[99,126,101,134],[99,137,101,144],[99,145,101,152],[99,153,101,161],[96,153,98,161],[99,1,101,37],[99,38,101,45],[99,46,101,53],[99,56,101,63],[99,64,101,71],[99,72,101,80],[99,83,101,90],[99,91,101,98],[99,99,101,107],[96,99,98,107],[96,110,98,117],[96,118,98,125],[96,126,98,134],[96,137,98,144],[96,145,98,152],[96,46,98,53],[96,56,98,63],[108,1,110,37],[108,38,110,45],[108,46,110,53],[102,83,104,90],[102,91,104,98],[102,1,104,37],[102,38,104,45],[102,46,104,53],[102,56,104,63],[102,64,104,71],[102,72,104,80],[105,1,107,37],[105,38,107,45],[105,46,107,53],[105,56,107,63],[105,64,107,71],[105,72,107,80],[105,83,107,90],[108,56,110,63],[108,64,110,71],[108,72,110,80],[108,83,110,90],[108,91,110,98],[105,91,107,98],[102,137,104,144],[102,145,104,152],[102,153,104,161],[102,99,104,107],[102,110,104,117],[102,118,104,125],[102,126,104,134],[105,145,107,152],[105,153,107,161],[105,99,107,107],[105,110,107,117],[105,118,107,125],[105,126,107,134],[105,137,107,144],[108,153,110,161],[108,99,110,107],[108,110,110,117],[108,118,110,125],[108,145,110,152],[108,126,110,134],[108,137,110,144],[115,38,117,53],[115,56,117,80],[115,83,117,107],[115,110,117,134],[115,137,117,161],[111,110,113,117],[111,118,113,125],[111,126,113,134],[111,137,113,144],[111,145,113,152],[111,153,113,161],[111,1,113,37],[111,38,113,45],[111,46,113,53],[111,56,113,63],[111,64,113,71],[111,72,113,80],[111,83,113,90],[111,91,113,98],[111,99,113,107],[118,137,120,144],[118,145,120,152],[118,153,120,161],[121,1,123,37],[121,38,123,45],[121,46,123,53],[121,56,123,63],[121,64,123,71],[121,72,123,80],[121,83,123,90],[118,83,120,90],[118,91,120,98],[118,99,120,107],[118,110,120,117],[118,118,120,125],[118,126,120,134],[118,38,120,45],[118,46,120,53],[118,56,120,63],[118,64,120,71],[118,72,120,80],[121,145,123,152],[121,153,123,161],[121,99,123,107],[121,110,123,117],[121,118,123,125],[121,126,123,134],[121,137,123,144],[121,91,123,98],[135,1,136,22],[135,38,136,43],[135,77,136,95],[135,99,136,115],[135,141,136,160],[124,99,126,107],[124,110,126,117],[124,118,126,125],[124,126,126,134],[124,137,126,144],[124,145,126,152],[124,1,126,37],[124,38,126,45],[124,46,126,53],[124,153,126,161],[127,81,134,95],[127,108,134,122],[124,56,126,63],[124,64,126,71],[124,72,126,80],[124,83,126,90],[124,91,126,98],[137,1,139,35],[137,38,139,73],[137,77,139,96],[137,99,139,138],[137,141,139,161],[140,170,257,175],[141,1,145,161],[147,1,148,161],[151,2,152,3],[151,4,152,161],[175,1,188,161],[190,1,191,3],[190,4,191,121],[193,1,206,161],[208,1,209,3],[208,4,209,121],[155,2,156,3],[155,4,159,161],[161,1,165,161],[168,1,170,161],[172,1,173,2],[172,3,173,160],[247,1,257,161],[258,170,385,175],[317,3,319,5],[317,7,319,86],[391,1,396,161],[211,1,224,161],[226,1,227,3],[226,4,227,121],[229,1,242,161],[244,1,245,2],[244,3,245,121]]}
[]
[null,null,null,null,null,null,null,null,null,null,null,null,null,null,null,null,null,null,null,"Attachment E - HOME Fair Housing Demographic Analysis*"]
[]
[]
[null,null,null,null,null,null,null,null,null,null,null,null,null,null,null,null,null,null,null,null,null,null,null,null,null,null,null,null,null,null,null,null,null,null,null,null,null,null,null,null,null,null,null,null,null,null,null,null,null,null,null,null,null,null,null,null,null,null,null,null,null,null,null,null,null,null,null,null,null,null,null,null,null,null,null,null,null,null,null,null,null,null,null,null,null,null,null,null,null,null,null,null,null,null,null,null,null,null,null,null,null,null,null,null,null,null,null,null,null,null,null,null,null,null,null,null,null,null,null,null,null,null,null,null,null,null,null,null,null,null,null,null,null,null,null,null,null,null,null,null,null,null,null,null,null,null,null,null,null,null,null,null,null,null,null,null,null,null,null,null,null,null,null,null,null,null,null,null,null,null,"PAGE 1"]
[null,null,null,null,null,null,null,null,null,null,null,null,null,null,null,null,null,{"$f":"'Att E Activity 1'!CV49","v":0},{"$f":"'Att E Activity 1'!CF52","v":0},"HOME Annual Performance Report",null,null,null,null,null,null,null,null,null,null,null,null,null,null,null,null,null,null,null,null,null,null,null,null,null,null,null,null,null,null,null,null,null,null,null,null,null,null,null,null,null,null,null,null,null,null,null,null,null,null,null,null,null,null,null,null,null,null,null,null,null,null,null,null,null,null,null,null,null,null,null,null,null,null,null,null,null,null,null,null,null,null,null,null,null,null,null,null,null,null,null,null,null,null,null,null,null,null,null,null,null,null,null,null,null,null,null,null,null,null,null,null,null,null,null,null,null,{"$f":"'Att E Activity 1'!DW87","v":0},{"$f":"'Att E Activity 1'!DG90","v":0},{"$f":"'Att E Activity 1'!DO90","v":""},{"$f":"'Att E Activity 1'!DW90","v":0},{"$f":"'Att E Activity 1'!EH87","v":0},{"$f":"'Att E Activity 1'!EP87","v":""},{"$f":"'Att E Activity 1'!EX87","v":0},{"$f":"'Att E Activity 1'!EH90","v":0},{"$f":"'Att E Activity 1'!EP90","v":""},{"$f":"'Att E Activity 1'!EX90","v":0}]
[]
[]
[]
[null,null,null,null,null,null,null,null,null,null,null,null,null,null,null,"Reporting Period July 1, 2023 through June 30, 2024"]
[]
[]
[null,null,null,null,null,null,null,null,null,null,null,null,null,null,null,null,null,null,null,null,null,null,null,null,null,null,null,null,null,null,null,null,null,null,null,null,null,null,null,null,null,null,null,null,null,null,null,null,null,null,null,null,null,null,null,null,null,null,null,null,null,null,null,null,null,null,null,null,null,null,null,null,null,null,null,null,null,null,null,null,null,null,null,null,null,null,null,null,null,null,null,null,null,null,null,null,null,null,null,null,null,null,null,null,null,null,null,null,null,null,null,null,null,null,null,null,null,null,null,null,null,null,null,null,null,null,null,null,null,null,null,null,null,null,null,null,null,null,null,null,null,null,null,null,null,null,null,null,null,null,null,null,null,null,null,null,null,null,null,null,null,null,null,null,null,null,null,null,null,null,null,null,null,null,null,null,null,null,null,null,null,null,false,null,null,null,null,null,null,null,null,null,null,null,null,null,null,null,null,null,null,null,null,null,null,null,null,null,null,null,null,null,null,{"$f":"IF(GA13=TRUE,1,0)","v":0}]
[]
[]
[]
[]
[null,"Jurisdiction Name"]
[null,null,null,null,null,null,null,null,null,null,null,null,null,null,null,null,null,null,null,null,null,null,null,null,null,null,null,null,null,null,null,null,null,null,null,null,null,null,null,null,null,null,null,null,null,null,null,null,null,null,null,null,null,null,null,null,null,null,null,null,null,null,null,null,null,null,null,null,null,null,null,null,null,null,null,null,null,null,null,null,null,null,null,null,null,null,null,null,null,null,null,null,null,null,null,null,null,null,null,null,null,null,null,null,null,null,null,null,null,null,null,null,null,null,null,null,null,null,null,null,null,null,null,null,null,null,null,null,null,null,null,null,null,null,null,null,null,null,null,null,null,null,null,null,null,null,null,null,null,null,null,null,null,null,null,null,null,null,null,null,null,null,null,null,null,null,null,null,null,null,null,null,null,null,null,null,null,null,null,null,null,null,false,null,null,null,null,null,null,null,null,null,null,null,null,null,null,false,null,null,null,null,null,null,null,null,null,null,null,null,null,null,null,{"$f":"IF(GA19=TRUE,1,0)","v":0},null,null,null,null,null,{"$f":"IF(GP19=TRUE,1,0)","v":0}]
[]
[]
[]
[null,null,null,null,null,null,null,null,null,null,null,null,null,null,null,null,null,null,null,null,null,null,null,null,null,null,null,null,null,null,null,null,null,null,null,null,null,null,null,null,null,null,null,null,null,null,null,null,null,null,null,null,null,null,null,null,null,null,null,null,null,null,null,null,null,null,null,null,null,null,null,null,null,{"$f":"IF(HF27>1,\"Please use another form (Att E) to complete additional HOME activity\",\"\")","v":""},null,null,null,null,null,null,null,null,null,null,null,null,null,null,null,null,null,null,null,null,null,null,null,null,null,null,null,null,null,null,null,null,null,null,null,null,null,null,null,null,null,null,null,null,null,null,null,null,null,null,null,null,null,null,null,null,null,null,null,null,null,null,null,null,null,null,null,null,null,null,null,null,null,null,null,null,null,null,null,null,null,null,null,null,null,null,null,null,null,null,null,null,null,null,null,null,null,null,null,null,null,null,null,null,null,null,null,null,false,null,null,null,null,null,null,null,null,null,null,null,null,null,null,false,null,null,null,null,null,null,null,null,null,null,null,null,null,null,null,{"$f":"IF(GA23=TRUE,1,0)","v":0},null,null,null,null,null,{"$f":"IF(GP23=TRUE,1,0)","v":0}]
[null,null,"Funding Source(s)",null,null,null,null,null,null,null,null,null,null,null,null,null,null,null,null,null,null,"(Check all that apply)",null,null,null,null,null,null,null,null,null,null,null,null,null,null,null,"HOME Program Activities ",null,null,null,null,null,null,null,null,null,null,null,null,null,null,null,null,null,null,null,null,"(1 form per activity)",null,null,null,null,null,null,null,null,null,null,null,null,null,null,null,null,null,null,null,null,null,null,null,null,null,null,null,null,null,null,null,null,null,null,null,null,null,null,null,null,null,null,null,null,null,null,null,null,null,null,null,null,null,null,null,null,null,null,"Contract #"]
[]
[]
[null,null,null,null,"HOME Std. Agreement",null,null,null,null,null,null,null,null,null,null,null,null,null,null,null,null,null,null,null,null,null,null,"HOME PI",null,null,null,null,null,null,null,null,null,null,null,null,null,"First-Time Homebuyer (Acquisition Only or Acquisition with Rehab)",null,null,null,null,null,null,null,null,null,null,null,null,null,null,null,null,null,null,null,null,null,null,null,null,null,null,null,null,null,null,null,null,null,null,null,null,null,null,null,null,null,null,null,null,null,null,null,null,null,null,null,null,null,null,null,null,null,null,null,null,null,null,null,null,null,null,null,null,null,null,null,null,null,null,null,null,null,null,null,null,null,null,null,null,null,null,null,null,null,null,null,null,null,null,null,null,null,null,null,null,null,null,null,null,null,null,null,null,null,null,null,null,null,null,null,null,null,null,null,null,null,null,null,null,null,null,null,null,null,null,null,null,null,null,null,null,null,null,null,null,null,null,null,null,null,null,null,null,null,null,null,null,null,null,null,null,null,null,null,null,null,null,null,null,null,null,null,null,null,null,null,{"$f":"HF13+HF19+HF23+HL19+HL23","v":0}]
[]
[]
[null,null,null,null,"CDBG Std. Agreement",null,null,null,null,null,null,null,null,null,null,null,null,null,null,null,null,null,null,null,null,null,null,"CDBG PI",null,null,null,null,null,null,null,null,null,null,null,null,null,"First-Time Homebuyer Infill Construction",null,null,null,null,null,null,null,null,null,null,null,null,null,null,null,null,null,null,null,null,null,null,null,null,null,null,null,null,null,null,null,null,null,null,null,null,null,null,null,null,null,null,null,"Tenant-Based Rental Assistance ",null,null,null,null,null,null,null,null,null,null,null,null,null,null,null,null,null,null,null,null,null,null,null,null,null,null,null,null,null,null,null,"Activity Name"]
[]
[null,null,null,null,null,null,null,null,null,null,null,null,null,null,null,null,null,null,null,null,null,null,null,null,null,null,null,null,null,null,null,null,null,null,null,null,null,null,null,null,null,null,null,null,null,null,null,null,null,null,null,null,null,null,null,null,null,null,null,null,null,null,null,null,null,null,null,null,null,null,null,null,null,null,null,null,null,null,null,null,null,null,null,null,null,"Program"]
[null,null,null,null," Other (Specify)",null,null,null,null,null,null,null,null,null,null,null,null,null,null,null,null,null,null,null,null,null,null,null,null,null,null,null,null,null,null,null,null,null,null,null,null,"Owner-Occupied Rehab Program"]
[]
[]
[]
[]
[null,"Geographic Area",null,null,null,null,null,null,null,null,null,null,null,null,null,null,null,{"$f":"'E Data'!D4","v":"Select a Jurisdiction"},null,null,null,null,null,null,null,null,null,null,null,null,null,null,null,null,null,null,null,null,null,null,null,null,null,null,null,null,null,null,null,null,null,null,null,null,"Census Data Geographic Area",null,null,null,null,null,null,null,null,null,null,null,null,null,null,null,null,null,null,null,null,null,null,null,null,null,null,null,null,null,{"$f":"IF('E Data'!D3=0,\"\",'E Data'!D3)","v":""},null,null,null,null,null,null,null,"Total Population",null,null,null,null,null,null,null,null,null,null,null,null,null,null,null,null,null,{"$f":"IF('E Data'!B18=0,\"\",'E Data'!B18)","v":""}]
[]
[null,null,null,null,null,null,null,null,null,null,null,null,null,null,null,null,null,null,null,null,null,null,null,null,null,null,null,null,null,null,null,null,null,null,null,null,null,null,null,null,null,null,null,null,null,null,null,null,null,null,null,null,null,null,null,null,null,null,null,null,null,null,null,null,null,null,null,null,null,null,null,null,null,null,null,null,null,null,null,null,null,null,null,null,null,null,null,null,null,null,null,null,null,null,null,null,null,null,null,null,null,null,null,null,null,null,null,null,null,null,null,null,null,null,null,null,null,null,null,null,null,null,null,null,null,null,null,null,null,null,null,null,null,null,null,null,null,null,null,null,null,null,null,null,null,null,null,null,null,null,null,null,null,null,null,null,null,null,null,null,null,null,null,null,null,null,null,null,null,null,null,null,null,null,null,null,null,null,null,null,null,null,null,null,null,null,null,null,null,null,null,null,null,null,null,null,null,null,null,null,null,0.1]
[null,null,null,null,null,null,null,null,null,null,null,null,null,null,null,null,null,null,null,null,null,null,null,null,null,null,null,null,null,null,null,null,null,null,null,null,null,null,null,null,null,null,null,null,null,null,null,null,null,null,null,null,null,null,null,null,null,null,null,null,null,null,null,null,null,null,null,null,null,null,null,null,null,null,null,null,null,null,null,null,null,null,null,null,null,null,null,null,null,null,null,null,null,null,null,null,null,null,null,null,null,null,null,null,null,null,null,null,null,null,null,null,null,null,null,null,null,null,null,null,null,null,null,null,null,null,null,null,null,null,null,null,null,null,null,null,null,null,null,null,null,null,null,null,null,null,null,null,null,null,null,null,null,null,null,null,null,null,null,null,null,null,null,null,null,null,null,null,null,null,null,null,null,null,null,null,null,null,null,null,null,null,null,null,null,null,null,null,null,null,null,null,null,null,null,null,null,null,null,null,null,-0.1]
[]
[null,"Ethnic Categories",null,null,null,null,null,null,null,null,null,null,null,null,null,null,null,null,null,null,null,null,null,null,null,null,null,null,null,null,null,null,null,null,null,null,null,null,"Census",null,null,null,null,null,null,null,null,null,null,null,null,null,null,null,null,null,"Applicants",null,null,null,null,null,null,null,null,null,null,null,null,null,null,null,null,null,null,null,null,null,null,null,null,null,null,"Beneficiaries",null,null,null,null,null,null,null,null,null,null,null,null,null,null,null,null,null,null,null,null,null,null,null,null,null,null,"Rejected Applicants",null,null,null,null,null,null,null,null,null,null,null,null,null,null,null,null,null,null,null,null,null,null,null,null,null,null,"Waiting List"]
[]
[]
[null,null,null,null,null,null,null,null,null,null,null,null,null,null,null,null,null,null,null,null,null,null,null,null,null,null,null,null,null,null,null,null,null,null,null,null,null,null,"#",null,null,null,null,null,null,null,"%",null,null,null,null,null,null,null,null,null,"#",null,null,null,null,null,null,null,"%",null,null,null,null,null,null,null,"Difference",null,null,null,null,null,null,null,null,null,null,"#",null,null,null,null,null,null,null,"%",null,null,null,null,null,null,null,"Difference",null,null,null,null,null,null,null,null,null,null,"#",null,null,null,null,null,null,null,"%",null,null,null,null,null,null,null,"Difference",null,null,null,null,null,null,null,null,null,null,"#",null,null,null,null,null,null,null,"%",null,null,null,null,null,null,null,"Difference"]
[]
[]
[null,"Hispanic or Latino",null,null,null,null,null,null,null,null,null,null,null,null,null,null,null,null,null,null,null,null,null,null,null,null,null,null,null,null,null,null,null,null,null,null,null,null,{"$f":"IF('E Data'!D3=0,\"\",'E Data'!B2)","v":""},null,null,null,null,null,null,null,{"$f":"IF(AM49=\"\",\"\",AM49/DG38)","v":""},null,null,null,null,null,null,null,null,null,null,null,null,null,null,null,null,null,{"$f":"IF(BE49=\"\",\"\",IF(BE49+BE52<1,0,BE49/(BE52+BE49)))","v":""},null,null,null,null,null,null,null,{"$f":"IF(OR(SUM(BE49:BL54)=\"\",SUM(BE49:BL54)=0),0,BM49-AU49)","v":0},null,null,null,null,null,null,null,null,null,null,null,null,null,null,null,null,null,null,{"$f":"IF(CF49=\"\",\"\",IF(CF49+CF52<1,0,CF49/(CF49+CF52)))","v":""},null,null,null,null,null,null,null,{"$f":"IF(OR(SUM(CF49:CM54)=\"\",SUM(CF49:CM54)=0),0,CN49-AU49)","v":0},null,null,null,null,null,null,null,null,null,null,null,null,null,null,null,null,null,null,{"$f":"IF(DG49=\"\",\"\",IF(DG49+DG52<1,0,DG49/(DG52+DG49)))","v":""},null,null,null,null,null,null,null,{"$f":"IF(OR(SUM(DG49:DN54)=\"\",SUM(DG49:DN54)=0),0,DO49-AU49)","v":0},null,null,null,null,null,null,null,null,null,null,null,null,null,null,null,null,null,null,{"$f":"IF(EH49=\"\",\"\",IF(EH49+EH52<1,0,EH49/(EH52+EH49)))","v":""},null,null,null,null,null,null,null,{"$f":"IF(OR(SUM(EH49:EO54)=\"\",SUM(EH49:EO54)=0),0,EP49-AU49)","v":0}]
[]
[]
[null,"Not Hispanic or Latino",null,null,null,null,null,null,null,null,null,null,null,null,null,null,null,null,null,null,null,null,null,null,null,null,null,null,null,null,null,null,null,null,null,null,null,null,{"$f":"IF('E Data'!D3=0,\"\",'E Data'!B3)","v":""},null,null,null,null,null,null,null,{"$f":"IF(AM52=\"\",\"\",AM52/DG38)","v":""},null,null,null,null,null,null,null,null,null,null,null,null,null,null,null,null,null,{"$f":"IF(BE52=\"\",\"\",IF(BE49+BE52<1,0,BE52/(BE52+BE49)))","v":""},null,null,null,null,null,null,null,{"$f":"IF(OR(SUM(BE49:BL54)=\"\",SUM(BE49:BL54)=0),0,BM52-AU52)","v":0},null,null,null,null,null,null,null,null,null,null,null,null,null,null,null,null,null,null,{"$f":"IF(CF52=\"\",\"\",IF(CF49+CF52<1,0,CF52/(CF49+CF52)))","v":""},null,null,null,null,null,null,null,{"$f":"IF(OR(SUM(CF49:CM54)=\"\",SUM(CF49:CM54)=0),0,CN52-AU52)","v":0},null,null,null,null,null,null,null,null,null,null,null,null,null,null,null,null,null,null,{"$f":"IF(DG52=\"\",\"\",IF(DG49+DG52<1,0,DG52/(DG52+DG49)))","v":""},null,null,null,null,null,null,null,{"$f":"IF(OR(SUM(DG49:DN54)=\"\",SUM(DG49:DN54)=0),0,DO52-AU52)","v":0},null,null,null,null,null,null,null,null,null,null,null,null,null,null,null,null,null,null,{"$f":"IF(EH52=\"\",\"\",IF(EH49+EH52<1,0,EH52/(EH52+EH49)))","v":""},null,null,null,null,null,null,null,{"$f":"IF(OR(SUM(EH49:EO54)=\"\",SUM(EH49:EO54)=0),0,EP52-AU52)","v":0}]
[]
[]
[null,null,null,null,null,null,null,null,null,null,null,null,null,null,null,null,null,null,null,null,null,null,null,null,null,null,null,null,null,null,null,null,null,null,null,null,null,null,"AM",null,null,null,null,null,null,null,"AU",null,null,null,null,null,null,null,null,null,"BE",null,null,null,null,null,null,null,"BM",null,null,null,null,null,null,null,"BU",null,null,null,null,null,null,-0.1,0.1,null,null,"CF",null,null,null,null,null,null,null,"CN",null,null,null,null,null,null,null,"CV",null,null,null,null,null,null,null,null,null,null,"DG",null,null,null,null,null,null,null,"DO",null,null,null,null,null,null,null,"DW",null,null,null,null,null,null,null,null,null,null,"EH",null,null,null,null,null,null,null,"EP",null,null,null,null,null,null,null,"EX"]
[null,"Racial Categories",null,null,null,null,null,null,null,null,null,null,null,null,null,null,null,null,null,null,null,null,null,null,null,null,null,null,null,null,null,null,null,null,null,null,null,null,"Census",null,null,null,null,null,null,null,null,null,null,null,null,null,null,null,null,null,"Applicants",null,null,null,null,null,null,null,null,null,null,null,null,null,null,null,null,null,null,null,null,null,null,null,null,null,null,"Beneficiaries",null,null,null,null,null,null,null,null,null,null,null,null,null,null,null,null,null,null,null,null,null,null,null,null,null,null,"Rejected Applicants",null,null,null,null,null,null,null,null,null,null,null,null,null,null,null,null,null,null,null,null,null,null,null,null,null,null,"Waiting List"]
[]
[]
[null,null,null,null,null,null,null,null,null,null,null,null,null,null,null,null,null,null,null,null,null,null,null,null,null,null,null,null,null,null,null,null,null,null,null,null,null,null,"#",null,null,null,null,null,null,null,"%",null,null,null,null,null,null,null,null,null,"#",null,null,null,null,null,null,null,"%",null,null,null,null,null,null,null,"Difference",null,null,null,null,null,null,null,null,null,null,"#",null,null,null,null,null,null,null,"%",null,null,null,null,null,null,null,"Difference",null,null,null,null,null,null,null,null,null,null,"#",null,null,null,null,null,null,null,"%",null,null,null,null,null,null,null,"Difference",null,null,null,null,null,null,null,null,null,null,"#",null,null,null,null,null,null,null,"%",null,null,null,null,null,null,null,"Difference"]
[]
[]
[null,"American Indian or Alaskan Native",null,null,null,null,null,null,null,null,null,null,null,null,null,null,null,null,null,null,null,null,null,null,null,null,null,null,null,null,null,null,null,null,null,null,null,null,{"$f":"IF('E Data'!D3=0,\"\",'E Data'!B4)","v":""},null,null,null,null,null,null,null,{"$f":"IF(AM62=\"\",\"\",AM62/DG38)","v":""},null,null,null,null,null,null,null,null,null,null,null,null,null,null,null,null,null,{"$f":"IF(BE62=\"\",\"\",IF(BE62+BE65+BE68+BE71+BE74+BE77<1,0,BE62/(BE65+BE62+BE68+BE71+BE74+BE77)))","v":""},null,null,null,null,null,null,null,{"$f":"IF(OR(SUM(BE62:BL79)=\"\",SUM(BE62:BL79)=0),0,BM62-AU62)","v":0},null,null,null,null,null,null,null,null,null,null,null,null,null,null,null,null,null,null,{"$f":"IF(CF62=\"\",\"\",IF(CF62+CF65+CF68+CF71+CF74+CF77<1,0,CF62/(CF65+CF62+CF68+CF71+CF74+CF77)))","v":""},null,null,null,null,null,null,null,{"$f":"IF(OR(SUM(CF62:CM79)=\"\",SUM(CF62:CM79)=0),0,CN62-AU62)","v":0},null,null,null,null,null,null,null,null,null,null,null,null,null,null,null,null,null,null,{"$f":"IF(DG62=\"\",\"\",IF(DG62+DG65+DG68+DG71+DG74+DG77<1,0,DG62/(DG65+DG62+DG68+DG71+DG74+DG77)))","v":""},null,null,null,null,null,null,null,{"$f":"IF(OR(SUM(DG62:DN79)=\"\",SUM(DG62:DN79)=0),0,DO62-AU62)","v":0},null,null,null,null,null,null,null,null,null,null,null,null,null,null,null,null,null,null,{"$f":"IF(EH62=\"\",\"\",IF(EH62+EH65+EH68+EH71+EH74+EH77<1,0,EH62/(EH65+EH62+EH68+EH71+EH74+EH77)))","v":""},null,null,null,null,null,null,null,{"$f":"IF(OR(SUM(EH62:EO79)=\"\",SUM(EH62:EO79)=0),0,EP62-AU62)","v":0}]
[]
[]
[null,"Asian",null,null,null,null,null,null,null,null,null,null,null,null,null,null,null,null,null,null,null,null,null,null,null,null,null,null,null,null,null,null,null,null,null,null,null,null,{"$f":"IF('E Data'!D3=0,\"\",'E Data'!B19)","v":""},null,null,null,null,null,null,null,{"$f":"IF(AM65=\"\",\"\",AM65/DG38)","v":""},null,null,null,null,null,null,null,null,null,null,null,null,null,null,null,null,null,{"$f":"IF(BE65=\"\",\"\",IF(BE62+BE65+BE68+BE71+BE74+BE77<1,0,BE65/(BE68+BE65+BE62+BE71+BE74+BE77)))","v":""},null,null,null,null,null,null,null,{"$f":"IF(OR(SUM(BE62:BL79)=\"\",SUM(BE62:BL79)=0),0,BM65-$AU$65)","v":0},null,null,null,null,null,null,null,null,null,null,null,null,null,null,null,null,null,null,{"$f":"IF(CF65=\"\",\"\",IF(CF62+CF65+CF68+CF71+CF74+CF77<1,0,CF65/(CF68+CF65+CF62+CF71+CF74+CF77)))","v":""},null,null,null,null,null,null,null,{"$f":"IF(OR(SUM(CF62:CM79)=\"\",SUM(CF62:CM79)=0),0,CN65-AU65)","v":0},null,null,null,null,null,null,null,null,null,null,null,null,null,null,null,null,null,null,{"$f":"IF(DG65=\"\",\"\",IF(DG62+DG65+DG68+DG71+DG74+DG77<1,0,DG65/(DG68+DG65+DG62+DG71+DG74+DG77)))","v":""},null,null,null,null,null,null,null,{"$f":"IF(OR(SUM(DG62:DN79)=\"\",SUM(DG62:DN79)=0),0,DO65-AU65)","v":0},null,null,null,null,null,null,null,null,null,null,null,null,null,null,null,null,null,null,{"$f":"IF(EH65=\"\",\"\",IF(EH62+EH65+EH68+EH71+EH74+EH77<1,0,EH65/(EH68+EH65+EH62+EH71+EH74+EH77)))","v":""},null,null,null,null,null,null,null,{"$f":"IF(OR(SUM(EH62:EO79)=\"\",SUM(EH62:EO79)=0),0,EP65-AU65)","v":0}]
[]
[]
[null,"Black or African American",null,null,null,null,null,null,null,null,null,null,null,null,null,null,null,null,null,null,null,null,null,null,null,null,null,null,null,null,null,null,null,null,null,null,null,null,{"$f":"IF('E Data'!D3=0,\"\",'E Data'!B5)","v":""},null,null,null,null,null,null,null,{"$f":"IF(AM68=\"\",\"\",AM68/DG38)","v":""},null,null,null,null,null,null,null,null,null,null,null,null,null,null,null,null,null,{"$f":"IF(BE68=\"\",\"\",IF(BE62+BE65+BE68+BE71+BE74+BE77<1,0,BE68/(BE71+BE68+BE62+BE65+BE74+BE77)))","v":""},null,null,null,null,null,null,null,{"$f":"IF(OR(SUM(BE62:BL79)=\"\",SUM(BE62:BL79)=0),0,BM68-AU68)","v":0},null,null,null,null,null,null,null,null,null,null,null,null,null,null,null,null,null,null,{"$f":"IF(CF68=\"\",\"\",IF(CF62+CF65+CF68+CF71+CF74<1,0,CF68/(CF71+CF68+CF62+CF65+CF74+CF77)))","v":""},null,null,null,null,null,null,null,{"$f":"IF(OR(SUM(CF62:CM79)=\"\",SUM(CF62:CM79)=0),0,CN68-AU68)","v":0},null,null,null,null,null,null,null,null,null,null,null,null,null,null,null,null,null,null,{"$f":"IF(DG68=\"\",\"\",IF(DG62+DG65+DG68+DG71+DG74+DG77<1,0,DG68/(DG71+DG68+DG62+DG65+DG74+DG77)))","v":""},null,null,null,null,null,null,null,{"$f":"IF(OR(SUM(DG62:DN79)=\"\",SUM(DG62:DN79)=0),0,DO68-AU68)","v":0},null,null,null,null,null,null,null,null,null,null,null,null,null,null,null,null,null,null,{"$f":"IF(EH68=\"\",\"\",IF(EH62+EH65+EH68+EH71+EH74+EH77<1,0,EH68/(EH71+EH68+EH62+EH65+EH74+EH77)))","v":""},null,null,null,null,null,null,null,{"$f":"IF(OR(SUM(EH62:EO79)=\"\",SUM(EH62:EO79)=0),0,EP68-AU68)","v":0}]
[]
[]
[null,"Native Hawaiian or Other Pacific Islander",null,null,null,null,null,null,null,null,null,null,null,null,null,null,null,null,null,null,null,null,null,null,null,null,null,null,null,null,null,null,null,null,null,null,null,null,{"$f":"IF('E Data'!D3=0,\"\",'E Data'!B6)","v":""},null,null,null,null,null,null,null,{"$f":"IF(AM71=\"\",\"\",AM71/DG38)","v":""},null,null,null,null,null,null,null,null,null,null,null,null,null,null,null,null,null,{"$f":"IF(BE71=\"\",\"\",IF(BE62+BE65+BE68+BE71+BE74+BE77<1,0,BE71/(BE74+BE71+BE68+BE65+BE62+BE77)))","v":""},null,null,null,null,null,null,null,{"$f":"IF(OR(SUM(BE62:BL79)=\"\",SUM(BE62:BL79)=0),0,BM71-AU71)","v":0},null,null,null,null,null,null,null,null,null,null,null,null,null,null,null,null,null,null,{"$f":"IF(CF71=\"\",\"\",IF(CF62+CF65+CF68+CF71+CF74+CF77<1,0,CF71/(CF74+CF71+CF68+CF65+CF62+CF77)))","v":""},null,null,null,null,null,null,null,{"$f":"IF(OR(SUM(CF62:CM79)=\"\",SUM(CF62:CM79)=0),0,CN71-AU71)","v":0},null,null,null,null,null,null,null,null,null,null,null,null,null,null,null,null,null,null,{"$f":"IF(DG71=\"\",\"\",IF(DG62+DG65+DG68+DG71+DG74+DG77<1,0,DG71/(DG74+DG71+DG68+DG65+DG62+DG77)))","v":""},null,null,null,null,null,null,null,{"$f":"IF(OR(SUM(DG62:DN79)=\"\",SUM(DG62:DN79)=0),0,DO71-AU71)","v":0},null,null,null,null,null,null,null,null,null,null,null,null,null,null,null,null,null,null,{"$f":"IF(EH71=\"\",\"\",IF(EH62+EH65+EH68+EH71+EH74+EH77<1,0,EH71/(EH74+EH71+EH68+EH65+EH62+EH77)))","v":""},null,null,null,null,null,null,null,{"$f":"IF(OR(SUM(EH62:EO79)=\"\",SUM(EH62:EO79)=0),0,EP71-AU71)","v":0}]
[]
[]
[null,"White Alone",null,null,null,null,null,null,null,null,null,null,null,null,null,null,null,null,null,null,null,null,null,null,null,null,null,null,null,null,null,null,null,null,null,null,null,null,{"$f":"IF('E Data'!D3=0,\"\",'E Data'!B7)","v":""},null,null,null,null,null,null,null,{"$f":"IF(AM74=\"\",\"\",AM74/DG38)","v":""},null,null,null,null,null,null,null,null,null,null,null,null,null,null,null,null,null,{"$f":"IF(BE74=\"\",\"\",IF(BE62+BE65+BE68+BE71+BE74+BE77<1,0,BE74/(BE77+BE74+BE62+BE65+BE68+BE71)))","v":""},null,null,null,null,null,null,null,{"$f":"IF(OR(SUM(BE62:BL79)=\"\",SUM(BE62:BL79)=0),0,BM74-AU74)","v":0},null,null,null,null,null,null,null,null,null,null,null,null,null,null,null,null,null,null,{"$f":"IF(CF74=\"\",\"\",IF(CF62+CF65+CF68+CF71+CF74+CF77<1,0,CF74/(CF77+CF74+CF62+CF65+CF68+CF71)))","v":""},null,null,null,null,null,null,null,{"$f":"IF(OR(SUM(CF62:CM79)=\"\",SUM(CF62:CM79)=0),0,CN74-AU74)","v":0},null,null,null,null,null,null,null,null,null,null,null,null,null,null,null,null,null,null,{"$f":"IF(DG74=\"\",\"\",IF(DG62+DG65+DG68+DG71+DG74+DG77<1,0,DG74/(DG77+DG74+DG62+DG65+DG68+DG71)))","v":""},null,null,null,null,null,null,null,{"$f":"IF(OR(SUM(DG62:DN79)=\"\",SUM(DG62:DN79)=0),0,DO74-$AU$74)","v":0},null,null,null,null,null,null,null,null,null,null,null,null,null,null,null,null,null,null,{"$f":"IF(EH74=\"\",\"\",IF(EH62+EH65+EH68+EH71+EH74+EH77<1,0,EH74/(EH77+EH74+EH62+EH65+EH68+EH71)))","v":""},null,null,null,null,null,null,null,{"$f":"IF(OR(SUM(EH62:EO79)=\"\",SUM(EH62:EO79)=0),0,EP74-AU74)","v":0}]
[]
[]
[null,"Other",null,null,null,null,null,null,null,null,null,null,null,null,null,null,null,null,null,null,null,null,null,null,null,null,null,null,null,null,null,null,null,null,null,null,null,null,{"$f":"IF('E Data'!D3=0,\"\",'E Data'!B8)","v":""},null,null,null,null,null,null,null,{"$f":"IF(AM77=\"\",\"\",AM77/DG38)","v":""},null,null,null,null,null,null,null,null,null,null,null,null,null,null,null,null,null,{"$f":"IF(BE77=\"\",\"\",IF(BE62+BE65+BE68+BE71+BE74+BE77<1,0,BE77/(BE77+BE74+BE71+BE68+BE65+BE62)))","v":""},null,null,null,null,null,null,null,{"$f":"IF(OR(SUM(BE62:BL79)=\"\",SUM(BE62:BL79)=0),0,BM77-AU77)","v":0},null,null,null,null,null,null,null,null,null,null,null,null,null,null,null,null,null,null,{"$f":"IF(CF77=\"\",\"\",IF(CF62+CF65+CF68+CF71+CF74+CF77<1,0,CF77/(CF77+CF74+CF71+CF68+CF65+CF62)))","v":""},null,null,null,null,null,null,null,{"$f":"IF(OR(SUM(CF62:CM79)=\"\",SUM(CF62:CM79)=0),0,CN77-AU77)","v":0},null,null,null,null,null,null,null,null,null,null,null,null,null,null,null,null,null,null,{"$f":"IF(DG77=\"\",\"\",IF(DG62+DG65+DG68+DG71+DG74+DG77<1,0,DG77/(DG77+DG74+DG71+DG68+DG65+DG62)))","v":""},null,null,null,null,null,null,null,{"$f":"IF(OR(SUM(DG62:DN79)=\"\",SUM(DG62:DN79)=0),0,DO77-AU77)","v":0},null,null,null,null,null,null,null,null,null,null,null,null,null,null,null,null,null,null,{"$f":"IF(EH77=\"\",\"\",IF(EH62+EH65+EH68+EH71+EH74+EH77<1,0,EH77/(EH77+EH74+EH71+EH68+EH65+EH62)))","v":""},null,null,null,null,null,null,null,{"$f":"IF(OR(SUM(EH62:EO79)=\"\",SUM(EH62:EO79)=0),0,EP77-AU77)","v":0}]
[]
[]
[]
[null,"Gender",null,null,null,null,null,null,null,null,null,null,null,null,null,null,null,null,null,null,null,null,null,null,null,null,null,null,null,null,null,null,null,null,null,null,null,null,"Census",null,null,null,null,null,null,null,null,null,null,null,null,null,null,null,null,null,"Applicants",null,null,null,null,null,null,null,null,null,null,null,null,null,null,null,null,null,null,null,null,null,null,null,null,null,null,"Beneficiaries",null,null,null,null,null,null,null,null,null,null,null,null,null,null,null,null,null,null,null,null,null,null,null,null,null,null,"Rejected Applicants",null,null,null,null,null,null,null,null,null,null,null,null,null,null,null,null,null,null,null,null,null,null,null,null,null,null,"Waiting List"]
[]
[]
[null,null,null,null,null,null,null,null,null,null,null,null,null,null,null,null,null,null,null,null,null,null,null,null,null,null,null,null,null,null,null,null,null,null,null,null,null,null,"#",null,null,null,null,null,null,null,"%",null,null,null,null,null,null,null,null,null,"#",null,null,null,null,null,null,null,"%",null,null,null,null,null,null,null,"Difference",null,null,null,null,null,null,null,null,null,null,"#",null,null,null,null,null,null,null,"%",null,null,null,null,null,null,null,"Difference",null,null,null,null,null,null,null,null,null,null,"#",null,null,null,null,null,null,null,"%",null,null,null,null,null,null,null,"Difference",null,null,null,null,null,null,null,null,null,null,"#",null,null,null,null,null,null,null,"%",null,null,null,null,null,null,null,"Difference"]
[]
[]
[null,"Female",null,null,null,null,null,null,null,null,null,null,null,null,null,null,null,null,null,null,null,null,null,null,null,null,null,null,null,null,null,null,null,null,null,null,null,null,{"$f":"IF('E Data'!D3=0,\"\",'E Data'!B9)","v":""},null,null,null,null,null,null,null,{"$f":"IF(AM87=\"\",\"\",AM87/DG38)","v":""},null,null,null,null,null,null,null,null,null,null,null,null,null,null,null,null,null,{"$f":"IF(BE87=\"\",\"\",IF(BE87+BE90<1,0,BE87/(BE90+BE87)))","v":""},null,null,null,null,null,null,null,{"$f":"IF(OR(SUM(BE87:BL92)=\"\",SUM(BE87:BL92)=0),0,BM87-AU87)","v":0},null,null,null,null,null,null,null,null,null,null,null,null,null,null,null,null,null,null,{"$f":"IF(CF87=\"\",\"\",IF(CF87+CF90<1,0,CF87/(CF87+CF90)))","v":""},null,null,null,null,null,null,null,{"$f":"IF(OR(SUM(CF87:CM92)=\"\",SUM(CF87:CM92)=0),0,CN87-AU87)","v":0},null,null,null,null,null,null,null,null,null,null,null,null,null,null,null,null,null,null,{"$f":"IF(DG87=\"\",\"\",IF(DG87+DG90<1,0,DG87/(DG90+DG87)))","v":""},null,null,null,null,null,null,null,{"$f":"IF(OR(SUM(DG87:DN92)=\"\",SUM(DG87:DN92)=0),0,DO87-AU87)","v":0},null,null,null,null,null,null,null,null,null,null,null,null,null,null,null,null,null,null,{"$f":"IF(EH87=\"\",\"\",IF(EH87+EH90<1,0,EH87/(EH90+EH87)))","v":""},null,null,null,null,null,null,null,{"$f":"IF(OR(SUM(EH87:EO92)=\"\",SUM(EH87:EO92)=0),0,EP87-AU87)","v":0}]
[]
[]
[null,"Male",null,null,null,null,null,null,null,null,null,null,null,null,null,null,null,null,null,null,null,null,null,null,null,null,null,null,null,null,null,null,null,null,null,null,null,null,{"$f":"IF('E Data'!D3=0,\"\",'E Data'!B10)","v":""},null,null,null,null,null,null,null,{"$f":"IF(AM90=\"\",\"\",AM90/DG38)","v":""},null,null,null,null,null,null,null,null,null,null,null,null,null,null,null,null,null,{"$f":"IF(BE90=\"\",\"\",IF(BE87+BE90<1,0,BE90/(BE90+BE87)))","v":""},null,null,null,null,null,null,null,{"$f":"IF(OR(SUM(BE87:BL92)=\"\",SUM(BE87:BL92)=0),0,BM90-AU90)","v":0},null,null,null,null,null,null,null,null,null,null,null,null,null,null,null,null,null,null,{"$f":"IF(CF90=\"\",\"\",IF(CF87+CF90<1,0,CF90/(CF87+CF90)))","v":""},null,null,null,null,null,null,null,{"$f":"IF(OR(SUM(CF87:CM92)=\"\",SUM(CF87:CM92)=0),0,CN90-AU90)","v":0},null,null,null,null,null,null,null,null,null,null,null,null,null,null,null,null,null,null,{"$f":"IF(DG90=\"\",\"\",IF(DG87+DG90<1,0,DG90/(DG90+DG87)))","v":""},null,null,null,null,null,null,null,{"$f":"IF(OR(SUM(DG87:DN92)=\"\",SUM(DG87:DN92)=0),0,DO90-AU90)","v":0},null,null,null,null,null,null,null,null,null,null,null,null,null,null,null,null,null,null,{"$f":"IF(EH90=\"\",\"\",IF(EH87+EH90<1,0,EH90/(EH90+EH87)))","v":""},null,null,null,null,null,null,null,{"$f":"IF(OR(SUM(EH87:EO92)=\"\",SUM(EH87:EO92)=0),0,EP90-AU90)","v":0}]
[]
[]
[]
[null,"Age",null,null,null,null,null,null,null,null,null,null,null,null,null,null,null,null,null,null,null,null,null,null,null,null,null,null,null,null,null,null,null,null,null,null,null,null,"Census",null,null,null,null,null,null,null,null,null,null,null,null,null,null,null,null,null,"Applicants",null,null,null,null,null,null,null,null,null,null,null,null,null,null,null,null,null,null,null,null,null,null,null,null,null,null,"Beneficiaries",null,null,null,null,null,null,null,null,null,null,null,null,null,null,null,null,null,null,null,null,null,null,null,null,null,null,"Rejected Applicants",null,null,null,null,null,null,null,null,null,null,null,null,null,null,null,null,null,null,null,null,null,null,null,null,null,null,"Waiting List"]
[]
[]
[null,null,null,null,null,null,null,null,null,null,null,null,null,null,null,null,null,null,null,null,null,null,null,null,null,null,null,null,null,null,null,null,null,null,null,null,null,null,"#",null,null,null,null,null,null,null,"%",null,null,null,null,null,null,null,null,null,"#",null,null,null,null,null,null,null,"%",null,null,null,null,null,null,null,"Difference",null,null,null,null,null,null,null,null,null,null,"#",null,null,null,null,null,null,null,"%",null,null,null,null,null,null,null,"Difference",null,null,null,null,null,null,null,null,null,null,"#",null,null,null,null,null,null,null,"%",null,null,null,null,null,null,null,"Difference",null,null,null,null,null,null,null,null,null,null,"#",null,null,null,null,null,null,null,"%",null,null,null,null,null,null,null,"Difference"]
[]
[]
[null,"0 to 19 Years",null,null,null,null,null,null,null,null,null,null,null,null,null,null,null,null,null,null,null,null,null,null,null,null,null,null,null,null,null,null,null,null,null,null,null,null,{"$f":"IF('E Data'!D3=0,\"\",'E Data'!B11)","v":""},null,null,null,null,null,null,null,{"$f":"IF(AM100=\"\",\"\",AM100/DG38)","v":""},null,null,null,null,null,null,null,null,null,null,null,null,null,null,null,null,null,{"$f":"IF(BE100=\"\",\"\",IF(BE100+BE103+BE106+BE109+BE112<1,0,BE100/(BE103+BE100+BE106+BE109+BE112)))","v":""},null,null,null,null,null,null,null,{"$f":"IF(OR(SUM(BE100:BL114)=\"\",SUM(BE100:BL114)=0),0,BM100-AU100)","v":0},null,null,null,null,null,null,null,null,null,null,null,null,null,null,null,null,null,null,{"$f":"IF(CF100=\"\",\"\",IF(CF100+CF103+CF106+CF109+CF112<1,0,CF100/(CF100+CF103+CF106+CF109+CF112)))","v":""},null,null,null,null,null,null,null,{"$f":"IF(OR(SUM(CF100:CM114)=\"\",SUM(CF100:CM114)=0),0,CN100-AU100)","v":0},null,null,null,null,null,null,null,null,null,null,null,null,null,null,null,null,null,null,{"$f":"IF(DG100=\"\",\"\",IF(DG100+DG103+DG106+DG109+DG112<1,0,DG100/(DG103+DG100+DG106+DG109+DG112)))","v":""},null,null,null,null,null,null,null,{"$f":"IF(OR(SUM(DG100:DN114)=\"\",SUM(DG100:DN114)=0),0,DO100-AU100)","v":0},null,null,null,null,null,null,null,null,null,null,null,null,null,null,null,null,null,null,{"$f":"IF(EH100=\"\",\"\",IF(EH100+EH103+EH106+EH109+EH112<1,0,EH100/(EH103+EH100+EH106+EH109+EH112)))","v":""},null,null,null,null,null,null,null,{"$f":"IF(OR(SUM(EH100:EO114)=\"\",SUM(EH100:EO114)=0),0,EP100-AU100)","v":0}]
[]
[]
[null,"20 to 24 Years",null,null,null,null,null,null,null,null,null,null,null,null,null,null,null,null,null,null,null,null,null,null,null,null,null,null,null,null,null,null,null,null,null,null,null,null,{"$f":"IF('E Data'!D3=0,\"\",'E Data'!B12)","v":""},null,null,null,null,null,null,null,{"$f":"IF(AM103=\"\",\"\",AM103/DG38)","v":""},null,null,null,null,null,null,null,null,null,null,null,null,null,null,null,null,null,{"$f":"IF(BE103=\"\",\"\",IF(BE100+BE103+BE106+BE109+BE112<1,0,BE103/(BE103+BE100+BE106+BE109+BE112)))","v":""},null,null,null,null,null,null,null,{"$f":"IF(OR(SUM(BE100:BL114)=\"\",SUM(BE100:BL114)=0),0,BM103-AU103)","v":0},null,null,null,null,null,null,null,null,null,null,null,null,null,null,null,null,null,null,{"$f":"IF(CF103=\"\",\"\",IF(CF100+CF103+CF106+CF109+CF112<1,0,CF103/(CF103+CF106+CF100+CF109+CF112)))","v":""},null,null,null,null,null,null,null,{"$f":"IF(OR(SUM(CF100:CM114)=\"\",SUM(CF100:CM114)=0),0,CN103-AU103)","v":0},null,null,null,null,null,null,null,null,null,null,null,null,null,null,null,null,null,null,{"$f":"IF(DG103=\"\",\"\",IF(DG100+DG103+DG106+DG109+DG112<1,0,DG103/(DG106+DG103+DG100+DG109+DG112)))","v":""},null,null,null,null,null,null,null,{"$f":"IF(OR(SUM(DG100:DN114)=\"\",SUM(DG100:DN114)=0),0,DO103-AU103)","v":0},null,null,null,null,null,null,null,null,null,null,null,null,null,null,null,null,null,null,{"$f":"IF(EH103=\"\",\"\",IF(EH100+EH103+EH106+EH109+EH112<1,0,EH103/(EH106+EH103+EH100+EH109+EH112)))","v":""},null,null,null,null,null,null,null,{"$f":"IF(OR(SUM(EH100:EO114)=\"\",SUM(EH100:EO114)=0),0,EP103-AU103)","v":0}]
[]
[]
[null,"25 to 44 Years",null,null,null,null,null,null,null,null,null,null,null,null,null,null,null,null,null,null,null,null,null,null,null,null,null,null,null,null,null,null,null,null,null,null,null,null,{"$f":"IF('E Data'!D3=0,\"\",'E Data'!B13)","v":""},null,null,null,null,null,null,null,{"$f":"IF(AM106=\"\",\"\",AM106/DG38)","v":""},null,null,null,null,null,null,null,null,null,null,null,null,null,null,null,null,null,{"$f":"IF(BE106=\"\",\"\",IF(BE100+BE103+BE106+BE109+BE112<1,0,BE106/(BE109+BE106+BE100+BE103+BE112)))","v":""},null,null,null,null,null,null,null,{"$f":"IF(OR(SUM(BE100:BL114)=\"\",SUM(BE100:BL114)=0),0,BM106-AU106)","v":0},null,null,null,null,null,null,null,null,null,null,null,null,null,null,null,null,null,null,{"$f":"IF(CF106=\"\",\"\",IF(CF100+CF103+CF106+CF109+CF112<1,0,CF106/(CF106+CF109+CF100+CF103+CF112)))","v":""},null,null,null,null,null,null,null,{"$f":"IF(OR(SUM(CF100:CM114)=\"\",SUM(CF100:CM114)=0),0,CN106-AU106)","v":0},null,null,null,null,null,null,null,null,null,null,null,null,null,null,null,null,null,null,{"$f":"IF(DG106=\"\",\"\",IF(DG100+DG103+DG106+DG109+DG112<1,0,DG106/(DG109+DG106+DG100+DG103+DG112)))","v":""},null,null,null,null,null,null,null,{"$f":"IF(OR(SUM(DG100:DN114)=\"\",SUM(DG100:DN114)=0),0,DO106-AU106)","v":0},null,null,null,null,null,null,null,null,null,null,null,null,null,null,null,null,null,null,{"$f":"IF(EH106=\"\",\"\",IF(EH100+EH103+EH106+EH109+EH112<1,0,EH106/(EH109+EH106+EH100+EH103+EH112)))","v":""},null,null,null,null,null,null,null,{"$f":"IF(OR(SUM(EH100:EO114)=\"\",SUM(EH100:EO114)=0),0,EP106-AU106)","v":0}]
[]
[]
[null,"45 to 64 Years",null,null,null,null,null,null,null,null,null,null,null,null,null,null,null,null,null,null,null,null,null,null,null,null,null,null,null,null,null,null,null,null,null,null,null,null,{"$f":"IF('E Data'!D3=0,\"\",'E Data'!B14)","v":""},null,null,null,null,null,null,null,{"$f":"IF(AM109=\"\",\"\",AM109/DG38)","v":""},null,null,null,null,null,null,null,null,null,null,null,null,null,null,null,null,null,{"$f":"IF(BE109=\"\",\"\",IF(BE100+BE103+BE106+BE109+BE112<1,0,BE109/(BE109+BE106+BE100+BE103+BE112)))","v":""},null,null,null,null,null,null,null,{"$f":"IF(OR(SUM(BE100:BL114)=\"\",SUM(BE100:BL114)=0),0,BM109-$AU$109)","v":0},null,null,null,null,null,null,null,null,null,null,null,null,null,null,null,null,null,null,{"$f":"IF(CF109=\"\",\"\",IF(CF100+CF103+CF106+CF109+CF112<1,0,CF109/(CF109+CF106+CF100+CF103+CF112)))","v":""},null,null,null,null,null,null,null,{"$f":"IF(OR(SUM(CF100:CM114)=\"\",SUM(CF100:CM114)=0),0,CN109-AU109)","v":0},null,null,null,null,null,null,null,null,null,null,null,null,null,null,null,null,null,null,{"$f":"IF(DG109=\"\",\"\",IF(DG100+DG103+DG106+DG109+DG112<1,0,DG109/(DG109+DG106+DG100+DG103+DG112)))","v":""},null,null,null,null,null,null,null,{"$f":"IF(OR(SUM(DG100:DN114)=\"\",SUM(DG100:DN114)=0),0,DO109-AU109)","v":0},null,null,null,null,null,null,null,null,null,null,null,null,null,null,null,null,null,null,{"$f":"IF(EH109=\"\",\"\",IF(EH100+EH103+EH106+EH109+EH112<1,0,EH109/(EH109+EH106+EH100+EH103+EH112)))","v":""},null,null,null,null,null,null,null,{"$f":"IF(OR(SUM(EH100:EO114)=\"\",SUM(EH100:EO114)=0),0,EP109-AU109)","v":0}]
[]
[]
[null,"65 Years and Over",null,null,null,null,null,null,null,null,null,null,null,null,null,null,null,null,null,null,null,null,null,null,null,null,null,null,null,null,null,null,null,null,null,null,null,null,{"$f":"IF('E Data'!D3=0,\"\",'E Data'!B15)","v":""},null,null,null,null,null,null,null,{"$f":"IF(AM112=\"\",\"\",AM112/DG38)","v":""},null,null,null,null,null,null,null,null,null,null,null,null,null,null,null,null,null,{"$f":"IF(BE112=\"\",\"\",IF(BE100+BE103+BE106+BE109+BE112<1,0,BE112/(BE112+BE109+BE100+BE103+BE106)))","v":""},null,null,null,null,null,null,null,{"$f":"IF(OR(SUM(BE100:BL114)=\"\",SUM(BE100:BL114)=0),0,BM112-AU112)","v":0},null,null,null,null,null,null,null,null,null,null,null,null,null,null,null,null,null,null,{"$f":"IF(CF112=\"\",\"\",IF(CF100+CF103+CF106+CF109+CF112<1,0,CF112/(CF112+CF109+CF100+CF103+CF106)))","v":""},null,null,null,null,null,null,null,{"$f":"IF(OR(SUM(CF100:CM114)=\"\",SUM(CF100:CM114)=0),0,CN112-AU112)","v":0},null,null,null,null,null,null,null,null,null,null,null,null,null,null,null,null,null,null,{"$f":"IF(DG112=\"\",\"\",IF(DG100+DG103+DG106+DG109+DG112<1,0,DG112/(DG112+DG109+DG100+DG103+DG106)))","v":""},null,null,null,null,null,null,null,{"$f":"IF(OR(SUM(DG100:DN114)=\"\",SUM(DG100:DN114)=0),0,DO112-AU112)","v":0},null,null,null,null,null,null,null,null,null,null,null,null,null,null,null,null,null,null,{"$f":"IF(EH112=\"\",\"\",IF(EH100+EH103+EH106+EH109+EH112<1,0,EH112/(EH112+EH109+EH100+EH103+EH106)))","v":""},null,null,null,null,null,null,null,{"$f":"IF(OR(SUM(EH100:EO114)=\"\",SUM(EH100:EO114)=0),0,EP112-AU112)","v":0}]
[]
[]
[null,{"$f":"IF(#REF!=0,\"\",#REF!)","v":{"$error":"#REF!"}}]
[null,"Disability",null,null,null,null,null,null,null,null,null,null,null,null,null,null,null,null,null,null,null,null,null,null,null,null,null,null,null,null,null,null,null,null,null,null,null,null,"Census",null,null,null,null,null,null,null,null,null,null,null,null,null,null,null,null,null,"Applicants",null,null,null,null,null,null,null,null,null,null,null,null,null,null,null,null,null,null,null,null,null,null,null,null,null,null,"Beneficiaries",null,null,null,null,null,null,null,null,null,null,null,null,null,null,null,null,null,null,null,null,null,null,null,null,null,null,"Rejected Applicants",null,null,null,null,null,null,null,null,null,null,null,null,null,null,null,null,null,null,null,null,null,null,null,null,null,null,"Waiting List"]
[]
[]
[null,null,null,null,null,null,null,null,null,null,null,null,null,null,null,null,null,null,null,null,null,null,null,null,null,null,null,null,null,null,null,null,null,null,null,null,null,null,"#",null,null,null,null,null,null,null,"%",null,null,null,null,null,null,null,null,null,"#",null,null,null,null,null,null,null,"%",null,null,null,null,null,null,null,"Difference",null,null,null,null,null,null,null,null,null,null,"#",null,null,null,null,null,null,null,"%",null,null,null,null,null,null,null,"Difference",null,null,null,null,null,null,null,null,null,null,"#",null,null,null,null,null,null,null,"%",null,null,null,null,null,null,null,"Difference",null,null,null,null,null,null,null,null,null,null,"#",null,null,null,null,null,null,null,"%",null,null,null,null,null,null,null,"Difference"]
[]
[]
[null,"Disabled",null,null,null,null,null,null,null,null,null,null,null,null,null,null,null,null,null,null,null,null,null,null,null,null,null,null,null,null,null,null,null,null,null,null,null,null,{"$f":"IF('E Data'!D3=0,\"\",'E Data'!B16)","v":""},null,null,null,null,null,null,null,{"$f":"AM122/(AM122+AM125)","v":{"$error":"#VALUE!"}},null,null,null,null,null,null,null,null,null,null,null,null,null,null,null,null,null,{"$f":"IF(BE122=\"\",\"\",IF(BE122<1,0,BE122/(BE125+BE122)))","v":""},null,null,null,null,null,null,null,{"$f":"IF(OR(SUM(BE122:BL127)=\"\",SUM(BE122:BL127)=0),0,BM122-AU122)","v":0},null,null,null,null,null,null,null,null,null,null,null,null,null,null,null,null,null,null,{"$f":"IF(CF122=\"\",\"\",IF(CF122<1,0,CF122/(CF122+CF125)))","v":""},null,null,null,null,null,null,null,{"$f":"IF(OR(SUM(CF122:CM127)=\"\",SUM(CF122:CM127)=0),0,CN122-AU122)","v":0},null,null,null,null,null,null,null,null,null,null,null,null,null,null,null,null,null,null,{"$f":"IF(DG122=\"\",\"\",IF(DG122<1,0,DG122/(DG122+DG125)))","v":""},null,null,null,null,null,null,null,{"$f":"IF(OR(SUM(DG122:DN127)=\"\",SUM(DG122:DN127)=0),0,DO122-AU122)","v":0},null,null,null,null,null,null,null,null,null,null,null,null,null,null,null,null,null,null,{"$f":"IF(EH122=\"\",\"\",IF(EH122<1,0,EH122/(EH122+EH125)))","v":""},null,null,null,null,null,null,null,{"$f":"IF(OR(SUM(EH122:EO127)=\"\",SUM(EH122:EO127)=0),0,EP122-AU122)","v":0}]
[]
[]
[null,"Not Disabled",null,null,null,null,null,null,null,null,null,null,null,null,null,null,null,null,null,null,null,null,null,null,null,null,null,null,null,null,null,null,null,null,null,null,null,null,{"$f":"IF('E Data'!D3=0,\"\",'E Data'!B17)","v":""},null,null,null,null,null,null,null,{"$f":"1-AU122","v":{"$error":"#VALUE!"}},null,null,null,null,null,null,null,null,null,null,null,null,null,null,null,null,null,{"$f":"IF(BE125=\"\",\"\",IF(BE125<1,0,BE125/(BE125+BE122)))","v":""},null,null,null,null,null,null,null,{"$f":"IF(OR(SUM(BE122:BL127)=\"\",SUM(BE122:BL127)=0),0,BM125-AU125)","v":0},null,null,null,null,null,null,null,null,null,null,null,null,null,null,null,null,null,null,{"$f":"IF(CF125=\"\",\"\",IF(CF125<1,0,CF125/(CF122+CF125)))","v":""},null,null,null,null,null,null,null,{"$f":"IF(OR(SUM(CF122:CM127)=\"\",SUM(CF122:CM127)=0),0,CN125-AU125)","v":0},null,null,null,null,null,null,null,null,null,null,null,null,null,null,null,null,null,null,{"$f":"IF(DG125=\"\",\"\",IF(DG125<1,0,DG125/(DG122+DG125)))","v":""},null,null,null,null,null,null,null,{"$f":"IF(OR(SUM(DG122:DN127)=\"\",SUM(DG122:DN127)=0),0,DO125-AU125)","v":0},null,null,null,null,null,null,null,null,null,null,null,null,null,null,null,null,null,null,{"$f":"IF(EH125=\"\",\"\",IF(EH125<1,0,EH125/(EH125+EH122)))","v":""},null,null,null,null,null,null,null,{"$f":"IF(OR(SUM(EH122:EO127)=\"\",SUM(EH122:EO127)=0),0,EP125-$AU$125)","v":0}]
[]
[]
[null,null,null,null,null,null,null,null,null,null,null,null,null,null,null,null,null,null,null,null,null,null,null,null,null,null,null,null,null,null,null,null,null,null,null,null,null,null,null,null,null,null,null,null,null,null,null,null,null,null,null,null,null,null,{"$f":"IF(AND(SUM(BE49+BE52)=SUM(BE62:BL79),SUM(BE49+BE52)=SUM(BE87:BL92), SUM(BE49+BE52)=SUM(BE100:BL114), SUM(BE49+BE52)=SUM(BE122:BL127)),\"\",\"COLUMN SECTION TOTALS MUST MATCH!\")","v":""},null,null,null,null,null,null,null,null,null,null,null,null,null,null,null,null,null,null,null,null,null,null,null,null,null,null,{"$f":"IF(AND(SUM(CF49+CF52)=SUM(CF62:CF79),SUM(CF49+CF52)=SUM(CF87:CF92), SUM(CF49+CF52)=SUM(CF100:CF114), SUM(CF49+CF52)=SUM(CF122:CF127)),\"\",\"COLUMN SECTION TOTALS MUST MATCH!\")","v":""},null,null,null,null,null,null,null,null,null,null,null,null,null,null,null,null,null,null,null,null,null,null,null,null,null,null,{"$f":"IF(AND(SUM(DG49+DG52)=SUM(DG62:DG79),SUM(DG49+DG52)=SUM(DG87:DG92), SUM(DG49+DG52)=SUM(DG100:DG114), SUM(DG49+DG52)=SUM(DG122:DG127)),\"\",\"COLUMN SECTION TOTALS MUST MATCH!\")","v":""},null,null,null,null,null,null,null,null,null,null,null,null,null,null,null,null,null,null,null,null,null,null,null,null,null,null,{"$f":"IF(AND(SUM(EH49+EH52)=SUM(EH62:EH79),SUM(EH49+EH52)=SUM(EH87:EH92), SUM(EH49+EH52)=SUM(EH100:EH114), SUM(EH49+EH52)=SUM(EH122:EH127)),\"\",\"COLUMN SECTION TOTALS MUST MATCH!\")","v":""}]
[]
[]
[]
[]
[]
[]
[]
[null,"Prepared By: Name",null,null,null,null,null,null,null,null,null,null,null,null,null,null,null,null,null,null,null,null,null,null,null,null,null,null,null,null,null,null,null,null,null,null,null,null,"Title",null,null,null,null,null,null,null,null,null,null,null,null,null,null,null,null,null,null,null,null,null,null,null,null,null,null,null,null,null,null,null,null,null,null,null,null,null,null,"Telephone Number",null,null,null,null,null,null,null,null,null,null,null,null,null,null,null,null,null,null,null,null,null,"e-mail Address",null,null,null,null,null,null,null,null,null,null,null,null,null,null,null,null,null,null,null,null,null,null,null,null,null,null,null,null,null,null,null,null,null,null,null,null,null,null,null,null,null,"Date"]
[]
[]
[]
[]
[null,null,null,null,null,null,null,null,null,null,null,null,null,null,null,null,null,null,null,null,null,null,null,null,null,null,null,null,null,null,null,null,null,null,null,null,null,null,null,null,null,null,null,null,null,null,null,null,null,null,null,null,null,null,null,null,null,null,null,null,null,null,null,null,null,null,null,null,null,null,null,null,null,null,null,null,null,null,null,null,null,null,null,null,null,null,null,null,null,null,null,null,null,null,null,null,null,null,null,null,null,null,null,null,null,null,null,null,null,null,null,null,null,null,null,null,null,null,null,null,null,null,null,null,null,null,null,null,null,null,null,null,null,null,null,null,null,null,null,null,null,null,null,null,null,null,null,null,null,null,null,null,null,null,null,null,null,null,null,null,null,null,null,null,null,null,null,null,null,null,"PAGE 2"]
[null,"Questionnaire"]
[]
[]
[]
[]
[]
[null,"HUD has defined \"impediments to fair housing choice\" to include specific actions as well as the lack of actions as follows:"]
[]
[]
[]
[null,null,"l",null,"Any actions, omissions or decisions taken because of race, color, religion, sex, disability, familial status, or national origin which restrict housing choices; and"]
[]
[]
[]
[null,null,"l",null,"Any actions, omissions, or decisions which have the effect of restricting housing choices or the availability of housing choices on the basis of race, color, religion, sex, disability, familial status, or national origin."]
[]
[]
[]
[]
[]
[null,"In its simplest form, a study of Fair Housing barriers addresses the question:  Do all residents and potential residents of this Jurisdiction have equal access to housing regardless of their race, color, religion (creed), sex, disability, familial status, age, or national origin?  If not, why?  "]
[]
[]
[]
[]
[]
[]
[null,"If \"Difference\" field is greater than 10%, field will turn red; please respond to questions below, in reference to these numbers. "]
[]
[]
[]
[null,"1.",null,"Does any of the demographic data show low representation of any protected groups in either your applicants, beneficiaries, rejected applicants or waiting list?"]
[]
[]
[]
[]
[]
[]
[]
[]
[]
[]
[]
[]
[]
[]
[]
[]
[null,null,null,null,null,null,null,null,null,null,null,null,null,null,null,null,null,null,null,null,null,null,null,null,null,null," "]
[null,"2.",null,null,"What reasons have you identified for these low numbers?"]
[]
[]
[]
[]
[]
[]
[]
[]
[]
[]
[]
[]
[]
[]
[]
[]
[]
[null,"3.",null,null,"What actions have you taken to date to correct the reasons for low numbers?"]
[]
[]
[]
[]
[]
[]
[]
[]
[]
[]
[]
[]
[]
[]
[]
[]
[]
[null,"4.",null,null,"What actions do you plan to take in the future to correct these low numbers?"]
[]
[]
[]
[]
[]
[]
[]
[]
[]
[]
[]
[]
[]
[]
[]
[]
[]
[null,"5.",null,"Has your organization set up and maintained records reflecting the study and actions taken? If not, why?"]
[]
[]
[]
[]
[]
[]
[]
[]
[]
[]
[]
[]
[]
[null,null,null,null,null,null,null,null,null,null,null,null,null,null,null,null,null,null,null,null,null,null,null,null,null,null,null,null,null,null,null,null,null,null,null,null,null,null,null,null,null,null,null,null,null,null,null,null,null,null,null,null,null,null,null,null,null,null,null,null,null,null,null,null,null,null,null,null,null,null,null,null,null,null,null,null,null,null,null,null,null,null,null,null,null,null,null,null,null,null,null,null,null,null,null,null,null,null,null,null,null,null,null,null,null,null,null,null,null,null,null,null,null,null,null,null,null,null,null,null,null,null,null,null,null,null,null,null,null,null,null,null,null,null,null,null,null,null,null,null,null,null,null,null,null,null,null,null,null,null,null,null,null,null,null,null,null,null,null,null,null,null,null,null,null,null,null,null,null,null,"PAGE 3"]
[]
[]
[]
[]
[]
[]
[]
[]
[]
[]
[]
[]
[]
[]
[]
[]
[]
[]
[]
[]
[]
[]
[]
[]
[]
[]
[]
[]
[]
[]
[]
[]
[]
[]
[]
[]
[]
[]
[]
[]
[]
[]
[]
[]
[]
[]
[]
[]
[]
[]
[]
[]
[]
[]
[]
[]
[]
[]
[]
[]
[]
[]
[]
[]
[]
[]
[]
[]
[]
[]
[]
[]
[]
[]
[]
[]
[]
[]
[]
[]
[]
[]
[]
[]
[]
[]
[]
[]
[]
[]
[]
[]
[]
[]
[]
[]
[]
[]
[]
[]
[]
[]
[]
[]
[]
[]
[]
[]
[]
[]
[]
[]
[]
[]
[]
[]
[]
[]
[]
[]
[]
[]
[]
[]
[]
[]
[]
[]
[]
[]
[]
[]
[null,"END OF DOCUMENT"]

{"sheet":"E Data","index":9,"n_rows":603,"n_cols":147,"rows_kept":603,"cut":false,"hidden":true,"merged":[[543,1,543,3]]}
[null,null,null,null,null,null,null,"Hispanic or Latino 1","Not Hispanic or Latino 2","American Indian or Alaskan Native 3","Black or African American 4","Native Hawaiian or other Pacific Islander 5","White Alone 6","Other 7","Female 8","Male 9","0-19 10","20-24 11","25-44 12","45-64 13","65+ 14","No Disability 15","Disability 16","Total Population 17","Asian 18","Disability %","Disability Estimate"]
[1,{"$f":"VLOOKUP(D3,F2:H540,3,FALSE)","v":0},null,539,1,"001","Alameda County (Unincorporated)",48200,99716,346,12263,1316,39096,7448,60373,57962,28783,6944,33446,31347,17815,{"$f":"X2-W2","v":102988},15347,118335,38358,9.1,{"$f":"X2*0.09","v":10650.15}]
[2,{"$f":"VLOOKUP(D3,F2:I540,4,FALSE)","v":0},null,{"$f":"VLOOKUP(D2,E2:F540,2,FALSE)","v":0},2,"003","Alpine County (Unincorporated)",60,890,30,9,0,779,53,428,522,136,37,203,316,258,859,91,950,12,17.899999999999999,{"$f":"X3*0.09","v":85.5}]
[3,{"$f":"VLOOKUP(D3,F2:J540,5,FALSE)","v":0},null,{"$f":"VLOOKUP(D2,E2:G540,3,FALSE)","v":"Select a Jurisdiction"},3,"005","Amador County (Unincorporated)",1496,34460,169,96,41,10923,2067,6738,7048,2506,493,2495,4078,4214,10809,2977,13786,15,17.600000000000001,1240.74]
[4,{"$f":"VLOOKUP(D3,F2:K540,6,FALSE)","v":0},null,null,4,"007","Butte County (Unincorporated)",6673,42968,1166,451,80,34957,2243,24408,25233,11126,2287,10920,13547,11761,40108,9533,49641,2823,17.399999999999999,4467.6899999999996]
[5,{"$f":"VLOOKUP(D3,F2:L540,7,FALSE)","v":0},null,null,5,"009","Calaveras County (Unincorporated)",3546,23720,284,168,35,20899,1165,13161,13155,5264,{"$f":"'Att E Activity 1'!CV49","v":0},{"$f":"'Att E Activity 1'!CF52","v":0},{"$f":"'Att E Activity 1'!CN52","v":""},{"$f":"'Att E Activity 1'!CV52","v":0},{"$f":"'Att E Activity 1'!DG49","v":0},{"$f":"'Att E Activity 1'!DO49","v":""},{"$f":"'Att E Activity 1'!DW49","v":0},{"$f":"'Att E Activity 1'!DG52","v":0},{"$f":"'Att E Activity 1'!DO52","v":""},{"$f":"'Att E Activity 1'!DW52","v":0},{"$f":"'Att E Activity 1'!EH49","v":0},{"$f":"'Att E Activity 1'!EP49","v":""},{"$f":"'Att E Activity 1'!EX49","v":0},{"$f":"'Att E Activity 1'!EH52","v":0},{"$f":"'Att E Activity 1'!EP52","v":""},{"$f":"'Att E Activity 1'!EX52","v":0},null,{"$f":"'Att E Activity 1'!AM62","v":""},{"$f":"'Att E Activity 1'!AU62","v":""},{"$f":"'Att E Activity 1'!AM65","v":""},{"$f":"'Att E Activity 1'!AU62","v":""},{"$f":"'Att E Activity 1'!AM68","v":""},{"$f":"'Att E Activity 1'!AU68","v":""},{"$f":"'Att E Activity 1'!AM71","v":""},{"$f":"'Att E Activity 1'!AU71","v":""},{"$f":"'Att E Activity 1'!AM74","v":""},{"$f":"'Att E Activity 1'!AU74","v":""},{"$f":"'Att E Activity 1'!AM77","v":""},{"$f":"'Att E Activity 1'!AU77","v":""},{"$f":"'Att E Activity 1'!BE62","v":0},{"$f":"'Att E Activity 1'!BM62","v":""},{"$f":"'Att E Activity 1'!BU62","v":0},{"$f":"'Att E Activity 1'!BE65","v":0},{"$f":"'Att E Activity 1'!BM65","v":""},{"$f":"'Att E Activity 1'!BU65","v":0},{"$f":"'Att E Activity 1'!BE68","v":0},{"$f":"'Att E Activity 1'!BM68","v":""},{"$f":"'Att E Activity 1'!BU68","v":0},{"$f":"'Att E Activity 1'!BE71","v":0},{"$f":"'Att E Activity 1'!BM71","v":""},{"$f":"'Att E Activity 1'!BU71","v":0},{"$f":"'Att E Activity 1'!BE74","v":0},{"$f":"'Att E Activity 1'!BM74","v":""},{"$f":"'Att E Activity 1'!BU74","v":0},{"$f":"'Att E Activity 1'!BE77","v":0},{"$f":"'Att E Activity 1'!BM77","v":""},{"$f":"'Att E Activity 1'!BU77","v":0},{"$f":"'Att E Activity 1'!CF62","v":0},{"$f":"'Att E Activity 1'!CN62","v":""},{"$f":"'Att E Activity 1'!CV62","v":0},{"$f":"'Att E Activity 1'!CF65","v":0},{"$f":"'Att E Activity 1'!CN65","v":""},{"$f":"'Att E Activity 1'!CV65","v":0},{"$f":"'Att E Activity 1'!CF68","v":0},{"$f":"'Att E Activity 1'!CN68","v":""},{"$f":"'Att E Activity 1'!CV68","v":0},{"$f":"'Att E Activity 1'!CF71","v":0},{"$f":"'Att E Activity 1'!CN71","v":""},{"$f":"'Att E Activity 1'!CV71","v":0},{"$f":"'Att E Activity 1'!CF74","v":0},{"$f":"'Att E Activity 1'!CN74","v":""},{"$f":"'Att E Activity 1'!CV74","v":0},{"$f":"'Att E Activity 1'!CF77","v":0},{"$f":"'Att E Activity 1'!CN77","v":""},{"$f":"'Att E Activity 1'!CV77","v":0},{"$f":"'Att E Activity 1'!DG62","v":0},{"$f":"'Att E Activity 1'!DO62","v":""},{"$f":"'Att E Activity 1'!DW62","v":0},{"$f":"'Att E Activity 1'!DG65","v":0},{"$f":"'Att E Activity 1'!DO65","v":""},{"$f":"'Att E Activity 1'!DW65","v":0},{"$f":"'Att E Activity 1'!DG68","v":0},{"$f":"'Att E Activity 1'!DO68","v":""},{"$f":"'Att E Activity 1'!DW68","v":0},{"$f":"'Att E Activity 1'!DG71","v":0},{"$f":"'Att E Activity 1'!DO71","v":""},{"$f":"'Att E Activity 1'!DW71","v":0},{"$f":"'Att E Activity 1'!DG74","v":0},{"$f":"'Att E Activity 1'!DO74","v":""},{"$f":"'Att E Activity 1'!DW74","v":0},{"$f":"'Att E Activity 1'!DG77","v":0},{"$f":"'Att E Activity 1'!DO77","v":""},{"$f":"'Att E Activity 1'!DW77","v":0},{"$f":"'Att E Activity 1'!EH62","v":0},{"$f":"'Att E Activity 1'!EP62","v":""},{"$f":"'Att E Activity 1'!EX62","v":0},{"$f":"'Att E Activity 1'!EH65","v":0},{"$f":"'Att E Activity 1'!EP65","v":""},{"$f":"'Att E Activity 1'!EX65","v":0},{"$f":"'Att E Activity 1'!EH68","v":0},{"$f":"'Att E Activity 1'!EP68","v":""},{"$f":"'Att E Activity 1'!EX68","v":0},{"$f":"'Att E Activity 1'!EH71","v":0},{"$f":"'Att E Activity 1'!EP71","v":""},{"$f":"'Att E Activity 1'!EX71","v":0},{"$f":"'Att E Activity 1'!EH74","v":0},{"$f":"'Att E Activity 1'!EP74","v":""},{"$f":"'Att E Activity 1'!EX74","v":0},{"$f":"'Att E Activity 1'!EH77","v":0},{"$f":"'Att E Activity 1'!EP77","v":""},{"$f":"'Att E Activity 1'!EX77","v":0},null,{"$f":"'Att E Activity 1'!AM87","v":""},{"$f":"'Att E Activity 1'!AU87","v":""},{"$f":"'Att E Activity 1'!AM90","v":""},{"$f":"'Att E Activity 1'!AU90","v":""},{"$f":"'Att E Activity 1'!BE87","v":0},{"$f":"'Att E Activity 1'!BM87","v":""},{"$f":"'Att E Activity 1'!BU87","v":0},{"$f":"'Att E Activity 1'!BE90","v":0},{"$f":"'Att E Activity 1'!BM90","v":""},{"$f":"'Att E Activity 1'!BU90","v":0},{"$f":"'Att E Activity 1'!CF87","v":0},{"$f":"'Att E Activity 1'!CN87","v":""},{"$f":"'Att E Activity 1'!CV87","v":0},{"$f":"'Att E Activity 1'!CF90","v":0},{"$f":"'Att E Activity 1'!CN90","v":""},{"$f":"'Att E Activity 1'!CV90","v":0},{"$f":"'Att E Activity 1'!DG87","v":0},{"$f":"'Att E Activity 1'!DO87","v":""},{"$f":"'Att E Activity 1'!DW87","v":0},{"$f":"'Att E Activity 1'!DG90","v":0},{"$f":"'Att E Activity 1'!DO90","v":""},{"$f":"'Att E Activity 1'!DW90","v":0},{"$f":"'Att E Activity 1'!EH87","v":0},{"$f":"'Att E Activity 1'!EP87","v":""},{"$f":"'Att E Activity 1'!EX87","v":0},{"$f":"'Att E Activity 1'!EH90","v":0},{"$f":"'Att E Activity 1'!EP90","v":""},{"$f":"'Att E Activity 1'!EX90","v":0}]
[6,{"$f":"VLOOKUP(D3,F2:M540,8,FALSE)","v":0},null,59,6,"011","Colusa County (Unincorporated)",3746,2019,33,56,11,1730,124,2824,2941,1800,347,1495,1336,787,5131,634,5765,39,12.5,518.85]
[7,{"$f":"VLOOKUP(D3,F2:N540,9,FALSE)","v":0},null,{"$f":"VLOOKUP(D7,E2:F59,2,FALSE)","v":{"$error":"#N/A"}},7,"013","Contra Costa County (Unincorporated)",45688,118857,390,9441,622,72856,1874,85229,82776,40909,9154,41388,47498,29056,149595,18410,168005,25383,10.199999999999999,15120.449999999999]
[8,{"$f":"VLOOKUP(D3,F2:O540,10,FALSE)","v":0},null,{"$f":"VLOOKUP(D7,E2:G545,3,FALSE)","v":"Adelanto city"},8,"015","Del Norte County (Unincorporated)",900,5497,2136,25,7,3874,504,3276,3121,1546,276,1426,1744,1405,4892,1505,6397,70,21.5,575.73]
[9,{"$f":"VLOOKUP(D3,F2:P540,11,FALSE)","v":0},null,null,9,"017","El Dorado County (Unincorporated)",12913,92513,561,1010,156,76631,5126,53878,51548,25911,4729,20662,31212,22912,93343,12083,105426,6861,11.5,9488.34]
[10,{"$f":"VLOOKUP(D3,F2:Q540,12,FALSE)","v":0},null,null,10,"019","Fresno County (Unincorporated)",299670,290533,4010,38326,794,146321,18082,23882,24214,13842,2916,11829,11409,8100,42175,5921,48096,79892,11.6,4328.6399999999994]
[11,{"$f":"VLOOKUP(D3,F2:R540,13,FALSE)","v":0},null,null,11,"021","Glenn County (Unincorporated)",2096,600,17,17,2,477,39,1292,1404,832,164,632,660,408,2273,423,2696,44,15.8,242.64]
[12,{"$f":"VLOOKUP(D3,F2:S540,14,FALSE)","v":0},null,null,12,"023","Humboldt County (Unincorporated)",5587,45094,4551,485,117,34390,4048,25725,24956,11922,2609,13913,12302,9935,41654,9027,50681,1139,15.7,4561.29]
[13,{"$f":"VLOOKUP(D3,F2:T540,15,FALSE)","v":0},null,null,13,"025","Imperial County (Unincorporated)",14813,2627,95,223,9,1937,233,8751,8689,5611,1230,4298,3954,2347,15268,2172,17440,95,13.1,1569.6]
[14,{"$f":"VLOOKUP(D3,F2:U540,16,FALSE)","v":0},null,null,14,"027","Inyo County (Unincorporated)",2663,9335,876,62,4,7578,613,5972,6026,2530,429,2601,3174,3264,10437,1561,11998,155,12.5,1079.82]
[15,{"$f":"VLOOKUP(D3,F2:W541,18,FALSE)","v":0},null,null,15,"029","Kern County (Unincorporated)",138079,126362,2012,8980,246,100923,9596,132514,131927,83214,17051,68955,60931,34290,229050,35391,264441,3401,11.8,23799.69]
[16,{"$f":"VLOOKUP(D3,F2:V541,17,FALSE)","v":0},null,null,16,"031","Kings County (Unincorporated)",8400,7117,69,1162,84,4449,720,7509,8008,5576,1894,4909,2143,995,14401,1116,15517,552,10.4,1396.53]
[17,{"$f":"VLOOKUP(D3,F2:X540,19,FALSE)","v":0},null,null,17,"033","Lake County (Unincorporated)",7058,25169,588,423,50,21300,2138,16008,16219,7168,1430,7327,8932,7370,26783,5444,32227,480,20.9,2900.43]
[18,{"$f":"VLOOKUP(D3,F2:Y540,20,FALSE)","v":0},null,null,18,"035","Lassen County (Unincorporated)",776,6768,153,74,9,5931,503,3571,3973,1632,340,1662,2221,1689,6152,1392,7544,58,17.3,678.95999999999992]
[null,null,null,null,19,"037","Los Angeles County (Unincorporated)",535420,361481,1724,68320,1426,140148,19676,464662,445556,229894,65218,246308,236982,131816,817443,92775,910218,125819,9.5,81919.62]
[null,null,null,null,20,"039","Madera County (Unincorporated)",19319,28835,907,536,34,24280,336,24272,23882,12590,2597,10588,11850,10529,40893,7261,48154,751,12.1,4333.8599999999997]
[null,"Enter a F/Y",null,null,21,"041","Marin County (Unincorporated)",5049,45763,80,1173,81,37693,3122,26432,24380,11527,1813,9443,15517,12512,46131,4681,50812,3260,8.9,4573.08]
[null,"2010-2011",null,null,22,"043","Mariposa County (Unincorporated)",1100,6416,157,38,6,5467,564,3720,3796,1392,315,1642,2185,1982,5900,1616,7516,129,18.5,676.43999999999994]
[null,"2011-2012",null,null,23,"045","Mendocino County (Unincorporated)",3969,11677,774,69,13,9539,878,7695,7951,3597,699,4015,3926,3409,13389,2257,15646,315,16.100000000000001,1408.1399999999999]
[null,"2012-2013",null,null,24,"047","Merced County (Unincorporated)",34299,16951,177,628,57,12128,1232,25471,25779,16937,3671,13368,11610,5664,44048,7202,51250,2572,15.5,4612.5]
[null,"2013-2014",null,null,25,"049","Modoc County (Unincorporated)",398,1839,131,13,5,1550,121,1117,1120,478,75,414,634,636,1828,409,2237,5,21.1,201.32999999999998]
[null,"2014-2015",null,null,26,"051","Mono County (Unincorporated)",1004,4451,163,22,12,3956,213,2619,2836,1119,204,1281,1596,1255,4909,546,5455,50,7.8,490.95]
[null,"2015-2016",null,null,27,"053","Monterey County (Unincorporated)",29814,22686,158,288,113,18488,1708,26084,26416,14239,3225,12539,12998,9499,47153,5347,52500,1594,8.4,4725]
[null,"2016-2017",null,null,28,"055","Napa County (Unincorporated)",1220,4056,10,115,15,3131,257,2789,2487,1019,575,1051,1299,1332,4723,553,5276,268,10.8,474.84]
[null,"2017-2018",null,null,29,"057","Nevada County (Unincorporated)",1686,18124,136,79,32,16371,1151,10232,9578,3683,670,3607,5306,6544,16647,3163,19810,269,13.4,1782.8999999999999]
[null,"2018-2019",null,null,30,"059","Orange County (Unincorporated)",17033,88065,148,951,135,64361,5996,53707,51391,29788,5678,22659,30726,16247,97020,8078,105098,16039,7.8,9458.82]
[null,"2019-2020",null,null,31,"061","Placer County (Unincorporated)",7928,46628,316,351,75,40207,1346,27541,27015,12325,2441,11522,15893,12375,48766,5790,54556,2412,10.7,4910.04]
[null,"2020-2021",null,null,32,"063","Plumas County (Unincorporated)",1277,13515,276,86,20,12149,777,7348,7444,2710,518,2888,4152,4524,12371,2421,14792,118,19.399999999999999,1331.28]
[null,"2021-2022",null,null,33,"065","Riverside County (Unincorporated)",160159,153373,1519,12535,590,109935,10892,157221,156311,88095,19690,77017,77409,51321,274332,39200,313532,16442,10.7,28217.879999999997]
[null,"2022-2023",null,null,34,"067","Sacramento County (Unincorporated)",129341,467104,3032,47830,5700,284041,40002,306040,290405,155685,37142,160814,145971,96833,524161,72284,596445,82803,12.7,53680.049999999996]
[null,"2023-2024",null,null,35,"069","San Benito County (Unincorporated)",2256,4107,13,42,8,3536,237,3213,3150,1298,300,1422,1809,1534,5681,682,6363,206,8.6999999999999993,572.66999999999996]
[null,"2024-2025",null,null,36,"071","San Bernardino County (Unincorporated)",73447,106204,1029,5334,484,86104,7150,88526,91125,46087,11517,44641,47237,30169,155161,24490,179651,5049,10.9,16168.59]
[null,"2025-2026",null,null,37,"073","San Diego County (Unincorporated)",112233,240992,2569,15097,1304,187229,17755,176252,176973,88264,28685,86390,87702,62184,314117,39108,353225,15109,9.4,31790.25]
[null,"2026-2027",null,null,38,"075","San Francisco County (Unincorporated)",0,0,0,0,0,0,0,0,0,0,0,0,0,0,0,0,null,null,10.6,0]
[null,null,null,null,39,"077","San Joaquin County (Unincorporated)",37701,50428,384,3698,343,25620,3612,44217,45548,27781,5232,25045,20609,11098,79091,9038,88129,16337,11.7,7931.61]
[null,null,null,null,40,"079","San Luis Obispo County (Unincorporated)",23293,60033,312,627,80,51892,3546,42471,40855,18588,8985,17266,19806,18681,73280,10046,83326,3075,10.8,7499.34]
[null,null,null,null,41,"081","San Mateo County (Unincorporated)",14538,31081,59,403,225,21665,2314,22850,22769,10787,2375,11295,13280,7882,42123,3496,45619,6169,7.8,4105.71]
[null,null,null,null,42,"083","Santa Barbara County (Unincorporated)",32064,91812,460,1758,245,71548,6288,63850,60026,30897,18517,24591,26267,23604,111419,12457,123876,10808,10,11148.84]
[null,null,null,null,43,"085","Santa Clara County (Unincorporated)",19613,43021,115,1606,331,24913,3174,30599,32035,11448,9665,21012,13184,7325,58360,4274,62634,12404,7.7,5637.0599999999995]
[null,null,null,null,44,"087","Santa Cruz County (Unincorporated)",28008,81974,366,745,126,70865,5821,55746,54236,22382,5770,26629,31470,23731,96820,13162,109982,3336,8.8000000000000007,9898.3799999999992]
[null,null,null,null,45,"089","Shasta County (Unincorporated)",3120,30458,918,107,46,26436,2188,16682,16896,7652,1300,6682,9618,8326,28243,5335,33578,598,17.899999999999999,3022.02]
[null,null,null,null,46,"091","Sierra County (Unincorporated)",203,1732,8,3,0,1577,123,927,1008,342,41,386,573,593,1622,313,1935,7,20.3,174.15]
[null,null,null,null,47,"093","Siskiyou County (Unincorporated)",638,4963,339,61,5,4021,385,2823,2778,1103,211,1041,1577,1669,4445,1156,5601,88,19.100000000000001,504.09]
[null,null,null,null,48,"095","Solano County (Unincorporated)",1093,4835,24,145,16,4030,357,3020,2908,1084,253,1154,1893,1544,5008,920,5928,229,10.9,533.52,null,null,null,null,null,null,null,null,null,null,null,null,null,null,null,null,null,null,null,null,null,null,null,null,null,null,null,null,null,1,null,null,null,null,null,null,null,null,null,null,null,null,null,null,null,null,null,null,null,null,null,null,null,null,null,null,3,null,null,null,null,null,null,null,null,null,null,null,null,null,null,null,null,null,null,null,null,null,null,null,null,null,null,5,null,null,null,null,null,null,null,null,null,null,null,null,null,null,null,null,null,null,null,null,null,null,null,null,null,null,7]
[null,null,null,null,49,"097","Sonoma County (Unincorporated)",13718,36257,289,461,129,30176,2390,25566,24409,10257,2566,12061,13353,11738,43459,6516,49975,2450,10.7,4497.75]
[null,null,null,null,50,"099","Stanislaus County (Unincorporated)",35755,24478,274,872,220,18652,2015,29624,30609,18391,4004,15648,14751,7439,52945,7288,60233,2216,13.1,5420.9699999999993]
[null,null,null,null,51,"101","Sutter County (Unincorporated)",960,3688,58,18,2,3208,3993,2297,2351,1204,241,1149,1300,754,3935,713,4648,53,13.6,418.32,null,null,null,null,null,null,null,null,null,null,null,null,null,null,null,null,null,null,null,null,null,null,null,null,null,null,null,null,null,2,null,null,null,null,null,null,null,null,null,null,null,null,null,null,null,null,null,null,null,null,null,null,null,null,null,null,4,null,null,null,null,null,null,null,null,null,null,null,null,null,null,null,null,null,null,null,null,null,null,null,null,null,null,6,null,null,null,null,null,null,null,null,null,null,null,null,null,null,null,null,null,null,null,null,null,null,null,null,null,null,8]
[null,null,null,null,52,"103","Tehama County (Unincorporated)",2436,7947,193,60,15,6818,655,5099,5284,2658,467,2335,2706,2217,8776,1607,10383,166,18.2,934.46999999999991]
[null,null,null,null,53,"105","Trinity County (Unincorporated)",814,13080,369,40,21,9646,854,6099,7795,2622,603,3467,3910,3292,11964,1930,13894,387,22.7,1250.46]
[null,null,null,null,54,"107","Tulare County (Unincorporated)",61456,12514,249,277,111,8402,822,36763,37207,26650,5432,18613,15429,7846,64994,8976,73970,2426,10.7,6657.3]
[null,null,null,null,55,"109","Tuolumne County (Unincorporated)",3186,26074,363,108,53,23228,1819,14879,14381,5623,1170,5735,7617,9115,23679,5581,29260,324,18.399999999999999,2633.4]
[null,null,null,null,56,"111","Ventura County (Unincorporated)",17813,39329,155,419,51,31959,2453,28914,28228,13771,3021,12830,16615,10905,50953,6189,57142,3985,9.9,5142.78]
[null,null,null,null,57,"113","Yolo County (Unincorporated)",6621,12615,164,543,168,8462,730,10224,9012,7642,3171,3394,2913,2116,17283,1953,19236,2485,10.3,1731.24]
[null,null,null,null,58,"115","Yuba County (Unincorporated)",17004,35138,619,1981,269,23541,3888,26019,26123,16919,3188,15071,11162,5802,45048,7094,52142,4541,16.5,4692.78]
[null,null,null,null,59,"00296","Adelanto city",24158,13888,854,7396,284,8455,5323,18155,19891,13478,2987,11369,7507,2705,33733,4313,38046,1049,"Adelanto city",3424.14]
[null,null,null,null,60,"00394","Agoura Hills city",2319,17980,66,262,17,15279,2167,10462,9837,4897,1102,4067,6208,4025,18327,1972,20299,1776,"Agoura Hills city",1826.9099999999999]
[null,null,null,null,61,"00562","Alameda city",9435,68845,441,4608,399,34102,10074,40952,37328,17107,3773,22215,21474,13711,70906,7374,78280,25412,"Alameda city",7045.2,null,null,null,null,null,null,null,null,null,null,null,null,null,null,null,null,null,null,null,null,null,null,null,null,null,null,null,null,null,9,null,null,null,null,null,null,null,null,null,null,null,null,null,null,null,null,null,null,null,null,null,null,null,null,null,null,15,null,null,null,null,null,null,null,null,null,null,null,null,null,null,null,null,null,null,null,null,null,null,null,null,null,null,21,null,null,null,null,null,null,null,null,null,null,null,null,null,null,null,null,null,null,null,null,null,null,null,null,null,null,27]
[null,null,null,null,62,"00674","Albany city",2665,17606,90,716,17,9446,2687,10614,9657,5580,1181,5805,4669,3036,19164,1107,20271,6184,"Albany city",1824.3899999999999]
[null,null,null,null,63,"00884","Alhambra city",29910,52958,1061,1537,91,11898,10749,43741,39127,15323,4997,25231,22016,15301,74181,8687,82868,42977,"Alhambra city",7458.12]
[null,null,null,null,64,"00947","Aliso Viejo city",9836,42340,232,1009,182,31290,7365,27324,24852,13026,3324,14679,15660,5487,48978,3198,52176,8642,"Aliso Viejo city",4695.84,null,null,null,null,null,null,null,null,null,null,null,null,null,null,null,null,null,null,null,null,null,null,null,null,null,null,null,null,null,10,null,null,null,null,null,null,null,null,null,null,null,null,null,null,null,null,null,null,null,null,null,null,null,null,null,null,16,null,null,null,null,null,null,null,null,null,null,null,null,null,null,null,null,null,null,null,null,null,null,null,null,null,null,22,null,null,null,null,null,null,null,null,null,null,null,null,null,null,null,null,null,null,null,null,null,null,null,null,null,null,28]
[null,null,null,null,65,"01444","Alturas city",415,2300,110,31,7,2117,252,1425,1290,717,129,665,667,537,{"$f":"X66-W66","v":2241},474,2715,36,"Alturas city",244.35]
[null,null,null,null,66,"01514","Amador city",21,179,4,1,0,162,26,104,96,33,10,56,43,58,188,12,200,1,"Amador City city",{"$f":"X67*0.09","v":18}]
[null,null,null,null,67,"01640","American Canyon city",6705,15132,227,1480,157,5313,3152,11196,10641,5986,1542,5361,6033,2915,19572,2265,21837,7774,"American Canyon city",1965.33,null,null,null,null,null,null,null,null,null,null,null,null,null,null,null,null,null,null,null,null,null,null,null,null,null,null,null,null,null,11,null,null,null,null,null,null,null,null,null,null,null,null,null,null,null,null,null,null,null,null,null,null,null,null,null,null,17,null,null,null,null,null,null,null,null,null,null,null,null,null,null,null,null,null,null,null,null,null,null,null,null,null,null,23,null,null,null,null,null,null,null,null,null,null,null,null,null,null,null,null,null,null,null,null,null,null,null,null,null,null,29]
[null,null,null,null,68,"02000","Anaheim city",186651,160173,6207,9253,1533,107740,58787,175747,171077,88131,26685,102097,85889,44022,315310,31514,346824,61539,"Anaheim city",31214.16]
[null,null,null,null,69,"02042","Anderson city",1587,9736,430,119,30,8588,1292,5969,5354,3155,585,2974,2565,2044,8837,2486,11323,339,"Anderson city",1019.0699999999999]
[null,null,null,null,70,"02112","Angels city",459,3208,77,27,7,2975,395,1935,1732,739,130,720,956,1122,2835,832,3667,46,"Angels city",330.03,null,null,null,null,null,null,null,null,null,null,null,null,null,null,null,null,null,null,null,null,null,null,null,null,null,null,null,null,null,12,null,null,null,null,null,null,null,null,null,null,null,null,null,null,null,null,null,null,null,null,null,null,null,null,null,null,18,null,null,null,null,null,null,null,null,null,null,null,null,null,null,null,null,null,null,null,null,null,null,null,null,null,null,24,null,null,null,null,null,null,null,null,null,null,null,null,null,null,null,null,null,null,null,null,null,null,null,null,null,null,30]
[null,null,null,null,71,"02252","Antioch city",41965,73326,1696,24057,1543,32703,16249,59181,56110,31398,8139,30797,29959,14998,98590,16701,115291,15015,"Antioch city",10376.19]
[null,null,null,null,72,"02364","Apple Valley town",28989,46802,1333,6311,275,41481,11369,39035,36756,21143,4439,18044,17898,14267,63476,12315,75791,2609,"Apple Valley town",6821.19]
[null,null,null,null,73,"02462","Arcadia city",7401,49280,233,959,46,11378,4135,29607,27074,12703,3263,13005,16532,11178,51419,5262,56681,36772,"Arcadia city",5101.29,null,null,null,null,null,null,null,null,null,null,null,null,null,null,null,null,null,null,null,null,null,null,null,null,null,null,null,null,null,13,null,null,null,null,null,null,null,null,null,null,null,null,null,null,null,null,null,null,null,null,null,null,null,null,null,null,19,null,null,null,null,null,null,null,null,null,null,null,null,null,null,null,null,null,null,null,null,null,null,null,null,null,null,25,null,null,null,null,null,null,null,null,null,null,null,null,null,null,null,null,null,null,null,null,null,null,null,null,null,null,31]
[null,null,null,null,74,"02476","Arcata city",3739,15118,558,523,46,13226,2366,9626,9231,3857,3850,5847,3092,2211,17067,1790,18857,501,"Arcata city",1697.1299999999999]
[null,null,null,null,75,"02868","Arroyo Grande city",3646,14795,160,181,15,13595,2567,9696,8745,3985,876,4107,4795,4678,15767,2674,18441,708,"Arroyo Grande city",1659.6899999999998]
[null,null,null,null,76,"02896","Artesia city",5825,10570,161,652,67,3509,1838,8236,8159,3504,1098,4440,4392,2961,14595,1800,16395,6921,"Artesia city",1475.55,null,null,null,null,null,null,null,null,null,null,null,null,null,null,null,null,null,null,null,null,null,null,null,null,null,null,null,null,null,14,null,null,null,null,null,null,null,null,null,null,null,null,null,null,null,null,null,null,null,null,null,null,null,null,null,null,20,null,null,null,null,null,null,null,null,null,null,null,null,null,null,null,null,null,null,null,null,null,null,null,null,null,null,26,null,null,null,null,null,null,null,null,null,null,null,null,null,null,null,null,null,null,null,null,null,null,null,null,null,null,32]
[null,null,null,null,77,"02924","Arvin city",18317,1178,397,178,6,5069,3569,9800,9695,7750,1580,5214,3579,1372,18428,1067,19495,123,"Arvin city",1754.55]
[null,null,null,null,78,"03064","Atascadero city",5850,23923,361,462,38,21947,4161,15212,14561,6814,1386,7949,7556,6068,26458,3315,29773,910,"Atascadero city",2679.5699999999997]
[null,null,null,null,79,"03092","Atherton town",484,6704,14,100,45,4844,624,3690,3498,1801,620,919,2001,1847,6623,565,7188,1411,"Atherton town",646.91999999999996]
[null,null,null,null,80,"03162","Atwater city",19042,12928,972,1094,81,12984,6132,16323,15647,10356,2068,8547,6902,4097,27854,4116,31970,1779,"Atwater city",2877.2999999999997]
[null,null,null,null,81,"03204","Auburn city",1693,12083,154,123,17,11065,1501,7293,6483,2657,676,2982,3803,3658,12144,1632,13776,317,"Auburn city",1239.8399999999999]
[null,null,null,null,82,"03274","Avalon city",1903,1557,46,30,11,1699,508,1797,1663,834,200,859,984,583,3365,95,3460,33,"Avalon city",311.39999999999998]
[null,null,null,null,83,"03302","Avenal city",11545,2151,254,125,15,3216,1678,4565,9131,3578,879,4937,3589,713,12824,872,13696,92,"Avenal city",1232.6399999999999]
[null,null,null,null,84,"03386","Azusa city",32020,17980,1314,1752,74,13800,10053,25742,24258,12795,5216,14172,12030,5787,45578,4422,50000,7384,"Azusa city",4500]
[null,null,null,null,85,"03526","Bakersfield city",212822,190633,2153,26402,505,178069,66956,206326,197129,128211,28309,113784,86939,46212,363431,40024,403455,null,"Bakersfield city",36310.949999999997]
[null,null,null,null,86,"03666","Baldwin Park city",53683,18493,92,609,44,17992,13524,36616,35560,18522,5630,19952,18429,9643,64913,7263,72176,null,"Baldwin Park city",6495.84,null,null,null,null,null,null,null,null,null,null,null,null,null,null,null,null,null,null,null,null,null,null,null,null,null,null,null,null,null,33,null,null,null,null,null,null,null,null,null,null,null,null,null,null,null,null,null,null,null,null,null,null,null,null,null,null,35,null,null,null,null,null,null,null,null,null,null,null,null,null,null,null,null,null,null,null,null,null,null,null,null,null,null,37,null,null,null,null,null,null,null,null,null,null,null,null,null,null,null,null,null,null,null,null,null,null,null,null,null,null,39]
[null,null,null,null,87,"03820","Banning city",13427,16078,316,2112,26,15232,4017,15528,13977,6824,1482,6444,6477,8278,23067,6438,29505,null,"Banning city",2655.45]
[null,null,null,null,88,"04030","Barstow city",11295,14120,305,4684,312,12786,4247,13080,12335,8605,1763,6693,5303,3051,21442,3973,25415,null,"Barstow city",2287.35]
[null,null,null,null,89,"04758","Beaumont city",22546,30490,309,4167,95,28387,8586,27286,25750,15802,3001,14260,11709,8264,47947,5089,53036,null,"Beaumont city",4773.24,null,null,null,null,null,null,null,null,null,null,null,null,null,null,null,null,null,null,null,null,null,null,null,null,null,null,null,null,null,34,null,null,null,null,null,null,null,null,null,null,null,null,null,null,null,null,null,null,null,null,null,null,null,null,null,null,36,null,null,null,null,null,null,null,null,null,null,null,null,null,null,null,null,null,null,null,null,null,null,null,null,null,null,38,null,null,null,null,null,null,null,null,null,null,null,null,null,null,null,null,null,null,null,null,null,null,null,null,null,null,40]
[null,null,null,null,90,"04870","Bell city",31392,2167,35,124,15,1996,7515,16978,16581,9994,2696,9649,7844,3376,30539,3020,33559,null,"Bell city",3020.31]
[null,null,null,null,91,"04996","Bell Gardens city",37994,1507,98,220,19,1383,7682,19851,38419,11961,3355,11443,9078,3664,32218,7283,39501,null,"Bell Gardens city",3555.0899999999997]
[null,null,null,null,92,"04982","Bellflower city",45250,33940,183,10131,531,31891,13184,40771,19650,20832,5850,23147,19829,9532,76554,2636,79190,null,"Bellflower city",7127.0999999999995]
[null,null,null,null,93,"05108","Belmont city",3523,24812,22,348,132,22704,3542,14427,13908,6753,1307,8214,7490,4571,26170,2165,28335,null,"Belmont city",2550.15]
[null,null,null,null,94,"05164","Belvedere city",109,2017,5,17,0,1943,148,1147,979,499,62,238,613,714,2013,113,2126,null,"Belvedere city",191.34]
[null,null,null,null,95,"05290","Benicia city",4008,23123,62,1327,101,20896,4042,14250,12881,5988,1289,6021,7961,5872,24171,2960,27131,null,"Benicia city",2441.79]
[null,null,null,null,96,"06000","Berkeley city",17018,107303,226,9495,253,98234,14580,63408,60913,25452,21960,34722,23261,18926,112672,11649,124321,null,"Berkeley city",11188.89]
[null,null,null,null,97,"06308","Beverly Hills city",2218,30483,13,662,11,28706,2857,17674,15027,6262,1870,8016,8867,7686,29500,3201,32701,null,"Beverly Hills city",2943.0899999999997]
[null,null,null,null,98,"06434","Big Bear Lake city",1205,3841,21,46,6,3617,616,2451,2595,913,183,1065,1525,1360,4497,549,5046,null,"Big Bear Lake city",454.14]
[null,null,null,null,99,"06560","Biggs city",778,1186,31,19,0,1114,201,998,966,601,119,464,509,271,1513,451,1964,null,"Biggs city",176.76,null,null,null,null,null,null,null,null,null,null,null,null,null,null,null,null,null,null,null,null,null,null,null,null,null,null,null,null,null,41,null,null,null,null,null,null,null,null,null,null,null,null,null,null,null,null,null,null,null,null,null,null,null,null,null,null,43,null,null,null,null,null,null,null,null,null,null,null,null,null,null,null,null,null,null,null,null,null,null,null,null,null,null,51,null,null,null,null,null,null,null,null,null,null,null,null,null,null,null,null,null,null,null,null,null,null,null,null,null,null,56]
[null,null,null,null,100,"06798","Bishop city",1146,2673,83,8,0,2483,521,1932,1887,832,176,1057,1009,745,2976,843,3819,null,"Bishop city",343.71]
[null,null,null,null,101,"07162","Blue Lake city",96,1112,53,5,2,1023,122,649,559,241,50,333,338,246,1026,182,1208,null,"Blue Lake city",108.72]
[null,null,null,null,102,"07218","Blythe city",10873,7444,158,2007,21,6932,2017,6134,12183,3765,1345,6648,4870,1689,16233,2084,18317,null,"Blythe city",1648.53,null,null,null,null,null,null,null,null,null,null,null,null,null,null,null,null,null,null,null,null,null,null,null,null,null,null,null,null,null,42,null,null,null,null,null,null,null,null,null,null,null,null,null,null,null,null,null,null,null,null,null,null,null,null,null,null,47,null,null,null,null,null,null,null,null,null,null,null,null,null,null,null,null,null,null,null,null,null,null,null,null,null,null,52,null,null,null,null,null,null,null,null,null,null,null,null,null,null,null,null,null,null,null,null,null,null,null,null,null,null,57]
[null,null,null,null,103,"07946","Bradbury city",184,737,1,17,0,707,109,465,456,168,55,184,306,208,853,68,921,null,"Bradbury city",82.89]
[null,null,null,null,104,"08058","Brawley city",22750,3666,28,303,11,3426,7050,13686,12730,8646,1656,6861,5794,3459,22440,3976,26416,null,"Brawley city",2377.44]
[null,null,null,null,105,"08100","Brea city",12972,34353,101,784,54,32507,6609,24482,22843,11084,2828,13007,12582,7824,43682,3643,47325,null,"Brea city",4259.25,null,null,null,null,null,null,null,null,null,null,null,null,null,null,null,null,null,null,null,null,null,null,null,null,null,null,null,null,null,43,null,null,null,null,null,null,null,null,null,null,null,null,null,null,null,null,null,null,null,null,null,null,null,null,null,null,48,null,null,null,null,null,null,null,null,null,null,null,null,null,null,null,null,null,null,null,null,null,null,null,null,null,null,53,null,null,null,null,null,null,null,null,null,null,null,null,null,null,null,null,null,null,null,null,null,null,null,null,null,null,58]
[null,null,null,null,106,"08142","Brentwood city",17121,47171,161,4230,289,42957,10229,33228,31064,18723,3685,14860,16598,10426,56443,7849,64292,null,"Brentwood city",5786.28]
[null,null,null,null,107,"08310","Brisbane city",868,3983,10,88,24,3653,690,2435,2416,979,194,1422,1465,791,4438,413,4851,null,"Brisbane city",436.59]
[null,null,null,null,108,"08758","Buellton city",1676,3485,28,30,5,3252,893,2608,2553,1340,206,1261,1442,912,4604,557,5161,null,"Buellton city",464.49,null,null,null,null,null,null,null,null,null,null,null,null,null,null,null,null,null,null,null,null,null,null,null,null,null,null,null,null,null,44,null,null,null,null,null,null,null,null,null,null,null,null,null,null,null,null,null,null,null,null,null,null,null,null,null,null,49,null,null,null,null,null,null,null,null,null,null,null,null,null,null,null,null,null,null,null,null,null,null,null,null,null,null,54,null,null,null,null,null,null,null,null,null,null,null,null,null,null,null,null,null,null,null,null,null,null,null,null,null,null,59]
[null,null,null,null,109,"08786","Buena Park city",34330,49704,174,2504,373,47226,11340,42889,41145,20315,5938,23695,22256,11830,75585,8449,84034,null,"Buena Park city",7563.0599999999995]
[null,null,null,null,110,"08954","Burbank city",25961,81376,222,2891,98,76461,14624,55671,51666,21024,6126,33839,28823,17525,95812,11525,107337,null,"Burbank city",9660.33]
[null,null,null,null,111,"09066","Burlingame city",4263,27123,20,284,105,25147,3658,16239,15147,7641,1135,9219,8312,5079,29383,2003,31386,null,"Burlingame city",2824.74,null,null,null,null,null,null,null,null,null,null,null,null,null,null,null,null,null,null,null,null,null,null,null,null,null,null,null,null,null,45,null,null,null,null,null,null,null,null,null,null,null,null,null,null,null,null,null,null,null,null,null,null,null,null,null,null,50,null,null,null,null,null,null,null,null,null,null,null,null,null,null,null,null,null,null,null,null,null,null,null,null,null,null,55,null,null,null,null,null,null,null,null,null,null,null,null,null,null,null,null,null,null,null,null,null,null,null,null,null,null,60]
[null,null,null,null,112,"09598","Calabasas city",1954,21287,31,515,12,20087,1200,12020,11221,5541,1561,4551,7077,4511,21425,1816,23241,null,"Calabasas city",2091.69]
[null,null,null,null,113,"09710","Calexico city",37548,1085,6,43,4,1002,83,20599,18034,11203,2738,9014,9526,6152,33217,5416,38633,null,"Calexico city",3476.97]
[null,null,null,null,114,"09780","California city",5494,9479,85,3385,46,8590,889,6466,8507,3959,1090,4655,3463,1806,12672,2301,14973,null,"California city",1347.57]
[null,null,null,null,115,"09864","Calimesa city",2894,7132,52,167,12,6701,431,5139,4887,2189,432,2263,2641,2501,8648,1378,10026,null,"Calimesa city",902.33999999999992]
[null,null,null,null,116,"09878","Calipatria city",4960,1555,36,969,13,1492,63,1861,4654,1340,544,3052,1172,407,6193,322,6515,null,"Calipatria city",586.35]
[null,null,null,null,117,"09892","Calistoga city",2698,2530,9,23,3,2415,115,2727,2501,1186,268,1175,1344,1255,4403,825,5228,null,"Calistoga city",470.52]
[null,null,null,null,118,"10046","Camarillo city",19356,51385,131,1524,160,47607,3778,36755,33986,16053,4065,17016,18307,15300,63143,7598,70741,null,"Camarillo city",6366.69]
[null,null,null,null,119,"10345","Campbell city",8424,35535,90,1022,132,32856,2679,22398,21561,9531,2099,14082,11840,6407,40188,3771,43959,null,"Campbell city",3956.31]
[null,null,null,null,120,"10928","Canyon Lake city",1668,9414,45,199,15,8852,562,5626,5456,2506,529,2462,3274,2311,9893,1189,11082,null,"Canyon Lake city",997.38]
[null,null,null,null,121,"11040","Capitola city",2227,7711,31,103,5,7138,573,5306,4632,1644,491,2641,2786,2376,8516,1422,9938,null,"Capitola city",894.42]
[null,null,null,null,122,"11194","Carlsbad city",17302,97444,259,1231,196,90515,6929,59009,55737,27633,5689,26379,33305,21740,104909,9837,114746,null,"Carlsbad city",10327.14]
[null,null,null,null,123,"11250","Carmel-by-the-Sea city",192,3028,11,13,2,2939,89,1776,1444,370,77,374,911,1488,2633,587,3220,null,"Carmel-by-the-Sea city",289.8]
[null,null,null,null,124,"11446","Carpinteria city",6473,6791,36,73,8,6359,432,6886,6378,2979,704,3202,3548,2831,12016,1248,13264,null,"Carpinteria city",1193.76]
[null,null,null,null,125,"11530","Carson city",37643,57915,185,21264,1585,55098,2817,50038,45520,20577,6644,23775,26424,18138,84341,11217,95558,null,"Carson city",8600.2199999999993]
[null,null,null,null,126,"12048","Cathedral city",30893,20600,268,1108,53,19386,1214,24615,26878,12475,3265,11989,13986,9778,44773,6720,51493,null,"Cathedral city",4634.37]
[null,null,null,null,127,"12524","Ceres city",31624,17678,204,897,334,16291,1387,24634,24668,15896,3597,13691,10879,5239,43383,5919,49302,null,"Ceres city",4437.1799999999994]
[null,null,null,null,128,"12552","Cerritos city",7092,42486,61,3155,191,40797,1689,25830,23748,9973,2854,10923,13543,12285,45231,4347,49578,null,"Cerritos city",4462.0199999999995]
[null,null,null,null,129,"13014","Chico city",20638,80837,938,1822,320,74414,6423,52293,49182,24369,13433,27588,20086,15999,{"$f":"X130-W130","v":88603},12872,101475,null,"Chico city",9132.75]
[null,null,null,null,130,"13210","Chino city",46841,44562,256,5212,102,42124,2438,45731,45672,22757,6073,27176,23687,11710,85358,6045,91403,null,"Chino city",{"$f":"X131*0.09","v":8226.27}]
[null,null,null,null,131,"13214","Chino Hills city",22084,56327,126,3116,125,53626,2701,39936,38475,19166,5496,20150,23503,10096,72238,6173,78411,null,"Chino Hills city",7056.99]
[null,null,null,null,132,"13294","Chowchilla city",9054,9985,182,1817,33,9383,602,9507,9532,4437,1352,6210,5065,1975,17988,1051,19039,null,"Chowchilla city",1713.51]
[null,null,null,null,133,"13392","Chula Vista city",164698,110789,488,12703,1140,100067,10722,141917,133570,75527,19306,75712,69131,35811,249872,25615,275487,null,"Chula Vista city",24793.829999999998]
[null,null,null,null,134,"13588","Citrus Heights city",17176,70407,516,3191,403,64601,5806,45237,42346,19867,5563,25201,21129,15823,73627,13956,87583,null,"Citrus Heights city",7882.4699999999993]
[null,null,null,null,135,"13756","Claremont city",9416,27850,90,1783,49,25631,2219,20023,17243,9095,5040,7123,8676,7332,33204,4062,37266,null,"Claremont city",3353.94]
[null,null,null,null,136,"13882","Clayton city",1242,9828,17,172,14,9044,784,5786,5284,2566,547,1928,3573,2456,10164,906,11070,null,"Clayton city",996.3]
[null,null,null,null,137,"13945","Clearlake city",5406,11279,292,551,23,10257,1022,8220,8465,4587,903,4200,4139,2856,12990,3695,16685,null,"Clearlake city",1501.6499999999999]
[null,null,null,null,138,"14190","Cloverdale city",3470,5526,86,58,16,5136,390,4545,4451,2103,489,2290,2233,1881,7745,1251,8996,null,"Cloverdale city",809.64]
[null,null,null,null,139,"14218","Clovis city",36594,83530,738,2993,270,77730,5800,62239,57885,34742,7568,32423,27677,17714,107441,12683,120124,null,"Clovis city",10811.16]
[null,null,null,null,140,"14260","Coachella city",40421,1520,83,136,10,1371,149,21095,20846,15154,3457,12046,8206,3078,38095,3846,41941,null,"Coachella city",3774.69]
[null,null,null,null,141,"14274","Coalinga city",11243,6347,112,665,26,5996,351,6608,10982,4352,1320,6246,4132,1540,15521,2069,17590,null,"Coalinga city",1583.1]
[null,null,null,null,142,"14498","Colfax city",210,1785,33,10,5,1637,148,1014,981,468,130,539,500,358,1669,326,1995,null,"Colfax city",179.54999999999998]
[null,null,null,null,143,"14736","Colma town",621,886,4,50,3,819,67,740,767,328,90,378,430,281,1374,133,1507,null,"Colma town",135.63]
[null,null,null,null,144,"14890","Colton city",39779,14130,163,4439,116,13095,1035,27437,26472,15939,4257,15980,12180,5553,46858,7051,53909,null,"Colton city",4851.8099999999995]
[null,null,null,null,145,"14946","Colusa city",3757,2654,65,58,34,2441,213,3222,3189,1947,341,1638,1493,992,5528,883,6411,null,"Colusa city",576.99]
[null,null,null,null,146,"14974","Commerce city",11690,688,38,88,3,629,59,6317,6061,3216,946,3454,2968,1794,10677,1701,12378,null,"Commerce city",1114.02]
[null,null,null,null,147,"15044","Compton city",67791,27949,132,24342,544,26679,1270,49213,46527,29570,7688,27101,21903,9478,86117,9623,95740,null,"Compton city",8616.6]
[null,null,null,null,148,"16000","Concord city",38953,86457,295,4532,644,78894,7563,63465,61945,28656,6911,36705,32736,20402,109586,15824,125410,null,"Concord city",11286.9]
[null,null,null,null,149,"16224","Corcoran city",15538,6801,194,2853,32,6514,287,6890,15449,4853,1464,8686,5599,1737,20568,1771,22339,null,"Corcoran city",2010.51]
[null,null,null,null,150,"16322","Corning city",4487,3757,105,18,11,3479,278,4222,4022,2740,526,2206,1748,1024,7331,913,8244,null,"Corning city",741.95999999999992]
[null,null,null,null,151,"16350","Corona city",73102,84034,461,8136,509,78270,5764,79625,77511,42832,11480,42539,42243,18042,144122,13014,157136,null,"Corona city",14142.24]
[null,null,null,null,152,"16378","Coronado city",3406,16786,53,607,41,15702,1084,9696,10496,4726,2457,4177,4586,4246,18293,1899,20192,null,"Coronado city",1817.28]
[null,null,null,null,153,"16462","Corte Madera town",1092,9130,8,72,14,8426,704,5336,4886,2829,360,2027,3148,1858,9442,780,10222,null,"Corte Madera town",919.98]
[null,null,null,null,154,"16532","Costa Mesa city",40795,71123,232,1306,412,66192,4931,55633,56285,23948,7841,39164,26910,14055,102506,9412,111918,null,"Costa Mesa city",10072.619999999999]
[null,null,null,null,155,"16560","Cotati city",1720,5864,43,103,20,5384,480,3973,3611,1655,502,2190,2037,1200,6717,867,7584,null,"Cotati city",682.56]
[null,null,null,null,156,"16742","Covina city",30108,21160,156,1748,87,19881,1279,26648,24620,12168,3574,14235,13893,7398,45667,5601,51268,null,"Covina city",4614.12]
[null,null,null,null,157,"17022","Crescent city",2181,4492,298,723,4,4162,330,2059,4614,1065,482,2992,1462,672,5828,845,6673,null,"Crescent city",600.56999999999994]
[null,null,null,null,158,"17498","Cudahy city",21872,939,37,167,26,852,87,11582,11229,7263,1991,6650,5112,1795,20966,1845,22811,null,"Cudahy city",2052.9899999999998]
[null,null,null,null,159,"17568","Culver city",8732,32047,47,3143,92,29037,3010,21458,19321,8242,1830,12885,10459,7363,37355,3424,40779,null,"Culver city",3670.1099999999997]
[null,null,null,null,160,"17610","Cupertino city",2330,58051,53,360,21,56098,1953,30333,30048,16032,3065,14728,17342,9214,57036,3345,60381,null,"Cupertino city",5434.29]
[null,null,null,null,161,"17750","Cypress city",10689,39462,85,1522,251,37160,2302,26113,24038,12083,3183,12285,14203,8397,45390,4761,50151,null,"Cypress city",4513.59]
[null,null,null,null,162,"17918","Daly city",25237,79664,980,2531,764,15009,9411,53024,51877,20260,7261,32096,27188,18096,95187,9714,104901,60281,"Daly city",9441.09]
[null,null,null,null,163,"17946","Dana Point city",6294,26813,196,284,35,24719,4428,17057,16050,5756,1712,7134,10390,8115,29997,3110,33107,1341,"Dana Point city",2979.63]
[null,null,null,null,164,"17988","Danville town",3952,39630,104,401,49,30864,4788,22522,21060,11755,1988,7405,13870,8564,40277,3305,43582,6615,"Danville town",3922.3799999999997]
[null,null,null,null,165,"18100","Davis city",11343,55507,473,1651,111,36581,8401,35370,31480,13926,15399,16067,12186,9272,61454,5396,66850,14770,"Davis city",6016.5]
[null,null,null,null,166,"18506","Del Mar city",274,3680,9,22,4,3352,356,2000,1954,569,156,794,1236,1199,3612,342,3954,152,"Del Mar city",355.86]
[null,null,null,null,167,"18688","Del Rey Oaks city",244,1348,14,29,6,1141,212,824,768,244,62,390,479,417,1390,202,1592,128,"Del Rey Oaks city",143.28]
[null,null,null,null,168,"18394","Delano city",38453,12975,1040,2774,54,7184,7206,21813,29615,14979,4201,16797,10860,4591,48749,2679,51428,7476,"Delano city",4628.5199999999995]
[null,null,null,null,169,"18996","Desert Hot Springs city",19887,12625,783,2636,59,11115,5520,16281,16231,10132,2207,8910,7363,3900,28707,3805,32512,785,"Desert Hot Springs city",2926.08]
[null,null,null,null,170,"19192","Diamond Bar city",10803,44269,314,1799,89,10161,5641,28319,26753,11512,3567,13278,16309,10406,50337,4735,55072,32855,"Diamond Bar city",4956.4799999999996]
[null,null,null,null,171,"19318","Dinuba city",21599,2964,446,131,32,5868,6799,12389,12174,8854,1757,6733,4783,2436,22577,1986,24563,537,"Dinuba city",2210.67]
[null,null,null,null,172,"19402","Dixon city",8302,10686,307,590,94,9776,3152,9635,9353,5176,1191,5138,4829,2654,16804,2184,18988,685,"Dixon city",1708.9199999999998]
[null,null,null,null,173,"19584","Dorris city",339,521,15,3,0,495,147,428,432,249,44,208,206,153,755,105,860,18,"Dorris city",77.399999999999991]
[null,null,null,null,174,"19612","Dos Palos city",4184,1614,2,0,1,104,35,2950,2848,1904,404,1526,1266,698,5238,560,5798,4,"Dos Palos city",521.81999999999994]
[null,null,null,null,175,"19766","Downey city",85866,28489,2357,4265,310,26731,27282,58677,55678,28653,8422,33086,29015,15179,104743,9612,114355,7652,"Downey city",10291.949999999999]
[null,null,null,null,176,"19990","Duarte city",10436,11291,382,1202,33,6689,3632,11554,10173,4342,1280,5459,5894,4752,18991,2736,21727,4591,"Duarte city",1955.4299999999998]
[null,null,null,null,177,"20018","Dublin city",8351,64238,517,2876,221,21105,6151,37852,34737,20464,3143,25870,17140,5972,69060,3529,72589,39077,"Dublin city",6533.0099999999993]
[null,null,null,null,178,"20242","Dunsmuir city",202,1505,30,18,1,1404,178,845,862,323,92,380,471,441,1445,262,1707,23,"Dunsmuir city",153.63]
[null,null,null,null,179,"20956","East Palo Alto city",19964,10070,682,3287,2084,3574,4396,14852,15182,8588,2522,9913,6472,2539,27587,2447,30034,1596,"East Palo Alto city",2703.06]
[null,null,null,null,180,"21712","El Cajon city",31271,74944,1156,7164,506,61728,14992,53912,52303,28683,7069,29907,25562,14994,92861,13354,106215,5254,"El Cajon city",9559.35]
[null,null,null,null,181,"21782","El Centro city",38566,5756,854,890,36,11677,13076,23239,21083,13130,3036,11224,10413,6519,37295,7027,44322,802,"El Centro city",3988.98]
[null,null,null,null,182,"21796","El Cerrito city",3075,22887,118,1426,56,11982,3226,13350,12612,5028,1117,7698,6826,5293,23498,2464,25962,7738,"El Cerrito city",2336.58]
[null,null,null,null,183,"22230","El Monte city",70819,38631,2398,903,63,13958,16762,55113,54337,28281,8245,30084,27574,15266,97573,11877,109450,33198,"El Monte city",9850.5]
[null,null,null,null,184,"22300","El Paso de Robles (Paso Robles) city",11958,19532,507,538,82,19204,4975,16231,15259,8395,1643,8031,7680,5741,27633,3857,31490,745,"El Paso de Robles (Paso Robles) city",2834.1]
[null,null,null,null,185,"22412","El Segundo city",2976,14296,111,415,62,11377,2615,8655,8617,3910,955,5300,4874,2233,15703,1569,17272,1839,"El Segundo city",1554.48]
[null,null,null,null,186,"22020","Elk Grove city",33392,142732,1404,17854,2560,57371,24374,90913,85211,49978,10863,43727,47171,24385,159433,16691,176124,58982,"Elk Grove city",15851.16]
[null,null,null,null,187,"22594","Emeryville city",1435,11470,76,2015,54,4796,1382,6627,6278,1508,924,6441,2524,1508,11927,978,12905,3965,"Emeryville city",1161.45]
[null,null,null,null,188,"22678","Encinitas city",9357,52650,384,328,88,47906,7229,31629,30378,13569,2725,15760,17414,12539,56842,5165,62007,2708,"Encinitas city",5580.63]
[null,null,null,null,189,"22790","Escalon city",2330,5142,76,37,6,4960,1090,3827,3645,2014,425,1914,1859,1260,6814,658,7472,133,"Escalon city",672.48]
[null,null,null,null,190,"22804","Escondido city",78226,72812,2708,3602,394,63249,25294,76672,74366,40626,10890,42238,36361,20923,134850,16188,151038,11974,"Escondido city",13593.42]
[null,null,null,null,191,"22972","Etna city",39,639,24,3,3,560,77,352,326,156,28,150,166,178,524,154,678,8,"Etna city",61.019999999999996]
[null,null,null,null,192,"23042","Eureka city",4014,22498,1136,542,235,18056,3279,13275,13237,5699,1644,8302,6147,4720,21398,5114,26512,1489,"Eureka city",2386.08]
[null,null,null,null,193,"23126","Exeter city",5287,5034,295,65,17,5604,1486,5322,4999,3104,688,2695,2279,1555,{"$f":"X194-W194","v":8859},1462,10321,148,"Exeter city",928.89]
[null,null,null,null,194,"23168","Fairfax town",878,6727,56,94,20,5998,855,3931,3674,1558,255,1493,2539,1760,6871,734,7605,233,"Fairfax town",{"$f":"X195*0.09","v":684.44999999999993}]
[null,null,null,null,195,"23182","Fairfield city",36723,83158,1568,17866,1301,38910,18240,60872,59009,32330,8260,33367,29480,16444,106199,13682,119881,22447,"Fairfield city",10789.289999999999]
[null,null,null,null,196,"23616","Farmersville city",9142,1255,419,44,0,2659,1772,5249,5148,3773,767,2761,2130,966,8992,1405,10397,58,"Farmersville city",935.73]
[null,null,null,null,197,"23910","Ferndale city",115,1283,19,5,0,1195,130,735,663,288,79,281,344,406,1112,286,1398,17,"Ferndale city",125.82]
[null,null,null,null,198,"24092","Fillmore city",12593,3826,392,117,14,5537,3639,8321,8098,4946,1109,4520,3818,2026,13882,2537,16419,258,"Fillmore city",1477.71]
[null,null,null,null,199,"24134","Firebaugh city",7486,610,98,45,7,2115,2577,4003,4093,2829,635,2091,1779,762,7564,532,8096,32,"Firebaugh city",728.64]
[null,null,null,null,200,"24638","Folsom city",10503,69951,408,3415,206,47247,8950,38922,41532,19778,4036,21859,23178,11603,74824,5630,80454,15881,"Folsom city",7240.86]
[null,null,null,null,201,"24680","Fontana city",141269,67124,4541,18756,563,49777,37754,105612,102781,63502,16415,58430,50563,19483,189478,18915,208393,17631,"Fontana city",18755.37]
[null,null,null,null,202,"25058","Fort Bragg city",2235,4748,205,49,11,4359,1113,3620,3363,1611,327,1699,1762,1584,5370,1613,6983,112,"Fort Bragg city",628.47]
[null,null,null,null,203,"25128","Fort Jones city",92,603,36,4,0,491,126,370,325,171,29,180,181,134,563,132,695,14,"Fort Jones city",62.55]
[null,null,null,null,204,"25296","Fortuna city",2590,9926,464,86,15,9009,1552,6429,6087,3214,703,3108,2937,2554,10112,2404,12516,156,"Fortuna city",1126.44]
[null,null,null,null,205,"25338","Foster city",2421,31384,76,514,196,11166,2806,17195,16610,7825,1237,10806,8073,5864,31637,2168,33805,18074,"Foster City city",3042.45]
[null,null,null,null,206,"25380","Fountain Valley city",8837,48210,288,573,135,23895,5789,29378,27669,12008,3523,12860,16288,12368,51288,5759,57047,22703,"Fountain Valley city",5134.2299999999996]
[null,null,null,null,207,"25436","Fowler city",4446,2254,140,103,4,2038,1075,3403,3297,2064,429,1800,1573,834,5538,1162,6700,911,"Fowler city",603]
[null,null,null,null,208,"26000","Fremont city",29016,201488,1353,5362,1045,42480,17569,115219,115285,58688,11419,71726,58605,30066,214653,15851,230504,147465,"Fremont city",20745.36]
[null,null,null,null,209,"27000","Fresno city",273771,268336,13015,40972,994,179727,82442,275163,266944,166201,41289,155076,112194,67347,467536,74571,542107,79670,"Fresno city",48789.63]
[null,null,null,null,210,"28000","Fullerton city",54225,89392,1799,3284,349,52164,21438,73410,70207,34642,12477,39945,35990,20563,131198,12419,143617,38382,"Fullerton city",12925.529999999999]
[null,null,null,null,211,"28112","Galt city",11588,13795,439,494,94,12871,4662,13006,12377,7305,1636,6548,6353,3541,22364,3019,25383,1042,"Galt city",2284.4699999999998]
[null,null,null,null,212,"29000","Garden Grove city",64102,107847,1993,1778,846,37604,20782,87126,84823,40704,12513,45013,48445,25274,153370,18579,171949,72962,"Garden Grove city",15475.41]
[null,null,null,null,213,"28168","Gardena city",24503,36524,752,13290,413,7284,7285,31805,29222,12906,3821,17081,16509,10710,53939,7088,61027,16167,"Gardena city",5492.4299999999994]
[null,null,null,null,214,"29504","Gilroy city",33650,25870,1557,1352,210,20836,11608,30028,29492,17697,4011,15536,14974,7302,54702,4818,59520,6313,"Gilroy city",5356.8]
[null,null,null,null,215,"30000","Glendale city",33575,162968,1101,3573,145,128248,17735,102908,93635,36461,11251,58679,52435,37717,169437,27106,196543,29870,"Glendale city",17688.87]
[null,null,null,null,216,"30014","Glendora city",19017,33541,587,1146,50,27823,9175,27034,25524,11951,3246,12879,14975,9507,47033,5525,52558,6844,"Glendora city",4730.22]
[null,null,null,null,217,"30378","Goleta city",11552,21138,489,512,25,16987,5568,16169,16521,7181,2705,9177,8189,5438,29957,2733,32690,3958,"Goleta city",2942.1]
[null,null,null,null,218,"30392","Gonzales city",7945,702,488,49,12,1392,1892,4270,4377,2962,731,2410,1801,743,8319,328,8647,171,"Gonzales city",778.23]
[null,null,null,null,219,"30658","Grand Terrace city",6297,6853,229,908,50,5847,2224,6817,6333,3175,907,3679,3164,2225,11787,1363,13150,850,"Grand Terrace city",1183.5]
[null,null,null,null,220,"30798","Grass Valley city",1728,12288,195,89,17,11308,1525,7737,6279,2718,691,3301,3031,4275,11469,2547,14016,233,"Grass Valley city",1261.44]
[null,null,null,null,221,"30994","Greenfield city",17804,1133,1692,98,25,2651,5051,9381,9556,7299,1392,5620,3356,1270,18235,702,18937,216,"Greenfield city",1704.33]
[null,null,null,null,222,"31260","Gridley city",3633,3788,135,62,9,3705,1109,3783,3638,2160,454,1946,1692,1169,5844,1577,7421,286,"Gridley city",667.89]
[null,null,null,null,223,"31393","Grover Beach city",3979,8722,196,168,23,8099,2167,6511,6190,2665,692,3503,3541,2300,10807,1894,12701,536,"Grover Beach city",1143.0899999999999]
[null,null,null,null,224,"31414","Guadalupe city",7098,959,366,49,15,2205,1659,4032,4025,2793,592,2268,1609,795,7447,610,8057,251,"Guadalupe city",725.13]
[null,null,null,null,225,"31568","Gustine city",3811,2299,111,39,11,2721,948,3093,3017,1847,376,1486,1421,980,4750,1360,6110,93,"Gustine city",549.9]
[null,null,null,null,226,"31708","Half Moon Bay city",3504,8291,92,81,16,7371,1847,6182,5613,2445,556,2510,3460,2824,10502,1293,11795,726,"Half Moon Bay city",1061.55]
[null,null,null,null,227,"31960","Hanford city",30763,27227,1140,2746,125,26410,10502,29561,28429,17795,3845,16381,12429,7540,50685,7305,57990,2475,"Hanford city",5219.0999999999995]
[null,null,null,null,228,"32506","Hawaiian Gardens city",10858,3291,377,590,49,2114,2205,7124,7025,4042,1123,4024,3335,1625,13108,1041,14149,1758,"Hawaiian Gardens city",1273.4099999999999]
[null,null,null,null,229,"32548","Hawthorne city",47310,40773,1726,21323,733,14176,13643,45552,42531,23088,6106,28266,21504,9119,80169,7914,88083,6746,"Hawthorne city",7927.4699999999993]
[null,null,null,null,230,"33000","Hayward city",67079,95875,2562,14693,5104,27955,20987,82628,80326,39122,11711,51121,39760,21240,148137,14817,162954,48315,"Hayward city",14665.859999999999]
[null,null,null,null,231,"33056","Healdsburg city",3925,7415,227,65,12,7194,1599,5823,5517,2404,562,2647,3073,2654,10069,1271,11340,169,"Healdsburg city",1020.5999999999999]
[null,null,null,null,232,"33182","Hemet city",40796,49037,1759,8767,406,41311,13689,46998,42835,23499,5182,20371,20285,20496,73376,16457,89833,3116,"Hemet city",8084.9699999999993]
[null,null,null,null,233,"33308","Hercules city",4320,21696,155,4181,142,4221,2887,13523,12493,5492,1403,7012,7337,4772,23925,2091,26016,12191,"Hercules city",2341.44]
[null,null,null,null,234,"33364","Hermosa Beach city",2064,17664,59,205,22,15116,2433,9628,10100,3789,835,6719,5749,2636,18684,1044,19728,1401,"Hermosa Beach city",1775.52]
[null,null,null,null,235,"33434","Hesperia city",58648,41170,1934,5638,247,40190,15582,50413,49405,31665,6964,26374,22654,12161,88930,10888,99818,2399,"Hesperia city",8983.619999999999]
[null,null,null,null,236,"33518","Hidden Hills city",117,1608,3,33,0,1421,137,904,821,439,128,236,549,373,1506,219,1725,75,"Hidden Hills city",155.25]
[null,null,null,null,237,"33588","Highland city",31624,25375,1030,5320,157,19412,9121,29170,27829,17368,4248,15118,13860,6405,51326,5673,56999,4733,"Highland city",5129.91]
[null,null,null,null,238,"33798","Hillsborough town",531,10856,4,43,29,6304,918,5783,5604,3083,552,1624,3500,2628,10780,607,11387,3946,"Hillsborough town",1024.83]
[null,null,null,null,239,"34120","Hollister city",28727,12951,1173,428,122,15055,7567,21082,20596,12834,2886,11735,9835,4388,37837,3841,41678,1691,"Hollister city",3751.02]
[null,null,null,null,240,"34246","Holtville city",4763,842,72,32,2,1719,1489,2909,2696,1671,333,1351,1311,939,4674,931,5605,38,"Holtville city",504.45]
[null,null,null,null,241,"34904","Hughson city",3367,4114,138,55,8,4274,1370,3819,3662,2303,460,1932,1673,1113,6711,770,7481,122,"Hughson city",673.29]
[null,null,null,null,242,"36000","Huntington Beach city",39457,159254,1293,2291,603,126591,25898,101302,97409,40006,11766,50973,57692,38274,178665,20046,198711,26346,"Huntington Beach city",17883.989999999998]
[null,null,null,null,243,"36056","Huntington Park city",52986,1897,1556,458,37,7959,10988,27730,27153,15779,4395,15855,12992,5862,50284,4599,54883,377,"Huntington Park city",4939.47]
[null,null,null,null,244,"36084","Huron city",5937,269,123,39,0,891,1095,3046,3160,2405,432,1655,1246,468,5537,669,6206,48,"Huron city",558.54]
[null,null,null,null,245,"36294","Imperial Beach city",13369,12768,322,975,148,11342,5482,13014,13123,6547,1918,8284,6142,3246,23344,2793,26137,1627,"Imperial Beach city",2352.33]
[null,null,null,null,246,"36280","Imperial city",16757,3506,334,354,19,5774,6290,10426,9837,6818,1190,6041,4394,1820,18531,1732,20263,579,"Imperial city",1823.6699999999998]
[null,null,null,null,247,"36434","Indian Wells city",310,4447,19,38,5,4195,254,2554,2203,344,75,307,1116,2915,4018,739,4757,131,"Indian Wells city",428.13]
[null,null,null,null,248,"36448","Indio city",61606,27531,16,4,2,279,229,45620,43517,25140,5659,22537,19908,15893,78415,10722,89137,6,"Indio city",8022.33]
[null,null,null,null,249,"36490","Industry city",130,134,0,9,0,119,44,145,119,52,9,55,54,94,248,16,264,37,"Industry city",23.759999999999998]
[null,null,null,null,250,"36546","Inglewood city",55677,52085,2197,41708,356,10271,14491,57073,50689,25815,7511,31538,27716,15182,94171,13591,107762,2248,"Inglewood city",9698.58]
[null,null,null,null,251,"36672","Ione city",874,4267,99,117,0,3908,576,2500,2641,1190,251,1208,1353,1139,3988,1153,5141,85,"Ione city",462.69]
[null,null,null,null,252,"36770","Irvine city",35855,271815,829,6972,397,115957,29762,157048,150622,78022,30494,94601,70667,33886,292866,14804,307670,140443,"Irvine city",27690.3]
[null,null,null,null,253,"36826","Irwindale city",1336,136,80,31,5,370,363,751,721,393,113,389,380,197,1339,133,1472,52,"Irwindale city",132.47999999999999]
[null,null,null,null,254,"36882","Isleton city",347,447,17,13,1,375,127,406,388,191,50,178,243,132,697,97,794,39,"Isleton city",71.459999999999994]
[null,null,null,null,255,"36980","Jackson city",818,4201,121,44,8,3906,576,2707,2312,1056,216,1051,1169,1527,3862,1157,5019,106,"Jackson city",451.71]
[null,null,null,null,256,"38226","Kerman city",12522,3494,380,99,12,4039,3162,8144,7872,5659,1132,4441,3125,1659,14375,1641,16016,1223,"Kerman city",1441.44]
[null,null,null,null,257,"38520","King city",11936,1396,708,57,22,3019,2457,6482,6850,4927,973,4037,2437,958,{"$f":"X258-W258","v":12483},849,13332,269,"King City city",1199.8799999999999]
[null,null,null,null,258,"38562","Kingsburg city",5974,6406,179,65,14,6875,2154,6424,5956,3554,769,3132,2886,2039,11151,1229,12380,422,"Kingsburg city",{"$f":"X259*0.09","v":1114.2}]
[null,null,null,null,259,"39003","La Cañada Flintridge city",1717,18856,45,135,2,11487,2053,10431,10142,5431,1115,3398,6405,4224,19523,1050,20573,6446,"La Cañada Flintridge city",1851.57]
[null,null,null,null,260,"39290","La Habra city",37439,25658,1086,1187,96,22098,13017,32373,30724,15824,4367,17756,16246,8904,61277,1820,63097,7995,"La Habra city",5678.73]
[null,null,null,null,261,"39304","La Habra Heights city",1813,3869,46,47,5,2812,971,2897,2785,1093,322,1164,1744,1359,3666,2016,5682,1161,"La Habra Heights city",511.38]
[null,null,null,null,262,"40004","La Mesa city",15686,45435,615,4217,344,36355,9678,31890,29231,12804,3857,19481,14695,10284,58112,3009,61121,4106,"La Mesa city",5500.8899999999994]
[null,null,null,null,263,"40032","La Mirada city",20652,27356,642,1106,110,17667,9263,24962,23046,10195,4200,11242,12961,9410,42506,5502,48008,10992,"La Mirada city",4320.72]
[null,null,null,null,264,"40256","La Palma city",2939,12642,90,800,89,3920,1608,8072,7509,3260,978,3748,4424,3171,11060,4521,15581,7912,"La Palma city",1402.29]
[null,null,null,null,265,"40340","La Puente city",31080,6982,791,466,59,6360,7384,19316,18746,9859,2871,10657,9738,4937,31619,6443,38062,4956,"La Puente city",3425.58]
[null,null,null,null,266,"40354","La Quinta city",12852,24706,341,716,62,23537,5086,19660,17898,7178,1810,6977,10257,11336,37248,310,37558,1548,"La Quinta city",3380.22]
[null,null,null,null,267,"40830","La Verne city",11185,20149,333,976,62,17330,5412,16492,14842,6702,1819,6834,8621,7358,25852,5482,31334,3498,"La Verne city",2820.06]
[null,null,null,null,268,"39122","Lafayette city",2075,23316,58,180,28,18489,2973,12968,12423,6693,1003,4911,7390,5394,19401,5990,25391,3201,"Lafayette city",2285.19]
[null,null,null,null,269,"39178","Laguna Beach city",2155,20877,62,184,25,18898,2293,11585,11447,3833,1089,4298,7760,6052,22252,780,23032,988,"Laguna Beach city",2072.88]
[null,null,null,null,270,"39220","Laguna Hills city",7489,23885,205,454,55,18181,4329,16190,15184,6803,1854,7624,8985,6108,24075,7299,31374,4779,"Laguna Hills city",2823.66]
[null,null,null,null,271,"39248","Laguna Niguel city",10510,53845,300,814,83,44835,8092,33175,31180,13168,3696,13868,20034,13589,57464,6891,64355,6395,"Laguna Niguel city",5791.95]
[null,null,null,null,272,"39259","Laguna Woods city",939,16705,36,158,12,12498,903,10993,6651,109,28,266,2733,14508,13335,4309,17644,3817,"Laguna Woods city",1587.96]
[null,null,null,null,273,"39486","Lake Elsinore city",35854,34411,1081,4804,321,27767,13258,35530,34735,22131,4794,20231,16561,6548,55559,14706,70265,5224,"Lake Elsinore city",6323.8499999999995]
[null,null,null,null,274,"39496","Lake Forest city",21945,63913,890,1434,179,44637,12463,43570,42288,20293,5175,23843,24094,12453,84282,1576,85858,16861,"Lake Forest city",7727.2199999999993]
[null,null,null,null,275,"39710","Lakeport city",934,4092,131,59,9,3752,557,2646,2380,1047,198,1120,1321,1340,1305,3721,5026,130,"Lakeport city",452.34]
[null,null,null,null,276,"39892","Lakewood city",29482,53014,887,6846,726,30991,14297,42459,40037,19335,5364,22757,22654,12386,77658,4838,82496,15567,"Lakewood city",7424.6399999999994]
[null,null,null,null,277,"40130","Lancaster city",78338,95178,2874,37032,326,56614,27225,87986,85530,52415,12527,48326,40729,19519,172455,1061,173516,8129,"Lancaster city",15616.439999999999]
[null,null,null,null,278,"40438","Larkspur city",1450,11614,78,193,15,9848,1424,7027,6037,2621,478,2631,3966,3368,10239,2825,13064,820,"Larkspur city",1175.76]
[null,null,null,null,279,"40704","Lathrop city",11389,17312,352,2178,382,6958,4036,14507,14194,9147,1840,8164,6753,2797,24545,4156,28701,8691,"Lathrop city",2583.0899999999997]
[null,null,null,null,280,"40886","Lawndale city",20018,11789,811,2695,198,6757,5552,16050,15757,7950,2345,9963,8265,3284,28965,2842,31807,3306,"Lawndale city",2862.63]
[null,null,null,null,281,"41124","Lemon Grove city",12850,14777,377,3337,278,9760,5083,14236,13391,6755,1929,7863,6765,4315,24126,3501,27627,2476,"Lemon Grove city",2486.4299999999998]
[null,null,null,null,282,"41152","Lemoore city",12971,14067,566,1664,115,11221,4649,13651,13387,8386,2205,8211,5546,2690,24228,2810,27038,2340,"Lemoore city",2433.42]
[null,null,null,null,283,"41474","Lincoln city",10037,39720,420,882,149,34973,6416,26165,23592,12533,2005,10603,10462,14154,43553,6204,49757,3158,"Lincoln city",4478.13]
[null,null,null,null,284,"41712","Lindsay city",11267,1392,230,59,17,3246,2090,6454,6205,4782,991,3255,2440,1191,11072,1587,12659,204,"Lindsay city",1139.31]
[null,null,null,null,285,"41936","Live Oak city",4508,4598,176,138,42,3368,1373,4631,4475,2882,571,2388,2040,1225,7921,1185,9106,1250,"Live Oak city",819.54]
[null,null,null,null,286,"41992","Livermore city",18978,68977,731,1739,242,52469,12392,44383,43572,21575,4583,23823,25177,12797,80317,7638,87955,12819,"Livermore city",7915.95]
[null,null,null,null,287,"42006","Livingston city",9936,4236,551,125,21,2232,2393,7118,7054,4483,1003,3961,3181,1544,12360,1812,14172,3013,"Livingston city",1275.48]
[null,null,null,null,288,"42202","Lodi city",25949,40399,827,872,146,34387,9072,34095,32253,18322,3958,17767,14971,11330,58232,8116,66348,6354,"Lodi city",5971.32]
[null,null,null,null,289,"42370","Loma Linda city",6908,17883,222,2456,81,8626,3320,13144,11647,5383,1805,8126,5246,4231,21681,3110,24791,6962,"Loma Linda city",2231.19]
[null,null,null,null,290,"42468","Lomita city",7691,13230,251,1209,156,8637,3321,10946,9975,4416,1113,5839,5874,3679,18876,2045,20921,3524,"Lomita city",1882.8899999999999]
[null,null,null,null,291,"42524","Lompoc city",25472,18972,1147,2007,112,18848,9306,21178,23266,12129,2935,12657,10861,5862,39365,5079,44444,1756,"Lompoc city",3999.96]
[null,null,null,null,292,"43000","Long Beach city",201997,264745,7002,58334,4330,149347,67237,238224,228518,108010,34229,146741,116752,61010,420230,46512,466742,60874,"Long Beach city",42006.78]
[null,null,null,null,293,"43140","Loomis town",808,6028,87,33,3,5521,720,3467,3369,1821,364,1435,1969,1247,6396,440,6836,236,"Loomis town",615.24]
[null,null,null,null,294,"43224","Los Alamitos city",3026,8754,110,386,74,6275,1834,6167,5613,3088,731,2990,3074,1897,10924,856,11780,2097,"Los Alamitos city",1060.2]
[null,null,null,null,295,"43280","Los Altos city",1538,30087,43,188,44,16958,2758,16216,15409,8299,1316,5385,9852,6773,29857,1768,31625,11176,"Los Altos city",2846.25]
[null,null,null,null,296,"43294","Los Altos Hills town",334,8155,10,22,23,4817,651,4331,4158,1822,481,1165,2675,2346,8054,435,8489,2863,"Los Altos Hills town",764.01]
[null,null,null,null,297,"44000","Los Angeles city",1829991,2068756,66491,336096,5960,1359068,518313,1973072,1925675,853008,294799,1275226,946475,529239,3492361,406386,3898747,462643,"Los Angeles city",350887.23]
[null,null,null,null,298,"44028","Los Banos city",33611,11921,1275,1134,334,14199,8822,22984,22548,15680,3227,11728,9983,4914,40817,4715,45532,1510,"Los Banos city",4097.88]
[null,null,null,null,299,"44112","Los Gatos town",3017,30512,102,315,27,22569,3476,17352,16177,8393,1406,6633,10457,6640,30611,2918,33529,6153,"Los Gatos town",3017.6099999999997]
[null,null,null,null,300,"44364","Loyalton city",127,613,9,4,1,601,80,367,373,162,24,160,183,211,614,126,740,0,"Loyalton city",66.599999999999994]
[null,null,null,null,301,"44574","Lynwood city",59427,7838,2050,5533,222,8971,12083,34728,32537,19731,5544,20171,15528,6291,61970,5295,67265,450,"Lynwood city",6053.8499999999995]
[null,null,null,null,302,"45022","Madera city",53471,12753,4554,1750,66,17063,12292,33196,33028,23936,4779,18660,12450,6399,58566,7658,66224,1834,"Madera city",5960.16]
[null,null,null,null,303,"45246","Malibu city",833,9821,21,150,9,8974,918,5412,5242,1848,691,1821,3446,2848,9368,1286,10654,345,"Malibu city",958.86]
[null,null,null,null,304,"45358","Mammoth Lakes town",2395,4796,95,35,13,4775,897,3295,3896,1665,390,2471,1872,793,6890,301,7191,104,"Mammoth Lakes town",647.18999999999994]
[null,null,null,null,305,"45400","Manhattan Beach city",3072,32434,56,332,34,26141,4200,18045,17461,9103,1690,7591,10808,6314,33522,1984,35506,4045,"Manhattan Beach city",3195.54]
[null,null,null,null,306,"45484","Manteca city",33892,49606,1476,3778,689,35386,13001,42506,40992,23344,5237,21854,20455,12608,73491,10007,83498,12016,"Manteca city",7514.82]
[null,null,null,null,307,"45736","Maricopa city",303,723,28,15,3,686,112,498,528,274,68,233,275,176,668,358,1026,7,"Maricopa city",92.34]
[null,null,null,null,308,"45778","Marina city",7204,15155,304,1356,507,8441,3737,11746,10613,6178,1540,6051,5317,3273,19656,2703,22359,4221,"Marina city",2012.31]
[null,null,null,null,309,"46114","Martinez city",6670,30617,264,1390,117,24191,5447,19113,18174,7918,1808,9950,10784,6827,32564,4723,37287,3828,"Martinez city",3355.83]
[null,null,null,null,310,"46170","Marysville city",3771,9073,330,628,58,7547,1765,6433,6411,3390,971,3851,2817,1815,10847,1997,12844,539,"Marysville city",1155.96]
[null,null,null,null,311,"46492","Maywood city",24400,738,704,148,12,3296,5472,12555,12583,7529,2042,7356,5766,2445,23357,1781,25138,104,"Maywood city",2262.42]
[null,null,null,null,312,"44826","McFarland city",13451,710,650,95,7,2637,3474,7097,7064,5404,1111,4039,2642,965,13715,446,14161,130,"McFarland city",1274.49]
[null,null,null,null,313,"46828","Mendota city",12169,426,262,29,2,2528,3309,5963,6632,4960,1003,3547,2258,827,11945,650,12595,29,"Mendota city",1133.55]
[null,null,null,null,314,"46842","Menifee city",38749,63778,1310,6941,502,53478,16778,52915,49612,26751,5623,25575,24683,19895,88852,13675,102527,6629,"Menifee city",9227.43]
[null,null,null,null,315,"46870","Menlo Park city",5989,27791,232,1063,367,19344,3793,17282,16498,8458,1751,9899,8446,5226,31110,2670,33780,5822,"Menlo Park city",3040.2]
[null,null,null,null,316,"46898","Merced city",48617,37716,2193,4662,218,30915,15346,44003,42330,27860,7724,23786,16991,9972,74888,11445,86333,9624,"Merced city",7769.9699999999993]
[null,null,null,null,317,"47710","Mill Valley city",859,13372,31,137,13,11621,1311,7581,6650,3512,460,2338,4565,3356,13166,1065,14231,860,"Mill Valley city",1280.79]
[null,null,null,null,318,"47486","Millbrae city",2621,20595,87,172,230,7340,2079,11886,11330,5023,1128,5981,6444,4640,21042,2174,23216,12238,"Millbrae city",2089.44]
[null,null,null,null,319,"47766","Milpitas city",10586,69687,503,1691,336,9085,5068,39114,41159,18490,4319,28623,19034,9807,75363,4910,80273,57537,"Milpitas city",7224.57]
[null,null,null,null,320,"48256","Mission Viejo city",17986,75667,468,1224,165,61570,12968,48241,45412,19779,5345,20642,27800,20087,84282,9371,93653,11033,"Mission Viejo city",8428.77]
[null,null,null,null,321,"48354","Modesto city",93733,124731,4130,8975,2481,101805,32879,112198,106266,60354,13692,59337,51496,33585,{"$f":"X322-W322","v":187800},30664,218464,17728,"Modesto city",19661.759999999998]
[null,null,null,null,322,"48648","Monrovia city",14987,22944,461,2126,53,15677,6259,19831,18100,8180,2152,11023,10598,5978,34553,3378,37931,6333,"Monrovia city",{"$f":"X323*0.09","v":3413.79}]
[null,null,null,null,323,"48690","Montague city",135,1091,50,8,0,1002,139,643,583,283,72,290,324,257,923,303,1226,4,"Montague city",110.33999999999999]
[null,null,null,null,324,"48788","Montclair city",27222,10643,953,1652,65,7741,6956,19121,18744,10477,2910,11152,8932,4394,32966,4899,37865,4366,"Montclair city",3407.85]
[null,null,null,null,325,"48956","Monte Sereno city",230,3249,9,26,3,2354,361,1757,1722,788,197,438,1209,847,3145,334,3479,682,"Monte Sereno city",313.11]
[null,null,null,null,326,"48816","Montebello city",49014,13626,1400,614,82,13346,12934,32485,30155,14947,4403,17676,15333,10281,54635,8005,62640,8005,"Montebello city",5637.5999999999995]
[null,null,null,null,327,"48872","Monterey city",5618,24600,312,957,222,20352,3757,14873,15345,5151,3546,9176,6322,6023,27903,2315,30218,2399,"Monterey city",2719.62]
[null,null,null,null,328,"48914","Monterey Park city",16768,44328,525,411,56,5134,5986,31772,29324,11719,3551,16006,16791,13029,54984,6112,61096,40734,"Monterey Park city",5498.6399999999994]
[null,null,null,null,329,"49138","Moorpark city",12061,24223,366,621,40,20980,5804,18495,17789,9480,2214,9236,10174,5180,32864,3420,36284,3241,"Moorpark city",3265.56]
[null,null,null,null,330,"49187","Moraga town",1652,15218,42,211,42,10877,2089,8762,8108,4735,1614,2491,4647,3383,15438,1432,16870,3182,"Moraga town",1518.3]
[null,null,null,null,331,"49270","Moreno Valley city",128168,80466,3992,33158,1155,46908,36198,106583,102051,63889,16967,59092,47623,21063,188623,20011,208634,12566,"Moreno Valley city",18777.059999999998]
[null,null,null,null,332,"49278","Morgan Hill city",15044,30439,653,994,188,22588,7040,23276,22207,12190,2494,11166,12789,6844,41579,3904,45483,6728,"Morgan Hill city",4093.47]
[null,null,null,null,333,"49362","Morro Bay city",1788,8969,73,84,22,8428,1151,5609,5148,1604,422,2192,3007,3532,9123,1634,10757,322,"Morro Bay city",968.13]
[null,null,null,null,334,"49852","Mount Shasta city",284,2939,28,48,4,2669,345,1687,1536,608,122,668,883,942,2819,404,3223,52,"Mount Shasta city",290.07]
[null,null,null,null,335,"49670","Mountain View city",14206,68170,667,1227,229,34895,9381,39656,42720,17056,4333,33251,17997,9739,76946,5430,82376,28891,"Mountain View city",7413.84]
[null,null,null,null,336,"50076","Murrieta city",33925,77024,1185,6711,521,59134,19187,56957,53992,32085,7422,28434,27722,15286,99268,11681,110949,11566,"Murrieta city",9985.41]
[null,null,null,null,337,"50258","Napa city",31572,47674,1260,634,143,46173,12764,40487,38759,18146,4211,21339,20884,14666,70081,9165,79246,2082,"Napa city",7132.1399999999994]
[null,null,null,null,338,"50398","National city",37086,19087,957,2239,335,11149,12337,29122,27051,14645,4371,15399,13705,8053,49136,7037,56173,11094,"National city",5055.57]
[null,null,null,null,339,"50734","Needles city",1255,3676,445,121,12,3322,556,2494,2437,1222,228,1056,1395,1030,3402,1529,4931,60,"Needles city",443.78999999999996]
[null,null,null,null,340,"50874","Nevada City city",268,2884,55,26,4,2684,265,1544,1608,470,132,754,869,927,2846,306,3152,53,"Nevada City city",283.68]
[null,null,null,null,341,"50916","Newark city",14360,33169,560,1584,693,10762,5812,23605,23924,10848,2668,15801,11884,6328,43094,4435,47529,19801,"Newark city",4277.6099999999997]
[null,null,null,null,342,"51140","Newman city",8407,3944,260,370,57,4405,2473,6253,6098,4147,796,3338,2674,1396,10987,1364,12351,263,"Newman city",1111.5899999999999]
[null,null,null,null,343,"51182","Newport Beach city",8190,77049,259,671,94,66616,7741,43597,41642,15512,4652,20056,24464,20555,77981,7258,85239,7531,"Newport Beach city",7671.5099999999993]
[null,null,null,null,344,"51560","Norco city",9494,16822,311,1603,45,14702,3453,11250,15066,5382,1750,7487,7769,3928,23797,2519,26316,904,"Norco city",2368.44]
[null,null,null,null,345,"52526","Norwalk city",73548,29225,2426,4178,451,20680,21673,52499,50274,25563,7761,29443,25893,14113,92196,10577,102773,14038,"Norwalk city",9249.57]
[null,null,null,null,346,"52582","Novato city",13615,39610,961,1435,108,32509,7147,27643,25582,12132,2504,11793,15029,11767,47665,5560,53225,3966,"Novato city",4790.25]
[null,null,null,null,347,"52694","Oakdale city",7055,16126,302,206,94,15555,3101,11961,11220,6633,1324,6001,5423,3800,20919,2262,23181,553,"Oakdale city",2086.29]
[null,null,null,null,348,"53000","Oakland city",126843,313803,8530,93820,2884,132297,51805,226138,214508,93006,24267,157549,104290,61534,394541,46105,440646,70806,"Oakland city",39658.14]
[null,null,null,null,349,"53070","Oakley city",15928,27429,448,3627,303,19917,7635,22106,21251,12824,2660,12147,10948,4778,38736,4621,43357,4107,"Oakley city",3902.1299999999997]
[null,null,null,null,350,"53322","Oceanside city",63316,110752,2466,7076,2110,89605,28218,88881,85187,38850,12130,48073,44378,30637,152469,21599,174068,13261,"Oceanside city",15666.119999999999]
[null,null,null,null,351,"53476","Ojai city",1465,6172,78,34,8,5872,880,4129,3508,1488,316,1592,2167,2074,6612,1025,7637,231,"Ojai city",687.32999999999993]
[null,null,null,null,352,"53896","Ontario city",119928,55337,4184,11045,549,42332,34249,89030,86235,48172,13152,53649,41718,18574,158952,16313,175265,16243,"Ontario city",15773.849999999999]
[null,null,null,null,353,"53980","Orange city",57575,82336,1765,2442,388,65071,22871,70549,69362,33392,11505,39614,34981,20419,128394,11517,139911,18392,"Orange city",12591.99]
[null,null,null,null,354,"54008","Orange Cove city",9159,490,143,51,9,2201,1852,4882,4767,3765,779,2483,1806,816,8890,759,9649,73,"Orange Cove city",868.41]
[null,null,null,null,355,"54232","Orinda city",1285,18229,31,196,20,13423,2161,9928,9586,5281,703,3301,5672,4557,17918,1596,19514,3401,"Orinda city",1756.26]
[null,null,null,null,356,"54274","Orland city",4443,3855,262,49,11,3863,1251,4281,4017,2529,562,2122,1838,1247,7321,977,8298,176,"Orland city",746.81999999999994]
[null,null,null,null,357,"54386","Oroville city",3267,16775,698,749,58,12608,2639,10102,9940,5628,1336,5582,4407,3089,15989,4053,20042,1956,"Oroville city",1803.78]
[null,null,null,null,358,"54652","Oxnard city",150984,51079,6678,4819,585,50086,44412,101248,100815,58747,15243,57625,46151,24297,182366,19697,202063,15497,"Oxnard city",18185.669999999998]
[null,null,null,null,359,"54848","Pacific Grove city",2146,12944,105,170,37,11168,1900,8061,7029,2902,619,3286,3956,4327,13259,1831,15090,1017,"Pacific Grove city",1358.1]
[null,null,null,null,360,"54806","Pacifica city",7363,31277,307,738,286,20488,6011,19616,19024,8100,1823,10639,11000,7078,35077,3563,38640,8385,"Pacifica city",3477.6]
[null,null,null,null,361,"55184","Palm Desert city",13315,37848,424,1022,71,35139,5906,27354,23809,7865,2081,9644,12769,18804,43150,8013,51163,2440,"Palm Desert city",4604.67]
[null,null,null,null,362,"55254","Palm Springs city",11054,33521,520,1940,68,29711,4522,17526,27049,4830,1447,7527,15558,15213,36524,8051,44575,2086,"Palm Springs city",4011.75]
[null,null,null,null,363,"55156","Palmdale city",104742,64708,3584,23080,361,45040,29324,86803,82647,52612,13090,44231,41721,17796,150966,18484,169450,7419,"Palmdale city",15250.5]
[null,null,null,null,364,"55282","Palo Alto city",5091,63481,141,1225,157,34191,6481,34855,33717,16368,3433,17001,18300,13470,63387,5185,68572,24317,"Palo Alto city",6171.48]
[null,null,null,null,365,"55380","Palos Verdes Estates city",1003,12344,31,170,7,8820,1389,6917,6430,3023,662,1643,4254,3765,12110,1237,13347,2723,"Palos Verdes Estates city",1201.23]
[null,null,null,null,366,"55520","Paradise town",419,4345,46,17,7,4075,451,2369,2395,764,150,885,1468,1497,808,3956,4764,68,"Paradise town",428.76]
[null,null,null,null,367,"55618","Paramount city",43620,10113,1421,5148,253,7971,11025,27577,26156,15680,4464,15735,12701,5153,49561,4172,53733,1831,"Paramount city",4835.97]
[null,null,null,null,368,"55856","Parlier city",14227,349,240,41,4,2914,3417,7201,7375,5416,1122,3932,2865,1241,13376,1200,14576,66,"Parlier city",1311.84]
[null,null,null,null,369,"56000","Pasadena city",45742,92957,1883,11272,156,57835,20979,71674,67025,25298,8235,45309,35595,24262,125294,13405,138699,24550,"Pasadena city",12482.91]
[null,null,null,null,370,"56112","Patterson city",14961,8820,544,1685,331,6970,3831,11951,11830,7677,1682,6443,5441,2538,22279,1502,23781,1550,"Patterson city",2140.29]
[null,null,null,null,371,"56700","Perris city",59571,19129,1729,8242,273,14816,14666,39732,38968,27390,6397,22517,16600,5796,72003,6697,78700,2912,"Perris city",7083]
[null,null,null,null,372,"56784","Petaluma city",13606,46170,747,836,165,40717,7945,30980,28796,13566,2878,14730,16651,11951,54147,5629,59776,2857,"Petaluma city",5379.84]
[null,null,null,null,373,"56924","Pico Rivera city",56249,5839,1650,509,67,13234,16671,31833,30255,14883,4566,17023,15772,9844,56236,5852,62088,2251,"Pico Rivera city",5587.92]
[null,null,null,null,374,"56938","Piedmont city",729,10541,10,126,13,7218,1459,5739,5531,3277,474,1760,3377,2382,10406,864,11270,2267,"Piedmont city",1014.3]
[null,null,null,null,375,"57288","Pinole city",5093,13929,216,2099,83,6267,2613,9961,9061,3774,1052,4943,5185,4068,16633,2389,19022,4887,"Pinole city",1711.98]
[null,null,null,null,376,"57414","Pismo Beach city",978,7094,79,68,10,6542,756,4197,3875,1127,265,1661,2370,2649,7073,999,8072,324,"Pismo Beach city",726.48]
[null,null,null,null,377,"57456","Pittsburg city",32300,44116,1098,12865,880,15893,10957,39207,37209,20611,5272,22126,18821,9586,67138,9278,76416,15069,"Pittsburg city",6877.44]
[null,null,null,null,378,"57526","Placentia city",19691,32133,569,1026,82,22486,8494,26597,25227,12990,3629,13277,13537,8391,47712,4112,51824,10121,"Placentia city",4664.16]
[null,null,null,null,379,"57540","Placerville city",2015,8732,158,77,13,8202,1231,5698,5049,2364,527,2699,2573,2584,9399,1348,10747,119,"Placerville city",967.23]
[null,null,null,null,380,"57764","Pleasant Hill city",4957,29656,201,921,110,21825,4643,17920,16693,7484,1776,9450,9281,6622,30986,3627,34613,5329,"Pleasant Hill city",3115.17]
[null,null,null,null,381,"57792","Pleasanton city",7882,71989,300,1396,120,36046,7545,40828,39043,21155,3847,19297,23164,12408,73897,5974,79871,31636,"Pleasanton city",7188.3899999999994]
[null,null,null,null,382,"57834","Plymouth city",263,815,28,7,6,755,154,548,530,243,46,240,298,251,993,85,1078,13,"Plymouth city",97.02]
[null,null,null,null,383,"57876","Point Arena city",141,319,34,2,1,281,66,226,234,113,22,92,129,104,384,76,460,0,"Point Arena city",41.4]
[null,null,null,null,384,"58072","Pomona city",108044,43669,3499,8741,315,31901,28404,76523,75190,41018,12962,43383,36640,17710,135342,16371,151713,16255,"Pomona city",13654.17]
[null,null,null,null,385,"58296","Port Hueneme city",12645,9309,625,864,144,8317,4516,11082,10872,5691,1764,6395,4845,3259,{"$f":"X386-W386","v":19722},2232,21954,1286,"Port Hueneme city",1975.86]
[null,null,null,null,386,"58240","Porterville city",43542,19081,1536,566,142,23427,11158,31759,30864,22120,4528,16256,12586,7133,56081,6542,62623,2771,"Porterville city",{"$f":"X387*0.09","v":5636.07}]
[null,null,null,null,387,"58352","Portola city",402,1698,38,9,14,1627,265,1073,1027,523,95,531,526,425,1777,323,2100,21,"Portola city",189]
[null,null,null,null,388,"58380","Portola Valley town",230,4226,4,11,0,3585,452,2294,2162,948,192,533,1337,1446,3853,603,4456,347,"Portola Valley town",401.03999999999996]
[null,null,null,null,389,"58520","Poway city",9017,39824,305,725,119,30591,6831,24791,24050,12423,2587,11242,13744,8845,44211,4630,48841,6738,"Poway city",4395.6899999999996]
[null,null,null,null,390,"59444","Rancho Cordova city",17119,62213,920,7388,900,38685,10671,40487,38845,21505,4811,24202,18599,10215,68674,10658,79332,12403,"Rancho Cordova city",7139.88]
[null,null,null,null,391,"59451","Rancho Cucamonga city",65261,109192,1954,16089,486,74323,29466,89440,85013,44179,11219,47905,47075,24075,158246,16207,174453,25809,"Rancho Cucamonga city",15700.769999999999]
[null,null,null,null,392,"59500","Rancho Mirage city",2260,14739,81,321,28,13445,1318,8422,8577,1479,346,1603,4640,8931,13201,3798,16999,754,"Rancho Mirage city",1529.9099999999999]
[null,null,null,null,393,"59514","Rancho Palos Verdes city",4535,37752,124,1125,43,21488,4799,21881,20406,9367,2005,6871,13065,10979,38527,3760,42287,13513,"Rancho Palos Verdes city",3805.83]
[null,null,null,null,394,"59587","Rancho Santa Margarita city",10297,37652,278,829,106,30163,7341,24632,23317,12245,2909,12099,15230,5466,44124,3825,47949,5836,"Rancho Santa Margarita city",4315.41]
[null,null,null,null,395,"59892","Red Bluff city",3597,11113,555,159,37,10239,1788,7651,7059,4243,956,3857,3164,2490,11799,2911,14710,230,"Red Bluff city",1323.8999999999999]
[null,null,null,null,396,"59920","Redding city",10490,83121,2214,1395,216,72057,10298,48401,45210,22410,5718,24035,21662,19786,78097,15514,93611,4161,"Redding city",8424.99]
[null,null,null,null,397,"59962","Redlands city",25746,47422,866,3705,207,38969,11835,38405,34763,18460,5040,19424,17260,12984,65055,8113,73168,7063,"Redlands city",6585.12]
[null,null,null,null,398,"60018","Redondo Beach city",12497,59079,421,2230,202,44398,10388,35556,36020,15766,2980,21687,20631,10512,67618,3958,71576,10257,"Redondo Beach city",6441.84]
[null,null,null,null,399,"60102","Redwood city",30104,54188,1330,1531,669,37487,11840,42046,42246,18885,4888,28390,21162,10967,78447,5845,84292,13693,"Redwood City city",7586.28]
[null,null,null,null,400,"60242","Reedley city",19966,5261,400,121,6,7422,5516,12802,12425,8201,1920,6367,5383,3356,22428,2799,25227,747,"Reedley city",2270.4299999999998]
[null,null,null,null,401,"60466","Rialto city",77345,26681,2699,12358,385,21864,19190,53329,50697,31896,8290,28917,23796,11127,94716,9310,104026,2698,"Rialto city",9362.34]
[null,null,null,null,402,"60620","Richmond city",51912,64536,2395,22254,652,23452,15235,59316,57132,28763,7396,35880,28550,15859,103858,12590,116448,16740,"Richmond city",10480.32]
[null,null,null,null,403,"60704","Ridgecrest city",6124,21835,342,1333,168,18425,3776,13920,14039,7779,1670,8309,6238,3963,23557,4402,27959,1528,"Ridgecrest city",2516.31]
[null,null,null,null,404,"60900","Rio Dell city",487,2892,119,30,1,2618,370,1695,1684,841,196,970,755,617,2766,613,3379,24,"Rio Dell city",304.11]
[null,null,null,null,405,"60984","Rio Vista city",1602,8403,93,824,41,6766,1075,5249,4756,1322,321,1482,2363,4517,7995,2010,10005,622,"Rio Vista city",900.44999999999993]
[null,null,null,null,406,"61026","Ripon city",3999,12014,147,201,28,10858,2310,8222,7791,4693,857,3899,3984,2580,13962,2051,16013,964,"Ripon city",1441.1699999999998]
[null,null,null,null,407,"61068","Riverbank city",13958,10907,491,530,156,10917,4372,12640,12225,7729,1589,6859,5827,2861,22512,2353,24865,1256,"Riverbank city",2237.85]
[null,null,null,null,408,"62000","Riverside city",172386,142612,6164,20100,1121,114991,54131,160295,154703,86207,29522,88868,72582,37819,278618,36380,314998,23159,"Riverside city",28349.82]
[null,null,null,null,409,"62364","Rocklin city",9944,61657,479,1278,212,49202,9194,36827,34774,20669,4209,17654,18509,10560,66076,5525,71601,8486,"Rocklin city",6444.09]
[null,null,null,null,410,"62546","Rohnert Park city",13131,31259,712,977,175,26296,6494,22859,21531,9843,4302,13081,10639,6525,39431,4959,44390,2833,"Rohnert Park city",3995.1]
[null,null,null,null,411,"62602","Rolling Hills city",122,1617,3,23,1,1147,180,930,809,305,113,242,519,560,1571,168,1739,356,"Rolling Hills city",156.51]
[null,null,null,null,412,"62644","Rolling Hills Estates city",640,7640,21,92,11,4630,854,4297,3983,1929,385,1167,2572,2227,7245,1035,8280,2508,"Rolling Hills Estates city",745.19999999999993]
[null,null,null,null,413,"62896","Rosemead city",15906,35279,557,282,21,3930,4552,26153,25032,10526,3545,12981,14910,9223,46369,4816,51185,32970,"Rosemead city",4606.6499999999996]
[null,null,null,null,414,"62938","Roseville city",24057,123716,1227,3756,546,96882,18816,76649,71124,38558,7622,38374,37071,26148,132862,14911,147773,18714,"Roseville city",13299.57]
[null,null,null,null,415,"62980","Ross town",130,2208,1,2,0,2082,182,1205,1133,717,101,319,681,520,2193,145,2338,41,"Ross town",210.42]
[null,null,null,null,416,"64000","Sacramento city",151253,373690,7215,69167,8637,182637,72413,268956,255987,129833,37773,165521,119432,72384,465978,58965,524943,104358,"Sacramento city",47244.869999999995]
[null,null,null,null,417,"64224","Salinas city",130178,33364,5469,2289,442,37673,33360,81871,81671,52844,12187,48186,34238,16087,151227,12315,163542,9693,"Salinas city",14718.779999999999]
[null,null,null,null,418,"64434","San Anselmo town",1180,11650,45,100,12,10392,1444,6759,6071,3189,430,2354,4200,2657,11898,932,12830,450,"San Anselmo town",1154.7]
[null,null,null,null,419,"65000","San Bernardino city",151125,70976,5029,27875,920,53786,37251,112968,109133,69799,17836,63849,48208,22409,195315,26786,222101,9279,"San Bernardino city",19989.09]
[null,null,null,null,420,"65028","San Bruno city",12282,31626,458,771,1156,14822,6074,22129,21779,8925,2415,14014,11524,7030,40533,3375,43908,14148,"San Bruno city",3951.72]
[null,null,null,null,421,"65042","San Buenaventura (Ventura) city",38902,71861,1633,2018,215,68117,18600,56972,53791,24651,6118,29411,29838,20745,96493,14270,110763,4444,"San Buenaventura (Ventura) city",9968.67]
[null,null,null,null,422,"65070","San Carlos city",3416,27306,99,268,82,19476,3831,15813,14909,7752,1156,7793,8917,5104,28708,2014,30722,5876,"San Carlos city",2764.98]
[null,null,null,null,423,"65084","San Clemente city",11679,52614,422,428,97,48587,8368,32369,31924,15246,3683,14034,19123,12207,58601,5692,64293,2584,"San Clemente city",5786.37]
[null,null,null,null,424,"66000","San Diego city",411286,975646,12722,82265,5683,643304,199364,692825,694107,302699,124030,442618,322779,194806,1259015,127917,1386932,247860,"San Diego city",124823.87999999999]
[null,null,null,null,425,"66070","San Dimas city",12945,21979,386,1316,42,17300,6511,18332,16592,7558,2182,8253,9673,7258,29979,4945,34924,5017,"San Dimas city",3143.16]
[null,null,null,null,426,"66140","San Fernando city",21770,2176,761,330,12,4565,5268,11979,11967,6359,1891,6848,6038,2810,21216,2730,23946,421,"San Fernando city",2155.14]
[null,null,null,null,427,"67000","San Francisco city",136761,737204,6475,46725,3476,361382,86233,427821,446144,126316,54485,340906,210159,142099,786001,87964,873965,296505,"San Francisco city",78656.849999999991]
[null,null,null,null,428,"67042","San Gabriel city",9878,29690,355,413,36,5004,3660,20689,18879,7564,2425,10817,11772,6990,36453,3115,39568,25211,"San Gabriel city",3561.12]
[null,null,null,null,429,"67112","San Jacinto city",33013,20885,1575,4725,279,18033,9620,27656,26242,17667,3720,14445,11755,6311,46314,7584,53898,1838,"San Jacinto city",4850.82]
[null,null,null,null,430,"67126","San Joaquin city",3540,161,60,35,3,810,575,1890,1811,1482,294,886,748,291,3569,132,3701,8,"San Joaquin city",333.09]
[null,null,null,null,431,"68000","San Jose city",316266,696974,14665,29308,4082,276523,113767,503980,509260,240596,65454,308127,264446,134617,923479,89761,1013240,390532,"San Jose city",91191.599999999991]
[null,null,null,null,432,"68014","San Juan Bautista city",1151,938,95,22,4,930,367,1035,1054,461,120,618,514,376,1873,216,2089,89,"San Juan Bautista city",188.01]
[null,null,null,null,433,"68028","San Juan Capistrano city",13704,21492,571,159,25,20633,5328,17943,17253,8441,2069,7416,9653,7617,31424,3772,35196,1244,"San Juan Capistrano city",3167.64]
[null,null,null,null,434,"68084","San Leandro city",25981,65027,1132,10098,776,21047,10427,47154,43854,19392,5397,25626,25247,15346,81572,9436,91008,32708,"San Leandro city",8190.7199999999993]
[null,null,null,null,435,"68154","San Luis Obispo city",8729,38334,348,533,60,34155,5901,23922,23141,8524,10456,11846,8632,7605,42740,4323,47063,2910,"San Luis Obispo city",4235.67]
[null,null,null,null,436,"68196","San Marcos city",34878,59955,1131,2117,298,48180,15217,48907,45926,27516,7639,24822,22586,12270,86219,8614,94833,10419,"San Marcos city",8534.9699999999993]
[null,null,null,null,437,"68224","San Marino city",888,11625,21,66,9,3620,982,6406,6107,2973,719,2020,3878,2923,11666,847,12513,7611,"San Marino city",1126.1699999999998]
[null,null,null,null,438,"68252","San Mateo city",27198,78463,866,1815,1700,43826,13342,53455,52206,22901,5458,34880,25998,16424,96338,9323,105661,28047,"San Mateo city",9509.49]
[null,null,null,null,439,"68294","San Pablo city",19610,12517,722,4012,145,4173,4250,16141,15986,8949,2334,9677,7478,3689,28678,3449,32127,5018,"San Pablo city",2891.43]
[null,null,null,null,440,"68364","San Rafael city",21038,40233,2246,1065,156,33427,7583,30850,30421,14154,3381,16133,15527,12076,56142,5129,61271,4073,"San Rafael city",5514.3899999999994]
[null,null,null,null,441,"68378","San Ramon city",7102,77503,222,2227,210,28741,7739,43010,41595,25437,4094,20397,25160,9517,80120,4485,84605,43270,"San Ramon city",7614.45]
[null,null,null,null,442,"65112","Sand city",96,229,7,17,3,174,56,151,174,54,21,100,106,44,288,37,325,19,"Sand City city",29.25]
[null,null,null,null,443,"67056","Sanger city",21990,4627,436,272,35,8323,5460,13524,13093,8860,1917,7337,5475,3028,24156,2461,26617,870,"Sanger city",2395.5299999999997]
[null,null,null,null,444,"69000","Santa Ana city",238022,72205,11403,3343,828,57376,59353,153241,156986,86794,24949,93053,73801,31630,284107,26120,310227,38004,"Santa Ana city",27920.43]
[null,null,null,null,445,"69070","Santa Barbara city",34344,54321,1320,1238,80,51842,15378,45304,43361,16891,6512,26027,21388,17847,79531,9134,88665,3184,"Santa Barbara city",7979.8499999999995]
[null,null,null,null,446,"69084","Santa Clara city",22550,105097,993,2839,450,39504,12469,62206,65441,28348,8287,49124,27514,14374,118795,8852,127647,60002,"Santa Clara city",11488.23]
[null,null,null,null,447,"69088","Santa Clarita city",78735,149938,2509,9677,339,116239,35635,116864,111809,60194,14780,60003,63177,30519,208149,20524,228673,27431,"Santa Clarita city",20580.57]
[null,null,null,null,448,"69112","Santa Cruz city",15111,47845,684,1668,96,39778,8284,31181,31775,13354,10395,15784,13972,9451,56693,6263,62956,5335,"Santa Cruz city",5666.04]
[null,null,null,null,449,"69154","Santa Fe Springs city",14626,4593,513,678,51,4488,4958,10021,9198,4438,1251,5465,4957,3108,{"$f":"X450-W450","v":17484},1735,19219,1662,"Santa Fe Springs city",1729.71]
[null,null,null,null,450,"69196","Santa Maria city",83968,25739,4157,1288,166,31077,22819,54876,54831,36550,8491,31335,21303,12028,99477,10230,109707,5435,"Santa Maria city",{"$f":"X451*0.09","v":9873.6299999999992}]
[null,null,null,null,451,"70000","Santa Monica city",13544,79532,539,3776,123,63383,11306,48120,44956,13979,4446,32432,24053,18166,84917,8159,93076,8602,"Santa Monica city",8376.84]
[null,null,null,null,452,"70042","Santa Paula city",25051,5606,815,127,28,9854,6589,15371,15286,8986,2147,8162,7092,4270,26925,3732,30657,243,"Santa Paula city",2759.13]
[null,null,null,null,453,"70098","Santa Rosa city",61082,117045,4039,4062,1033,99224,24733,91360,86767,41792,10412,48760,43765,33398,157328,20799,178127,10938,"Santa Rosa city",16031.43]
[null,null,null,null,454,"70224","Santee city",12522,47515,452,1391,327,41274,8609,31336,28701,14699,3423,16967,15470,9478,53009,7028,60037,3569,"Santee city",5403.33]
[null,null,null,null,455,"70280","Saratoga city",1125,29926,38,104,48,11771,1899,15769,15282,6946,1604,4591,10554,7356,28475,2576,31051,16857,"Saratoga city",2794.5899999999997]
[null,null,null,null,456,"70364","Sausalito city",482,6787,18,51,8,6066,608,3834,3435,753,152,1879,2470,2015,6620,649,7269,418,"Sausalito city",654.20999999999992]
[null,null,null,null,457,"70588","Scotts Valley city",1559,10665,75,85,16,9204,1430,6323,5901,2980,585,2631,3685,2343,10713,1511,12224,836,"Scotts Valley city",1100.1599999999999]
[null,null,null,null,458,"70686","Seal Beach city",3153,22089,108,394,49,17699,2557,14016,11226,3373,811,3973,6178,10907,20703,4539,25242,3672,"Seal Beach city",2271.7799999999997]
[null,null,null,null,459,"70742","Seaside city",15494,16872,674,1882,489,11230,5591,16467,15899,9199,2303,9583,7368,3913,28720,3646,32366,3135,"Seaside city",2912.94]
[null,null,null,null,460,"70770","Sebastopol city",1080,6441,84,64,15,5865,881,4151,3370,1458,291,1556,2032,2184,6466,1055,7521,185,"Sebastopol city",676.89]
[null,null,null,null,461,"70882","Selma city",20041,4633,601,211,18,6854,4774,12493,12181,8048,1830,6635,5115,3046,21915,2759,24674,1134,"Selma city",2220.66]
[null,null,null,null,462,"71106","Shafter city",16017,3936,333,344,10,5815,3283,9807,10146,7181,1481,6008,3657,1626,18795,1158,19953,274,"Shafter city",1795.77]
[null,null,null,null,463,"71225","Shasta Lake city",942,9429,328,76,17,8230,1158,5235,5136,2520,513,2601,2746,1991,8128,2243,10371,260,"Shasta Lake city",933.39]
[null,null,null,null,464,"71806","Sierra Madre city",1923,9345,62,177,11,7491,1591,6009,5259,2343,410,2377,3423,2715,10232,1036,11268,1446,"Sierra Madre city",1014.12]
[null,null,null,null,465,"71876","Signal Hill city",4208,7640,194,1626,93,3448,1485,6045,5803,2681,682,3739,3205,1541,11166,682,11848,2638,"Signal Hill city",1066.32]
[null,null,null,null,466,"72016","Simi Valley city",35921,90435,1200,2039,210,75753,17943,64409,61947,29364,7909,31401,36610,21072,111670,14686,126356,13526,"Simi Valley city",11372.039999999999]
[null,null,null,null,467,"72506","Solana Beach city",1853,11088,55,82,10,10074,1350,6696,6245,2574,607,2911,3791,3058,12277,664,12941,571,"Solana Beach city",1164.69]
[null,null,null,null,468,"72520","Soledad city",19789,5136,872,2010,101,4730,3659,9547,15378,6814,1800,9320,5541,1450,24001,924,24925,604,"Soledad city",2243.25]
[null,null,null,null,469,"72576","Solvang city",1835,4291,81,50,0,4161,930,3246,2880,1154,269,1215,1631,1857,5668,458,6126,115,"Solvang city",551.34]
[null,null,null,null,470,"72646","Sonoma city",2072,8667,98,77,24,8023,1258,5886,4853,1891,422,1984,2947,3495,8891,1848,10739,328,"Sonoma city",966.51]
[null,null,null,null,471,"72674","Sonora city",657,4346,78,27,22,4001,556,2667,2336,1074,288,1347,1206,1088,4081,922,5003,149,"Sonora city",450.27]
[null,null,null,null,472,"72996","South El Monte city",15585,3982,522,95,3,2620,4027,9748,9819,5188,1475,5501,4882,2521,17349,2218,19567,3400,"South El Monte city",1761.03]
[null,null,null,null,473,"73080","South Gate city",88040,4686,3208,1052,60,14119,20483,47170,45556,25629,7518,26998,22095,10486,84027,8699,92726,722,"South Gate city",8345.34]
[null,null,null,null,474,"73108","South Lake Tahoe city",6558,14772,246,152,22,13186,3033,10267,11063,4372,1238,7013,5509,3198,17967,3363,21330,1235,"South Lake Tahoe city",1919.6999999999998]
[null,null,null,null,475,"73220","South Pasadena city",5584,21359,201,669,19,10666,4227,14149,12794,6833,1147,7192,7564,4207,25038,1905,26943,9257,"South Pasadena city",2424.87]
[null,null,null,null,476,"73262","South San Francisco city",21650,44455,732,1311,1058,14584,8836,33436,32669,13708,3830,19981,17286,11300,60060,6045,66105,27369,"South San Francisco city",5949.45]
[null,null,null,null,477,"64140","St. Helena city",1863,3567,61,14,6,3498,726,2892,2538,1170,231,1099,1474,1456,4731,699,5430,94,"St. Helena city",488.7]
[null,null,null,null,478,"73962","Stanton city",18807,19155,650,733,230,8529,4917,19218,18744,9718,2680,10202,10195,5167,33755,4207,37962,11359,"Stanton city",3416.58]
[null,null,null,null,479,"75000","Stockton city",141601,179203,5563,40487,2678,75439,44141,163447,157357,98324,22751,86380,71305,42044,278916,41888,320804,70548,"Stockton city",28872.36]
[null,null,null,null,480,"75630","Suisun city",8585,20933,501,5604,379,8410,4833,15150,14368,7646,1952,8473,7434,4013,25585,3933,29518,5837,"Suisun city",2656.62]
[null,null,null,null,481,"77000","Sunnyvale city",25372,130433,1081,2228,491,46551,13431,75285,80520,33747,8173,60869,34379,18637,145548,10257,155805,77842,"Sunnyvale city",14022.449999999999]
[null,null,null,null,482,"77364","Susanville city",5299,11429,536,1937,257,8253,1149,4772,11956,2567,1592,7854,3298,1417,15680,1048,16728,325,"Susanville city",1505.52]
[null,null,null,null,483,"77392","Sutter Creek city",312,2334,58,17,0,2166,273,1412,1234,548,124,530,677,767,2269,377,2646,54,"Sutter Creek city",238.14]
[null,null,null,null,484,"77574","Taft city",3724,4822,236,145,38,5325,855,3605,4941,2150,676,2748,2011,961,6537,2009,8546,145,"Taft city",769.14]
[null,null,null,null,485,"78092","Tehachapi city",4737,8202,163,1051,23,6893,1512,4714,8225,2717,744,4661,3255,1562,11611,1328,12939,294,"Tehachapi city",1164.51]
[null,null,null,null,486,"78106","Tehama city",104,331,23,6,1,291,60,225,210,96,25,95,114,105,336,99,435,2,"Tehama city",39.15]
[null,null,null,null,487,"78120","Temecula city",30366,79637,1643,5171,472,61192,17888,56456,53547,31845,6990,28019,29392,13757,100070,9933,110003,12458,"Temecula city",9900.27]
[null,null,null,null,488,"78148","Temple city",7107,29387,254,312,23,6255,3085,19037,17457,7833,2247,8927,10525,6962,33150,3344,36494,23316,"Temple City city",3284.46]
[null,null,null,null,489,"78582","Thousand Oaks city",25260,101706,945,1827,178,84912,16507,65273,61693,29119,7867,26477,37209,26294,114004,12962,126966,12667,"Thousand Oaks city",11426.939999999999]
[null,null,null,null,490,"78666","Tiburon town",582,8564,19,91,13,7261,882,4808,4338,2237,314,1431,2759,2405,8287,859,9146,687,"Tiburon town",823.14]
[null,null,null,null,491,"80000","Torrance city",28080,118987,803,5048,603,57337,19370,75380,71687,31606,7920,37915,42248,27378,135037,12030,147067,52509,"Torrance city",13236.029999999999]
[null,null,null,null,492,"80238","Tracy city",35997,57003,1231,5996,1004,31395,15557,46639,46361,27063,6457,24666,24759,10055,85082,7918,93000,19731,"Tracy city",8370]
[null,null,null,null,493,"80448","Trinidad city",10,297,4,1,0,261,34,156,151,38,5,67,88,109,247,60,307,1,"Trinidad city",27.63]
[null,null,null,null,494,"80588","Truckee town",3128,13601,92,31,9,12946,1930,8091,8638,4162,649,4877,4847,2194,15581,1148,16729,275,"Truckee town",1505.61]
[null,null,null,null,495,"80644","Tulare city",43617,25258,1301,2084,96,28211,13555,34978,33897,23359,4925,18849,14349,7393,61365,7510,68875,1715,"Tulare city",6198.75]
[null,null,null,null,496,"80686","Tulelake city",677,225,15,2,1,251,301,445,457,336,54,224,185,103,774,128,902,3,"Tulelake city",81.179999999999993]
[null,null,null,null,497,"80812","Turlock city",29965,42775,1490,1529,320,38371,10362,37528,35212,20326,5556,19519,16405,10934,62902,9838,72740,5465,"Turlock city",6546.5999999999995]
[null,null,null,null,498,"80854","Tustin city",32712,47564,1028,1800,217,27582,12160,41273,39003,20639,5452,24170,20581,9434,74458,5818,80276,19265,"Tustin city",7224.84]
[null,null,null,null,499,"80994","Twentynine Palms city",6851,21214,391,3323,365,16582,3482,11219,16846,6984,6167,9162,3675,2077,25094,2971,28065,1641,"Twentynine Palms city",2525.85]
[null,null,null,null,500,"81134","Ukiah city",5443,11164,692,182,35,9773,2407,8596,8011,4284,919,4557,3747,3100,14387,2220,16607,512,"Ukiah city",1494.6299999999999]
[null,null,null,null,501,"81204","Union city",15080,55063,715,3160,817,9634,7154,35235,34908,15037,4243,20730,18252,11881,63982,6161,70143,40613,"Union city",6312.87]
[null,null,null,null,502,"81344","Upland city",35190,43850,1094,5089,172,34980,13863,41036,38004,18888,5195,21685,20025,13247,69815,9225,79040,8059,"Upland city",7113.5999999999995]
[null,null,null,null,503,"81554","Vacaville city",27402,74984,1082,9796,789,52997,16346,49282,53104,24481,6338,29387,26506,15674,91851,10535,102386,9196,"Vacaville city",9214.74]
[null,null,null,null,504,"81666","Vallejo city",35835,90255,1426,25133,1343,30451,15907,64661,61429,28997,7994,34226,33167,21706,111704,14386,126090,29723,"Vallejo city",11348.1]
[null,null,null,null,505,"82422","Vernon city",168,54,3,20,0,53,34,118,104,80,11,65,43,23,202,20,222,15,"Vernon city",19.98]
[null,null,null,null,506,"82590","Victorville city",74745,60065,2780,24156,750,39804,21952,67942,66868,44597,9457,37734,28969,14053,119646,15164,134810,5640,"Victorville city",12132.9]
[null,null,null,null,507,"82744","Villa Park city",724,5119,3,52,6,3793,662,2963,2880,1193,309,922,1789,1630,5189,654,5843,1129,"Villa Park city",525.87]
[null,null,null,null,508,"82954","Visalia city",74575,66809,2761,2969,221,65272,23962,72231,69153,43457,8735,39834,30492,18866,125542,15842,141384,8157,"Visalia city",12724.56]
[null,null,null,null,509,"82996","Vista city",49744,48637,2324,2685,710,43156,18197,49122,49259,25435,7573,29802,23289,12282,91107,7274,98381,5256,"Vista city",8854.2899999999991]
[null,null,null,null,510,"83332","Walnut city",5324,23106,121,721,22,3447,2693,14602,13828,5650,1915,6152,8414,6299,25812,2618,28430,19191,"Walnut city",2558.6999999999998]
[null,null,null,null,511,"83346","Walnut Creek city",7304,62823,214,1564,111,46478,7613,37712,32415,12961,2491,17628,16661,20386,61174,8953,70127,11684,"Walnut Creek city",6311.4299999999994]
[null,null,null,null,512,"83542","Wasco city",22922,4125,556,1507,20,5465,4497,11464,15583,8522,2445,9128,5014,1938,25704,1343,27047,149,"Wasco city",2434.23]
[null,null,null,null,513,"83612","Waterford city",4391,4729,146,145,34,4795,1540,4635,4485,2972,611,2498,2099,940,{"$f":"X514-W514","v":7770},1350,9120,138,"Waterford city",820.8]
[null,null,null,null,514,"83668","Watsonville city",43303,9287,1416,316,46,11723,10289,26652,25938,16450,3743,14639,11581,6177,45855,6735,52590,1612,"Watsonville city",{"$f":"X515*0.09","v":4733.0999999999995}]
[null,null,null,null,515,"83850","Weed city",550,2312,68,173,3,1825,416,1411,1451,768,246,713,680,455,2245,617,2862,158,"Weed city",257.58]
[null,null,null,null,516,"84200","West Covina city",58102,51399,1747,4045,210,21993,20138,56368,53133,24527,8164,29585,29248,17977,98568,10933,109501,33632,"West Covina city",9855.09]
[null,null,null,null,517,"84410","West Hollywood city",4497,31260,123,1372,45,26384,3808,15740,20017,1635,1445,17468,9404,5805,31142,4615,35757,2325,"West Hollywood city",3218.1299999999997]
[null,null,null,null,518,"84816","West Sacramento city",17260,36655,948,2673,624,25478,8960,27563,26352,14471,3109,16463,13022,6850,48425,5490,53915,7352,"West Sacramento city",4852.3499999999995]
[null,null,null,null,519,"84438","Westlake Village city",651,7378,14,69,8,6413,775,4180,3849,1624,404,1224,2529,2248,7508,521,8029,619,"Westlake Village city",722.61]
[null,null,null,null,520,"84550","Westminster city",22345,68566,761,927,464,21010,7980,46535,44376,19868,6249,21666,26254,16874,79953,10958,90911,46773,"Westminster city",8181.99]
[null,null,null,null,521,"84606","Westmorland city",1786,228,30,23,0,640,627,1049,965,702,119,466,445,282,1727,287,2014,11,"Westmorland city",181.26]
[null,null,null,null,522,"85012","Wheatland city",835,2877,57,65,10,2532,566,1904,1808,1103,210,1032,883,484,3199,513,3712,170,"Wheatland city",334.08]
[null,null,null,null,523,"85292","Whittier city",61803,25503,1908,1231,190,30732,21535,44902,42404,21688,5699,24226,22768,12925,79132,8174,87306,4339,"Whittier city",7857.54]
[null,null,null,null,524,"85446","Wildomar city",15075,21800,605,1403,203,19026,6324,18647,18228,9968,2389,9625,9684,5209,32533,4342,36875,2061,"Wildomar city",3318.75]
[null,null,null,null,525,"85586","Williams city",4467,1071,93,52,17,1509,1276,2810,2728,1946,385,1474,1126,607,5052,486,5538,97,"Williams city",498.41999999999996]
[null,null,null,null,526,"85600","Willits city",1218,3770,243,44,6,3316,682,2628,2360,1250,262,1261,1233,982,3790,1198,4988,95,"Willits city",448.91999999999996]
[null,null,null,null,527,"85684","Willows city",2330,3963,290,46,7,3617,751,3175,3118,1795,340,1689,1418,1051,5316,977,6293,279,"Willows city",566.37]
[null,null,null,null,528,"85922","Windsor town",8898,17446,633,243,60,16281,3644,13467,12877,6622,1428,6036,7576,4682,23550,2794,26344,781,"Windsor town",2370.96]
[null,null,null,null,529,"86034","Winters city",3935,3180,203,40,15,3378,1366,3588,3527,1942,368,1895,1873,1037,6419,696,7115,93,"Winters city",640.35]
[null,null,null,null,530,"86300","Woodlake city",6535,884,159,52,3,2081,1599,3745,3674,2588,552,1853,1599,827,6786,633,7419,68,"Woodlake city",667.70999999999992]
[null,null,null,null,531,"86328","Woodland city",29614,31418,1223,1146,233,27209,11497,31311,29721,16409,3991,16590,14888,9154,53585,7447,61032,5334,"Woodland city",5492.88]
[null,null,null,null,532,"86440","Woodside town",404,4905,10,34,5,4138,570,2735,2574,1200,262,811,1746,1290,4939,370,5309,446,"Woodside town",477.81]
[null,null,null,null,533,"86832","Yorba Linda city",12269,56067,315,836,82,39031,8939,35222,33114,16461,3955,14009,20390,13521,63058,5278,68336,15746,"Yorba Linda city",6150.24]
[null,null,null,null,534,"86930","Yountville city",348,3088,32,64,3,2912,226,1614,1822,199,45,320,577,2295,2920,516,3436,73,"Yountville city",309.24]
[null,null,null,null,535,"86944","Yreka city",958,6849,700,73,10,5643,975,4112,3695,1959,391,1818,1869,1770,6374,1433,7807,149,"Yreka city",702.63]
[null,null,null,null,536,"86972","Yuba city",21701,48416,1368,1680,242,30286,8749,35372,34745,19716,4547,18545,16490,10819,62419,7698,70117,15629,"Yuba city",6310.53]
[null,null,null,null,537,"87042","Yucaipa city",18784,35758,829,828,93,34970,7876,27979,26563,14172,3064,13616,14329,9361,47725,6817,54542,1600,"Yucaipa city",4908.78]
[null,null,null,null,538,"87056","Yucca Valley town",5074,16664,316,803,73,15490,2718,11145,10593,5137,1067,5169,5624,4741,17458,4280,21738,586,"Yucca Valley town",1956.4199999999998]
[null,null,null,null,539,0,"Select a Jurisdiction"]
[]
[]
[]
[null,"Select County"]
[null,null,"Alameda County"]
[null,null,"Alpine County"]
[null,null,"Amador County"]
[null,null,"Butte County"]
[null,null,"Calaveras County"]
[null,null,"Colusa County "]
[null,null,"Contra Costa County"]
[null,null,"Del Norte County"]
[null,null,"El Dorado County "]
[null,null,"Fresno County"]
[null,null,"Glenn County "]
[null,null,"Humboldt County "]
[null,null,"Imperial County"]
[null,null,"Inyo County "]
[null,null,"Kern County "]
[null,null,"Kings County "]
[null,null,"Lake County "]
[null,null,"Lassen County"]
[null,null,"Los Angeles County "]
[null,null,"Madera County "]
[null,null,"Marin County "]
[null,null,"Mariposa County "]
[null,null,"Mendocino County "]
[null,null,"Merced County"]
[null,null,"Modoc County"]
[null,null,"Mono County "]
[null,null,"Monterey County "]
[null,null,"Napa County"]
[null,null,"Nevada County"]
[null,null,"Orange County "]
[null,null,"Placer County "]
[null,null,"Plumas County "]
[null,null,"Riverside County "]
[null,null,"Sacramento County "]
[null,null,"San Benito County "]
[null,null,"San Bernardino County "]
[null,null,"San Diego County "]
[null,null,"San Francisco County"]
[null,null,"San Joaquin County"]
[null,null,"San Luis Obispo County"]
[null,null,"San Mateo County "]
[null,null,"Santa Barbara County "]
[null,null,"Santa Clara County "]
[null,null,"Santa Cruz County "]
[null,null,"Shasta County"]
[null,null,"Sierra County "]
[null,null,"Siskiyou County "]
[null,null,"Solano County"]
[null,null,"Sonoma County"]
[null,null,"Stanislaus County"]
[null,null,"Sutter County"]
[null,null,"Tehama County"]
[null,null,"Trinity County"]
[null,null,"Tulare County "]
[null,null,"Tuolumne County"]
[null,null,"Ventura County"]
[null,null,"Yolo County"]
[null,null,"Yuba County "]
[null,null,"Select County"]

{"sheet":"Link E1","index":10,"n_rows":111,"n_cols":251,"rows_kept":111,"cut":false,"hidden":true,"merged":[[1,4,1,7],[2,4,2,5],[2,6,2,7],[2,8,2,10],[1,20,1,25],[2,20,2,22],[2,23,2,25],[2,11,2,13],[1,8,1,13],[1,14,1,19],[2,14,2,16],[2,17,2,19],[1,26,1,31],[2,26,2,28],[2,29,2,31],[2,33,2,34],[2,35,2,36],[2,37,2,38],[2,39,2,40],[2,41,2,42],[2,43,2,44],[1,33,1,44],[2,57,2,59],[2,60,2,62],[1,45,1,62],[1,63,1,80],[2,63,2,65],[2,66,2,68],[2,69,2,71],[2,72,2,74],[2,75,2,77],[2,78,2,80],[2,48,2,50],[2,51,2,53],[2,54,2,56],[2,45,2,47],[1,81,1,98],[2,81,2,83],[2,84,2,86],[2,87,2,89],[2,90,2,92],[2,93,2,95],[2,96,2,98],[1,118,1,121],[2,118,2,119],[1,99,1,116],[2,99,2,101],[2,102,2,104],[2,105,2,107],[2,108,2,110],[2,111,2,113],[2,114,2,116],[1,134,1,139],[2,134,2,136],[2,137,2,139],[2,122,2,124],[2,125,2,127],[1,122,1,127],[1,140,1,145],[2,140,2,142],[2,143,2,145],[0,4,0,31],[0,33,0,116],[0,118,0,145],[2,120,2,121],[1,128,1,133],[2,128,2,130],[2,131,2,133],[0,217,3,217],[0,218,0,245],[1,218,1,221],[1,222,1,227],[2,147,2,148],[2,149,2,150],[2,151,2,152],[2,153,2,154],[0,147,0,216],[1,147,1,156],[1,157,1,171],[1,172,1,186],[1,187,1,201],[1,202,1,216],[2,169,2,171],[2,172,2,174],[2,175,2,177],[2,228,2,230],[2,231,2,233],[2,178,2,180],[2,181,2,183],[2,155,2,156],[2,157,2,159],[2,160,2,162],[2,163,2,165],[2,166,2,168],[2,205,2,207],[2,208,2,210],[2,243,2,245],[0,3,3,3],[1,228,1,233],[1,234,1,239],[1,240,1,245],[2,218,2,219],[2,220,2,221],[2,222,2,224],[2,234,2,236],[2,214,2,216],[0,32,3,32],[0,117,3,117],[0,146,3,146],[2,199,2,201],[2,202,2,204],[2,237,2,239],[2,240,2,242],[2,211,2,213],[2,184,2,186],[2,187,2,189],[2,190,2,192],[2,193,2,195],[2,196,2,198],[2,225,2,227]]}
[null,null,null,"ETHNICITY","ETHNICITY",null,null,null,null,null,null,null,null,null,null,null,null,null,null,null,null,null,null,null,null,null,null,null,null,null,null,null,"RACE","RACE",null,null,null,null,null,null,null,null,null,null,null,null,null,null,null,null,null,null,null,null,null,null,null,null,null,null,null,null,null,null,null,null,null,null,null,null,null,null,null,null,null,null,null,null,null,null,null,null,null,null,null,null,null,null,null,null,null,null,null,null,null,null,null,null,null,null,null,null,null,null,null,null,null,null,null,null,null,null,null,null,null,null,null,"GENDER","GENDER",null,null,null,null,null,null,null,null,null,null,null,null,null,null,null,null,null,null,null,null,null,null,null,null,null,null,null,"AGE","AGE",null,null,null,null,null,null,null,null,null,null,null,null,null,null,null,null,null,null,null,null,null,null,null,null,null,null,null,null,null,null,null,null,null,null,null,null,null,null,null,null,null,null,null,null,null,null,null,null,null,null,null,null,null,null,null,null,null,null,null,null,null,null,null,null,null,null,null,null,null,"DISABILITY","DISABILITY"]
[null,null,null,null,"Census",null,null,null,"Applicants",null,null,null,null,null,"Beneficiaries",null,null,null,null,null,"Rejected Applicants",null,null,null,null,null,"Waiting List",null,null,null,null,null,null,"Census",null,null,null,null,null,null,null,null,null,null,null,"Applicants",null,null,null,null,null,null,null,null,null,null,null,null,null,null,null,null,null,"Benificiaries",null,null,null,null,null,null,null,null,null,null,null,null,null,null,null,null,null,"Rejected Applicants",null,null,null,null,null,null,null,null,null,null,null,null,null,null,null,null,null,"Waiting List",null,null,null,null,null,null,null,null,null,null,null,null,null,null,null,null,null,null,"Census",null,null,null,"Applicants",null,null,null,null,null,"Beneficiaries",null,null,null,null,null,"Rejected Applicants",null,null,null,null,null,"Waiting List",null,null,null,null,null,null,"Census",null,null,null,null,null,null,null,null,null,"Applicants",null,null,null,null,null,null,null,null,null,null,null,null,null,null,"Benificiaries",null,null,null,null,null,null,null,null,null,null,null,null,null,null,"Rejected Applicants",null,null,null,null,null,null,null,null,null,null,null,null,null,null,"Waiting List",null,null,null,null,null,null,null,null,null,null,null,null,null,null,null,"Census",null,null,null,"Applicants",null,null,null,null,null,"Beneficiaries",null,null,null,null,null,"Rejected Applicants",null,null,null,null,null,"Waiting List"]
["Jurisdiction","Contract #","Activity Name",null,"Hispanic",null,"Not Hispanic",null,"Hispanic",null,null,"Not Hispanic",null,null,"Hispanic",null,null,"Not Hispanic",null,null,"Hispanic",null,null,"Not Hispanic",null,null,"Hispanic",null,null,"Not Hispanic",null,null,null,"American Indian or Alaskan Native",null,"Asian",null,"Black or African American",null,"Native Hawaiian or Other Pacific Islander",null,"White Alone",null,"Other",null,"American Indian or Alaskan Native",null,null,"Asian",null,null,"Black or African American",null,null,"Native Hawaiian or Other Pacific Islander",null,null,"White Alone",null,null,"Other",null,null,"American Indian or Alaskan Native",null,null,"Asian",null,null,"Black or African American",null,null,"Native Hawaiian or Other Pacific Islander",null,null,"White Alone",null,null,"Other",null,null,"American Indian or Alaskan Native",null,null,"Asian",null,null,"Black or African American",null,null,"Native Hawaiian or Other Pacific Islander",null,null,"White Alone",null,null,"Other",null,null,"American Indian or Alaskan Native",null,null,"Asian",null,null,"Black or African American",null,null,"Native Hawaiian or Other Pacific Islander",null,null,"White Alone",null,null,"Other",null,null,null,"Female",null,"Male",null,"Female",null,null,"Male",null,null,"Female",null,null,"Male",null,null,"Female",null,null,"Male",null,null,"Female",null,null,"Male",null,null,null,"0 to 19 Years",null,"20 to 24 Years",null,"25 to 44 Years",null,"45 to 64 Years",null,"65 Years and Over",null,"0 to 19 Years",null,null,"20 to 24 Years",null,null,"25 to 44 Years",null,null,"45 to 64 Years",null,null,"65 Years and Over",null,null,"0 to 19 Years",null,null,"20 to 24 Years",null,null,"25 to 44 Years",null,null,"45 to 64 Years",null,null,"65 Years and Over",null,null,"0 to 19 Years",null,null,"20 to 24 Years",null,null,"25 to 44 Years",null,null,"45 to 64 Years",null,null,"65 Years and Over",null,null,"0 to 19 Years",null,null,"20 to 24 Years",null,null,"25 to 44 Years",null,null,"45 to 64 Years",null,null,"65 Years and Over",null,null,null,"Disabled",null,"Not Disabled",null,"Disabled",null,null,"Not Disabled",null,null,"Disabled",null,null,"Not Disabled",null,null,"Disabled",null,null,"Not Disabled",null,null,"Disabled",null,null,"Not Disabled",null,null,"Response 1","Response 2","Response 3","Response 4","Response 5"]
[null,null,null,null,"#","%","#","%","#","%","Diff","#","%","Diff","#","%","Diff","#","%","Diff","#","%","Diff","#","%","Diff","#","%","Diff","#","%","Diff",null,"#","%","#","%","#","%","#","%","#","%","#","%","#","%","Diff","#","%","Diff","#","%","Diff","#","%","Diff","#","%","Diff","#","%","Diff","#","%","Diff","#","%","Diff","#","%","Diff","#","%","Diff","#","%","Diff","#","%","Diff","#","%","Diff","#","%","Diff","#","%","Diff","#","%","Diff","#","%","Diff","#","%","Diff","#","%","Diff","#","%","Diff","#","%","Diff","#","%","Diff","#","%","Diff","#","%","Diff",null,"#","%","#","%","#","%","Diff","#","%","Diff","#","%","Diff","#","%","Diff","#","%","Diff","#","%","Diff","#","%","Diff","#","%","Diff",null,"#","%","#","%","#","%","#","%","#","%","#","%","Diff","#","%","Diff","#","%","Diff","#","%","Diff","#","%","Diff","#","%","Diff","#","%","Diff","#","%","Diff","#","%","Diff","#","%","Diff","#","%","Diff","#","%","Diff","#","%","Diff","#","%","Diff","#","%","Diff","#","%","Diff","#","%","Diff","#","%","Diff","#","%","Diff","#","%","Diff",null,"#","%","#","%","#","%","Diff","#","%","Diff","#","%","Diff","#","%","Diff","#","%","Diff","#","%","Diff","#","%","Diff","#","%","Diff"]
[{"$f":"'E Data'!D4","v":"Select a Jurisdiction"},{"$f":"'Att E Activity 1'!EC24","v":0},{"$f":"'Att E Activity 1'!EC30","v":0},null,{"$f":"'Att E Activity 1'!AM49","v":""},{"$f":"'Att E Activity 1'!AU49","v":""},{"$f":"'Att E Activity 1'!AM52","v":""},{"$f":"'Att E Activity 1'!AU52","v":""},{"$f":"'Att E Activity 1'!BE49","v":0},{"$f":"'Att E Activity 1'!BM49","v":""},{"$f":"'Att E Activity 1'!BU49","v":0},{"$f":"'Att E Activity 1'!BE52","v":0},{"$f":"'Att E Activity 1'!BM52","v":""},{"$f":"'Att E Activity 1'!BU52","v":0},{"$f":"'Att E Activity 1'!CF49","v":0},{"$f":"'Att E Activity 1'!CN49","v":""},{"$f":"'Att E Activity 1'!CV49","v":0},{"$f":"'Att E Activity 1'!CF52","v":0},{"$f":"'Att E Activity 1'!CN52","v":""},{"$f":"'Att E Activity 1'!CV52","v":0},{"$f":"'Att E Activity 1'!DG49","v":0},{"$f":"'Att E Activity 1'!DO49","v":""},{"$f":"'Att E Activity 1'!DW49","v":0},{"$f":"'Att E Activity 1'!DG52","v":0},{"$f":"'Att E Activity 1'!DO52","v":""},{"$f":"'Att E Activity 1'!DW52","v":0},{"$f":"'Att E Activity 1'!EH49","v":0},{"$f":"'Att E Activity 1'!EP49","v":""},{"$f":"'Att E Activity 1'!EX49","v":0},{"$f":"'Att E Activity 1'!EH52","v":0},{"$f":"'Att E Activity 1'!EP52","v":""},{"$f":"'Att E Activity 1'!EX52","v":0},null,{"$f":"'Att E Activity 1'!AM62","v":""},{"$f":"'Att E Activity 1'!AU62","v":""},{"$f":"'Att E Activity 1'!AM65","v":""},{"$f":"'Att E Activity 1'!AU62","v":""},{"$f":"'Att E Activity 1'!AM68","v":""},{"$f":"'Att E Activity 1'!AU68","v":""},{"$f":"'Att E Activity 1'!AM71","v":""},{"$f":"'Att E Activity 1'!AU71","v":""},{"$f":"'Att E Activity 1'!AM74","v":""},{"$f":"'Att E Activity 1'!AU74","v":""},{"$f":"'Att E Activity 1'!AM77","v":""},{"$f":"'Att E Activity 1'!AU77","v":""},{"$f":"'Att E Activity 1'!BE62","v":0},{"$f":"'Att E Activity 1'!BM62","v":""},{"$f":"'Att E Activity 1'!BU62","v":0},{"$f":"'Att E Activity 1'!BE65","v":0},{"$f":"'Att E Activity 1'!BM65","v":""},{"$f":"'Att E Activity 1'!BU65","v":0},{"$f":"'Att E Activity 1'!BE68","v":0},{"$f":"'Att E Activity 1'!BM68","v":""},{"$f":"'Att E Activity 1'!BU68","v":0},{"$f":"'Att E Activity 1'!BE71","v":0},{"$f":"'Att E Activity 1'!BM71","v":""},{"$f":"'Att E Activity 1'!BU71","v":0},{"$f":"'Att E Activity 1'!BE74","v":0},{"$f":"'Att E Activity 1'!BM74","v":""},{"$f":"'Att E Activity 1'!BU74","v":0},{"$f":"'Att E Activity 1'!BE77","v":0},{"$f":"'Att E Activity 1'!BM77","v":""},{"$f":"'Att E Activity 1'!BU77","v":0},{"$f":"'Att E Activity 1'!CF62","v":0},{"$f":"'Att E Activity 1'!CN62","v":""},{"$f":"'Att E Activity 1'!CV62","v":0},{"$f":"'Att E Activity 1'!CF65","v":0},{"$f":"'Att E Activity 1'!CN65","v":""},{"$f":"'Att E Activity 1'!CV65","v":0},{"$f":"'Att E Activity 1'!CF68","v":0},{"$f":"'Att E Activity 1'!CN68","v":""},{"$f":"'Att E Activity 1'!CV68","v":0},{"$f":"'Att E Activity 1'!CF71","v":0},{"$f":"'Att E Activity 1'!CN71","v":""},{"$f":"'Att E Activity 1'!CV71","v":0},{"$f":"'Att E Activity 1'!CF74","v":0},{"$f":"'Att E Activity 1'!CN74","v":""},{"$f":"'Att E Activity 1'!CV74","v":0},{"$f":"'Att E Activity 1'!CF77","v":0},{"$f":"'Att E Activity 1'!CN77","v":""},{"$f":"'Att E Activity 1'!CV77","v":0},{"$f":"'Att E Activity 1'!DG62","v":0},{"$f":"'Att E Activity 1'!DO62","v":""},{"$f":"'Att E Activity 1'!DW62","v":0},{"$f":"'Att E Activity 1'!DG65","v":0},{"$f":"'Att E Activity 1'!DO65","v":""},{"$f":"'Att E Activity 1'!DW65","v":0},{"$f":"'Att E Activity 1'!DG68","v":0},{"$f":"'Att E Activity 1'!DO68","v":""},{"$f":"'Att E Activity 1'!DW68","v":0},{"$f":"'Att E Activity 1'!DG71","v":0},{"$f":"'Att E Activity 1'!DO71","v":""},{"$f":"'Att E Activity 1'!DW71","v":0},{"$f":"'Att E Activity 1'!DG74","v":0},{"$f":"'Att E Activity 1'!DO74","v":""},{"$f":"'Att E Activity 1'!DW74","v":0},{"$f":"'Att E Activity 1'!DG77","v":0},{"$f":"'Att E Activity 1'!DO77","v":""},{"$f":"'Att E Activity 1'!DW77","v":0},{"$f":"'Att E Activity 1'!EH62","v":0},{"$f":"'Att E Activity 1'!EP62","v":""},{"$f":"'Att E Activity 1'!EX62","v":0},{"$f":"'Att E Activity 1'!EH65","v":0},{"$f":"'Att E Activity 1'!EP65","v":""},{"$f":"'Att E Activity 1'!EX65","v":0},{"$f":"'Att E Activity 1'!EH68","v":0},{"$f":"'Att E Activity 1'!EP68","v":""},{"$f":"'Att E Activity 1'!EX68","v":0},{"$f":"'Att E Activity 1'!EH71","v":0},{"$f":"'Att E Activity 1'!EP71","v":""},{"$f":"'Att E Activity 1'!EX71","v":0},{"$f":"'Att E Activity 1'!EH74","v":0},{"$f":"'Att E Activity 1'!EP74","v":""},{"$f":"'Att E Activity 1'!EX74","v":0},{"$f":"'Att E Activity 1'!EH77","v":0},{"$f":"'Att E Activity 1'!EP77","v":""},{"$f":"'Att E Activity 1'!EX77","v":0},null,{"$f":"'Att E Activity 1'!AM87","v":""},{"$f":"'Att E Activity 1'!AU87","v":""},{"$f":"'Att E Activity 1'!AM90","v":""},{"$f":"'Att E Activity 1'!AU90","v":""},{"$f":"'Att E Activity 1'!BE87","v":0},{"$f":"'Att E Activity 1'!BM87","v":""},{"$f":"'Att E Activity 1'!BU87","v":0},{"$f":"'Att E Activity 1'!BE90","v":0},{"$f":"'Att E Activity 1'!BM90","v":""},{"$f":"'Att E Activity 1'!BU90","v":0},{"$f":"'Att E Activity 1'!CF87","v":0},{"$f":"'Att E Activity 1'!CN87","v":""},{"$f":"'Att E Activity 1'!CV87","v":0},{"$f":"'Att E Activity 1'!CF90","v":0},{"$f":"'Att E Activity 1'!CN90","v":""},{"$f":"'Att E Activity 1'!CV90","v":0},{"$f":"'Att E Activity 1'!DG87","v":0},{"$f":"'Att E Activity 1'!DO87","v":""},{"$f":"'Att E Activity 1'!DW87","v":0},{"$f":"'Att E Activity 1'!DG90","v":0},{"$f":"'Att E Activity 1'!DO90","v":""},{"$f":"'Att E Activity 1'!DW90","v":0},{"$f":"'Att E Activity 1'!EH87","v":0},{"$f":"'Att E Activity 1'!EP87","v":""},{"$f":"'Att E Activity 1'!EX87","v":0},{"$f":"'Att E Activity 1'!EH90","v":0},{"$f":"'Att E Activity 1'!EP90","v":""},{"$f":"'Att E Activity 1'!EX90","v":0},null,{"$f":"'Att E Activity 1'!AM100","v":""},{"$f":"'Att E Activity 1'!AU100","v":""},{"$f":"'Att E Activity 1'!AM103","v":""},{"$f":"'Att E Activity 1'!AU103","v":""},{"$f":"'Att E Activity 1'!AM106","v":""},{"$f":"'Att E Activity 1'!AU106","v":""},{"$f":"'Att E Activity 1'!AM109","v":""},{"$f":"'Att E Activity 1'!AU109","v":""},{"$f":"'Att E Activity 1'!AM112","v":""},{"$f":"'Att E Activity 1'!AU112","v":""},{"$f":"'Att E Activity 1'!BE100","v":0},{"$f":"'Att E Activity 1'!BM100","v":""},{"$f":"'Att E Activity 1'!BU100","v":0},{"$f":"'Att E Activity 1'!BE103","v":0},{"$f":"'Att E Activity 1'!BM103","v":""},{"$f":"'Att E Activity 1'!BU103","v":0},{"$f":"'Att E Activity 1'!BE106","v":0},{"$f":"'Att E Activity 1'!BM106","v":""},{"$f":"'Att E Activity 1'!BU106","v":0},{"$f":"'Att E Activity 1'!BE109","v":0},{"$f":"'Att E Activity 1'!BM109","v":""},{"$f":"'Att E Activity 1'!BU109","v":0},{"$f":"'Att E Activity 1'!BE112","v":0},{"$f":"'Att E Activity 1'!BM112","v":""},{"$f":"'Att E Activity 1'!BU112","v":0},{"$f":"'Att E Activity 1'!CF100","v":0},{"$f":"'Att E Activity 1'!CN100","v":""},{"$f":"'Att E Activity 1'!CV100","v":0},{"$f":"'Att E Activity 1'!CF103","v":0},{"$f":"'Att E Activity 1'!CN103","v":""},{"$f":"'Att E Activity 1'!CV103","v":0},{"$f":"'Att E Activity 1'!CF106","v":0},{"$f":"'Att E Activity 1'!CN106","v":""},{"$f":"'Att E Activity 1'!CV106","v":0},{"$f":"'Att E Activity 1'!CF109","v":0},{"$f":"'Att E Activity 1'!CN109","v":""},{"$f":"'Att E Activity 1'!CV109","v":0},{"$f":"'Att E Activity 1'!CF112","v":0},{"$f":"'Att E Activity 1'!CN112","v":""},{"$f":"'Att E Activity 1'!CV112","v":0},{"$f":"'Att E Activity 1'!DG100","v":0},{"$f":"'Att E Activity 1'!DO100","v":""},{"$f":"'Att E Activity 1'!DW100","v":0},{"$f":"'Att E Activity 1'!DG103","v":0},{"$f":"'Att E Activity 1'!DO103","v":""},{"$f":"'Att E Activity 1'!DW103","v":0},{"$f":"'Att E Activity 1'!DG106","v":0},{"$f":"'Att E Activity 1'!DO106","v":""},{"$f":"'Att E Activity 1'!DW106","v":0},{"$f":"'Att E Activity 1'!DG109","v":0},{"$f":"'Att E Activity 1'!DO109","v":""},{"$f":"'Att E Activity 1'!DW109","v":0},{"$f":"'Att E Activity 1'!DG112","v":0},{"$f":"'Att E Activity 1'!DO112","v":""},{"$f":"'Att E Activity 1'!DW112","v":0},{"$f":"'Att E Activity 1'!EH100","v":0},{"$f":"'Att E Activity 1'!EP100","v":""},{"$f":"'Att E Activity 1'!EX100","v":0},{"$f":"'Att E Activity 1'!EH103","v":0},{"$f":"'Att E Activity 1'!EP103","v":""},{"$f":"'Att E Activity 1'!EX103","v":0},{"$f":"'Att E Activity 1'!EH106","v":0},{"$f":"'Att E Activity 1'!EP106","v":""},{"$f":"'Att E Activity 1'!EX106","v":0},{"$f":"'Att E Activity 1'!EH109","v":0},{"$f":"'Att E Activity 1'!EP109","v":""},{"$f":"'Att E Activity 1'!EX109","v":0},{"$f":"'Att E Activity 1'!EH112","v":0},{"$f":"'Att E Activity 1'!EP112","v":""},{"$f":"'Att E Activity 1'!EX112","v":0},null,{"$f":"'Att E Activity 1'!AM122","v":""},{"$f":"'Att E Activity 1'!AU122","v":{"$error":"#VALUE!"}},{"$f":"'Att E Activity 1'!AM125","v":""},{"$f":"'Att E Activity 1'!AU125","v":{"$error":"#VALUE!"}},{"$f":"'Att E Activity 1'!BE122","v":0},{"$f":"'Att E Activity 1'!BM122","v":""},{"$f":"'Att E Activity 1'!BU122","v":0},{"$f":"'Att E Activity 1'!BE125","v":0},{"$f":"'Att E Activity 1'!BM125","v":""},{"$f":"'Att E Activity 1'!BU125","v":0},{"$f":"'Att E Activity 1'!CF122","v":0},{"$f":"'Att E Activity 1'!CN122","v":""},{"$f":"'Att E Activity 1'!CV122","v":0},{"$f":"'Att E Activity 1'!CF125","v":0},{"$f":"'Att E Activity 1'!CN125","v":""},{"$f":"'Att E Activity 1'!CV125","v":0},{"$f":"'Att E Activity 1'!DG122","v":0},{"$f":"'Att E Activity 1'!DO122","v":""},{"$f":"'Att E Activity 1'!DW122","v":0},{"$f":"'Att E Activity 1'!DG125","v":0},{"$f":"'Att E Activity 1'!DO125","v":""},{"$f":"'Att E Activity 1'!DW125","v":0},{"$f":"'Att E Activity 1'!EH122","v":0},{"$f":"'Att E Activity 1'!EP122","v":""},{"$f":"'Att E Activity 1'!EX122","v":0},{"$f":"'Att E Activity 1'!EH125","v":0},{"$f":"'Att E Activity 1'!EP125","v":""},{"$f":"'Att E Activity 1'!EX125","v":0},{"$f":"'Att E Activity 1'!B176","v":0},{"$f":"'Att E Activity 1'!B194","v":0},{"$f":"'Att E Activity 1'!B212","v":0},{"$f":"'Att E Activity 1'!B230","v":0},{"$f":"'Att E Activity 1'!B248","v":0}]
[]
[]
[]
[]
[]
[]
[]
[]
[]
[]
[]
[]
[]
[]
[]
[]
[]
[]
[]
[]
[]
[]
[]
[]
[]
[]
[]
[]
[]
[]
[]
[]
[]
[]
[]
[]
[]
[]
[]
[]
[]
[]
[null,null,null,null,null,null,null,null,null,null,null,null,null,null,null,null,null,null,null,null,null,null,null,null,null,null,null,null,null,null,null,null,null,null,null,null,null,null,null,null,null,null,null,null,null,null,null,null,null,null,null,null,null,null,null,1,null,null,null,null,null,null,null,null,null,null,null,null,null,null,null,null,null,null,null,null,null,null,null,null,null,null,3,null,null,null,null,null,null,null,null,null,null,null,null,null,null,null,null,null,null,null,null,null,null,null,null,null,null,5,null,null,null,null,null,null,null,null,null,null,null,null,null,null,null,null,null,null,null,null,null,null,null,null,null,null,7]
[]
[]
[null,null,null,null,null,null,null,null,null,null,null,null,null,null,null,null,null,null,null,null,null,null,null,null,null,null,null,null,null,null,null,null,null,null,null,null,null,null,null,null,null,null,null,null,null,null,null,null,null,null,null,null,null,null,null,2,null,null,null,null,null,null,null,null,null,null,null,null,null,null,null,null,null,null,null,null,null,null,null,null,null,null,4,null,null,null,null,null,null,null,null,null,null,null,null,null,null,null,null,null,null,null,null,null,null,null,null,null,null,6,null,null,null,null,null,null,null,null,null,null,null,null,null,null,null,null,null,null,null,null,null,null,null,null,null,null,8]
[]
[]
[]
[]
[]
[]
[]
[]
[]
[null,null,null,null,null,null,null,null,null,null,null,null,null,null,null,null,null,null,null,null,null,null,null,null,null,null,null,null,null,null,null,null,null,null,null,null,null,null,null,null,null,null,null,null,null,null,null,null,null,null,null,null,null,null,null,9,null,null,null,null,null,null,null,null,null,null,null,null,null,null,null,null,null,null,null,null,null,null,null,null,null,null,15,null,null,null,null,null,null,null,null,null,null,null,null,null,null,null,null,null,null,null,null,null,null,null,null,null,null,21,null,null,null,null,null,null,null,null,null,null,null,null,null,null,null,null,null,null,null,null,null,null,null,null,null,null,27]
[]
[]
[null,null,null,null,null,null,null,null,null,null,null,null,null,null,null,null,null,null,null,null,null,null,null,null,null,null,null,null,null,null,null,null,null,null,null,null,null,null,null,null,null,null,null,null,null,null,null,null,null,null,null,null,null,null,null,10,null,null,null,null,null,null,null,null,null,null,null,null,null,null,null,null,null,null,null,null,null,null,null,null,null,null,16,null,null,null,null,null,null,null,null,null,null,null,null,null,null,null,null,null,null,null,null,null,null,null,null,null,null,22,null,null,null,null,null,null,null,null,null,null,null,null,null,null,null,null,null,null,null,null,null,null,null,null,null,null,28]
[]
[]
[null,null,null,null,null,null,null,null,null,null,null,null,null,null,null,null,null,null,null,null,null,null,null,null,null,null,null,null,null,null,null,null,null,null,null,null,null,null,null,null,null,null,null,null,null,null,null,null,null,null,null,null,null,null,null,11,null,null,null,null,null,null,null,null,null,null,null,null,null,null,null,null,null,null,null,null,null,null,null,null,null,null,17,null,null,null,null,null,null,null,null,null,null,null,null,null,null,null,null,null,null,null,null,null,null,null,null,null,null,23,null,null,null,null,null,null,null,null,null,null,null,null,null,null,null,null,null,null,null,null,null,null,null,null,null,null,29]
[]
[]
[null,null,null,null,null,null,null,null,null,null,null,null,null,null,null,null,null,null,null,null,null,null,null,null,null,null,null,null,null,null,null,null,null,null,null,null,null,null,null,null,null,null,null,null,null,null,null,null,null,null,null,null,null,null,null,12,null,null,null,null,null,null,null,null,null,null,null,null,null,null,null,null,null,null,null,null,null,null,null,null,null,null,18,null,null,null,null,null,null,null,null,null,null,null,null,null,null,null,null,null,null,null,null,null,null,null,null,null,null,24,null,null,null,null,null,null,null,null,null,null,null,null,null,null,null,null,null,null,null,null,null,null,null,null,null,null,30]
[]
[]
[null,null,null,null,null,null,null,null,null,null,null,null,null,null,null,null,null,null,null,null,null,null,null,null,null,null,null,null,null,null,null,null,null,null,null,null,null,null,null,null,null,null,null,null,null,null,null,null,null,null,null,null,null,null,null,13,null,null,null,null,null,null,null,null,null,null,null,null,null,null,null,null,null,null,null,null,null,null,null,null,null,null,19,null,null,null,null,null,null,null,null,null,null,null,null,null,null,null,null,null,null,null,null,null,null,null,null,null,null,25,null,null,null,null,null,null,null,null,null,null,null,null,null,null,null,null,null,null,null,null,null,null,null,null,null,null,31]
[]
[]
[null,null,null,null,null,null,null,null,null,null,null,null,null,null,null,null,null,null,null,null,null,null,null,null,null,null,null,null,null,null,null,null,null,null,null,null,null,null,null,null,null,null,null,null,null,null,null,null,null,null,null,null,null,null,null,14,null,null,null,null,null,null,null,null,null,null,null,null,null,null,null,null,null,null,null,null,null,null,null,null,null,null,20,null,null,null,null,null,null,null,null,null,null,null,null,null,null,null,null,null,null,null,null,null,null,null,null,null,null,26,null,null,null,null,null,null,null,null,null,null,null,null,null,null,null,null,null,null,null,null,null,null,null,null,null,null,32]
[]
[]
[]
[]
[]
[]
[]
[]
[]
[null,null,null,null,null,null,null,null,null,null,null,null,null,null,null,null,null,null,null,null,null,null,null,null,null,null,null,null,null,null,null,null,null,null,null,null,null,null,null,null,null,null,null,null,null,null,null,null,null,null,null,null,null,null,null,33,null,null,null,null,null,null,null,null,null,null,null,null,null,null,null,null,null,null,null,null,null,null,null,null,null,null,35,null,null,null,null,null,null,null,null,null,null,null,null,null,null,null,null,null,null,null,null,null,null,null,null,null,null,37,null,null,null,null,null,null,null,null,null,null,null,null,null,null,null,null,null,null,null,null,null,null,null,null,null,null,39]
[]
[]
[null,null,null,null,null,null,null,null,null,null,null,null,null,null,null,null,null,null,null,null,null,null,null,null,null,null,null,null,null,null,null,null,null,null,null,null,null,null,null,null,null,null,null,null,null,null,null,null,null,null,null,null,null,null,null,34,null,null,null,null,null,null,null,null,null,null,null,null,null,null,null,null,null,null,null,null,null,null,null,null,null,null,36,null,null,null,null,null,null,null,null,null,null,null,null,null,null,null,null,null,null,null,null,null,null,null,null,null,null,38,null,null,null,null,null,null,null,null,null,null,null,null,null,null,null,null,null,null,null,null,null,null,null,null,null,null,40]
[]
[]
[]
[]
[]
[]
[]
[]
[]
[null,null,null,null,null,null,null,null,null,null,null,null,null,null,null,null,null,null,null,null,null,null,null,null,null,null,null,null,null,null,null,null,null,null,null,null,null,null,null,null,null,null,null,null,null,null,null,null,null,null,null,null,null,null,null,41,null,null,null,null,null,null,null,null,null,null,null,null,null,null,null,null,null,null,null,null,null,null,null,null,null,null,43,null,null,null,null,null,null,null,null,null,null,null,null,null,null,null,null,null,null,null,null,null,null,null,null,null,null,51,null,null,null,null,null,null,null,null,null,null,null,null,null,null,null,null,null,null,null,null,null,null,null,null,null,null,56]
[]
[]
[null,null,null,null,null,null,null,null,null,null,null,null,null,null,null,null,null,null,null,null,null,null,null,null,null,null,null,null,null,null,null,null,null,null,null,null,null,null,null,null,null,null,null,null,null,null,null,null,null,null,null,null,null,null,null,42,null,null,null,null,null,null,null,null,null,null,null,null,null,null,null,null,null,null,null,null,null,null,null,null,null,null,47,null,null,null,null,null,null,null,null,null,null,null,null,null,null,null,null,null,null,null,null,null,null,null,null,null,null,52,null,null,null,null,null,null,null,null,null,null,null,null,null,null,null,null,null,null,null,null,null,null,null,null,null,null,57]
[]
[]
[null,null,null,null,null,null,null,null,null,null,null,null,null,null,null,null,null,null,null,null,null,null,null,null,null,null,null,null,null,null,null,null,null,null,null,null,null,null,null,null,null,null,null,null,null,null,null,null,null,null,null,null,null,null,null,43,null,null,null,null,null,null,null,null,null,null,null,null,null,null,null,null,null,null,null,null,null,null,null,null,null,null,48,null,null,null,null,null,null,null,null,null,null,null,null,null,null,null,null,null,null,null,null,null,null,null,null,null,null,53,null,null,null,null,null,null,null,null,null,null,null,null,null,null,null,null,null,null,null,null,null,null,null,null,null,null,58]
[]
[]
[null,null,null,null,null,null,null,null,null,null,null,null,null,null,null,null,null,null,null,null,null,null,null,null,null,null,null,null,null,null,null,null,null,null,null,null,null,null,null,null,null,null,null,null,null,null,null,null,null,null,null,null,null,null,null,44,null,null,null,null,null,null,null,null,null,null,null,null,null,null,null,null,null,null,null,null,null,null,null,null,null,null,49,null,null,null,null,null,null,null,null,null,null,null,null,null,null,null,null,null,null,null,null,null,null,null,null,null,null,54,null,null,null,null,null,null,null,null,null,null,null,null,null,null,null,null,null,null,null,null,null,null,null,null,null,null,59]
[]
[]
[null,null,null,null,null,null,null,null,null,null,null,null,null,null,null,null,null,null,null,null,null,null,null,null,null,null,null,null,null,null,null,null,null,null,null,null,null,null,null,null,null,null,null,null,null,null,null,null,null,null,null,null,null,null,null,45,null,null,null,null,null,null,null,null,null,null,null,null,null,null,null,null,null,null,null,null,null,null,null,null,null,null,50,null,null,null,null,null,null,null,null,null,null,null,null,null,null,null,null,null,null,null,null,null,null,null,null,null,null,55,null,null,null,null,null,null,null,null,null,null,null,null,null,null,null,null,null,null,null,null,null,null,null,null,null,null,60]

{"sheet":"Att E Activity 2","index":11,"n_rows":392,"n_cols":220,"rows_kept":392,"cut":false,"hidden":false,"merged":[[258,170,385,175],[317,3,319,5],[317,7,319,86],[391,1,396,161],[211,1,224,161],[226,1,227,3],[226,4,227,121],[229,1,242,161],[244,1,245,2],[244,3,245,121],[172,3,173,160],[175,1,188,161],[190,1,191,3],[190,4,191,121],[193,1,206,161],[208,1,209,3],[208,4,209,121],[140,170,257,175],[141,1,145,161],[147,1,148,161],[151,2,152,3],[151,4,152,161],[155,2,156,3],[155,4,159,161],[161,1,165,161],[168,1,170,161],[172,1,173,2],[247,1,257,161],[135,1,136,22],[135,38,136,43],[135,77,136,95],[135,99,136,115],[135,141,136,160],[137,1,139,35],[137,38,139,73],[137,77,139,96],[137,99,139,138],[137,141,139,161],[127,54,134,66],[127,81,134,95],[127,108,134,122],[127,135,134,148],[124,91,126,98],[124,99,126,107],[124,110,126,117],[124,118,126,125],[124,126,126,134],[124,137,126,144],[121,137,123,144],[121,145,123,152],[121,153,123,161],[124,1,126,37],[124,38,126,45],[124,46,126,53],[124,56,126,63],[124,64,126,71],[124,72,126,80],[124,83,126,90],[121,83,123,90],[121,91,123,98],[121,99,123,107],[121,110,123,117],[121,118,123,125],[121,126,123,134],[124,145,126,152],[124,153,126,161],[121,1,123,37],[121,38,123,45],[121,46,123,53],[121,56,123,63],[121,64,123,71],[121,72,123,80],[118,72,120,80],[118,83,120,90],[118,91,120,98],[115,1,120,37],[115,38,117,53],[115,56,117,80],[115,83,117,107],[118,38,120,45],[118,46,120,53],[118,56,120,63],[118,64,120,71],[111,118,113,125],[111,126,113,134],[111,137,113,144],[111,145,113,152],[111,153,113,161],[108,153,110,161],[108,99,110,107],[108,110,110,117],[108,118,110,125],[108,126,110,134],[108,137,110,144],[108,145,110,152],[118,126,120,134],[118,137,120,144],[118,145,120,152],[118,153,120,161],[118,99,120,107],[118,110,120,117],[118,118,120,125],[115,110,117,134],[115,137,117,161],[105,99,107,107],[105,110,107,117],[105,118,107,125],[105,126,107,134],[105,137,107,144],[111,1,113,37],[111,38,113,45],[111,46,113,53],[111,56,113,63],[111,64,113,71],[111,72,113,80],[111,83,113,90],[111,91,113,98],[111,99,113,107],[108,1,110,37],[108,38,110,45],[108,46,110,53],[108,56,110,63],[108,64,110,71],[108,72,110,80],[108,83,110,90],[108,91,110,98],[105,91,107,98],[111,110,113,117],[102,137,104,144],[102,145,104,152],[102,153,104,161],[105,1,107,37],[105,38,107,45],[105,46,107,53],[105,56,107,63],[105,64,107,71],[105,72,107,80],[105,83,107,90],[102,83,104,90],[102,91,104,98],[102,99,104,107],[102,110,104,117],[102,118,104,125],[102,126,104,134],[102,1,104,37],[102,38,104,45],[102,46,104,53],[102,56,104,63],[102,64,104,71],[102,72,104,80],[105,145,107,152],[105,153,107,161],[99,110,101,117],[99,118,101,125],[99,126,101,134],[99,137,101,144],[99,145,101,152],[99,153,101,161],[96,153,98,161],[99,1,101,37],[99,38,101,45],[99,46,101,53],[99,56,101,63],[99,64,101,71],[99,72,101,80],[99,83,101,90],[99,91,101,98],[99,99,101,107],[96,99,98,107],[96,110,98,117],[96,118,98,125],[96,126,98,134],[96,137,98,144],[96,145,98,152],[96,46,98,53],[96,56,98,63],[96,64,98,71],[96,72,98,80],[96,83,98,90],[96,91,98,98],[89,137,91,144],[89,145,91,152],[89,153,91,161],[93,1,98,37],[93,38,95,53],[93,56,95,80],[93,83,95,107],[93,110,95,134],[93,137,95,161],[96,38,98,45],[89,83,91,90],[89,91,91,98],[89,99,91,107],[89,110,91,117],[89,118,91,125],[89,126,91,134],[89,1,91,37],[89,38,91,45],[89,46,91,53],[89,56,91,63],[89,64,91,71],[89,72,91,80],[86,110,88,117],[86,118,88,125],[86,126,88,134],[86,137,88,144],[86,145,88,152],[86,153,88,161],[83,153,85,161],[83,99,85,107],[83,110,85,117],[83,118,85,125],[83,126,85,134],[83,137,85,144],[83,145,85,152],[83,91,85,98],[76,137,78,144],[76,145,78,152],[76,153,78,161],[86,1,88,37],[86,38,88,45],[86,46,88,53],[86,56,88,63],[86,64,88,71],[86,72,88,80],[86,83,88,90],[86,91,88,98],[86,99,88,107],[80,1,85,37],[80,38,82,53],[80,56,82,80],[80,83,82,107],[80,110,82,134],[80,137,82,161],[83,38,85,45],[76,83,78,90],[76,91,78,98],[76,99,78,107],[76,110,78,117],[76,118,78,125],[76,126,78,134],[76,1,78,37],[76,38,78,45],[76,46,78,53],[76,56,78,63],[76,64,78,71],[76,72,78,80],[83,46,85,53],[83,56,85,63],[83,64,85,71],[83,72,85,80],[83,83,85,90],[73,110,75,117],[73,118,75,125],[73,126,75,134],[73,137,75,144],[73,145,75,152],[73,153,75,161],[70,153,72,161],[73,1,75,37],[73,38,75,45],[73,46,75,53],[73,56,75,63],[73,64,75,71],[73,72,75,80],[73,83,75,90],[73,91,75,98],[73,99,75,107],[70,99,72,107],[70,110,72,117],[70,118,72,125],[70,126,72,134],[70,137,72,144],[70,145,72,152],[70,1,72,37],[70,38,72,45],[70,46,72,53],[70,56,72,63],[70,64,72,71],[70,72,72,80],[70,83,72,90],[70,91,72,98],[67,91,69,98],[64,137,66,144],[64,145,66,152],[64,56,66,63],[64,64,66,71],[64,72,66,80],[64,153,66,161],[67,1,69,37],[67,38,69,45],[67,46,69,53],[67,56,69,63],[67,64,69,71],[67,72,69,80],[67,83,69,90],[64,83,66,90],[64,91,66,98],[64,99,66,107],[64,110,66,117],[64,118,66,125],[64,126,66,134],[67,145,69,152],[67,153,69,161],[67,99,69,107],[67,110,69,117],[67,118,69,125],[67,126,69,134],[67,137,69,144],[64,1,66,37],[64,38,66,45],[64,46,66,53],[61,72,63,80],[61,83,63,90],[61,91,63,98],[61,1,63,37],[61,38,63,45],[61,46,63,53],[61,56,63,63],[61,64,63,71],[61,126,63,134],[61,137,63,144],[61,145,63,152],[61,153,63,161],[61,99,63,107],[61,110,63,117],[61,118,63,125],[55,1,60,37],[55,38,57,53],[55,56,57,80],[55,83,57,107],[55,110,57,134],[55,137,57,161],[58,38,60,45],[58,46,60,53],[58,56,60,63],[58,64,60,71],[58,72,60,80],[58,83,60,90],[58,91,60,98],[58,99,60,107],[58,110,60,117],[58,118,60,125],[58,126,60,134],[58,137,60,144],[58,145,60,152],[58,153,60,161],[51,153,53,161],[54,38,54,45],[54,46,54,53],[54,56,54,63],[54,64,54,71],[54,72,54,78],[54,83,54,90],[54,91,54,98],[54,99,54,107],[54,110,54,117],[51,99,53,107],[51,110,53,117],[51,118,53,125],[51,126,53,134],[51,137,53,144],[51,145,53,152],[54,118,54,125],[54,126,54,134],[54,137,54,144],[54,145,54,152],[54,153,54,161],[51,1,53,37],[51,38,53,45],[51,46,53,53],[51,56,53,63],[51,64,53,71],[51,72,53,80],[51,83,53,90],[51,91,53,98],[48,91,50,98],[48,1,50,37],[48,38,50,45],[48,46,50,53],[48,56,50,63],[48,64,50,71],[48,72,50,80],[48,83,50,90],[48,145,50,152],[48,153,50,161],[48,99,50,107],[48,110,50,117],[48,118,50,125],[48,126,50,134],[48,137,50,144],[42,137,44,161],[45,38,47,45],[45,46,47,53],[45,56,47,63],[45,64,47,71],[45,72,47,80],[45,83,47,90],[45,91,47,98],[45,99,47,107],[45,110,47,117],[45,137,47,144],[45,145,47,152],[45,153,47,161],[37,110,39,120],[42,1,47,37],[42,38,44,53],[42,56,44,80],[42,83,44,107],[42,110,44,134],[45,118,47,125],[45,126,47,134],[32,41,33,77],[37,1,39,16],[37,17,39,52],[37,54,39,82],[37,84,39,90],[37,92,39,108],[26,27,27,35],[26,41,27,114],[26,213,29,219],[29,4,30,22],[29,27,30,35],[29,41,30,77],[29,85,30,114],[29,117,32,130],[29,132,33,160],[31,85,32,114],[32,4,33,15],[32,17,33,35],[18,213,20,215],[18,219,20,221],[22,73,25,115],[22,182,24,193],[22,197,24,208],[22,213,24,215],[22,219,24,221],[1,19,4,136],[4,170,139,175],[5,19,8,136],[9,15,12,136],[12,182,15,193],[12,213,15,215],[13,15,16,136],[17,1,20,63],[18,182,20,193],[18,197,20,208],[23,2,24,19],[23,21,24,35],[23,37,24,57],[23,58,24,72],[23,117,26,130],[23,132,26,160],[26,4,27,22]]}
[]
[null,null,null,null,null,null,null,null,null,null,null,null,null,null,null,null,null,null,null,"Attachment E - HOME Fair Housing Demographic Analysis*"]
[]
[]
[null,null,null,null,null,null,null,null,null,null,null,null,null,null,null,null,null,null,null,null,null,null,null,null,null,null,null,null,null,null,null,null,null,null,null,null,null,null,null,null,null,null,null,null,null,null,null,null,null,null,null,null,null,null,null,null,null,null,null,null,null,null,null,null,null,null,null,null,null,null,null,null,null,null,null,null,null,null,null,null,null,null,null,null,null,null,null,null,null,null,null,null,null,null,null,null,null,null,null,null,null,null,null,null,null,null,null,null,null,null,null,null,null,null,null,null,null,null,null,null,null,null,null,null,null,null,null,null,null,null,null,null,null,null,null,null,null,null,null,null,null,null,null,null,null,null,null,null,null,null,null,null,null,null,null,null,null,null,null,null,null,null,null,null,null,null,null,null,null,null,"PAGE 1"]
[null,null,null,null,null,null,null,null,null,null,null,null,null,null,null,null,null,null,null,"HOME Annual Performance Report"]
[]
[]
[]
[null,null,null,null,null,null,null,null,null,null,null,null,null,null,null,"Reporting Period July 1, 2023 through June 30, 2024"]
[]
[]
[null,null,null,null,null,null,null,null,null,null,null,null,null,null,null,null,null,null,null,null,null,null,null,null,null,null,null,null,null,null,null,null,null,null,null,null,null,null,null,null,null,null,null,null,null,null,null,null,null,null,null,null,null,null,null,null,null,null,null,null,null,null,null,null,null,null,null,null,null,null,null,null,null,null,null,null,null,null,null,null,null,null,null,null,null,null,null,null,null,null,null,null,null,null,null,null,null,null,null,null,null,null,null,null,null,null,null,null,null,null,null,null,null,null,null,null,null,null,null,null,null,null,null,null,null,null,null,null,null,null,null,null,null,null,null,null,null,null,null,null,null,null,null,null,null,null,null,null,null,null,null,null,null,null,null,null,null,null,null,null,null,null,null,null,null,null,null,null,null,null,null,null,null,null,null,null,null,null,null,null,null,null,false,null,null,null,null,null,null,null,null,null,null,null,null,null,null,null,null,null,null,null,null,null,null,null,null,null,null,null,null,null,null,{"$f":"IF(GA13=TRUE,1,0)","v":0}]
[]
[]
[]
[]
[null,"Jurisdiction Name"]
[null,null,null,null,null,null,null,null,null,null,null,null,null,null,null,null,null,null,null,null,null,null,null,null,null,null,null,null,null,null,null,null,null,null,null,null,null,null,null,null,null,null,null,null,null,null,null,null,null,null,null,null,null,null,null,null,null,null,null,null,null,null,null,null,null,null,null,null,null,null,null,null,null,null,null,null,null,null,null,null,null,null,null,null,null,null,null,null,null,null,null,null,null,null,null,null,null,null,null,null,null,null,null,null,null,null,null,null,null,null,null,null,null,null,null,null,null,null,null,null,null,null,null,null,null,null,null,null,null,null,null,null,null,null,null,null,null,null,null,null,null,null,null,null,null,null,null,null,null,null,null,null,null,null,null,null,null,null,null,null,null,null,null,null,null,null,null,null,null,null,null,null,null,null,null,null,null,null,null,null,null,null,false,null,null,null,null,null,null,null,null,null,null,null,null,null,null,false,null,null,null,null,null,null,null,null,null,null,null,null,null,null,null,{"$f":"IF(GA19=TRUE,1,0)","v":0},null,null,null,null,null,{"$f":"IF(GP19=TRUE,1,0)","v":0}]
[]
[]
[]
[null,null,null,null,null,null,null,null,null,null,null,null,null,null,null,null,null,null,null,null,null,null,null,null,null,null,null,null,null,null,null,null,null,null,null,null,null,null,null,null,null,null,null,null,null,null,null,null,null,null,null,null,null,null,null,null,null,null,null,null,null,null,null,null,null,null,null,null,null,null,null,null,null,{"$f":"IF(HF27>1,\"Please use another form (Att E) to complete additional HOME activity\",\"\")","v":""},null,null,null,null,null,null,null,null,null,null,null,null,null,null,null,null,null,null,null,null,null,null,null,null,null,null,null,null,null,null,null,null,null,null,null,null,null,null,null,null,null,null,null,null,null,null,null,null,null,null,null,null,null,null,null,null,null,null,null,null,null,null,null,null,null,null,null,null,null,null,null,null,null,null,null,null,null,null,null,null,null,null,null,null,null,null,null,null,null,null,null,null,null,null,null,null,null,null,null,null,null,null,null,null,null,null,null,null,false,null,null,null,null,null,null,null,null,null,null,null,null,null,null,false,null,null,null,null,null,null,null,null,null,null,null,null,null,null,null,{"$f":"IF(GA23=TRUE,1,0)","v":0},null,null,null,null,null,{"$f":"IF(GP23=TRUE,1,0)","v":0}]
[null,null,"Funding Source(s)",null,null,null,null,null,null,null,null,null,null,null,null,null,null,null,null,null,null,"(Check all that apply)",null,null,null,null,null,null,null,null,null,null,null,null,null,null,null,"HOME Program Activities ",null,null,null,null,null,null,null,null,null,null,null,null,null,null,null,null,null,null,null,null,"(1 form per activity)",null,null,null,null,null,null,null,null,null,null,null,null,null,null,null,null,null,null,null,null,null,null,null,null,null,null,null,null,null,null,null,null,null,null,null,null,null,null,null,null,null,null,null,null,null,null,null,null,null,null,null,null,null,null,null,null,null,null,"Contract #"]
[]
[]
[null,null,null,null,"HOME Std. Agreement",null,null,null,null,null,null,null,null,null,null,null,null,null,null,null,null,null,null,null,null,null,null,"HOME PI",null,null,null,null,null,null,null,null,null,null,null,null,null,"First-Time Homebuyer (Acquisition Only or Acquisition with Rehab)",null,null,null,null,null,null,null,null,null,null,null,null,null,null,null,null,null,null,null,null,null,null,null,null,null,null,null,null,null,null,null,null,null,null,null,null,null,null,null,null,null,null,null,null,null,null,null,null,null,null,null,null,null,null,null,null,null,null,null,null,null,null,null,null,null,null,null,null,null,null,null,null,null,null,null,null,null,null,null,null,null,null,null,null,null,null,null,null,null,null,null,null,null,null,null,null,null,null,null,null,null,null,null,null,null,null,null,null,null,null,null,null,null,null,null,null,null,null,null,null,null,null,null,null,null,null,null,null,null,null,null,null,null,null,null,null,null,null,null,null,null,null,null,null,null,null,null,null,null,null,null,null,null,null,null,null,null,null,null,null,null,null,null,null,null,null,null,null,null,null,null,{"$f":"HF13+HF19+HF23+HL19+HL23","v":0}]
[]
[]
[null,null,null,null,"CDBG Std. Agreement",null,null,null,null,null,null,null,null,null,null,null,null,null,null,null,null,null,null,null,null,null,null,"CDBG PI",null,null,null,null,null,null,null,null,null,null,null,null,null,"First-Time Homebuyer Infill Construction",null,null,null,null,null,null,null,null,null,null,null,null,null,null,null,null,null,null,null,null,null,null,null,null,null,null,null,null,null,null,null,null,null,null,null,null,null,null,null,null,null,null,null,"Tenant-Based Rental Assistance ",null,null,null,null,null,null,null,null,null,null,null,null,null,null,null,null,null,null,null,null,null,null,null,null,null,null,null,null,null,null,null,"Activity Name"]
[]
[null,null,null,null,null,null,null,null,null,null,null,null,null,null,null,null,null,null,null,null,null,null,null,null,null,null,null,null,null,null,null,null,null,null,null,null,null,null,null,null,null,null,null,null,null,null,null,null,null,null,null,null,null,null,null,null,null,null,null,null,null,null,null,null,null,null,null,null,null,null,null,null,null,null,null,null,null,null,null,null,null,null,null,null,null,"Program"]
[null,null,null,null," Other (Specify)",null,null,null,null,null,null,null,null,null,null,null,null,null,null,null,null,null,null,null,null,null,null,null,null,null,null,null,null,null,null,null,null,null,null,null,null,"Owner-Occupied Rehab Program"]
[]
[]
[]
[]
[null,"Geographic Area",null,null,null,null,null,null,null,null,null,null,null,null,null,null,null,{"$f":"'E Data 2'!D4","v":"Select a Jurisdiction"},null,null,null,null,null,null,null,null,null,null,null,null,null,null,null,null,null,null,null,null,null,null,null,null,null,null,null,null,null,null,null,null,null,null,null,null,"Census Data Geographic Area",null,null,null,null,null,null,null,null,null,null,null,null,null,null,null,null,null,null,null,null,null,null,null,null,null,null,null,null,null,{"$f":"IF('E Data 2'!D3=0,\"\",'E Data 2'!D3)","v":""},null,null,null,null,null,null,null,"Total Population",null,null,null,null,null,null,null,null,null,null,null,null,null,null,null,null,null,{"$f":"IF('E Data 2'!B18=0,\"\",'E Data 2'!B18)","v":""}]
[]
[null,null,null,null,null,null,null,null,null,null,null,null,null,null,null,null,null,null,null,null,null,null,null,null,null,null,null,null,null,null,null,null,null,null,null,null,null,null,null,null,null,null,null,null,null,null,null,null,null,null,null,null,null,null,null,null,null,null,null,null,null,null,null,null,null,null,null,null,null,null,null,null,null,null,null,null,null,null,null,null,null,null,null,null,null,null,null,null,null,null,null,null,null,null,null,null,null,null,null,null,null,null,null,null,null,null,null,null,null,null,null,null,null,null,null,null,null,null,null,null,null,null,null,null,null,null,null,null,null,null,null,null,null,null,null,null,null,null,null,null,null,null,null,null,null,null,null,null,null,null,null,null,null,null,null,null,null,null,null,null,null,null,null,null,null,null,null,null,null,null,null,null,null,null,null,null,null,null,null,null,null,null,null,null,null,null,null,null,null,null,null,null,null,null,null,null,null,null,null,null,null,0.1]
[null,null,null,null,null,null,null,null,null,null,null,null,null,null,null,null,null,null,null,null,null,null,null,null,null,null,null,null,null,null,null,null,null,null,null,null,null,null,null,null,null,null,null,null,null,null,null,null,null,null,null,null,null,null,null,null,null,null,null,null,null,null,null,null,null,null,null,null,null,null,null,null,null,null,null,null,null,null,null,null,null,null,null,null,null,null,null,null,null,null,null,null,null,null,null,null,null,null,null,null,null,null,null,null,null,null,null,null,null,null,null,null,null,null,null,null,null,null,null,null,null,null,null,null,null,null,null,null,null,null,null,null,null,null,null,null,null,null,null,null,null,null,null,null,null,null,null,null,null,null,null,null,null,null,null,null,null,null,null,null,null,null,null,null,null,null,null,null,null,null,null,null,null,null,null,null,null,null,null,null,null,null,null,null,null,null,null,null,null,null,null,null,null,null,null,null,null,null,null,null,null,-0.1]
[]
[null,"Ethnic Categories",null,null,null,null,null,null,null,null,null,null,null,null,null,null,null,null,null,null,null,null,null,null,null,null,null,null,null,null,null,null,null,null,null,null,null,null,"Census",null,null,null,null,null,null,null,null,null,null,null,null,null,null,null,null,null,"Applicants",null,null,null,null,null,null,null,null,null,null,null,null,null,null,null,null,null,null,null,null,null,null,null,null,null,null,"Beneficiaries",null,null,null,null,null,null,null,null,null,null,null,null,null,null,null,null,null,null,null,null,null,null,null,null,null,null,"Rejected Applicants",null,null,null,null,null,null,null,null,null,null,null,null,null,null,null,null,null,null,null,null,null,null,null,null,null,null,"Waiting List"]
[]
[]
[null,null,null,null,null,null,null,null,null,null,null,null,null,null,null,null,null,null,null,null,null,null,null,null,null,null,null,null,null,null,null,null,null,null,null,null,null,null,"#",null,null,null,null,null,null,null,"%",null,null,null,null,null,null,null,null,null,"#",null,null,null,null,null,null,null,"%",null,null,null,null,null,null,null,"Difference",null,null,null,null,null,null,null,null,null,null,"#",null,null,null,null,null,null,null,"%",null,null,null,null,null,null,null,"Difference",null,null,null,null,null,null,null,null,null,null,"#",null,null,null,null,null,null,null,"%",null,null,null,null,null,null,null,"Difference",null,null,null,null,null,null,null,null,null,null,"#",null,null,null,null,null,null,null,"%",null,null,null,null,null,null,null,"Difference"]
[]
[]
[null,"Hispanic or Latino",null,null,null,null,null,null,null,null,null,null,null,null,null,null,null,null,null,null,null,null,null,null,null,null,null,null,null,null,null,null,null,null,null,null,null,null,{"$f":"IF('E Data 2'!D3=0,\"\",'E Data 2'!B2)","v":""},null,null,null,null,null,null,null,{"$f":"IF(AM49=\"\",\"\",AM49/DG38)","v":""},null,null,null,null,null,null,null,null,null,null,null,null,null,null,null,null,null,{"$f":"IF(BE49=\"\",\"\",IF(BE49+BE52<1,0,BE49/(BE52+BE49)))","v":""},null,null,null,null,null,null,null,{"$f":"IF(OR(SUM(BE49:BL54)=\"\",SUM(BE49:BL54)=0),0,BM49-AU49)","v":0},null,null,null,null,null,null,null,null,null,null,null,null,null,null,null,null,null,null,{"$f":"IF(CF49=\"\",\"\",IF(CF49+CF52<1,0,CF49/(CF49+CF52)))","v":""},null,null,null,null,null,null,null,{"$f":"IF(OR(SUM(CF49:CM54)=\"\",SUM(CF49:CM54)=0),0,CN49-AU49)","v":0},null,null,null,null,null,null,null,null,null,null,null,null,null,null,null,null,null,null,{"$f":"IF(DG49=\"\",\"\",IF(DG49+DG52<1,0,DG49/(DG52+DG49)))","v":""},null,null,null,null,null,null,null,{"$f":"IF(OR(SUM(DG49:DN54)=\"\",SUM(DG49:DN54)=0),0,DO49-AU49)","v":0},null,null,null,null,null,null,null,null,null,null,null,null,null,null,null,null,null,null,{"$f":"IF(EH49=\"\",\"\",IF(EH49+EH52<1,0,EH49/(EH52+EH49)))","v":""},null,null,null,null,null,null,null,{"$f":"IF(OR(SUM(EH49:EO54)=\"\",SUM(EH49:EO54)=0),0,EP49-AU49)","v":0}]
[]
[]
[null,"Not Hispanic or Latino",null,null,null,null,null,null,null,null,null,null,null,null,null,null,null,null,null,null,null,null,null,null,null,null,null,null,null,null,null,null,null,null,null,null,null,null,{"$f":"IF('E Data 2'!D3=0,\"\",'E Data 2'!B3)","v":""},null,null,null,null,null,null,null,{"$f":"IF(AM52=\"\",\"\",AM52/DG38)","v":""},null,null,null,null,null,null,null,null,null,null,null,null,null,null,null,null,null,{"$f":"IF(BE52=\"\",\"\",IF(BE49+BE52<1,0,BE52/(BE52+BE49)))","v":""},null,null,null,null,null,null,null,{"$f":"IF(OR(SUM(BE49:BL54)=\"\",SUM(BE49:BL54)=0),0,BM52-AU52)","v":0},null,null,null,null,null,null,null,null,null,null,null,null,null,null,null,null,null,null,{"$f":"IF(CF52=\"\",\"\",IF(CF49+CF52<1,0,CF52/(CF49+CF52)))","v":""},null,null,null,null,null,null,null,{"$f":"IF(OR(SUM(CF49:CM54)=\"\",SUM(CF49:CM54)=0),0,CN52-AU52)","v":0},null,null,null,null,null,null,null,null,null,null,null,null,null,null,null,null,null,null,{"$f":"IF(DG52=\"\",\"\",IF(DG49+DG52<1,0,DG52/(DG52+DG49)))","v":""},null,null,null,null,null,null,null,{"$f":"IF(OR(SUM(DG49:DN54)=\"\",SUM(DG49:DN54)=0),0,DO52-AU52)","v":0},null,null,null,null,null,null,null,null,null,null,null,null,null,null,null,null,null,null,{"$f":"IF(EH52=\"\",\"\",IF(EH49+EH52<1,0,EH52/(EH52+EH49)))","v":""},null,null,null,null,null,null,null,{"$f":"IF(OR(SUM(EH49:EO54)=\"\",SUM(EH49:EO54)=0),0,EP52-AU52)","v":0}]
[]
[]
[null,null,null,null,null,null,null,null,null,null,null,null,null,null,null,null,null,null,null,null,null,null,null,null,null,null,null,null,null,null,null,null,null,null,null,null,null,null,"AM",null,null,null,null,null,null,null,"AU",null,null,null,null,null,null,null,null,null,"BE",null,null,null,null,null,null,null,"BM",null,null,null,null,null,null,null,"BU",null,null,null,null,null,null,-0.1,0.1,null,null,"CF",null,null,null,null,null,null,null,"CN",null,null,null,null,null,null,null,"CV",null,null,null,null,null,null,null,null,null,null,"DG",null,null,null,null,null,null,null,"DO",null,null,null,null,null,null,null,"DW",null,null,null,null,null,null,null,null,null,null,"EH",null,null,null,null,null,null,null,"EP",null,null,null,null,null,null,null,"EX"]
[null,"Racial Categories",null,null,null,null,null,null,null,null,null,null,null,null,null,null,null,null,null,null,null,null,null,null,null,null,null,null,null,null,null,null,null,null,null,null,null,null,"Census",null,null,null,null,null,null,null,null,null,null,null,null,null,null,null,null,null,"Applicants",null,null,null,null,null,null,null,null,null,null,null,null,null,null,null,null,null,null,null,null,null,null,null,null,null,null,"Beneficiaries",null,null,null,null,null,null,null,null,null,null,null,null,null,null,null,null,null,null,null,null,null,null,null,null,null,null,"Rejected Applicants",null,null,null,null,null,null,null,null,null,null,null,null,null,null,null,null,null,null,null,null,null,null,null,null,null,null,"Waiting List"]
[]
[]
[null,null,null,null,null,null,null,null,null,null,null,null,null,null,null,null,null,null,null,null,null,null,null,null,null,null,null,null,null,null,null,null,null,null,null,null,null,null,"#",null,null,null,null,null,null,null,"%",null,null,null,null,null,null,null,null,null,"#",null,null,null,null,null,null,null,"%",null,null,null,null,null,null,null,"Difference",null,null,null,null,null,null,null,null,null,null,"#",null,null,null,null,null,null,null,"%",null,null,null,null,null,null,null,"Difference",null,null,null,null,null,null,null,null,null,null,"#",null,null,null,null,null,null,null,"%",null,null,null,null,null,null,null,"Difference",null,null,null,null,null,null,null,null,null,null,"#",null,null,null,null,null,null,null,"%",null,null,null,null,null,null,null,"Difference"]
[]
[]
[null,"American Indian or Alaskan Native",null,null,null,null,null,null,null,null,null,null,null,null,null,null,null,null,null,null,null,null,null,null,null,null,null,null,null,null,null,null,null,null,null,null,null,null,{"$f":"IF('E Data 2'!D3=0,\"\",'E Data 2'!B4)","v":""},null,null,null,null,null,null,null,{"$f":"IF(AM62=\"\",\"\",AM62/DG38)","v":""},null,null,null,null,null,null,null,null,null,null,null,null,null,null,null,null,null,{"$f":"IF(BE62=\"\",\"\",IF(BE62+BE65+BE68+BE71+BE74+BE77<1,0,BE62/(BE65+BE62+BE68+BE71+BE74+BE77)))","v":""},null,null,null,null,null,null,null,{"$f":"IF(OR(SUM(BE62:BL79)=\"\",SUM(BE62:BL79)=0),0,BM62-AU62)","v":0},null,null,null,null,null,null,null,null,null,null,null,null,null,null,null,null,null,null,{"$f":"IF(CF62=\"\",\"\",IF(CF62+CF65+CF68+CF71+CF74+CF77<1,0,CF62/(CF65+CF62+CF68+CF71+CF74+CF77)))","v":""},null,null,null,null,null,null,null,{"$f":"IF(OR(SUM(CF62:CM79)=\"\",SUM(CF62:CM79)=0),0,CN62-AU62)","v":0},null,null,null,null,null,null,null,null,null,null,null,null,null,null,null,null,null,null,{"$f":"IF(DG62=\"\",\"\",IF(DG62+DG65+DG68+DG71+DG74+DG77<1,0,DG62/(DG65+DG62+DG68+DG71+DG74+DG77)))","v":""},null,null,null,null,null,null,null,{"$f":"IF(OR(SUM(DG62:DN79)=\"\",SUM(DG62:DN79)=0),0,DO62-AU62)","v":0},null,null,null,null,null,null,null,null,null,null,null,null,null,null,null,null,null,null,{"$f":"IF(EH62=\"\",\"\",IF(EH62+EH65+EH68+EH71+EH74+EH77<1,0,EH62/(EH65+EH62+EH68+EH71+EH74+EH77)))","v":""},null,null,null,null,null,null,null,{"$f":"IF(OR(SUM(EH62:EO79)=\"\",SUM(EH62:EO79)=0),0,EP62-AU62)","v":0}]
[]
[]
[null,"Asian",null,null,null,null,null,null,null,null,null,null,null,null,null,null,null,null,null,null,null,null,null,null,null,null,null,null,null,null,null,null,null,null,null,null,null,null,{"$f":"IF('E Data 2'!D3=0,\"\",'E Data 2'!B19)","v":""},null,null,null,null,null,null,null,{"$f":"IF(AM65=\"\",\"\",AM65/DG38)","v":""},null,null,null,null,null,null,null,null,null,null,null,null,null,null,null,null,null,{"$f":"IF(BE65=\"\",\"\",IF(BE62+BE65+BE68+BE71+BE74+BE77<1,0,BE65/(BE68+BE65+BE62+BE71+BE74+BE77)))","v":""},null,null,null,null,null,null,null,{"$f":"IF(OR(SUM(BE62:BL79)=\"\",SUM(BE62:BL79)=0),0,BM65-$AU$65)","v":0},null,null,null,null,null,null,null,null,null,null,null,null,null,null,null,null,null,null,{"$f":"IF(CF65=\"\",\"\",IF(CF62+CF65+CF68+CF71+CF74+CF77<1,0,CF65/(CF68+CF65+CF62+CF71+CF74+CF77)))","v":""},null,null,null,null,null,null,null,{"$f":"IF(OR(SUM(CF62:CM79)=\"\",SUM(CF62:CM79)=0),0,CN65-AU65)","v":0},null,null,null,null,null,null,null,null,null,null,null,null,null,null,null,null,null,null,{"$f":"IF(DG65=\"\",\"\",IF(DG62+DG65+DG68+DG71+DG74+DG77<1,0,DG65/(DG68+DG65+DG62+DG71+DG74+DG77)))","v":""},null,null,null,null,null,null,null,{"$f":"IF(OR(SUM(DG62:DN79)=\"\",SUM(DG62:DN79)=0),0,DO65-AU65)","v":0},null,null,null,null,null,null,null,null,null,null,null,null,null,null,null,null,null,null,{"$f":"IF(EH65=\"\",\"\",IF(EH62+EH65+EH68+EH71+EH74+EH77<1,0,EH65/(EH68+EH65+EH62+EH71+EH74+EH77)))","v":""},null,null,null,null,null,null,null,{"$f":"IF(OR(SUM(EH62:EO79)=\"\",SUM(EH62:EO79)=0),0,EP65-AU65)","v":0}]
[]
[]
[null,"Black or African American",null,null,null,null,null,null,null,null,null,null,null,null,null,null,null,null,null,null,null,null,null,null,null,null,null,null,null,null,null,null,null,null,null,null,null,null,{"$f":"IF('E Data 2'!D3=0,\"\",'E Data 2'!B5)","v":""},null,null,null,null,null,null,null,{"$f":"IF(AM68=\"\",\"\",AM68/DG38)","v":""},null,null,null,null,null,null,null,null,null,null,null,null,null,null,null,null,null,{"$f":"IF(BE68=\"\",\"\",IF(BE62+BE65+BE68+BE71+BE74+BE77<1,0,BE68/(BE71+BE68+BE62+BE65+BE74+BE77)))","v":""},null,null,null,null,null,null,null,{"$f":"IF(OR(SUM(BE62:BL79)=\"\",SUM(BE62:BL79)=0),0,BM68-AU68)","v":0},null,null,null,null,null,null,null,null,null,null,null,null,null,null,null,null,null,null,{"$f":"IF(CF68=\"\",\"\",IF(CF62+CF65+CF68+CF71+CF74<1,0,CF68/(CF71+CF68+CF62+CF65+CF74+CF77)))","v":""},null,null,null,null,null,null,null,{"$f":"IF(OR(SUM(CF62:CM79)=\"\",SUM(CF62:CM79)=0),0,CN68-AU68)","v":0},null,null,null,null,null,null,null,null,null,null,null,null,null,null,null,null,null,null,{"$f":"IF(DG68=\"\",\"\",IF(DG62+DG65+DG68+DG71+DG74+DG77<1,0,DG68/(DG71+DG68+DG62+DG65+DG74+DG77)))","v":""},null,null,null,null,null,null,null,{"$f":"IF(OR(SUM(DG62:DN79)=\"\",SUM(DG62:DN79)=0),0,DO68-AU68)","v":0},null,null,null,null,null,null,null,null,null,null,null,null,null,null,null,null,null,null,{"$f":"IF(EH68=\"\",\"\",IF(EH62+EH65+EH68+EH71+EH74+EH77<1,0,EH68/(EH71+EH68+EH62+EH65+EH74+EH77)))","v":""},null,null,null,null,null,null,null,{"$f":"IF(OR(SUM(EH62:EO79)=\"\",SUM(EH62:EO79)=0),0,EP68-AU68)","v":0}]
[]
[]
[null,"Native Hawaiian or Other Pacific Islander",null,null,null,null,null,null,null,null,null,null,null,null,null,null,null,null,null,null,null,null,null,null,null,null,null,null,null,null,null,null,null,null,null,null,null,null,{"$f":"IF('E Data 2'!D3=0,\"\",'E Data 2'!B6)","v":""},null,null,null,null,null,null,null,{"$f":"IF(AM71=\"\",\"\",AM71/DG38)","v":""},null,null,null,null,null,null,null,null,null,null,null,null,null,null,null,null,null,{"$f":"IF(BE71=\"\",\"\",IF(BE62+BE65+BE68+BE71+BE74+BE77<1,0,BE71/(BE74+BE71+BE68+BE65+BE62+BE77)))","v":""},null,null,null,null,null,null,null,{"$f":"IF(OR(SUM(BE62:BL79)=\"\",SUM(BE62:BL79)=0),0,BM71-AU71)","v":0},null,null,null,null,null,null,null,null,null,null,null,null,null,null,null,null,null,null,{"$f":"IF(CF71=\"\",\"\",IF(CF62+CF65+CF68+CF71+CF74+CF77<1,0,CF71/(CF74+CF71+CF68+CF65+CF62+CF77)))","v":""},null,null,null,null,null,null,null,{"$f":"IF(OR(SUM(CF62:CM79)=\"\",SUM(CF62:CM79)=0),0,CN71-AU71)","v":0},null,null,null,null,null,null,null,null,null,null,null,null,null,null,null,null,null,null,{"$f":"IF(DG71=\"\",\"\",IF(DG62+DG65+DG68+DG71+DG74+DG77<1,0,DG71/(DG74+DG71+DG68+DG65+DG62+DG77)))","v":""},null,null,null,null,null,null,null,{"$f":"IF(OR(SUM(DG62:DN79)=\"\",SUM(DG62:DN79)=0),0,DO71-AU71)","v":0},null,null,null,null,null,null,null,null,null,null,null,null,null,null,null,null,null,null,{"$f":"IF(EH71=\"\",\"\",IF(EH62+EH65+EH68+EH71+EH74+EH77<1,0,EH71/(EH74+EH71+EH68+EH65+EH62+EH77)))","v":""},null,null,null,null,null,null,null,{"$f":"IF(OR(SUM(EH62:EO79)=\"\",SUM(EH62:EO79)=0),0,EP71-AU71)","v":0}]
[]
[]
[null,"White Alone",null,null,null,null,null,null,null,null,null,null,null,null,null,null,null,null,null,null,null,null,null,null,null,null,null,null,null,null,null,null,null,null,null,null,null,null,{"$f":"IF('E Data 2'!D3=0,\"\",'E Data 2'!B7)","v":""},null,null,null,null,null,null,null,{"$f":"IF(AM74=\"\",\"\",AM74/DG38)","v":""},null,null,null,null,null,null,null,null,null,null,null,null,null,null,null,null,null,{"$f":"IF(BE74=\"\",\"\",IF(BE62+BE65+BE68+BE71+BE74+BE77<1,0,BE74/(BE77+BE74+BE62+BE65+BE68+BE71)))","v":""},null,null,null,null,null,null,null,{"$f":"IF(OR(SUM(BE62:BL79)=\"\",SUM(BE62:BL79)=0),0,BM74-AU74)","v":0},null,null,null,null,null,null,null,null,null,null,null,null,null,null,null,null,null,null,{"$f":"IF(CF74=\"\",\"\",IF(CF62+CF65+CF68+CF71+CF74+CF77<1,0,CF74/(CF77+CF74+CF62+CF65+CF68+CF71)))","v":""},null,null,null,null,null,null,null,{"$f":"IF(OR(SUM(CF62:CM79)=\"\",SUM(CF62:CM79)=0),0,CN74-AU74)","v":0},null,null,null,null,null,null,null,null,null,null,null,null,null,null,null,null,null,null,{"$f":"IF(DG74=\"\",\"\",IF(DG62+DG65+DG68+DG71+DG74+DG77<1,0,DG74/(DG77+DG74+DG62+DG65+DG68+DG71)))","v":""},null,null,null,null,null,null,null,{"$f":"IF(OR(SUM(DG62:DN79)=\"\",SUM(DG62:DN79)=0),0,DO74-$AU$74)","v":0},null,null,null,null,null,null,null,null,null,null,null,null,null,null,null,null,null,null,{"$f":"IF(EH74=\"\",\"\",IF(EH62+EH65+EH68+EH71+EH74+EH77<1,0,EH74/(EH77+EH74+EH62+EH65+EH68+EH71)))","v":""},null,null,null,null,null,null,null,{"$f":"IF(OR(SUM(EH62:EO79)=\"\",SUM(EH62:EO79)=0),0,EP74-AU74)","v":0}]
[]
[]
[null,"Other",null,null,null,null,null,null,null,null,null,null,null,null,null,null,null,null,null,null,null,null,null,null,null,null,null,null,null,null,null,null,null,null,null,null,null,null,{"$f":"IF('E Data 2'!D3=0,\"\",'E Data 2'!B8)","v":""},null,null,null,null,null,null,null,{"$f":"IF(AM77=\"\",\"\",AM77/DG38)","v":""},null,null,null,null,null,null,null,null,null,null,null,null,null,null,null,null,null,{"$f":"IF(BE77=\"\",\"\",IF(BE62+BE65+BE68+BE71+BE74+BE77<1,0,BE77/(BE77+BE74+BE71+BE68+BE65+BE62)))","v":""},null,null,null,null,null,null,null,{"$f":"IF(OR(SUM(BE62:BL79)=\"\",SUM(BE62:BL79)=0),0,BM77-AU77)","v":0},null,null,null,null,null,null,null,null,null,null,null,null,null,null,null,null,null,null,{"$f":"IF(CF77=\"\",\"\",IF(CF62+CF65+CF68+CF71+CF74+CF77<1,0,CF77/(CF77+CF74+CF71+CF68+CF65+CF62)))","v":""},null,null,null,null,null,null,null,{"$f":"IF(OR(SUM(CF62:CM79)=\"\",SUM(CF62:CM79)=0),0,CN77-AU77)","v":0},null,null,null,null,null,null,null,null,null,null,null,null,null,null,null,null,null,null,{"$f":"IF(DG77=\"\",\"\",IF(DG62+DG65+DG68+DG71+DG74+DG77<1,0,DG77/(DG77+DG74+DG71+DG68+DG65+DG62)))","v":""},null,null,null,null,null,null,null,{"$f":"IF(OR(SUM(DG62:DN79)=\"\",SUM(DG62:DN79)=0),0,DO77-AU77)","v":0},null,null,null,null,null,null,null,null,null,null,null,null,null,null,null,null,null,null,{"$f":"IF(EH77=\"\",\"\",IF(EH62+EH65+EH68+EH71+EH74+EH77<1,0,EH77/(EH77+EH74+EH71+EH68+EH65+EH62)))","v":""},null,null,null,null,null,null,null,{"$f":"IF(OR(SUM(EH62:EO79)=\"\",SUM(EH62:EO79)=0),0,EP77-AU77)","v":0}]
[]
[]
[]
[null,"Gender",null,null,null,null,null,null,null,null,null,null,null,null,null,null,null,null,null,null,null,null,null,null,null,null,null,null,null,null,null,null,null,null,null,null,null,null,"Census",null,null,null,null,null,null,null,null,null,null,null,null,null,null,null,null,null,"Applicants",null,null,null,null,null,null,null,null,null,null,null,null,null,null,null,null,null,null,null,null,null,null,null,null,null,null,"Beneficiaries",null,null,null,null,null,null,null,null,null,null,null,null,null,null,null,null,null,null,null,null,null,null,null,null,null,null,"Rejected Applicants",null,null,null,null,null,null,null,null,null,null,null,null,null,null,null,null,null,null,null,null,null,null,null,null,null,null,"Waiting List"]
[]
[]
[null,null,null,null,null,null,null,null,null,null,null,null,null,null,null,null,null,null,null,null,null,null,null,null,null,null,null,null,null,null,null,null,null,null,null,null,null,null,"#",null,null,null,null,null,null,null,"%",null,null,null,null,null,null,null,null,null,"#",null,null,null,null,null,null,null,"%",null,null,null,null,null,null,null,"Difference",null,null,null,null,null,null,null,null,null,null,"#",null,null,null,null,null,null,null,"%",null,null,null,null,null,null,null,"Difference",null,null,null,null,null,null,null,null,null,null,"#",null,null,null,null,null,null,null,"%",null,null,null,null,null,null,null,"Difference",null,null,null,null,null,null,null,null,null,null,"#",null,null,null,null,null,null,null,"%",null,null,null,null,null,null,null,"Difference"]
[]
[]
[null,"Female",null,null,null,null,null,null,null,null,null,null,null,null,null,null,null,null,null,null,null,null,null,null,null,null,null,null,null,null,null,null,null,null,null,null,null,null,{"$f":"IF('E Data 2'!D3=0,\"\",'E Data 2'!B9)","v":""},null,null,null,null,null,null,null,{"$f":"IF(AM87=\"\",\"\",AM87/DG38)","v":""},null,null,null,null,null,null,null,null,null,null,null,null,null,null,null,null,null,{"$f":"IF(BE87=\"\",\"\",IF(BE87+BE90<1,0,BE87/(BE90+BE87)))","v":""},null,null,null,null,null,null,null,{"$f":"IF(OR(SUM(BE87:BL92)=\"\",SUM(BE87:BL92)=0),0,BM87-AU87)","v":0},null,null,null,null,null,null,null,null,null,null,null,null,null,null,null,null,null,null,{"$f":"IF(CF87=\"\",\"\",IF(CF87+CF90<1,0,CF87/(CF87+CF90)))","v":""},null,null,null,null,null,null,null,{"$f":"IF(OR(SUM(CF87:CM92)=\"\",SUM(CF87:CM92)=0),0,CN87-AU87)","v":0},null,null,null,null,null,null,null,null,null,null,null,null,null,null,null,null,null,null,{"$f":"IF(DG87=\"\",\"\",IF(DG87+DG90<1,0,DG87/(DG90+DG87)))","v":""},null,null,null,null,null,null,null,{"$f":"IF(OR(SUM(DG87:DN92)=\"\",SUM(DG87:DN92)=0),0,DO87-AU87)","v":0},null,null,null,null,null,null,null,null,null,null,null,null,null,null,null,null,null,null,{"$f":"IF(EH87=\"\",\"\",IF(EH87+EH90<1,0,EH87/(EH90+EH87)))","v":""},null,null,null,null,null,null,null,{"$f":"IF(OR(SUM(EH87:EO92)=\"\",SUM(EH87:EO92)=0),0,EP87-AU87)","v":0}]
[]
[]
[null,"Male",null,null,null,null,null,null,null,null,null,null,null,null,null,null,null,null,null,null,null,null,null,null,null,null,null,null,null,null,null,null,null,null,null,null,null,null,{"$f":"IF('E Data 2'!D3=0,\"\",'E Data 2'!B10)","v":""},null,null,null,null,null,null,null,{"$f":"IF(AM90=\"\",\"\",AM90/DG38)","v":""},null,null,null,null,null,null,null,null,null,null,null,null,null,null,null,null,null,{"$f":"IF(BE90=\"\",\"\",IF(BE87+BE90<1,0,BE90/(BE90+BE87)))","v":""},null,null,null,null,null,null,null,{"$f":"IF(OR(SUM(BE87:BL92)=\"\",SUM(BE87:BL92)=0),0,BM90-AU90)","v":0},null,null,null,null,null,null,null,null,null,null,null,null,null,null,null,null,null,null,{"$f":"IF(CF90=\"\",\"\",IF(CF87+CF90<1,0,CF90/(CF87+CF90)))","v":""},null,null,null,null,null,null,null,{"$f":"IF(OR(SUM(CF87:CM92)=\"\",SUM(CF87:CM92)=0),0,CN90-AU90)","v":0},null,null,null,null,null,null,null,null,null,null,null,null,null,null,null,null,null,null,{"$f":"IF(DG90=\"\",\"\",IF(DG87+DG90<1,0,DG90/(DG90+DG87)))","v":""},null,null,null,null,null,null,null,{"$f":"IF(OR(SUM(DG87:DN92)=\"\",SUM(DG87:DN92)=0),0,DO90-AU90)","v":0},null,null,null,null,null,null,null,null,null,null,null,null,null,null,null,null,null,null,{"$f":"IF(EH90=\"\",\"\",IF(EH87+EH90<1,0,EH90/(EH90+EH87)))","v":""},null,null,null,null,null,null,null,{"$f":"IF(OR(SUM(EH87:EO92)=\"\",SUM(EH87:EO92)=0),0,EP90-AU90)","v":0}]
[]
[]
[]
[null,"Age",null,null,null,null,null,null,null,null,null,null,null,null,null,null,null,null,null,null,null,null,null,null,null,null,null,null,null,null,null,null,null,null,null,null,null,null,"Census",null,null,null,null,null,null,null,null,null,null,null,null,null,null,null,null,null,"Applicants",null,null,null,null,null,null,null,null,null,null,null,null,null,null,null,null,null,null,null,null,null,null,null,null,null,null,"Beneficiaries",null,null,null,null,null,null,null,null,null,null,null,null,null,null,null,null,null,null,null,null,null,null,null,null,null,null,"Rejected Applicants",null,null,null,null,null,null,null,null,null,null,null,null,null,null,null,null,null,null,null,null,null,null,null,null,null,null,"Waiting List"]
[]
[]
[null,null,null,null,null,null,null,null,null,null,null,null,null,null,null,null,null,null,null,null,null,null,null,null,null,null,null,null,null,null,null,null,null,null,null,null,null,null,"#",null,null,null,null,null,null,null,"%",null,null,null,null,null,null,null,null,null,"#",null,null,null,null,null,null,null,"%",null,null,null,null,null,null,null,"Difference",null,null,null,null,null,null,null,null,null,null,"#",null,null,null,null,null,null,null,"%",null,null,null,null,null,null,null,"Difference",null,null,null,null,null,null,null,null,null,null,"#",null,null,null,null,null,null,null,"%",null,null,null,null,null,null,null,"Difference",null,null,null,null,null,null,null,null,null,null,"#",null,null,null,null,null,null,null,"%",null,null,null,null,null,null,null,"Difference"]
[]
[]
[null,"0 to 19 Years",null,null,null,null,null,null,null,null,null,null,null,null,null,null,null,null,null,null,null,null,null,null,null,null,null,null,null,null,null,null,null,null,null,null,null,null,{"$f":"IF('E Data 2'!D3=0,\"\",'E Data 2'!B11)","v":""},null,null,null,null,null,null,null,{"$f":"IF(AM100=\"\",\"\",AM100/DG38)","v":""},null,null,null,null,null,null,null,null,null,null,null,null,null,null,null,null,null,{"$f":"IF(BE100=\"\",\"\",IF(BE100+BE103+BE106+BE109+BE112<1,0,BE100/(BE103+BE100+BE106+BE109+BE112)))","v":""},null,null,null,null,null,null,null,{"$f":"IF(OR(SUM(BE100:BL114)=\"\",SUM(BE100:BL114)=0),0,BM100-AU100)","v":0},null,null,null,null,null,null,null,null,null,null,null,null,null,null,null,null,null,null,{"$f":"IF(CF100=\"\",\"\",IF(CF100+CF103+CF106+CF109+CF112<1,0,CF100/(CF100+CF103+CF106+CF109+CF112)))","v":""},null,null,null,null,null,null,null,{"$f":"IF(OR(SUM(CF100:CM114)=\"\",SUM(CF100:CM114)=0),0,CN100-AU100)","v":0},null,null,null,null,null,null,null,null,null,null,null,null,null,null,null,null,null,null,{"$f":"IF(DG100=\"\",\"\",IF(DG100+DG103+DG106+DG109+DG112<1,0,DG100/(DG103+DG100+DG106+DG109+DG112)))","v":""},null,null,null,null,null,null,null,{"$f":"IF(OR(SUM(DG100:DN114)=\"\",SUM(DG100:DN114)=0),0,DO100-AU100)","v":0},null,null,null,null,null,null,null,null,null,null,null,null,null,null,null,null,null,null,{"$f":"IF(EH100=\"\",\"\",IF(EH100+EH103+EH106+EH109+EH112<1,0,EH100/(EH103+EH100+EH106+EH109+EH112)))","v":""},null,null,null,null,null,null,null,{"$f":"IF(OR(SUM(EH100:EO114)=\"\",SUM(EH100:EO114)=0),0,EP100-AU100)","v":0}]
[]
[]
[null,"20 to 24 Years",null,null,null,null,null,null,null,null,null,null,null,null,null,null,null,null,null,null,null,null,null,null,null,null,null,null,null,null,null,null,null,null,null,null,null,null,{"$f":"IF('E Data 2'!D3=0,\"\",'E Data 2'!B12)","v":""},null,null,null,null,null,null,null,{"$f":"IF(AM103=\"\",\"\",AM103/DG38)","v":""},null,null,null,null,null,null,null,null,null,null,null,null,null,null,null,null,null,{"$f":"IF(BE103=\"\",\"\",IF(BE100+BE103+BE106+BE109+BE112<1,0,BE103/(BE103+BE100+BE106+BE109+BE112)))","v":""},null,null,null,null,null,null,null,{"$f":"IF(OR(SUM(BE100:BL114)=\"\",SUM(BE100:BL114)=0),0,BM103-AU103)","v":0},null,null,null,null,null,null,null,null,null,null,null,null,null,null,null,null,null,null,{"$f":"IF(CF103=\"\",\"\",IF(CF100+CF103+CF106+CF109+CF112<1,0,CF103/(CF103+CF106+CF100+CF109+CF112)))","v":""},null,null,null,null,null,null,null,{"$f":"IF(OR(SUM(CF100:CM114)=\"\",SUM(CF100:CM114)=0),0,CN103-AU103)","v":0},null,null,null,null,null,null,null,null,null,null,null,null,null,null,null,null,null,null,{"$f":"IF(DG103=\"\",\"\",IF(DG100+DG103+DG106+DG109+DG112<1,0,DG103/(DG106+DG103+DG100+DG109+DG112)))","v":""},null,null,null,null,null,null,null,{"$f":"IF(OR(SUM(DG100:DN114)=\"\",SUM(DG100:DN114)=0),0,DO103-AU103)","v":0},null,null,null,null,null,null,null,null,null,null,null,null,null,null,null,null,null,null,{"$f":"IF(EH103=\"\",\"\",IF(EH100+EH103+EH106+EH109+EH112<1,0,EH103/(EH106+EH103+EH100+EH109+EH112)))","v":""},null,null,null,null,null,null,null,{"$f":"IF(OR(SUM(EH100:EO114)=\"\",SUM(EH100:EO114)=0),0,EP103-AU103)","v":0}]
[]
[]
[null,"25 to 44 Years",null,null,null,null,null,null,null,null,null,null,null,null,null,null,null,null,null,null,null,null,null,null,null,null,null,null,null,null,null,null,null,null,null,null,null,null,{"$f":"IF('E Data 2'!D3=0,\"\",'E Data 2'!B13)","v":""},null,null,null,null,null,null,null,{"$f":"IF(AM106=\"\",\"\",AM106/DG38)","v":""},null,null,null,null,null,null,null,null,null,null,null,null,null,null,null,null,null,{"$f":"IF(BE106=\"\",\"\",IF(BE100+BE103+BE106+BE109+BE112<1,0,BE106/(BE109+BE106+BE100+BE103+BE112)))","v":""},null,null,null,null,null,null,null,{"$f":"IF(OR(SUM(BE100:BL114)=\"\",SUM(BE100:BL114)=0),0,BM106-AU106)","v":0},null,null,null,null,null,null,null,null,null,null,null,null,null,null,null,null,null,null,{"$f":"IF(CF106=\"\",\"\",IF(CF100+CF103+CF106+CF109+CF112<1,0,CF106/(CF106+CF109+CF100+CF103+CF112)))","v":""},null,null,null,null,null,null,null,{"$f":"IF(OR(SUM(CF100:CM114)=\"\",SUM(CF100:CM114)=0),0,CN106-AU106)","v":0},null,null,null,null,null,null,null,null,null,null,null,null,null,null,null,null,null,null,{"$f":"IF(DG106=\"\",\"\",IF(DG100+DG103+DG106+DG109+DG112<1,0,DG106/(DG109+DG106+DG100+DG103+DG112)))","v":""},null,null,null,null,null,null,null,{"$f":"IF(OR(SUM(DG100:DN114)=\"\",SUM(DG100:DN114)=0),0,DO106-AU106)","v":0},null,null,null,null,null,null,null,null,null,null,null,null,null,null,null,null,null,null,{"$f":"IF(EH106=\"\",\"\",IF(EH100+EH103+EH106+EH109+EH112<1,0,EH106/(EH109+EH106+EH100+EH103+EH112)))","v":""},null,null,null,null,null,null,null,{"$f":"IF(OR(SUM(EH100:EO114)=\"\",SUM(EH100:EO114)=0),0,EP106-AU106)","v":0}]
[]
[]
[null,"45 to 64 Years",null,null,null,null,null,null,null,null,null,null,null,null,null,null,null,null,null,null,null,null,null,null,null,null,null,null,null,null,null,null,null,null,null,null,null,null,{"$f":"IF('E Data 2'!D3=0,\"\",'E Data 2'!B14)","v":""},null,null,null,null,null,null,null,{"$f":"IF(AM109=\"\",\"\",AM109/DG38)","v":""},null,null,null,null,null,null,null,null,null,null,null,null,null,null,null,null,null,{"$f":"IF(BE109=\"\",\"\",IF(BE100+BE103+BE106+BE109+BE112<1,0,BE109/(BE109+BE106+BE100+BE103+BE112)))","v":""},null,null,null,null,null,null,null,{"$f":"IF(OR(SUM(BE100:BL114)=\"\",SUM(BE100:BL114)=0),0,BM109-$AU$109)","v":0},null,null,null,null,null,null,null,null,null,null,null,null,null,null,null,null,null,null,{"$f":"IF(CF109=\"\",\"\",IF(CF100+CF103+CF106+CF109+CF112<1,0,CF109/(CF109+CF106+CF100+CF103+CF112)))","v":""},null,null,null,null,null,null,null,{"$f":"IF(OR(SUM(CF100:CM114)=\"\",SUM(CF100:CM114)=0),0,CN109-AU109)","v":0},null,null,null,null,null,null,null,null,null,null,null,null,null,null,null,null,null,null,{"$f":"IF(DG109=\"\",\"\",IF(DG100+DG103+DG106+DG109+DG112<1,0,DG109/(DG109+DG106+DG100+DG103+DG112)))","v":""},null,null,null,null,null,null,null,{"$f":"IF(OR(SUM(DG100:DN114)=\"\",SUM(DG100:DN114)=0),0,DO109-AU109)","v":0},null,null,null,null,null,null,null,null,null,null,null,null,null,null,null,null,null,null,{"$f":"IF(EH109=\"\",\"\",IF(EH100+EH103+EH106+EH109+EH112<1,0,EH109/(EH109+EH106+EH100+EH103+EH112)))","v":""},null,null,null,null,null,null,null,{"$f":"IF(OR(SUM(EH100:EO114)=\"\",SUM(EH100:EO114)=0),0,EP109-AU109)","v":0}]
[]
[]
[null,"65 Years and Over",null,null,null,null,null,null,null,null,null,null,null,null,null,null,null,null,null,null,null,null,null,null,null,null,null,null,null,null,null,null,null,null,null,null,null,null,{"$f":"IF('E Data 2'!D3=0,\"\",'E Data 2'!B15)","v":""},null,null,null,null,null,null,null,{"$f":"IF(AM112=\"\",\"\",AM112/DG38)","v":""},null,null,null,null,null,null,null,null,null,null,null,null,null,null,null,null,null,{"$f":"IF(BE112=\"\",\"\",IF(BE100+BE103+BE106+BE109+BE112<1,0,BE112/(BE112+BE109+BE100+BE103+BE106)))","v":""},null,null,null,null,null,null,null,{"$f":"IF(OR(SUM(BE100:BL114)=\"\",SUM(BE100:BL114)=0),0,BM112-AU112)","v":0},null,null,null,null,null,null,null,null,null,null,null,null,null,null,null,null,null,null,{"$f":"IF(CF112=\"\",\"\",IF(CF100+CF103+CF106+CF109+CF112<1,0,CF112/(CF112+CF109+CF100+CF103+CF106)))","v":""},null,null,null,null,null,null,null,{"$f":"IF(OR(SUM(CF100:CM114)=\"\",SUM(CF100:CM114)=0),0,CN112-AU112)","v":0},null,null,null,null,null,null,null,null,null,null,null,null,null,null,null,null,null,null,{"$f":"IF(DG112=\"\",\"\",IF(DG100+DG103+DG106+DG109+DG112<1,0,DG112/(DG112+DG109+DG100+DG103+DG106)))","v":""},null,null,null,null,null,null,null,{"$f":"IF(OR(SUM(DG100:DN114)=\"\",SUM(DG100:DN114)=0),0,DO112-AU112)","v":0},null,null,null,null,null,null,null,null,null,null,null,null,null,null,null,null,null,null,{"$f":"IF(EH112=\"\",\"\",IF(EH100+EH103+EH106+EH109+EH112<1,0,EH112/(EH112+EH109+EH100+EH103+EH106)))","v":""},null,null,null,null,null,null,null,{"$f":"IF(OR(SUM(EH100:EO114)=\"\",SUM(EH100:EO114)=0),0,EP112-AU112)","v":0}]
[]
[]
[null,{"$f":"IF(#REF!=0,\"\",#REF!)","v":{"$error":"#REF!"}}]
[null,"Disability",null,null,null,null,null,null,null,null,null,null,null,null,null,null,null,null,null,null,null,null,null,null,null,null,null,null,null,null,null,null,null,null,null,null,null,null,"Census",null,null,null,null,null,null,null,null,null,null,null,null,null,null,null,null,null,"Applicants",null,null,null,null,null,null,null,null,null,null,null,null,null,null,null,null,null,null,null,null,null,null,null,null,null,null,"Beneficiaries",null,null,null,null,null,null,null,null,null,null,null,null,null,null,null,null,null,null,null,null,null,null,null,null,null,null,"Rejected Applicants",null,null,null,null,null,null,null,null,null,null,null,null,null,null,null,null,null,null,null,null,null,null,null,null,null,null,"Waiting List"]
[]
[]
[null,null,null,null,null,null,null,null,null,null,null,null,null,null,null,null,null,null,null,null,null,null,null,null,null,null,null,null,null,null,null,null,null,null,null,null,null,null,"#",null,null,null,null,null,null,null,"%",null,null,null,null,null,null,null,null,null,"#",null,null,null,null,null,null,null,"%",null,null,null,null,null,null,null,"Difference",null,null,null,null,null,null,null,null,null,null,"#",null,null,null,null,null,null,null,"%",null,null,null,null,null,null,null,"Difference",null,null,null,null,null,null,null,null,null,null,"#",null,null,null,null,null,null,null,"%",null,null,null,null,null,null,null,"Difference",null,null,null,null,null,null,null,null,null,null,"#",null,null,null,null,null,null,null,"%",null,null,null,null,null,null,null,"Difference"]
[]
[]
[null,"Disabled",null,null,null,null,null,null,null,null,null,null,null,null,null,null,null,null,null,null,null,null,null,null,null,null,null,null,null,null,null,null,null,null,null,null,null,null,{"$f":"IF('E Data 2'!D3=0,\"\",'E Data 2'!B16)","v":""},null,null,null,null,null,null,null,{"$f":"AM122/(AM122+AM125)","v":{"$error":"#VALUE!"}},null,null,null,null,null,null,null,null,null,null,null,null,null,null,null,null,null,{"$f":"IF(BE122=\"\",\"\",IF(BE122<1,0,BE122/(BE125+BE122)))","v":""},null,null,null,null,null,null,null,{"$f":"IF(OR(SUM(BE122:BL127)=\"\",SUM(BE122:BL127)=0),0,BM122-AU122)","v":0},null,null,null,null,null,null,null,null,null,null,null,null,null,null,null,null,null,null,{"$f":"IF(CF122=\"\",\"\",IF(CF122<1,0,CF122/(CF122+CF125)))","v":""},null,null,null,null,null,null,null,{"$f":"IF(OR(SUM(CF122:CM127)=\"\",SUM(CF122:CM127)=0),0,CN122-AU122)","v":0},null,null,null,null,null,null,null,null,null,null,null,null,null,null,null,null,null,null,{"$f":"IF(DG122=\"\",\"\",IF(DG122<1,0,DG122/(DG122+DG125)))","v":""},null,null,null,null,null,null,null,{"$f":"IF(OR(SUM(DG122:DN127)=\"\",SUM(DG122:DN127)=0),0,DO122-AU122)","v":0},null,null,null,null,null,null,null,null,null,null,null,null,null,null,null,null,null,null,{"$f":"IF(EH122=\"\",\"\",IF(EH122<1,0,EH122/(EH122+EH125)))","v":""},null,null,null,null,null,null,null,{"$f":"IF(OR(SUM(EH122:EO127)=\"\",SUM(EH122:EO127)=0),0,EP122-AU122)","v":0}]
[]
[]
[null,"Not Disabled",null,null,null,null,null,null,null,null,null,null,null,null,null,null,null,null,null,null,null,null,null,null,null,null,null,null,null,null,null,null,null,null,null,null,null,null,{"$f":"IF('E Data 2'!D3=0,\"\",'E Data 2'!B17)","v":""},null,null,null,null,null,null,null,{"$f":"1-AU122","v":{"$error":"#VALUE!"}},null,null,null,null,null,null,null,null,null,null,null,null,null,null,null,null,null,{"$f":"IF(BE125=\"\",\"\",IF(BE125<1,0,BE125/(BE125+BE122)))","v":""},null,null,null,null,null,null,null,{"$f":"IF(OR(SUM(BE122:BL127)=\"\",SUM(BE122:BL127)=0),0,BM125-AU125)","v":0},null,null,null,null,null,null,null,null,null,null,null,null,null,null,null,null,null,null,{"$f":"IF(CF125=\"\",\"\",IF(CF125<1,0,CF125/(CF122+CF125)))","v":""},null,null,null,null,null,null,null,{"$f":"IF(OR(SUM(CF122:CM127)=\"\",SUM(CF122:CM127)=0),0,CN125-AU125)","v":0},null,null,null,null,null,null,null,null,null,null,null,null,null,null,null,null,null,null,{"$f":"IF(DG125=\"\",\"\",IF(DG125<1,0,DG125/(DG122+DG125)))","v":""},null,null,null,null,null,null,null,{"$f":"IF(OR(SUM(DG122:DN127)=\"\",SUM(DG122:DN127)=0),0,DO125-AU125)","v":0},null,null,null,null,null,null,null,null,null,null,null,null,null,null,null,null,null,null,{"$f":"IF(EH125=\"\",\"\",IF(EH125<1,0,EH125/(EH125+EH122)))","v":""},null,null,null,null,null,null,null,{"$f":"IF(OR(SUM(EH122:EO127)=\"\",SUM(EH122:EO127)=0),0,EP125-$AU$125)","v":0}]
[]
[]
[null,null,null,null,null,null,null,null,null,null,null,null,null,null,null,null,null,null,null,null,null,null,null,null,null,null,null,null,null,null,null,null,null,null,null,null,null,null,null,null,null,null,null,null,null,null,null,null,null,null,null,null,null,null,{"$f":"IF(AND(SUM(BE49+BE52)=SUM(BE62:BL79),SUM(BE49+BE52)=SUM(BE87:BL92), SUM(BE49+BE52)=SUM(BE100:BL114), SUM(BE49+BE52)=SUM(BE122:BL127)),\"\",\"COLUMN SECTION TOTALS MUST MATCH!\")","v":""},null,null,null,null,null,null,null,null,null,null,null,null,null,null,null,null,null,null,null,null,null,null,null,null,null,null,{"$f":"IF(AND(SUM(CF49+CF52)=SUM(CF62:CF79),SUM(CF49+CF52)=SUM(CF87:CF92), SUM(CF49+CF52)=SUM(CF100:CF114), SUM(CF49+CF52)=SUM(CF122:CF127)),\"\",\"COLUMN SECTION TOTALS MUST MATCH!\")","v":""},null,null,null,null,null,null,null,null,null,null,null,null,null,null,null,null,null,null,null,null,null,null,null,null,null,null,{"$f":"IF(AND(SUM(DG49+DG52)=SUM(DG62:DG79),SUM(DG49+DG52)=SUM(DG87:DG92), SUM(DG49+DG52)=SUM(DG100:DG114), SUM(DG49+DG52)=SUM(DG122:DG127)),\"\",\"COLUMN SECTION TOTALS MUST MATCH!\")","v":""},null,null,null,null,null,null,null,null,null,null,null,null,null,null,null,null,null,null,null,null,null,null,null,null,null,null,{"$f":"IF(AND(SUM(EH49+EH52)=SUM(EH62:EH79),SUM(EH49+EH52)=SUM(EH87:EH92), SUM(EH49+EH52)=SUM(EH100:EH114), SUM(EH49+EH52)=SUM(EH122:EH127)),\"\",\"COLUMN SECTION TOTALS MUST MATCH!\")","v":""}]
[]
[]
[]
[]
[]
[]
[]
[null,"Prepared By: Name",null,null,null,null,null,null,null,null,null,null,null,null,null,null,null,null,null,null,null,null,null,null,null,null,null,null,null,null,null,null,null,null,null,null,null,null,"Title",null,null,null,null,null,null,null,null,null,null,null,null,null,null,null,null,null,null,null,null,null,null,null,null,null,null,null,null,null,null,null,null,null,null,null,null,null,null,"Telephone Number",null,null,null,null,null,null,null,null,null,null,null,null,null,null,null,null,null,null,null,null,null,"e-mail Address",null,null,null,null,null,null,null,null,null,null,null,null,null,null,null,null,null,null,null,null,null,null,null,null,null,null,null,null,null,null,null,null,null,null,null,null,null,null,null,null,null,"Date"]
[]
[]
[]
[]
[null,null,null,null,null,null,null,null,null,null,null,null,null,null,null,null,null,null,null,null,null,null,null,null,null,null,null,null,null,null,null,null,null,null,null,null,null,null,null,null,null,null,null,null,null,null,null,null,null,null,null,null,null,null,null,null,null,null,null,null,null,null,null,null,null,null,null,null,null,null,null,null,null,null,null,null,null,null,null,null,null,null,null,null,null,null,null,null,null,null,null,null,null,null,null,null,null,null,null,null,null,null,null,null,null,null,null,null,null,null,null,null,null,null,null,null,null,null,null,null,null,null,null,null,null,null,null,null,null,null,null,null,null,null,null,null,null,null,null,null,null,null,null,null,null,null,null,null,null,null,null,null,null,null,null,null,null,null,null,null,null,null,null,null,null,null,null,null,null,null,"PAGE 2"]
[null,"Questionnaire"]
[]
[]
[]
[]
[]
[null,"HUD has defined \"impediments to fair housing choice\" to include specific actions as well as the lack of actions as follows:"]
[]
[]
[]
[null,null,"l",null,"Any actions, omissions or decisions taken because of race, color, religion, sex, disability, familial status, or national origin which restrict housing choices; and"]
[]
[]
[]
[null,null,"l",null,"Any actions, omissions, or decisions which have the effect of restricting housing choices or the availability of housing choices on the basis of race, color, religion, sex, disability, familial status, or national origin."]
[]
[]
[]
[]
[]
[null,"In its simplest form, a study of Fair Housing barriers addresses the question:  Do all residents and potential residents of this Jurisdiction have equal access to housing regardless of their race, color, religion (creed), sex, disability, familial status, age, or national origin?  If not, why?  "]
[]
[]
[]
[]
[]
[]
[null,"If \"Difference\" field is greater than 10%, field will turn red; please respond to questions below, in reference to these numbers. "]
[]
[]
[]
[null,"1.",null,"Does any of the demographic data show low representation of any protected groups in either your applicants, beneficiaries, rejected applicants or waiting list?"]
[]
[]
[]
[]
[]
[]
[]
[]
[]
[]
[]
[]
[]
[]
[]
[]
[null,null,null,null,null,null,null,null,null,null,null,null,null,null,null,null,null,null,null,null,null,null,null,null,null,null," "]
[null,"2.",null,null,"What reasons have you identified for these low numbers?"]
[]
[]
[]
[]
[]
[]
[]
[]
[]
[]
[]
[]
[]
[]
[]
[]
[]
[null,"3.",null,null,"What actions have you taken to date to correct the reasons for low numbers?"]
[]
[]
[]
[]
[]
[]
[]
[]
[]
[]
[]
[]
[]
[]
[]
[]
[]
[null,"4.",null,null,"What actions do you plan to take in the future to correct these low numbers?"]
[]
[]
[]
[]
[]
[]
[]
[]
[]
[]
[]
[]
[]
[]
[]
[]
[]
[null,"5.",null,"Has your organization set up and maintained records reflecting the study and actions taken? If not, why?"]
[]
[]
[]
[]
[]
[]
[]
[]
[]
[]
[]
[]
[]
[null,null,null,null,null,null,null,null,null,null,null,null,null,null,null,null,null,null,null,null,null,null,null,null,null,null,null,null,null,null,null,null,null,null,null,null,null,null,null,null,null,null,null,null,null,null,null,null,null,null,null,null,null,null,null,null,null,null,null,null,null,null,null,null,null,null,null,null,null,null,null,null,null,null,null,null,null,null,null,null,null,null,null,null,null,null,null,null,null,null,null,null,null,null,null,null,null,null,null,null,null,null,null,null,null,null,null,null,null,null,null,null,null,null,null,null,null,null,null,null,null,null,null,null,null,null,null,null,null,null,null,null,null,null,null,null,null,null,null,null,null,null,null,null,null,null,null,null,null,null,null,null,null,null,null,null,null,null,null,null,null,null,null,null,null,null,null,null,null,null,"PAGE 3"]
[]
[]
[]
[]
[]
[]
[]
[]
[]
[]
[]
[]
[]
[]
[]
[]
[]
[]
[]
[]
[]
[]
[]
[]
[]
[]
[]
[]
[]
[]
[]
[]
[]
[]
[]
[]
[]
[]
[]
[]
[]
[]
[]
[]
[]
[]
[]
[]
[]
[]
[]
[]
[]
[]
[]
[]
[]
[]
[]
[]
[]
[]
[]
[]
[]
[]
[]
[]
[]
[]
[]
[]
[]
[]
[]
[]
[]
[]
[]
[]
[]
[]
[]
[]
[]
[]
[]
[]
[]
[]
[]
[]
[]
[]
[]
[]
[]
[]
[]
[]
[]
[]
[]
[]
[]
[]
[]
[]
[]
[]
[]
[]
[]
[]
[]
[]
[]
[]
[]
[]
[]
[]
[]
[]
[]
[]
[]
[]
[]
[]
[]
[]
[null,"END OF DOCUMENT"]

{"sheet":"E Data 2","index":12,"n_rows":603,"n_cols":27,"rows_kept":603,"cut":false,"hidden":true,"merged":[[543,1,543,3]]}
[null,null,null,null,null,null,null,"Hispanic or Latino 1","Not Hispanic or Latino 2","American Indian or Alaskan Native 3","Black or African American 4","Native Hawaiian or other Pacific Islander 5","White Alone 6","Other 7","Female 8","Male 9","0-19 10","20-24 11","25-44 12","45-64 13","65+ 14","No Disability 15","Disability 16","Total Population 17","Asian 18","Disability %","Disability Estimate"]
[1,{"$f":"VLOOKUP(D3,F2:H540,3,FALSE)","v":0},null,539,1,"001","Alameda County (Unincorporated)",48200,99716,346,12263,1316,39096,7448,60373,57962,28783,6944,33446,31347,17815,{"$f":"X2-W2","v":102988},15347,118335,38358,9.1,{"$f":"X2*0.09","v":10650.15}]
[2,{"$f":"VLOOKUP(D3,F2:I540,4,FALSE)","v":0},null,{"$f":"VLOOKUP(D2,E2:F540,2,FALSE)","v":0},2,"003","Alpine County (Unincorporated)",60,890,30,9,0,779,53,428,522,136,37,203,316,258,859,91,950,12,17.899999999999999,{"$f":"X3*0.09","v":85.5}]
[3,{"$f":"VLOOKUP(D3,F2:J540,5,FALSE)","v":0},null,{"$f":"VLOOKUP(D2,E2:G540,3,FALSE)","v":"Select a Jurisdiction"},3,"005","Amador County (Unincorporated)",1496,34460,169,96,41,10923,2067,6738,7048,2506,493,2495,4078,4214,10809,2977,13786,15,17.600000000000001,1240.74]
[4,{"$f":"VLOOKUP(D3,F2:K540,6,FALSE)","v":0},null,null,4,"007","Butte County (Unincorporated)",6673,42968,1166,451,80,34957,2243,24408,25233,11126,2287,10920,13547,11761,40108,9533,49641,2823,17.399999999999999,4467.6899999999996]
[5,{"$f":"VLOOKUP(D3,F2:L540,7,FALSE)","v":0},null,null,5,"009","Calaveras County (Unincorporated)",3546,23720,284,168,35,20899,1165,13161,13155,5264,1012,5298,7366,7376,21999,4317,26316,447,17.600000000000001,2368.44]
[6,{"$f":"VLOOKUP(D3,F2:M540,8,FALSE)","v":0},null,59,6,"011","Colusa County (Unincorporated)",3746,2019,33,56,11,1730,124,2824,2941,1800,347,1495,1336,787,5131,634,5765,39,12.5,518.85]
[7,{"$f":"VLOOKUP(D3,F2:N540,9,FALSE)","v":0},null,{"$f":"VLOOKUP(D7,E2:F59,2,FALSE)","v":{"$error":"#N/A"}},7,"013","Contra Costa County (Unincorporated)",45688,118857,390,9441,622,72856,1874,85229,82776,40909,9154,41388,47498,29056,149595,18410,168005,25383,10.199999999999999,15120.449999999999]
[8,{"$f":"VLOOKUP(D3,F2:O540,10,FALSE)","v":0},null,{"$f":"VLOOKUP(D7,E2:G545,3,FALSE)","v":"Adelanto city"},8,"015","Del Norte County (Unincorporated)",900,5497,2136,25,7,3874,504,3276,3121,1546,276,1426,1744,1405,4892,1505,6397,70,21.5,575.73]
[9,{"$f":"VLOOKUP(D3,F2:P540,11,FALSE)","v":0},null,null,9,"017","El Dorado County (Unincorporated)",12913,92513,561,1010,156,76631,5126,53878,51548,25911,4729,20662,31212,22912,93343,12083,105426,6861,11.5,9488.34]
[10,{"$f":"VLOOKUP(D3,F2:Q540,12,FALSE)","v":0},null,null,10,"019","Fresno County (Unincorporated)",299670,290533,4010,38326,794,146321,18082,23882,24214,13842,2916,11829,11409,8100,42175,5921,48096,79892,11.6,4328.6399999999994]
[11,{"$f":"VLOOKUP(D3,F2:R540,13,FALSE)","v":0},null,null,11,"021","Glenn County (Unincorporated)",2096,600,17,17,2,477,39,1292,1404,832,164,632,660,408,2273,423,2696,44,15.8,242.64]
[12,{"$f":"VLOOKUP(D3,F2:S540,14,FALSE)","v":0},null,null,12,"023","Humboldt County (Unincorporated)",5587,45094,4551,485,117,34390,4048,25725,24956,11922,2609,13913,12302,9935,41654,9027,50681,1139,15.7,4561.29]
[13,{"$f":"VLOOKUP(D3,F2:T540,15,FALSE)","v":0},null,null,13,"025","Imperial County (Unincorporated)",14813,2627,95,223,9,1937,233,8751,8689,5611,1230,4298,3954,2347,15268,2172,17440,95,13.1,1569.6]
[14,{"$f":"VLOOKUP(D3,F2:U540,16,FALSE)","v":0},null,null,14,"027","Inyo County (Unincorporated)",2663,9335,876,62,4,7578,613,5972,6026,2530,429,2601,3174,3264,10437,1561,11998,155,12.5,1079.82]
[15,{"$f":"VLOOKUP(D3,F2:W541,18,FALSE)","v":0},null,null,15,"029","Kern County (Unincorporated)",138079,126362,2012,8980,246,100923,9596,132514,131927,83214,17051,68955,60931,34290,229050,35391,264441,3401,11.8,23799.69]
[16,{"$f":"VLOOKUP(D3,F2:V541,17,FALSE)","v":0},null,null,16,"031","Kings County (Unincorporated)",8400,7117,69,1162,84,4449,720,7509,8008,5576,1894,4909,2143,995,14401,1116,15517,552,10.4,1396.53]
[17,{"$f":"VLOOKUP(D3,F2:X540,19,FALSE)","v":0},null,null,17,"033","Lake County (Unincorporated)",7058,25169,588,423,50,21300,2138,16008,16219,7168,1430,7327,8932,7370,26783,5444,32227,480,20.9,2900.43]
[18,{"$f":"VLOOKUP(D3,F2:Y540,20,FALSE)","v":0},null,null,18,"035","Lassen County (Unincorporated)",776,6768,153,74,9,5931,503,3571,3973,1632,340,1662,2221,1689,6152,1392,7544,58,17.3,678.95999999999992]
[null,null,null,null,19,"037","Los Angeles County (Unincorporated)",535420,361481,1724,68320,1426,140148,19676,464662,445556,229894,65218,246308,236982,131816,817443,92775,910218,125819,9.5,81919.62]
[null,null,null,null,20,"039","Madera County (Unincorporated)",19319,28835,907,536,34,24280,336,24272,23882,12590,2597,10588,11850,10529,40893,7261,48154,751,12.1,4333.8599999999997]
[null,"Enter a F/Y",null,null,21,"041","Marin County (Unincorporated)",5049,45763,80,1173,81,37693,3122,26432,24380,11527,1813,9443,15517,12512,46131,4681,50812,3260,8.9,4573.08]
[null,"2010-2011",null,null,22,"043","Mariposa County (Unincorporated)",1100,6416,157,38,6,5467,564,3720,3796,1392,315,1642,2185,1982,5900,1616,7516,129,18.5,676.43999999999994]
[null,"2011-2012",null,null,23,"045","Mendocino County (Unincorporated)",3969,11677,774,69,13,9539,878,7695,7951,3597,699,4015,3926,3409,13389,2257,15646,315,16.100000000000001,1408.1399999999999]
[null,"2012-2013",null,null,24,"047","Merced County (Unincorporated)",34299,16951,177,628,57,12128,1232,25471,25779,16937,3671,13368,11610,5664,44048,7202,51250,2572,15.5,4612.5]
[null,"2013-2014",null,null,25,"049","Modoc County (Unincorporated)",398,1839,131,13,5,1550,121,1117,1120,478,75,414,634,636,1828,409,2237,5,21.1,201.32999999999998]
[null,"2014-2015",null,null,26,"051","Mono County (Unincorporated)",1004,4451,163,22,12,3956,213,2619,2836,1119,204,1281,1596,1255,4909,546,5455,50,7.8,490.95]
[null,"2015-2016",null,null,27,"053","Monterey County (Unincorporated)",29814,22686,158,288,113,18488,1708,26084,26416,14239,3225,12539,12998,9499,47153,5347,52500,1594,8.4,4725]
[null,"2016-2017",null,null,28,"055","Napa County (Unincorporated)",1220,4056,10,115,15,3131,257,2789,2487,1019,575,1051,1299,1332,4723,553,5276,268,10.8,474.84]
[null,"2017-2018",null,null,29,"057","Nevada County (Unincorporated)",1686,18124,136,79,32,16371,1151,10232,9578,3683,670,3607,5306,6544,16647,3163,19810,269,13.4,1782.8999999999999]
[null,"2018-2019",null,null,30,"059","Orange County (Unincorporated)",17033,88065,148,951,135,64361,5996,53707,51391,29788,5678,22659,30726,16247,97020,8078,105098,16039,7.8,9458.82]
[null,"2019-2020",null,null,31,"061","Placer County (Unincorporated)",7928,46628,316,351,75,40207,1346,27541,27015,12325,2441,11522,15893,12375,48766,5790,54556,2412,10.7,4910.04]
[null,"2020-2021",null,null,32,"063","Plumas County (Unincorporated)",1277,13515,276,86,20,12149,777,7348,7444,2710,518,2888,4152,4524,12371,2421,14792,118,19.399999999999999,1331.28]
[null,"2021-2022",null,null,33,"065","Riverside County (Unincorporated)",160159,153373,1519,12535,590,109935,10892,157221,156311,88095,19690,77017,77409,51321,274332,39200,313532,16442,10.7,28217.879999999997]
[null,"2022-2023",null,null,34,"067","Sacramento County (Unincorporated)",129341,467104,3032,47830,5700,284041,40002,306040,290405,155685,37142,160814,145971,96833,524161,72284,596445,82803,12.7,53680.049999999996]
[null,"2023-2024",null,null,35,"069","San Benito County (Unincorporated)",2256,4107,13,42,8,3536,237,3213,3150,1298,300,1422,1809,1534,5681,682,6363,206,8.6999999999999993,572.66999999999996]
[null,"2024-2025",null,null,36,"071","San Bernardino County (Unincorporated)",73447,106204,1029,5334,484,86104,7150,88526,91125,46087,11517,44641,47237,30169,155161,24490,179651,5049,10.9,16168.59]
[null,"2025-2026",null,null,37,"073","San Diego County (Unincorporated)",112233,240992,2569,15097,1304,187229,17755,176252,176973,88264,28685,86390,87702,62184,314117,39108,353225,15109,9.4,31790.25]
[null,"2026-2027",null,null,38,"075","San Francisco County (Unincorporated)",0,0,0,0,0,0,0,0,0,0,0,0,0,0,0,0,null,null,10.6,0]
[null,null,null,null,39,"077","San Joaquin County (Unincorporated)",37701,50428,384,3698,343,25620,3612,44217,45548,27781,5232,25045,20609,11098,79091,9038,88129,16337,11.7,7931.61]
[null,null,null,null,40,"079","San Luis Obispo County (Unincorporated)",23293,60033,312,627,80,51892,3546,42471,40855,18588,8985,17266,19806,18681,73280,10046,83326,3075,10.8,7499.34]
[null,null,null,null,41,"081","San Mateo County (Unincorporated)",14538,31081,59,403,225,21665,2314,22850,22769,10787,2375,11295,13280,7882,42123,3496,45619,6169,7.8,4105.71]
[null,null,null,null,42,"083","Santa Barbara County (Unincorporated)",32064,91812,460,1758,245,71548,6288,63850,60026,30897,18517,24591,26267,23604,111419,12457,123876,10808,10,11148.84]
[null,null,null,null,43,"085","Santa Clara County (Unincorporated)",19613,43021,115,1606,331,24913,3174,30599,32035,11448,9665,21012,13184,7325,58360,4274,62634,12404,7.7,5637.0599999999995]
[null,null,null,null,44,"087","Santa Cruz County (Unincorporated)",28008,81974,366,745,126,70865,5821,55746,54236,22382,5770,26629,31470,23731,96820,13162,109982,3336,8.8000000000000007,9898.3799999999992]
[null,null,null,null,45,"089","Shasta County (Unincorporated)",3120,30458,918,107,46,26436,2188,16682,16896,7652,1300,6682,9618,8326,28243,5335,33578,598,17.899999999999999,3022.02]
[null,null,null,null,46,"091","Sierra County (Unincorporated)",203,1732,8,3,0,1577,123,927,1008,342,41,386,573,593,1622,313,1935,7,20.3,174.15]
[null,null,null,null,47,"093","Siskiyou County (Unincorporated)",638,4963,339,61,5,4021,385,2823,2778,1103,211,1041,1577,1669,4445,1156,5601,88,19.100000000000001,504.09]
[null,null,null,null,48,"095","Solano County (Unincorporated)",1093,4835,24,145,16,4030,357,3020,2908,1084,253,1154,1893,1544,5008,920,5928,229,10.9,533.52]
[null,null,null,null,49,"097","Sonoma County (Unincorporated)",13718,36257,289,461,129,30176,2390,25566,24409,10257,2566,12061,13353,11738,43459,6516,49975,2450,10.7,4497.75]
[null,null,null,null,50,"099","Stanislaus County (Unincorporated)",35755,24478,274,872,220,18652,2015,29624,30609,18391,4004,15648,14751,7439,52945,7288,60233,2216,13.1,5420.9699999999993]
[null,null,null,null,51,"101","Sutter County (Unincorporated)",960,3688,58,18,2,3208,3993,2297,2351,1204,241,1149,1300,754,3935,713,4648,53,13.6,418.32]
[null,null,null,null,52,"103","Tehama County (Unincorporated)",2436,7947,193,60,15,6818,655,5099,5284,2658,467,2335,2706,2217,8776,1607,10383,166,18.2,934.46999999999991]
[null,null,null,null,53,"105","Trinity County (Unincorporated)",814,13080,369,40,21,9646,854,6099,7795,2622,603,3467,3910,3292,11964,1930,13894,387,22.7,1250.46]
[null,null,null,null,54,"107","Tulare County (Unincorporated)",61456,12514,249,277,111,8402,822,36763,37207,26650,5432,18613,15429,7846,64994,8976,73970,2426,10.7,6657.3]
[null,null,null,null,55,"109","Tuolumne County (Unincorporated)",3186,26074,363,108,53,23228,1819,14879,14381,5623,1170,5735,7617,9115,23679,5581,29260,324,18.399999999999999,2633.4]
[null,null,null,null,56,"111","Ventura County (Unincorporated)",17813,39329,155,419,51,31959,2453,28914,28228,13771,3021,12830,16615,10905,50953,6189,57142,3985,9.9,5142.78]
[null,null,null,null,57,"113","Yolo County (Unincorporated)",6621,12615,164,543,168,8462,730,10224,9012,7642,3171,3394,2913,2116,17283,1953,19236,2485,10.3,1731.24]
[null,null,null,null,58,"115","Yuba County (Unincorporated)",17004,35138,619,1981,269,23541,3888,26019,26123,16919,3188,15071,11162,5802,45048,7094,52142,4541,16.5,4692.78]
[null,null,null,null,59,"00296","Adelanto city",24158,13888,854,7396,284,8455,5323,18155,19891,13478,2987,11369,7507,2705,33733,4313,38046,1049,"Adelanto city",3424.14]
[null,null,null,null,60,"00394","Agoura Hills city",2319,17980,66,262,17,15279,2167,10462,9837,4897,1102,4067,6208,4025,18327,1972,20299,1776,"Agoura Hills city",1826.9099999999999]
[null,null,null,null,61,"00562","Alameda city",9435,68845,441,4608,399,34102,10074,40952,37328,17107,3773,22215,21474,13711,70906,7374,78280,25412,"Alameda city",7045.2]
[null,null,null,null,62,"00674","Albany city",2665,17606,90,716,17,9446,2687,10614,9657,5580,1181,5805,4669,3036,19164,1107,20271,6184,"Albany city",1824.3899999999999]
[null,null,null,null,63,"00884","Alhambra city",29910,52958,1061,1537,91,11898,10749,43741,39127,15323,4997,25231,22016,15301,74181,8687,82868,42977,"Alhambra city",7458.12]
[null,null,null,null,64,"00947","Aliso Viejo city",9836,42340,232,1009,182,31290,7365,27324,24852,13026,3324,14679,15660,5487,48978,3198,52176,8642,"Aliso Viejo city",4695.84]
[null,null,null,null,65,"01444","Alturas city",415,2300,110,31,7,2117,252,1425,1290,717,129,665,667,537,{"$f":"X66-W66","v":2241},474,2715,36,"Alturas city",244.35]
[null,null,null,null,66,"01514","Amador city",21,179,4,1,0,162,26,104,96,33,10,56,43,58,188,12,200,1,"Amador City city",{"$f":"X67*0.09","v":18}]
[null,null,null,null,67,"01640","American Canyon city",6705,15132,227,1480,157,5313,3152,11196,10641,5986,1542,5361,6033,2915,19572,2265,21837,7774,"American Canyon city",1965.33]
[null,null,null,null,68,"02000","Anaheim city",186651,160173,6207,9253,1533,107740,58787,175747,171077,88131,26685,102097,85889,44022,315310,31514,346824,61539,"Anaheim city",31214.16]
[null,null,null,null,69,"02042","Anderson city",1587,9736,430,119,30,8588,1292,5969,5354,3155,585,2974,2565,2044,8837,2486,11323,339,"Anderson city",1019.0699999999999]
[null,null,null,null,70,"02112","Angels city",459,3208,77,27,7,2975,395,1935,1732,739,130,720,956,1122,2835,832,3667,46,"Angels city",330.03]
[null,null,null,null,71,"02252","Antioch city",41965,73326,1696,24057,1543,32703,16249,59181,56110,31398,8139,30797,29959,14998,98590,16701,115291,15015,"Antioch city",10376.19]
[null,null,null,null,72,"02364","Apple Valley town",28989,46802,1333,6311,275,41481,11369,39035,36756,21143,4439,18044,17898,14267,63476,12315,75791,2609,"Apple Valley town",6821.19]
[null,null,null,null,73,"02462","Arcadia city",7401,49280,233,959,46,11378,4135,29607,27074,12703,3263,13005,16532,11178,51419,5262,56681,36772,"Arcadia city",5101.29]
[null,null,null,null,74,"02476","Arcata city",3739,15118,558,523,46,13226,2366,9626,9231,3857,3850,5847,3092,2211,17067,1790,18857,501,"Arcata city",1697.1299999999999]
[null,null,null,null,75,"02868","Arroyo Grande city",3646,14795,160,181,15,13595,2567,9696,8745,3985,876,4107,4795,4678,15767,2674,18441,708,"Arroyo Grande city",1659.6899999999998]
[null,null,null,null,76,"02896","Artesia city",5825,10570,161,652,67,3509,1838,8236,8159,3504,1098,4440,4392,2961,14595,1800,16395,6921,"Artesia city",1475.55]
[null,null,null,null,77,"02924","Arvin city",18317,1178,397,178,6,5069,3569,9800,9695,7750,1580,5214,3579,1372,18428,1067,19495,123,"Arvin city",1754.55]
[null,null,null,null,78,"03064","Atascadero city",5850,23923,361,462,38,21947,4161,15212,14561,6814,1386,7949,7556,6068,26458,3315,29773,910,"Atascadero city",2679.5699999999997]
[null,null,null,null,79,"03092","Atherton town",484,6704,14,100,45,4844,624,3690,3498,1801,620,919,2001,1847,6623,565,7188,1411,"Atherton town",646.91999999999996]
[null,null,null,null,80,"03162","Atwater city",19042,12928,972,1094,81,12984,6132,16323,15647,10356,2068,8547,6902,4097,27854,4116,31970,1779,"Atwater city",2877.2999999999997]
[null,null,null,null,81,"03204","Auburn city",1693,12083,154,123,17,11065,1501,7293,6483,2657,676,2982,3803,3658,12144,1632,13776,317,"Auburn city",1239.8399999999999]
[null,null,null,null,82,"03274","Avalon city",1903,1557,46,30,11,1699,508,1797,1663,834,200,859,984,583,3365,95,3460,33,"Avalon city",311.39999999999998]
[null,null,null,null,83,"03302","Avenal city",11545,2151,254,125,15,3216,1678,4565,9131,3578,879,4937,3589,713,12824,872,13696,92,"Avenal city",1232.6399999999999]
[null,null,null,null,84,"03386","Azusa city",32020,17980,1314,1752,74,13800,10053,25742,24258,12795,5216,14172,12030,5787,45578,4422,50000,7384,"Azusa city",4500]
[null,null,null,null,85,"03526","Bakersfield city",212822,190633,2153,26402,505,178069,66956,206326,197129,128211,28309,113784,86939,46212,363431,40024,403455,null,"Bakersfield city",36310.949999999997]
[null,null,null,null,86,"03666","Baldwin Park city",53683,18493,92,609,44,17992,13524,36616,35560,18522,5630,19952,18429,9643,64913,7263,72176,null,"Baldwin Park city",6495.84]
[null,null,null,null,87,"03820","Banning city",13427,16078,316,2112,26,15232,4017,15528,13977,6824,1482,6444,6477,8278,23067,6438,29505,null,"Banning city",2655.45]
[null,null,null,null,88,"04030","Barstow city",11295,14120,305,4684,312,12786,4247,13080,12335,8605,1763,6693,5303,3051,21442,3973,25415,null,"Barstow city",2287.35]
[null,null,null,null,89,"04758","Beaumont city",22546,30490,309,4167,95,28387,8586,27286,25750,15802,3001,14260,11709,8264,47947,5089,53036,null,"Beaumont city",4773.24]
[null,null,null,null,90,"04870","Bell city",31392,2167,35,124,15,1996,7515,16978,16581,9994,2696,9649,7844,3376,30539,3020,33559,null,"Bell city",3020.31]
[null,null,null,null,91,"04996","Bell Gardens city",37994,1507,98,220,19,1383,7682,19851,38419,11961,3355,11443,9078,3664,32218,7283,39501,null,"Bell Gardens city",3555.0899999999997]
[null,null,null,null,92,"04982","Bellflower city",45250,33940,183,10131,531,31891,13184,40771,19650,20832,5850,23147,19829,9532,76554,2636,79190,null,"Bellflower city",7127.0999999999995]
[null,null,null,null,93,"05108","Belmont city",3523,24812,22,348,132,22704,3542,14427,13908,6753,1307,8214,7490,4571,26170,2165,28335,null,"Belmont city",2550.15]
[null,null,null,null,94,"05164","Belvedere city",109,2017,5,17,0,1943,148,1147,979,499,62,238,613,714,2013,113,2126,null,"Belvedere city",191.34]
[null,null,null,null,95,"05290","Benicia city",4008,23123,62,1327,101,20896,4042,14250,12881,5988,1289,6021,7961,5872,24171,2960,27131,null,"Benicia city",2441.79]
[null,null,null,null,96,"06000","Berkeley city",17018,107303,226,9495,253,98234,14580,63408,60913,25452,21960,34722,23261,18926,112672,11649,124321,null,"Berkeley city",11188.89]
[null,null,null,null,97,"06308","Beverly Hills city",2218,30483,13,662,11,28706,2857,17674,15027,6262,1870,8016,8867,7686,29500,3201,32701,null,"Beverly Hills city",2943.0899999999997]
[null,null,null,null,98,"06434","Big Bear Lake city",1205,3841,21,46,6,3617,616,2451,2595,913,183,1065,1525,1360,4497,549,5046,null,"Big Bear Lake city",454.14]
[null,null,null,null,99,"06560","Biggs city",778,1186,31,19,0,1114,201,998,966,601,119,464,509,271,1513,451,1964,null,"Biggs city",176.76]
[null,null,null,null,100,"06798","Bishop city",1146,2673,83,8,0,2483,521,1932,1887,832,176,1057,1009,745,2976,843,3819,null,"Bishop city",343.71]
[null,null,null,null,101,"07162","Blue Lake city",96,1112,53,5,2,1023,122,649,559,241,50,333,338,246,1026,182,1208,null,"Blue Lake city",108.72]
[null,null,null,null,102,"07218","Blythe city",10873,7444,158,2007,21,6932,2017,6134,12183,3765,1345,6648,4870,1689,16233,2084,18317,null,"Blythe city",1648.53]
[null,null,null,null,103,"07946","Bradbury city",184,737,1,17,0,707,109,465,456,168,55,184,306,208,853,68,921,null,"Bradbury city",82.89]
[null,null,null,null,104,"08058","Brawley city",22750,3666,28,303,11,3426,7050,13686,12730,8646,1656,6861,5794,3459,22440,3976,26416,null,"Brawley city",2377.44]
[null,null,null,null,105,"08100","Brea city",12972,34353,101,784,54,32507,6609,24482,22843,11084,2828,13007,12582,7824,43682,3643,47325,null,"Brea city",4259.25]
[null,null,null,null,106,"08142","Brentwood city",17121,47171,161,4230,289,42957,10229,33228,31064,18723,3685,14860,16598,10426,56443,7849,64292,null,"Brentwood city",5786.28]
[null,null,null,null,107,"08310","Brisbane city",868,3983,10,88,24,3653,690,2435,2416,979,194,1422,1465,791,4438,413,4851,null,"Brisbane city",436.59]
[null,null,null,null,108,"08758","Buellton city",1676,3485,28,30,5,3252,893,2608,2553,1340,206,1261,1442,912,4604,557,5161,null,"Buellton city",464.49]
[null,null,null,null,109,"08786","Buena Park city",34330,49704,174,2504,373,47226,11340,42889,41145,20315,5938,23695,22256,11830,75585,8449,84034,null,"Buena Park city",7563.0599999999995]
[null,null,null,null,110,"08954","Burbank city",25961,81376,222,2891,98,76461,14624,55671,51666,21024,6126,33839,28823,17525,95812,11525,107337,null,"Burbank city",9660.33]
[null,null,null,null,111,"09066","Burlingame city",4263,27123,20,284,105,25147,3658,16239,15147,7641,1135,9219,8312,5079,29383,2003,31386,null,"Burlingame city",2824.74]
[null,null,null,null,112,"09598","Calabasas city",1954,21287,31,515,12,20087,1200,12020,11221,5541,1561,4551,7077,4511,21425,1816,23241,null,"Calabasas city",2091.69]
[null,null,null,null,113,"09710","Calexico city",37548,1085,6,43,4,1002,83,20599,18034,11203,2738,9014,9526,6152,33217,5416,38633,null,"Calexico city",3476.97]
[null,null,null,null,114,"09780","California city",5494,9479,85,3385,46,8590,889,6466,8507,3959,1090,4655,3463,1806,12672,2301,14973,null,"California city",1347.57]
[null,null,null,null,115,"09864","Calimesa city",2894,7132,52,167,12,6701,431,5139,4887,2189,432,2263,2641,2501,8648,1378,10026,null,"Calimesa city",902.33999999999992]
[null,null,null,null,116,"09878","Calipatria city",4960,1555,36,969,13,1492,63,1861,4654,1340,544,3052,1172,407,6193,322,6515,null,"Calipatria city",586.35]
[null,null,null,null,117,"09892","Calistoga city",2698,2530,9,23,3,2415,115,2727,2501,1186,268,1175,1344,1255,4403,825,5228,null,"Calistoga city",470.52]
[null,null,null,null,118,"10046","Camarillo city",19356,51385,131,1524,160,47607,3778,36755,33986,16053,4065,17016,18307,15300,63143,7598,70741,null,"Camarillo city",6366.69]
[null,null,null,null,119,"10345","Campbell city",8424,35535,90,1022,132,32856,2679,22398,21561,9531,2099,14082,11840,6407,40188,3771,43959,null,"Campbell city",3956.31]
[null,null,null,null,120,"10928","Canyon Lake city",1668,9414,45,199,15,8852,562,5626,5456,2506,529,2462,3274,2311,9893,1189,11082,null,"Canyon Lake city",997.38]
[null,null,null,null,121,"11040","Capitola city",2227,7711,31,103,5,7138,573,5306,4632,1644,491,2641,2786,2376,8516,1422,9938,null,"Capitola city",894.42]
[null,null,null,null,122,"11194","Carlsbad city",17302,97444,259,1231,196,90515,6929,59009,55737,27633,5689,26379,33305,21740,104909,9837,114746,null,"Carlsbad city",10327.14]
[null,null,null,null,123,"11250","Carmel-by-the-Sea city",192,3028,11,13,2,2939,89,1776,1444,370,77,374,911,1488,2633,587,3220,null,"Carmel-by-the-Sea city",289.8]
[null,null,null,null,124,"11446","Carpinteria city",6473,6791,36,73,8,6359,432,6886,6378,2979,704,3202,3548,2831,12016,1248,13264,null,"Carpinteria city",1193.76]
[null,null,null,null,125,"11530","Carson city",37643,57915,185,21264,1585,55098,2817,50038,45520,20577,6644,23775,26424,18138,84341,11217,95558,null,"Carson city",8600.2199999999993]
[null,null,null,null,126,"12048","Cathedral city",30893,20600,268,1108,53,19386,1214,24615,26878,12475,3265,11989,13986,9778,44773,6720,51493,null,"Cathedral city",4634.37]
[null,null,null,null,127,"12524","Ceres city",31624,17678,204,897,334,16291,1387,24634,24668,15896,3597,13691,10879,5239,43383,5919,49302,null,"Ceres city",4437.1799999999994]
[null,null,null,null,128,"12552","Cerritos city",7092,42486,61,3155,191,40797,1689,25830,23748,9973,2854,10923,13543,12285,45231,4347,49578,null,"Cerritos city",4462.0199999999995]
[null,null,null,null,129,"13014","Chico city",20638,80837,938,1822,320,74414,6423,52293,49182,24369,13433,27588,20086,15999,{"$f":"X130-W130","v":88603},12872,101475,null,"Chico city",9132.75]
[null,null,null,null,130,"13210","Chino city",46841,44562,256,5212,102,42124,2438,45731,45672,22757,6073,27176,23687,11710,85358,6045,91403,null,"Chino city",{"$f":"X131*0.09","v":8226.27}]
[null,null,null,null,131,"13214","Chino Hills city",22084,56327,126,3116,125,53626,2701,39936,38475,19166,5496,20150,23503,10096,72238,6173,78411,null,"Chino Hills city",7056.99]
[null,null,null,null,132,"13294","Chowchilla city",9054,9985,182,1817,33,9383,602,9507,9532,4437,1352,6210,5065,1975,17988,1051,19039,null,"Chowchilla city",1713.51]
[null,null,null,null,133,"13392","Chula Vista city",164698,110789,488,12703,1140,100067,10722,141917,133570,75527,19306,75712,69131,35811,249872,25615,275487,null,"Chula Vista city",24793.829999999998]
[null,null,null,null,134,"13588","Citrus Heights city",17176,70407,516,3191,403,64601,5806,45237,42346,19867,5563,25201,21129,15823,73627,13956,87583,null,"Citrus Heights city",7882.4699999999993]
[null,null,null,null,135,"13756","Claremont city",9416,27850,90,1783,49,25631,2219,20023,17243,9095,5040,7123,8676,7332,33204,4062,37266,null,"Claremont city",3353.94]
[null,null,null,null,136,"13882","Clayton city",1242,9828,17,172,14,9044,784,5786,5284,2566,547,1928,3573,2456,10164,906,11070,null,"Clayton city",996.3]
[null,null,null,null,137,"13945","Clearlake city",5406,11279,292,551,23,10257,1022,8220,8465,4587,903,4200,4139,2856,12990,3695,16685,null,"Clearlake city",1501.6499999999999]
[null,null,null,null,138,"14190","Cloverdale city",3470,5526,86,58,16,5136,390,4545,4451,2103,489,2290,2233,1881,7745,1251,8996,null,"Cloverdale city",809.64]
[null,null,null,null,139,"14218","Clovis city",36594,83530,738,2993,270,77730,5800,62239,57885,34742,7568,32423,27677,17714,107441,12683,120124,null,"Clovis city",10811.16]
[null,null,null,null,140,"14260","Coachella city",40421,1520,83,136,10,1371,149,21095,20846,15154,3457,12046,8206,3078,38095,3846,41941,null,"Coachella city",3774.69]
[null,null,null,null,141,"14274","Coalinga city",11243,6347,112,665,26,5996,351,6608,10982,4352,1320,6246,4132,1540,15521,2069,17590,null,"Coalinga city",1583.1]
[null,null,null,null,142,"14498","Colfax city",210,1785,33,10,5,1637,148,1014,981,468,130,539,500,358,1669,326,1995,null,"Colfax city",179.54999999999998]
[null,null,null,null,143,"14736","Colma town",621,886,4,50,3,819,67,740,767,328,90,378,430,281,1374,133,1507,null,"Colma town",135.63]
[null,null,null,null,144,"14890","Colton city",39779,14130,163,4439,116,13095,1035,27437,26472,15939,4257,15980,12180,5553,46858,7051,53909,null,"Colton city",4851.8099999999995]
[null,null,null,null,145,"14946","Colusa city",3757,2654,65,58,34,2441,213,3222,3189,1947,341,1638,1493,992,5528,883,6411,null,"Colusa city",576.99]
[null,null,null,null,146,"14974","Commerce city",11690,688,38,88,3,629,59,6317,6061,3216,946,3454,2968,1794,10677,1701,12378,null,"Commerce city",1114.02]
[null,null,null,null,147,"15044","Compton city",67791,27949,132,24342,544,26679,1270,49213,46527,29570,7688,27101,21903,9478,86117,9623,95740,null,"Compton city",8616.6]
[null,null,null,null,148,"16000","Concord city",38953,86457,295,4532,644,78894,7563,63465,61945,28656,6911,36705,32736,20402,109586,15824,125410,null,"Concord city",11286.9]
[null,null,null,null,149,"16224","Corcoran city",15538,6801,194,2853,32,6514,287,6890,15449,4853,1464,8686,5599,1737,20568,1771,22339,null,"Corcoran city",2010.51]
[null,null,null,null,150,"16322","Corning city",4487,3757,105,18,11,3479,278,4222,4022,2740,526,2206,1748,1024,7331,913,8244,null,"Corning city",741.95999999999992]
[null,null,null,null,151,"16350","Corona city",73102,84034,461,8136,509,78270,5764,79625,77511,42832,11480,42539,42243,18042,144122,13014,157136,null,"Corona city",14142.24]
[null,null,null,null,152,"16378","Coronado city",3406,16786,53,607,41,15702,1084,9696,10496,4726,2457,4177,4586,4246,18293,1899,20192,null,"Coronado city",1817.28]
[null,null,null,null,153,"16462","Corte Madera town",1092,9130,8,72,14,8426,704,5336,4886,2829,360,2027,3148,1858,9442,780,10222,null,"Corte Madera town",919.98]
[null,null,null,null,154,"16532","Costa Mesa city",40795,71123,232,1306,412,66192,4931,55633,56285,23948,7841,39164,26910,14055,102506,9412,111918,null,"Costa Mesa city",10072.619999999999]
[null,null,null,null,155,"16560","Cotati city",1720,5864,43,103,20,5384,480,3973,3611,1655,502,2190,2037,1200,6717,867,7584,null,"Cotati city",682.56]
[null,null,null,null,156,"16742","Covina city",30108,21160,156,1748,87,19881,1279,26648,24620,12168,3574,14235,13893,7398,45667,5601,51268,null,"Covina city",4614.12]
[null,null,null,null,157,"17022","Crescent city",2181,4492,298,723,4,4162,330,2059,4614,1065,482,2992,1462,672,5828,845,6673,null,"Crescent city",600.56999999999994]
[null,null,null,null,158,"17498","Cudahy city",21872,939,37,167,26,852,87,11582,11229,7263,1991,6650,5112,1795,20966,1845,22811,null,"Cudahy city",2052.9899999999998]
[null,null,null,null,159,"17568","Culver city",8732,32047,47,3143,92,29037,3010,21458,19321,8242,1830,12885,10459,7363,37355,3424,40779,null,"Culver city",3670.1099999999997]
[null,null,null,null,160,"17610","Cupertino city",2330,58051,53,360,21,56098,1953,30333,30048,16032,3065,14728,17342,9214,57036,3345,60381,null,"Cupertino city",5434.29]
[null,null,null,null,161,"17750","Cypress city",10689,39462,85,1522,251,37160,2302,26113,24038,12083,3183,12285,14203,8397,45390,4761,50151,null,"Cypress city",4513.59]
[null,null,null,null,162,"17918","Daly city",25237,79664,980,2531,764,15009,9411,53024,51877,20260,7261,32096,27188,18096,95187,9714,104901,60281,"Daly city",9441.09]
[null,null,null,null,163,"17946","Dana Point city",6294,26813,196,284,35,24719,4428,17057,16050,5756,1712,7134,10390,8115,29997,3110,33107,1341,"Dana Point city",2979.63]
[null,null,null,null,164,"17988","Danville town",3952,39630,104,401,49,30864,4788,22522,21060,11755,1988,7405,13870,8564,40277,3305,43582,6615,"Danville town",3922.3799999999997]
[null,null,null,null,165,"18100","Davis city",11343,55507,473,1651,111,36581,8401,35370,31480,13926,15399,16067,12186,9272,61454,5396,66850,14770,"Davis city",6016.5]
[null,null,null,null,166,"18506","Del Mar city",274,3680,9,22,4,3352,356,2000,1954,569,156,794,1236,1199,3612,342,3954,152,"Del Mar city",355.86]
[null,null,null,null,167,"18688","Del Rey Oaks city",244,1348,14,29,6,1141,212,824,768,244,62,390,479,417,1390,202,1592,128,"Del Rey Oaks city",143.28]
[null,null,null,null,168,"18394","Delano city",38453,12975,1040,2774,54,7184,7206,21813,29615,14979,4201,16797,10860,4591,48749,2679,51428,7476,"Delano city",4628.5199999999995]
[null,null,null,null,169,"18996","Desert Hot Springs city",19887,12625,783,2636,59,11115,5520,16281,16231,10132,2207,8910,7363,3900,28707,3805,32512,785,"Desert Hot Springs city",2926.08]
[null,null,null,null,170,"19192","Diamond Bar city",10803,44269,314,1799,89,10161,5641,28319,26753,11512,3567,13278,16309,10406,50337,4735,55072,32855,"Diamond Bar city",4956.4799999999996]
[null,null,null,null,171,"19318","Dinuba city",21599,2964,446,131,32,5868,6799,12389,12174,8854,1757,6733,4783,2436,22577,1986,24563,537,"Dinuba city",2210.67]
[null,null,null,null,172,"19402","Dixon city",8302,10686,307,590,94,9776,3152,9635,9353,5176,1191,5138,4829,2654,16804,2184,18988,685,"Dixon city",1708.9199999999998]
[null,null,null,null,173,"19584","Dorris city",339,521,15,3,0,495,147,428,432,249,44,208,206,153,755,105,860,18,"Dorris city",77.399999999999991]
[null,null,null,null,174,"19612","Dos Palos city",4184,1614,2,0,1,104,35,2950,2848,1904,404,1526,1266,698,5238,560,5798,4,"Dos Palos city",521.81999999999994]
[null,null,null,null,175,"19766","Downey city",85866,28489,2357,4265,310,26731,27282,58677,55678,28653,8422,33086,29015,15179,104743,9612,114355,7652,"Downey city",10291.949999999999]
[null,null,null,null,176,"19990","Duarte city",10436,11291,382,1202,33,6689,3632,11554,10173,4342,1280,5459,5894,4752,18991,2736,21727,4591,"Duarte city",1955.4299999999998]
[null,null,null,null,177,"20018","Dublin city",8351,64238,517,2876,221,21105,6151,37852,34737,20464,3143,25870,17140,5972,69060,3529,72589,39077,"Dublin city",6533.0099999999993]
[null,null,null,null,178,"20242","Dunsmuir city",202,1505,30,18,1,1404,178,845,862,323,92,380,471,441,1445,262,1707,23,"Dunsmuir city",153.63]
[null,null,null,null,179,"20956","East Palo Alto city",19964,10070,682,3287,2084,3574,4396,14852,15182,8588,2522,9913,6472,2539,27587,2447,30034,1596,"East Palo Alto city",2703.06]
[null,null,null,null,180,"21712","El Cajon city",31271,74944,1156,7164,506,61728,14992,53912,52303,28683,7069,29907,25562,14994,92861,13354,106215,5254,"El Cajon city",9559.35]
[null,null,null,null,181,"21782","El Centro city",38566,5756,854,890,36,11677,13076,23239,21083,13130,3036,11224,10413,6519,37295,7027,44322,802,"El Centro city",3988.98]
[null,null,null,null,182,"21796","El Cerrito city",3075,22887,118,1426,56,11982,3226,13350,12612,5028,1117,7698,6826,5293,23498,2464,25962,7738,"El Cerrito city",2336.58]
[null,null,null,null,183,"22230","El Monte city",70819,38631,2398,903,63,13958,16762,55113,54337,28281,8245,30084,27574,15266,97573,11877,109450,33198,"El Monte city",9850.5]
[null,null,null,null,184,"22300","El Paso de Robles (Paso Robles) city",11958,19532,507,538,82,19204,4975,16231,15259,8395,1643,8031,7680,5741,27633,3857,31490,745,"El Paso de Robles (Paso Robles) city",2834.1]
[null,null,null,null,185,"22412","El Segundo city",2976,14296,111,415,62,11377,2615,8655,8617,3910,955,5300,4874,2233,15703,1569,17272,1839,"El Segundo city",1554.48]
[null,null,null,null,186,"22020","Elk Grove city",33392,142732,1404,17854,2560,57371,24374,90913,85211,49978,10863,43727,47171,24385,159433,16691,176124,58982,"Elk Grove city",15851.16]
[null,null,null,null,187,"22594","Emeryville city",1435,11470,76,2015,54,4796,1382,6627,6278,1508,924,6441,2524,1508,11927,978,12905,3965,"Emeryville city",1161.45]
[null,null,null,null,188,"22678","Encinitas city",9357,52650,384,328,88,47906,7229,31629,30378,13569,2725,15760,17414,12539,56842,5165,62007,2708,"Encinitas city",5580.63]
[null,null,null,null,189,"22790","Escalon city",2330,5142,76,37,6,4960,1090,3827,3645,2014,425,1914,1859,1260,6814,658,7472,133,"Escalon city",672.48]
[null,null,null,null,190,"22804","Escondido city",78226,72812,2708,3602,394,63249,25294,76672,74366,40626,10890,42238,36361,20923,134850,16188,151038,11974,"Escondido city",13593.42]
[null,null,null,null,191,"22972","Etna city",39,639,24,3,3,560,77,352,326,156,28,150,166,178,524,154,678,8,"Etna city",61.019999999999996]
[null,null,null,null,192,"23042","Eureka city",4014,22498,1136,542,235,18056,3279,13275,13237,5699,1644,8302,6147,4720,21398,5114,26512,1489,"Eureka city",2386.08]
[null,null,null,null,193,"23126","Exeter city",5287,5034,295,65,17,5604,1486,5322,4999,3104,688,2695,2279,1555,{"$f":"X194-W194","v":8859},1462,10321,148,"Exeter city",928.89]
[null,null,null,null,194,"23168","Fairfax town",878,6727,56,94,20,5998,855,3931,3674,1558,255,1493,2539,1760,6871,734,7605,233,"Fairfax town",{"$f":"X195*0.09","v":684.44999999999993}]
[null,null,null,null,195,"23182","Fairfield city",36723,83158,1568,17866,1301,38910,18240,60872,59009,32330,8260,33367,29480,16444,106199,13682,119881,22447,"Fairfield city",10789.289999999999]
[null,null,null,null,196,"23616","Farmersville city",9142,1255,419,44,0,2659,1772,5249,5148,3773,767,2761,2130,966,8992,1405,10397,58,"Farmersville city",935.73]
[null,null,null,null,197,"23910","Ferndale city",115,1283,19,5,0,1195,130,735,663,288,79,281,344,406,1112,286,1398,17,"Ferndale city",125.82]
[null,null,null,null,198,"24092","Fillmore city",12593,3826,392,117,14,5537,3639,8321,8098,4946,1109,4520,3818,2026,13882,2537,16419,258,"Fillmore city",1477.71]
[null,null,null,null,199,"24134","Firebaugh city",7486,610,98,45,7,2115,2577,4003,4093,2829,635,2091,1779,762,7564,532,8096,32,"Firebaugh city",728.64]
[null,null,null,null,200,"24638","Folsom city",10503,69951,408,3415,206,47247,8950,38922,41532,19778,4036,21859,23178,11603,74824,5630,80454,15881,"Folsom city",7240.86]
[null,null,null,null,201,"24680","Fontana city",141269,67124,4541,18756,563,49777,37754,105612,102781,63502,16415,58430,50563,19483,189478,18915,208393,17631,"Fontana city",18755.37]
[null,null,null,null,202,"25058","Fort Bragg city",2235,4748,205,49,11,4359,1113,3620,3363,1611,327,1699,1762,1584,5370,1613,6983,112,"Fort Bragg city",628.47]
[null,null,null,null,203,"25128","Fort Jones city",92,603,36,4,0,491,126,370,325,171,29,180,181,134,563,132,695,14,"Fort Jones city",62.55]
[null,null,null,null,204,"25296","Fortuna city",2590,9926,464,86,15,9009,1552,6429,6087,3214,703,3108,2937,2554,10112,2404,12516,156,"Fortuna city",1126.44]
[null,null,null,null,205,"25338","Foster city",2421,31384,76,514,196,11166,2806,17195,16610,7825,1237,10806,8073,5864,31637,2168,33805,18074,"Foster City city",3042.45]
[null,null,null,null,206,"25380","Fountain Valley city",8837,48210,288,573,135,23895,5789,29378,27669,12008,3523,12860,16288,12368,51288,5759,57047,22703,"Fountain Valley city",5134.2299999999996]
[null,null,null,null,207,"25436","Fowler city",4446,2254,140,103,4,2038,1075,3403,3297,2064,429,1800,1573,834,5538,1162,6700,911,"Fowler city",603]
[null,null,null,null,208,"26000","Fremont city",29016,201488,1353,5362,1045,42480,17569,115219,115285,58688,11419,71726,58605,30066,214653,15851,230504,147465,"Fremont city",20745.36]
[null,null,null,null,209,"27000","Fresno city",273771,268336,13015,40972,994,179727,82442,275163,266944,166201,41289,155076,112194,67347,467536,74571,542107,79670,"Fresno city",48789.63]
[null,null,null,null,210,"28000","Fullerton city",54225,89392,1799,3284,349,52164,21438,73410,70207,34642,12477,39945,35990,20563,131198,12419,143617,38382,"Fullerton city",12925.529999999999]
[null,null,null,null,211,"28112","Galt city",11588,13795,439,494,94,12871,4662,13006,12377,7305,1636,6548,6353,3541,22364,3019,25383,1042,"Galt city",2284.4699999999998]
[null,null,null,null,212,"29000","Garden Grove city",64102,107847,1993,1778,846,37604,20782,87126,84823,40704,12513,45013,48445,25274,153370,18579,171949,72962,"Garden Grove city",15475.41]
[null,null,null,null,213,"28168","Gardena city",24503,36524,752,13290,413,7284,7285,31805,29222,12906,3821,17081,16509,10710,53939,7088,61027,16167,"Gardena city",5492.4299999999994]
[null,null,null,null,214,"29504","Gilroy city",33650,25870,1557,1352,210,20836,11608,30028,29492,17697,4011,15536,14974,7302,54702,4818,59520,6313,"Gilroy city",5356.8]
[null,null,null,null,215,"30000","Glendale city",33575,162968,1101,3573,145,128248,17735,102908,93635,36461,11251,58679,52435,37717,169437,27106,196543,29870,"Glendale city",17688.87]
[null,null,null,null,216,"30014","Glendora city",19017,33541,587,1146,50,27823,9175,27034,25524,11951,3246,12879,14975,9507,47033,5525,52558,6844,"Glendora city",4730.22]
[null,null,null,null,217,"30378","Goleta city",11552,21138,489,512,25,16987,5568,16169,16521,7181,2705,9177,8189,5438,29957,2733,32690,3958,"Goleta city",2942.1]
[null,null,null,null,218,"30392","Gonzales city",7945,702,488,49,12,1392,1892,4270,4377,2962,731,2410,1801,743,8319,328,8647,171,"Gonzales city",778.23]
[null,null,null,null,219,"30658","Grand Terrace city",6297,6853,229,908,50,5847,2224,6817,6333,3175,907,3679,3164,2225,11787,1363,13150,850,"Grand Terrace city",1183.5]
[null,null,null,null,220,"30798","Grass Valley city",1728,12288,195,89,17,11308,1525,7737,6279,2718,691,3301,3031,4275,11469,2547,14016,233,"Grass Valley city",1261.44]
[null,null,null,null,221,"30994","Greenfield city",17804,1133,1692,98,25,2651,5051,9381,9556,7299,1392,5620,3356,1270,18235,702,18937,216,"Greenfield city",1704.33]
[null,null,null,null,222,"31260","Gridley city",3633,3788,135,62,9,3705,1109,3783,3638,2160,454,1946,1692,1169,5844,1577,7421,286,"Gridley city",667.89]
[null,null,null,null,223,"31393","Grover Beach city",3979,8722,196,168,23,8099,2167,6511,6190,2665,692,3503,3541,2300,10807,1894,12701,536,"Grover Beach city",1143.0899999999999]
[null,null,null,null,224,"31414","Guadalupe city",7098,959,366,49,15,2205,1659,4032,4025,2793,592,2268,1609,795,7447,610,8057,251,"Guadalupe city",725.13]
[null,null,null,null,225,"31568","Gustine city",3811,2299,111,39,11,2721,948,3093,3017,1847,376,1486,1421,980,4750,1360,6110,93,"Gustine city",549.9]
[null,null,null,null,226,"31708","Half Moon Bay city",3504,8291,92,81,16,7371,1847,6182,5613,2445,556,2510,3460,2824,10502,1293,11795,726,"Half Moon Bay city",1061.55]
[null,null,null,null,227,"31960","Hanford city",30763,27227,1140,2746,125,26410,10502,29561,28429,17795,3845,16381,12429,7540,50685,7305,57990,2475,"Hanford city",5219.0999999999995]
[null,null,null,null,228,"32506","Hawaiian Gardens city",10858,3291,377,590,49,2114,2205,7124,7025,4042,1123,4024,3335,1625,13108,1041,14149,1758,"Hawaiian Gardens city",1273.4099999999999]
[null,null,null,null,229,"32548","Hawthorne city",47310,40773,1726,21323,733,14176,13643,45552,42531,23088,6106,28266,21504,9119,80169,7914,88083,6746,"Hawthorne city",7927.4699999999993]
[null,null,null,null,230,"33000","Hayward city",67079,95875,2562,14693,5104,27955,20987,82628,80326,39122,11711,51121,39760,21240,148137,14817,162954,48315,"Hayward city",14665.859999999999]
[null,null,null,null,231,"33056","Healdsburg city",3925,7415,227,65,12,7194,1599,5823,5517,2404,562,2647,3073,2654,10069,1271,11340,169,"Healdsburg city",1020.5999999999999]
[null,null,null,null,232,"33182","Hemet city",40796,49037,1759,8767,406,41311,13689,46998,42835,23499,5182,20371,20285,20496,73376,16457,89833,3116,"Hemet city",8084.9699999999993]
[null,null,null,null,233,"33308","Hercules city",4320,21696,155,4181,142,4221,2887,13523,12493,5492,1403,7012,7337,4772,23925,2091,26016,12191,"Hercules city",2341.44]
[null,null,null,null,234,"33364","Hermosa Beach city",2064,17664,59,205,22,15116,2433,9628,10100,3789,835,6719,5749,2636,18684,1044,19728,1401,"Hermosa Beach city",1775.52]
[null,null,null,null,235,"33434","Hesperia city",58648,41170,1934,5638,247,40190,15582,50413,49405,31665,6964,26374,22654,12161,88930,10888,99818,2399,"Hesperia city",8983.619999999999]
[null,null,null,null,236,"33518","Hidden Hills city",117,1608,3,33,0,1421,137,904,821,439,128,236,549,373,1506,219,1725,75,"Hidden Hills city",155.25]
[null,null,null,null,237,"33588","Highland city",31624,25375,1030,5320,157,19412,9121,29170,27829,17368,4248,15118,13860,6405,51326,5673,56999,4733,"Highland city",5129.91]
[null,null,null,null,238,"33798","Hillsborough town",531,10856,4,43,29,6304,918,5783,5604,3083,552,1624,3500,2628,10780,607,11387,3946,"Hillsborough town",1024.83]
[null,null,null,null,239,"34120","Hollister city",28727,12951,1173,428,122,15055,7567,21082,20596,12834,2886,11735,9835,4388,37837,3841,41678,1691,"Hollister city",3751.02]
[null,null,null,null,240,"34246","Holtville city",4763,842,72,32,2,1719,1489,2909,2696,1671,333,1351,1311,939,4674,931,5605,38,"Holtville city",504.45]
[null,null,null,null,241,"34904","Hughson city",3367,4114,138,55,8,4274,1370,3819,3662,2303,460,1932,1673,1113,6711,770,7481,122,"Hughson city",673.29]
[null,null,null,null,242,"36000","Huntington Beach city",39457,159254,1293,2291,603,126591,25898,101302,97409,40006,11766,50973,57692,38274,178665,20046,198711,26346,"Huntington Beach city",17883.989999999998]
[null,null,null,null,243,"36056","Huntington Park city",52986,1897,1556,458,37,7959,10988,27730,27153,15779,4395,15855,12992,5862,50284,4599,54883,377,"Huntington Park city",4939.47]
[null,null,null,null,244,"36084","Huron city",5937,269,123,39,0,891,1095,3046,3160,2405,432,1655,1246,468,5537,669,6206,48,"Huron city",558.54]
[null,null,null,null,245,"36294","Imperial Beach city",13369,12768,322,975,148,11342,5482,13014,13123,6547,1918,8284,6142,3246,23344,2793,26137,1627,"Imperial Beach city",2352.33]
[null,null,null,null,246,"36280","Imperial city",16757,3506,334,354,19,5774,6290,10426,9837,6818,1190,6041,4394,1820,18531,1732,20263,579,"Imperial city",1823.6699999999998]
[null,null,null,null,247,"36434","Indian Wells city",310,4447,19,38,5,4195,254,2554,2203,344,75,307,1116,2915,4018,739,4757,131,"Indian Wells city",428.13]
[null,null,null,null,248,"36448","Indio city",61606,27531,16,4,2,279,229,45620,43517,25140,5659,22537,19908,15893,78415,10722,89137,6,"Indio city",8022.33]
[null,null,null,null,249,"36490","Industry city",130,134,0,9,0,119,44,145,119,52,9,55,54,94,248,16,264,37,"Industry city",23.759999999999998]
[null,null,null,null,250,"36546","Inglewood city",55677,52085,2197,41708,356,10271,14491,57073,50689,25815,7511,31538,27716,15182,94171,13591,107762,2248,"Inglewood city",9698.58]
[null,null,null,null,251,"36672","Ione city",874,4267,99,117,0,3908,576,2500,2641,1190,251,1208,1353,1139,3988,1153,5141,85,"Ione city",462.69]
[null,null,null,null,252,"36770","Irvine city",35855,271815,829,6972,397,115957,29762,157048,150622,78022,30494,94601,70667,33886,292866,14804,307670,140443,"Irvine city",27690.3]
[null,null,null,null,253,"36826","Irwindale city",1336,136,80,31,5,370,363,751,721,393,113,389,380,197,1339,133,1472,52,"Irwindale city",132.47999999999999]
[null,null,null,null,254,"36882","Isleton city",347,447,17,13,1,375,127,406,388,191,50,178,243,132,697,97,794,39,"Isleton city",71.459999999999994]
[null,null,null,null,255,"36980","Jackson city",818,4201,121,44,8,3906,576,2707,2312,1056,216,1051,1169,1527,3862,1157,5019,106,"Jackson city",451.71]
[null,null,null,null,256,"38226","Kerman city",12522,3494,380,99,12,4039,3162,8144,7872,5659,1132,4441,3125,1659,14375,1641,16016,1223,"Kerman city",1441.44]
[null,null,null,null,257,"38520","King city",11936,1396,708,57,22,3019,2457,6482,6850,4927,973,4037,2437,958,{"$f":"X258-W258","v":12483},849,13332,269,"King City city",1199.8799999999999]
[null,null,null,null,258,"38562","Kingsburg city",5974,6406,179,65,14,6875,2154,6424,5956,3554,769,3132,2886,2039,11151,1229,12380,422,"Kingsburg city",{"$f":"X259*0.09","v":1114.2}]
[null,null,null,null,259,"39003","La Cañada Flintridge city",1717,18856,45,135,2,11487,2053,10431,10142,5431,1115,3398,6405,4224,19523,1050,20573,6446,"La Cañada Flintridge city",1851.57]
[null,null,null,null,260,"39290","La Habra city",37439,25658,1086,1187,96,22098,13017,32373,30724,15824,4367,17756,16246,8904,61277,1820,63097,7995,"La Habra city",5678.73]
[null,null,null,null,261,"39304","La Habra Heights city",1813,3869,46,47,5,2812,971,2897,2785,1093,322,1164,1744,1359,3666,2016,5682,1161,"La Habra Heights city",511.38]
[null,null,null,null,262,"40004","La Mesa city",15686,45435,615,4217,344,36355,9678,31890,29231,12804,3857,19481,14695,10284,58112,3009,61121,4106,"La Mesa city",5500.8899999999994]
[null,null,null,null,263,"40032","La Mirada city",20652,27356,642,1106,110,17667,9263,24962,23046,10195,4200,11242,12961,9410,42506,5502,48008,10992,"La Mirada city",4320.72]
[null,null,null,null,264,"40256","La Palma city",2939,12642,90,800,89,3920,1608,8072,7509,3260,978,3748,4424,3171,11060,4521,15581,7912,"La Palma city",1402.29]
[null,null,null,null,265,"40340","La Puente city",31080,6982,791,466,59,6360,7384,19316,18746,9859,2871,10657,9738,4937,31619,6443,38062,4956,"La Puente city",3425.58]
[null,null,null,null,266,"40354","La Quinta city",12852,24706,341,716,62,23537,5086,19660,17898,7178,1810,6977,10257,11336,37248,310,37558,1548,"La Quinta city",3380.22]
[null,null,null,null,267,"40830","La Verne city",11185,20149,333,976,62,17330,5412,16492,14842,6702,1819,6834,8621,7358,25852,5482,31334,3498,"La Verne city",2820.06]
[null,null,null,null,268,"39122","Lafayette city",2075,23316,58,180,28,18489,2973,12968,12423,6693,1003,4911,7390,5394,19401,5990,25391,3201,"Lafayette city",2285.19]
[null,null,null,null,269,"39178","Laguna Beach city",2155,20877,62,184,25,18898,2293,11585,11447,3833,1089,4298,7760,6052,22252,780,23032,988,"Laguna Beach city",2072.88]
[null,null,null,null,270,"39220","Laguna Hills city",7489,23885,205,454,55,18181,4329,16190,15184,6803,1854,7624,8985,6108,24075,7299,31374,4779,"Laguna Hills city",2823.66]
[null,null,null,null,271,"39248","Laguna Niguel city",10510,53845,300,814,83,44835,8092,33175,31180,13168,3696,13868,20034,13589,57464,6891,64355,6395,"Laguna Niguel city",5791.95]
[null,null,null,null,272,"39259","Laguna Woods city",939,16705,36,158,12,12498,903,10993,6651,109,28,266,2733,14508,13335,4309,17644,3817,"Laguna Woods city",1587.96]
[null,null,null,null,273,"39486","Lake Elsinore city",35854,34411,1081,4804,321,27767,13258,35530,34735,22131,4794,20231,16561,6548,55559,14706,70265,5224,"Lake Elsinore city",6323.8499999999995]
[null,null,null,null,274,"39496","Lake Forest city",21945,63913,890,1434,179,44637,12463,43570,42288,20293,5175,23843,24094,12453,84282,1576,85858,16861,"Lake Forest city",7727.2199999999993]
[null,null,null,null,275,"39710","Lakeport city",934,4092,131,59,9,3752,557,2646,2380,1047,198,1120,1321,1340,1305,3721,5026,130,"Lakeport city",452.34]
[null,null,null,null,276,"39892","Lakewood city",29482,53014,887,6846,726,30991,14297,42459,40037,19335,5364,22757,22654,12386,77658,4838,82496,15567,"Lakewood city",7424.6399999999994]
[null,null,null,null,277,"40130","Lancaster city",78338,95178,2874,37032,326,56614,27225,87986,85530,52415,12527,48326,40729,19519,172455,1061,173516,8129,"Lancaster city",15616.439999999999]
[null,null,null,null,278,"40438","Larkspur city",1450,11614,78,193,15,9848,1424,7027,6037,2621,478,2631,3966,3368,10239,2825,13064,820,"Larkspur city",1175.76]
[null,null,null,null,279,"40704","Lathrop city",11389,17312,352,2178,382,6958,4036,14507,14194,9147,1840,8164,6753,2797,24545,4156,28701,8691,"Lathrop city",2583.0899999999997]
[null,null,null,null,280,"40886","Lawndale city",20018,11789,811,2695,198,6757,5552,16050,15757,7950,2345,9963,8265,3284,28965,2842,31807,3306,"Lawndale city",2862.63]
[null,null,null,null,281,"41124","Lemon Grove city",12850,14777,377,3337,278,9760,5083,14236,13391,6755,1929,7863,6765,4315,24126,3501,27627,2476,"Lemon Grove city",2486.4299999999998]
[null,null,null,null,282,"41152","Lemoore city",12971,14067,566,1664,115,11221,4649,13651,13387,8386,2205,8211,5546,2690,24228,2810,27038,2340,"Lemoore city",2433.42]
[null,null,null,null,283,"41474","Lincoln city",10037,39720,420,882,149,34973,6416,26165,23592,12533,2005,10603,10462,14154,43553,6204,49757,3158,"Lincoln city",4478.13]
[null,null,null,null,284,"41712","Lindsay city",11267,1392,230,59,17,3246,2090,6454,6205,4782,991,3255,2440,1191,11072,1587,12659,204,"Lindsay city",1139.31]
[null,null,null,null,285,"41936","Live Oak city",4508,4598,176,138,42,3368,1373,4631,4475,2882,571,2388,2040,1225,7921,1185,9106,1250,"Live Oak city",819.54]
[null,null,null,null,286,"41992","Livermore city",18978,68977,731,1739,242,52469,12392,44383,43572,21575,4583,23823,25177,12797,80317,7638,87955,12819,"Livermore city",7915.95]
[null,null,null,null,287,"42006","Livingston city",9936,4236,551,125,21,2232,2393,7118,7054,4483,1003,3961,3181,1544,12360,1812,14172,3013,"Livingston city",1275.48]
[null,null,null,null,288,"42202","Lodi city",25949,40399,827,872,146,34387,9072,34095,32253,18322,3958,17767,14971,11330,58232,8116,66348,6354,"Lodi city",5971.32]
[null,null,null,null,289,"42370","Loma Linda city",6908,17883,222,2456,81,8626,3320,13144,11647,5383,1805,8126,5246,4231,21681,3110,24791,6962,"Loma Linda city",2231.19]
[null,null,null,null,290,"42468","Lomita city",7691,13230,251,1209,156,8637,3321,10946,9975,4416,1113,5839,5874,3679,18876,2045,20921,3524,"Lomita city",1882.8899999999999]
[null,null,null,null,291,"42524","Lompoc city",25472,18972,1147,2007,112,18848,9306,21178,23266,12129,2935,12657,10861,5862,39365,5079,44444,1756,"Lompoc city",3999.96]
[null,null,null,null,292,"43000","Long Beach city",201997,264745,7002,58334,4330,149347,67237,238224,228518,108010,34229,146741,116752,61010,420230,46512,466742,60874,"Long Beach city",42006.78]
[null,null,null,null,293,"43140","Loomis town",808,6028,87,33,3,5521,720,3467,3369,1821,364,1435,1969,1247,6396,440,6836,236,"Loomis town",615.24]
[null,null,null,null,294,"43224","Los Alamitos city",3026,8754,110,386,74,6275,1834,6167,5613,3088,731,2990,3074,1897,10924,856,11780,2097,"Los Alamitos city",1060.2]
[null,null,null,null,295,"43280","Los Altos city",1538,30087,43,188,44,16958,2758,16216,15409,8299,1316,5385,9852,6773,29857,1768,31625,11176,"Los Altos city",2846.25]
[null,null,null,null,296,"43294","Los Altos Hills town",334,8155,10,22,23,4817,651,4331,4158,1822,481,1165,2675,2346,8054,435,8489,2863,"Los Altos Hills town",764.01]
[null,null,null,null,297,"44000","Los Angeles city",1829991,2068756,66491,336096,5960,1359068,518313,1973072,1925675,853008,294799,1275226,946475,529239,3492361,406386,3898747,462643,"Los Angeles city",350887.23]
[null,null,null,null,298,"44028","Los Banos city",33611,11921,1275,1134,334,14199,8822,22984,22548,15680,3227,11728,9983,4914,40817,4715,45532,1510,"Los Banos city",4097.88]
[null,null,null,null,299,"44112","Los Gatos town",3017,30512,102,315,27,22569,3476,17352,16177,8393,1406,6633,10457,6640,30611,2918,33529,6153,"Los Gatos town",3017.6099999999997]
[null,null,null,null,300,"44364","Loyalton city",127,613,9,4,1,601,80,367,373,162,24,160,183,211,614,126,740,0,"Loyalton city",66.599999999999994]
[null,null,null,null,301,"44574","Lynwood city",59427,7838,2050,5533,222,8971,12083,34728,32537,19731,5544,20171,15528,6291,61970,5295,67265,450,"Lynwood city",6053.8499999999995]
[null,null,null,null,302,"45022","Madera city",53471,12753,4554,1750,66,17063,12292,33196,33028,23936,4779,18660,12450,6399,58566,7658,66224,1834,"Madera city",5960.16]
[null,null,null,null,303,"45246","Malibu city",833,9821,21,150,9,8974,918,5412,5242,1848,691,1821,3446,2848,9368,1286,10654,345,"Malibu city",958.86]
[null,null,null,null,304,"45358","Mammoth Lakes town",2395,4796,95,35,13,4775,897,3295,3896,1665,390,2471,1872,793,6890,301,7191,104,"Mammoth Lakes town",647.18999999999994]
[null,null,null,null,305,"45400","Manhattan Beach city",3072,32434,56,332,34,26141,4200,18045,17461,9103,1690,7591,10808,6314,33522,1984,35506,4045,"Manhattan Beach city",3195.54]
[null,null,null,null,306,"45484","Manteca city",33892,49606,1476,3778,689,35386,13001,42506,40992,23344,5237,21854,20455,12608,73491,10007,83498,12016,"Manteca city",7514.82]
[null,null,null,null,307,"45736","Maricopa city",303,723,28,15,3,686,112,498,528,274,68,233,275,176,668,358,1026,7,"Maricopa city",92.34]
[null,null,null,null,308,"45778","Marina city",7204,15155,304,1356,507,8441,3737,11746,10613,6178,1540,6051,5317,3273,19656,2703,22359,4221,"Marina city",2012.31]
[null,null,null,null,309,"46114","Martinez city",6670,30617,264,1390,117,24191,5447,19113,18174,7918,1808,9950,10784,6827,32564,4723,37287,3828,"Martinez city",3355.83]
[null,null,null,null,310,"46170","Marysville city",3771,9073,330,628,58,7547,1765,6433,6411,3390,971,3851,2817,1815,10847,1997,12844,539,"Marysville city",1155.96]
[null,null,null,null,311,"46492","Maywood city",24400,738,704,148,12,3296,5472,12555,12583,7529,2042,7356,5766,2445,23357,1781,25138,104,"Maywood city",2262.42]
[null,null,null,null,312,"44826","McFarland city",13451,710,650,95,7,2637,3474,7097,7064,5404,1111,4039,2642,965,13715,446,14161,130,"McFarland city",1274.49]
[null,null,null,null,313,"46828","Mendota city",12169,426,262,29,2,2528,3309,5963,6632,4960,1003,3547,2258,827,11945,650,12595,29,"Mendota city",1133.55]
[null,null,null,null,314,"46842","Menifee city",38749,63778,1310,6941,502,53478,16778,52915,49612,26751,5623,25575,24683,19895,88852,13675,102527,6629,"Menifee city",9227.43]
[null,null,null,null,315,"46870","Menlo Park city",5989,27791,232,1063,367,19344,3793,17282,16498,8458,1751,9899,8446,5226,31110,2670,33780,5822,"Menlo Park city",3040.2]
[null,null,null,null,316,"46898","Merced city",48617,37716,2193,4662,218,30915,15346,44003,42330,27860,7724,23786,16991,9972,74888,11445,86333,9624,"Merced city",7769.9699999999993]
[null,null,null,null,317,"47710","Mill Valley city",859,13372,31,137,13,11621,1311,7581,6650,3512,460,2338,4565,3356,13166,1065,14231,860,"Mill Valley city",1280.79]
[null,null,null,null,318,"47486","Millbrae city",2621,20595,87,172,230,7340,2079,11886,11330,5023,1128,5981,6444,4640,21042,2174,23216,12238,"Millbrae city",2089.44]
[null,null,null,null,319,"47766","Milpitas city",10586,69687,503,1691,336,9085,5068,39114,41159,18490,4319,28623,19034,9807,75363,4910,80273,57537,"Milpitas city",7224.57]
[null,null,null,null,320,"48256","Mission Viejo city",17986,75667,468,1224,165,61570,12968,48241,45412,19779,5345,20642,27800,20087,84282,9371,93653,11033,"Mission Viejo city",8428.77]
[null,null,null,null,321,"48354","Modesto city",93733,124731,4130,8975,2481,101805,32879,112198,106266,60354,13692,59337,51496,33585,{"$f":"X322-W322","v":187800},30664,218464,17728,"Modesto city",19661.759999999998]
[null,null,null,null,322,"48648","Monrovia city",14987,22944,461,2126,53,15677,6259,19831,18100,8180,2152,11023,10598,5978,34553,3378,37931,6333,"Monrovia city",{"$f":"X323*0.09","v":3413.79}]
[null,null,null,null,323,"48690","Montague city",135,1091,50,8,0,1002,139,643,583,283,72,290,324,257,923,303,1226,4,"Montague city",110.33999999999999]
[null,null,null,null,324,"48788","Montclair city",27222,10643,953,1652,65,7741,6956,19121,18744,10477,2910,11152,8932,4394,32966,4899,37865,4366,"Montclair city",3407.85]
[null,null,null,null,325,"48956","Monte Sereno city",230,3249,9,26,3,2354,361,1757,1722,788,197,438,1209,847,3145,334,3479,682,"Monte Sereno city",313.11]
[null,null,null,null,326,"48816","Montebello city",49014,13626,1400,614,82,13346,12934,32485,30155,14947,4403,17676,15333,10281,54635,8005,62640,8005,"Montebello city",5637.5999999999995]
[null,null,null,null,327,"48872","Monterey city",5618,24600,312,957,222,20352,3757,14873,15345,5151,3546,9176,6322,6023,27903,2315,30218,2399,"Monterey city",2719.62]
[null,null,null,null,328,"48914","Monterey Park city",16768,44328,525,411,56,5134,5986,31772,29324,11719,3551,16006,16791,13029,54984,6112,61096,40734,"Monterey Park city",5498.6399999999994]
[null,null,null,null,329,"49138","Moorpark city",12061,24223,366,621,40,20980,5804,18495,17789,9480,2214,9236,10174,5180,32864,3420,36284,3241,"Moorpark city",3265.56]
[null,null,null,null,330,"49187","Moraga town",1652,15218,42,211,42,10877,2089,8762,8108,4735,1614,2491,4647,3383,15438,1432,16870,3182,"Moraga town",1518.3]
[null,null,null,null,331,"49270","Moreno Valley city",128168,80466,3992,33158,1155,46908,36198,106583,102051,63889,16967,59092,47623,21063,188623,20011,208634,12566,"Moreno Valley city",18777.059999999998]
[null,null,null,null,332,"49278","Morgan Hill city",15044,30439,653,994,188,22588,7040,23276,22207,12190,2494,11166,12789,6844,41579,3904,45483,6728,"Morgan Hill city",4093.47]
[null,null,null,null,333,"49362","Morro Bay city",1788,8969,73,84,22,8428,1151,5609,5148,1604,422,2192,3007,3532,9123,1634,10757,322,"Morro Bay city",968.13]
[null,null,null,null,334,"49852","Mount Shasta city",284,2939,28,48,4,2669,345,1687,1536,608,122,668,883,942,2819,404,3223,52,"Mount Shasta city",290.07]
[null,null,null,null,335,"49670","Mountain View city",14206,68170,667,1227,229,34895,9381,39656,42720,17056,4333,33251,17997,9739,76946,5430,82376,28891,"Mountain View city",7413.84]
[null,null,null,null,336,"50076","Murrieta city",33925,77024,1185,6711,521,59134,19187,56957,53992,32085,7422,28434,27722,15286,99268,11681,110949,11566,"Murrieta city",9985.41]
[null,null,null,null,337,"50258","Napa city",31572,47674,1260,634,143,46173,12764,40487,38759,18146,4211,21339,20884,14666,70081,9165,79246,2082,"Napa city",7132.1399999999994]
[null,null,null,null,338,"50398","National city",37086,19087,957,2239,335,11149,12337,29122,27051,14645,4371,15399,13705,8053,49136,7037,56173,11094,"National city",5055.57]
[null,null,null,null,339,"50734","Needles city",1255,3676,445,121,12,3322,556,2494,2437,1222,228,1056,1395,1030,3402,1529,4931,60,"Needles city",443.78999999999996]
[null,null,null,null,340,"50874","Nevada City city",268,2884,55,26,4,2684,265,1544,1608,470,132,754,869,927,2846,306,3152,53,"Nevada City city",283.68]
[null,null,null,null,341,"50916","Newark city",14360,33169,560,1584,693,10762,5812,23605,23924,10848,2668,15801,11884,6328,43094,4435,47529,19801,"Newark city",4277.6099999999997]
[null,null,null,null,342,"51140","Newman city",8407,3944,260,370,57,4405,2473,6253,6098,4147,796,3338,2674,1396,10987,1364,12351,263,"Newman city",1111.5899999999999]
[null,null,null,null,343,"51182","Newport Beach city",8190,77049,259,671,94,66616,7741,43597,41642,15512,4652,20056,24464,20555,77981,7258,85239,7531,"Newport Beach city",7671.5099999999993]
[null,null,null,null,344,"51560","Norco city",9494,16822,311,1603,45,14702,3453,11250,15066,5382,1750,7487,7769,3928,23797,2519,26316,904,"Norco city",2368.44]
[null,null,null,null,345,"52526","Norwalk city",73548,29225,2426,4178,451,20680,21673,52499,50274,25563,7761,29443,25893,14113,92196,10577,102773,14038,"Norwalk city",9249.57]
[null,null,null,null,346,"52582","Novato city",13615,39610,961,1435,108,32509,7147,27643,25582,12132,2504,11793,15029,11767,47665,5560,53225,3966,"Novato city",4790.25]
[null,null,null,null,347,"52694","Oakdale city",7055,16126,302,206,94,15555,3101,11961,11220,6633,1324,6001,5423,3800,20919,2262,23181,553,"Oakdale city",2086.29]
[null,null,null,null,348,"53000","Oakland city",126843,313803,8530,93820,2884,132297,51805,226138,214508,93006,24267,157549,104290,61534,394541,46105,440646,70806,"Oakland city",39658.14]
[null,null,null,null,349,"53070","Oakley city",15928,27429,448,3627,303,19917,7635,22106,21251,12824,2660,12147,10948,4778,38736,4621,43357,4107,"Oakley city",3902.1299999999997]
[null,null,null,null,350,"53322","Oceanside city",63316,110752,2466,7076,2110,89605,28218,88881,85187,38850,12130,48073,44378,30637,152469,21599,174068,13261,"Oceanside city",15666.119999999999]
[null,null,null,null,351,"53476","Ojai city",1465,6172,78,34,8,5872,880,4129,3508,1488,316,1592,2167,2074,6612,1025,7637,231,"Ojai city",687.32999999999993]
[null,null,null,null,352,"53896","Ontario city",119928,55337,4184,11045,549,42332,34249,89030,86235,48172,13152,53649,41718,18574,158952,16313,175265,16243,"Ontario city",15773.849999999999]
[null,null,null,null,353,"53980","Orange city",57575,82336,1765,2442,388,65071,22871,70549,69362,33392,11505,39614,34981,20419,128394,11517,139911,18392,"Orange city",12591.99]
[null,null,null,null,354,"54008","Orange Cove city",9159,490,143,51,9,2201,1852,4882,4767,3765,779,2483,1806,816,8890,759,9649,73,"Orange Cove city",868.41]
[null,null,null,null,355,"54232","Orinda city",1285,18229,31,196,20,13423,2161,9928,9586,5281,703,3301,5672,4557,17918,1596,19514,3401,"Orinda city",1756.26]
[null,null,null,null,356,"54274","Orland city",4443,3855,262,49,11,3863,1251,4281,4017,2529,562,2122,1838,1247,7321,977,8298,176,"Orland city",746.81999999999994]
[null,null,null,null,357,"54386","Oroville city",3267,16775,698,749,58,12608,2639,10102,9940,5628,1336,5582,4407,3089,15989,4053,20042,1956,"Oroville city",1803.78]
[null,null,null,null,358,"54652","Oxnard city",150984,51079,6678,4819,585,50086,44412,101248,100815,58747,15243,57625,46151,24297,182366,19697,202063,15497,"Oxnard city",18185.669999999998]
[null,null,null,null,359,"54848","Pacific Grove city",2146,12944,105,170,37,11168,1900,8061,7029,2902,619,3286,3956,4327,13259,1831,15090,1017,"Pacific Grove city",1358.1]
[null,null,null,null,360,"54806","Pacifica city",7363,31277,307,738,286,20488,6011,19616,19024,8100,1823,10639,11000,7078,35077,3563,38640,8385,"Pacifica city",3477.6]
[null,null,null,null,361,"55184","Palm Desert city",13315,37848,424,1022,71,35139,5906,27354,23809,7865,2081,9644,12769,18804,43150,8013,51163,2440,"Palm Desert city",4604.67]
[null,null,null,null,362,"55254","Palm Springs city",11054,33521,520,1940,68,29711,4522,17526,27049,4830,1447,7527,15558,15213,36524,8051,44575,2086,"Palm Springs city",4011.75]
[null,null,null,null,363,"55156","Palmdale city",104742,64708,3584,23080,361,45040,29324,86803,82647,52612,13090,44231,41721,17796,150966,18484,169450,7419,"Palmdale city",15250.5]
[null,null,null,null,364,"55282","Palo Alto city",5091,63481,141,1225,157,34191,6481,34855,33717,16368,3433,17001,18300,13470,63387,5185,68572,24317,"Palo Alto city",6171.48]
[null,null,null,null,365,"55380","Palos Verdes Estates city",1003,12344,31,170,7,8820,1389,6917,6430,3023,662,1643,4254,3765,12110,1237,13347,2723,"Palos Verdes Estates city",1201.23]
[null,null,null,null,366,"55520","Paradise town",419,4345,46,17,7,4075,451,2369,2395,764,150,885,1468,1497,808,3956,4764,68,"Paradise town",428.76]
[null,null,null,null,367,"55618","Paramount city",43620,10113,1421,5148,253,7971,11025,27577,26156,15680,4464,15735,12701,5153,49561,4172,53733,1831,"Paramount city",4835.97]
[null,null,null,null,368,"55856","Parlier city",14227,349,240,41,4,2914,3417,7201,7375,5416,1122,3932,2865,1241,13376,1200,14576,66,"Parlier city",1311.84]
[null,null,null,null,369,"56000","Pasadena city",45742,92957,1883,11272,156,57835,20979,71674,67025,25298,8235,45309,35595,24262,125294,13405,138699,24550,"Pasadena city",12482.91]
[null,null,null,null,370,"56112","Patterson city",14961,8820,544,1685,331,6970,3831,11951,11830,7677,1682,6443,5441,2538,22279,1502,23781,1550,"Patterson city",2140.29]
[null,null,null,null,371,"56700","Perris city",59571,19129,1729,8242,273,14816,14666,39732,38968,27390,6397,22517,16600,5796,72003,6697,78700,2912,"Perris city",7083]
[null,null,null,null,372,"56784","Petaluma city",13606,46170,747,836,165,40717,7945,30980,28796,13566,2878,14730,16651,11951,54147,5629,59776,2857,"Petaluma city",5379.84]
[null,null,null,null,373,"56924","Pico Rivera city",56249,5839,1650,509,67,13234,16671,31833,30255,14883,4566,17023,15772,9844,56236,5852,62088,2251,"Pico Rivera city",5587.92]
[null,null,null,null,374,"56938","Piedmont city",729,10541,10,126,13,7218,1459,5739,5531,3277,474,1760,3377,2382,10406,864,11270,2267,"Piedmont city",1014.3]
[null,null,null,null,375,"57288","Pinole city",5093,13929,216,2099,83,6267,2613,9961,9061,3774,1052,4943,5185,4068,16633,2389,19022,4887,"Pinole city",1711.98]
[null,null,null,null,376,"57414","Pismo Beach city",978,7094,79,68,10,6542,756,4197,3875,1127,265,1661,2370,2649,7073,999,8072,324,"Pismo Beach city",726.48]
[null,null,null,null,377,"57456","Pittsburg city",32300,44116,1098,12865,880,15893,10957,39207,37209,20611,5272,22126,18821,9586,67138,9278,76416,15069,"Pittsburg city",6877.44]
[null,null,null,null,378,"57526","Placentia city",19691,32133,569,1026,82,22486,8494,26597,25227,12990,3629,13277,13537,8391,47712,4112,51824,10121,"Placentia city",4664.16]
[null,null,null,null,379,"57540","Placerville city",2015,8732,158,77,13,8202,1231,5698,5049,2364,527,2699,2573,2584,9399,1348,10747,119,"Placerville city",967.23]
[null,null,null,null,380,"57764","Pleasant Hill city",4957,29656,201,921,110,21825,4643,17920,16693,7484,1776,9450,9281,6622,30986,3627,34613,5329,"Pleasant Hill city",3115.17]
[null,null,null,null,381,"57792","Pleasanton city",7882,71989,300,1396,120,36046,7545,40828,39043,21155,3847,19297,23164,12408,73897,5974,79871,31636,"Pleasanton city",7188.3899999999994]
[null,null,null,null,382,"57834","Plymouth city",263,815,28,7,6,755,154,548,530,243,46,240,298,251,993,85,1078,13,"Plymouth city",97.02]
[null,null,null,null,383,"57876","Point Arena city",141,319,34,2,1,281,66,226,234,113,22,92,129,104,384,76,460,0,"Point Arena city",41.4]
[null,null,null,null,384,"58072","Pomona city",108044,43669,3499,8741,315,31901,28404,76523,75190,41018,12962,43383,36640,17710,135342,16371,151713,16255,"Pomona city",13654.17]
[null,null,null,null,385,"58296","Port Hueneme city",12645,9309,625,864,144,8317,4516,11082,10872,5691,1764,6395,4845,3259,{"$f":"X386-W386","v":19722},2232,21954,1286,"Port Hueneme city",1975.86]
[null,null,null,null,386,"58240","Porterville city",43542,19081,1536,566,142,23427,11158,31759,30864,22120,4528,16256,12586,7133,56081,6542,62623,2771,"Porterville city",{"$f":"X387*0.09","v":5636.07}]
[null,null,null,null,387,"58352","Portola city",402,1698,38,9,14,1627,265,1073,1027,523,95,531,526,425,1777,323,2100,21,"Portola city",189]
[null,null,null,null,388,"58380","Portola Valley town",230,4226,4,11,0,3585,452,2294,2162,948,192,533,1337,1446,3853,603,4456,347,"Portola Valley town",401.03999999999996]
[null,null,null,null,389,"58520","Poway city",9017,39824,305,725,119,30591,6831,24791,24050,12423,2587,11242,13744,8845,44211,4630,48841,6738,"Poway city",4395.6899999999996]
[null,null,null,null,390,"59444","Rancho Cordova city",17119,62213,920,7388,900,38685,10671,40487,38845,21505,4811,24202,18599,10215,68674,10658,79332,12403,"Rancho Cordova city",7139.88]
[null,null,null,null,391,"59451","Rancho Cucamonga city",65261,109192,1954,16089,486,74323,29466,89440,85013,44179,11219,47905,47075,24075,158246,16207,174453,25809,"Rancho Cucamonga city",15700.769999999999]
[null,null,null,null,392,"59500","Rancho Mirage city",2260,14739,81,321,28,13445,1318,8422,8577,1479,346,1603,4640,8931,13201,3798,16999,754,"Rancho Mirage city",1529.9099999999999]
[null,null,null,null,393,"59514","Rancho Palos Verdes city",4535,37752,124,1125,43,21488,4799,21881,20406,9367,2005,6871,13065,10979,38527,3760,42287,13513,"Rancho Palos Verdes city",3805.83]
[null,null,null,null,394,"59587","Rancho Santa Margarita city",10297,37652,278,829,106,30163,7341,24632,23317,12245,2909,12099,15230,5466,44124,3825,47949,5836,"Rancho Santa Margarita city",4315.41]
[null,null,null,null,395,"59892","Red Bluff city",3597,11113,555,159,37,10239,1788,7651,7059,4243,956,3857,3164,2490,11799,2911,14710,230,"Red Bluff city",1323.8999999999999]
[null,null,null,null,396,"59920","Redding city",10490,83121,2214,1395,216,72057,10298,48401,45210,22410,5718,24035,21662,19786,78097,15514,93611,4161,"Redding city",8424.99]
[null,null,null,null,397,"59962","Redlands city",25746,47422,866,3705,207,38969,11835,38405,34763,18460,5040,19424,17260,12984,65055,8113,73168,7063,"Redlands city",6585.12]
[null,null,null,null,398,"60018","Redondo Beach city",12497,59079,421,2230,202,44398,10388,35556,36020,15766,2980,21687,20631,10512,67618,3958,71576,10257,"Redondo Beach city",6441.84]
[null,null,null,null,399,"60102","Redwood city",30104,54188,1330,1531,669,37487,11840,42046,42246,18885,4888,28390,21162,10967,78447,5845,84292,13693,"Redwood City city",7586.28]
[null,null,null,null,400,"60242","Reedley city",19966,5261,400,121,6,7422,5516,12802,12425,8201,1920,6367,5383,3356,22428,2799,25227,747,"Reedley city",2270.4299999999998]
[null,null,null,null,401,"60466","Rialto city",77345,26681,2699,12358,385,21864,19190,53329,50697,31896,8290,28917,23796,11127,94716,9310,104026,2698,"Rialto city",9362.34]
[null,null,null,null,402,"60620","Richmond city",51912,64536,2395,22254,652,23452,15235,59316,57132,28763,7396,35880,28550,15859,103858,12590,116448,16740,"Richmond city",10480.32]
[null,null,null,null,403,"60704","Ridgecrest city",6124,21835,342,1333,168,18425,3776,13920,14039,7779,1670,8309,6238,3963,23557,4402,27959,1528,"Ridgecrest city",2516.31]
[null,null,null,null,404,"60900","Rio Dell city",487,2892,119,30,1,2618,370,1695,1684,841,196,970,755,617,2766,613,3379,24,"Rio Dell city",304.11]
[null,null,null,null,405,"60984","Rio Vista city",1602,8403,93,824,41,6766,1075,5249,4756,1322,321,1482,2363,4517,7995,2010,10005,622,"Rio Vista city",900.44999999999993]
[null,null,null,null,406,"61026","Ripon city",3999,12014,147,201,28,10858,2310,8222,7791,4693,857,3899,3984,2580,13962,2051,16013,964,"Ripon city",1441.1699999999998]
[null,null,null,null,407,"61068","Riverbank city",13958,10907,491,530,156,10917,4372,12640,12225,7729,1589,6859,5827,2861,22512,2353,24865,1256,"Riverbank city",2237.85]
[null,null,null,null,408,"62000","Riverside city",172386,142612,6164,20100,1121,114991,54131,160295,154703,86207,29522,88868,72582,37819,278618,36380,314998,23159,"Riverside city",28349.82]
[null,null,null,null,409,"62364","Rocklin city",9944,61657,479,1278,212,49202,9194,36827,34774,20669,4209,17654,18509,10560,66076,5525,71601,8486,"Rocklin city",6444.09]
[null,null,null,null,410,"62546","Rohnert Park city",13131,31259,712,977,175,26296,6494,22859,21531,9843,4302,13081,10639,6525,39431,4959,44390,2833,"Rohnert Park city",3995.1]
[null,null,null,null,411,"62602","Rolling Hills city",122,1617,3,23,1,1147,180,930,809,305,113,242,519,560,1571,168,1739,356,"Rolling Hills city",156.51]
[null,null,null,null,412,"62644","Rolling Hills Estates city",640,7640,21,92,11,4630,854,4297,3983,1929,385,1167,2572,2227,7245,1035,8280,2508,"Rolling Hills Estates city",745.19999999999993]
[null,null,null,null,413,"62896","Rosemead city",15906,35279,557,282,21,3930,4552,26153,25032,10526,3545,12981,14910,9223,46369,4816,51185,32970,"Rosemead city",4606.6499999999996]
[null,null,null,null,414,"62938","Roseville city",24057,123716,1227,3756,546,96882,18816,76649,71124,38558,7622,38374,37071,26148,132862,14911,147773,18714,"Roseville city",13299.57]
[null,null,null,null,415,"62980","Ross town",130,2208,1,2,0,2082,182,1205,1133,717,101,319,681,520,2193,145,2338,41,"Ross town",210.42]
[null,null,null,null,416,"64000","Sacramento city",151253,373690,7215,69167,8637,182637,72413,268956,255987,129833,37773,165521,119432,72384,465978,58965,524943,104358,"Sacramento city",47244.869999999995]
[null,null,null,null,417,"64224","Salinas city",130178,33364,5469,2289,442,37673,33360,81871,81671,52844,12187,48186,34238,16087,151227,12315,163542,9693,"Salinas city",14718.779999999999]
[null,null,null,null,418,"64434","San Anselmo town",1180,11650,45,100,12,10392,1444,6759,6071,3189,430,2354,4200,2657,11898,932,12830,450,"San Anselmo town",1154.7]
[null,null,null,null,419,"65000","San Bernardino city",151125,70976,5029,27875,920,53786,37251,112968,109133,69799,17836,63849,48208,22409,195315,26786,222101,9279,"San Bernardino city",19989.09]
[null,null,null,null,420,"65028","San Bruno city",12282,31626,458,771,1156,14822,6074,22129,21779,8925,2415,14014,11524,7030,40533,3375,43908,14148,"San Bruno city",3951.72]
[null,null,null,null,421,"65042","San Buenaventura (Ventura) city",38902,71861,1633,2018,215,68117,18600,56972,53791,24651,6118,29411,29838,20745,96493,14270,110763,4444,"San Buenaventura (Ventura) city",9968.67]
[null,null,null,null,422,"65070","San Carlos city",3416,27306,99,268,82,19476,3831,15813,14909,7752,1156,7793,8917,5104,28708,2014,30722,5876,"San Carlos city",2764.98]
[null,null,null,null,423,"65084","San Clemente city",11679,52614,422,428,97,48587,8368,32369,31924,15246,3683,14034,19123,12207,58601,5692,64293,2584,"San Clemente city",5786.37]
[null,null,null,null,424,"66000","San Diego city",411286,975646,12722,82265,5683,643304,199364,692825,694107,302699,124030,442618,322779,194806,1259015,127917,1386932,247860,"San Diego city",124823.87999999999]
[null,null,null,null,425,"66070","San Dimas city",12945,21979,386,1316,42,17300,6511,18332,16592,7558,2182,8253,9673,7258,29979,4945,34924,5017,"San Dimas city",3143.16]
[null,null,null,null,426,"66140","San Fernando city",21770,2176,761,330,12,4565,5268,11979,11967,6359,1891,6848,6038,2810,21216,2730,23946,421,"San Fernando city",2155.14]
[null,null,null,null,427,"67000","San Francisco city",136761,737204,6475,46725,3476,361382,86233,427821,446144,126316,54485,340906,210159,142099,786001,87964,873965,296505,"San Francisco city",78656.849999999991]
[null,null,null,null,428,"67042","San Gabriel city",9878,29690,355,413,36,5004,3660,20689,18879,7564,2425,10817,11772,6990,36453,3115,39568,25211,"San Gabriel city",3561.12]
[null,null,null,null,429,"67112","San Jacinto city",33013,20885,1575,4725,279,18033,9620,27656,26242,17667,3720,14445,11755,6311,46314,7584,53898,1838,"San Jacinto city",4850.82]
[null,null,null,null,430,"67126","San Joaquin city",3540,161,60,35,3,810,575,1890,1811,1482,294,886,748,291,3569,132,3701,8,"San Joaquin city",333.09]
[null,null,null,null,431,"68000","San Jose city",316266,696974,14665,29308,4082,276523,113767,503980,509260,240596,65454,308127,264446,134617,923479,89761,1013240,390532,"San Jose city",91191.599999999991]
[null,null,null,null,432,"68014","San Juan Bautista city",1151,938,95,22,4,930,367,1035,1054,461,120,618,514,376,1873,216,2089,89,"San Juan Bautista city",188.01]
[null,null,null,null,433,"68028","San Juan Capistrano city",13704,21492,571,159,25,20633,5328,17943,17253,8441,2069,7416,9653,7617,31424,3772,35196,1244,"San Juan Capistrano city",3167.64]
[null,null,null,null,434,"68084","San Leandro city",25981,65027,1132,10098,776,21047,10427,47154,43854,19392,5397,25626,25247,15346,81572,9436,91008,32708,"San Leandro city",8190.7199999999993]
[null,null,null,null,435,"68154","San Luis Obispo city",8729,38334,348,533,60,34155,5901,23922,23141,8524,10456,11846,8632,7605,42740,4323,47063,2910,"San Luis Obispo city",4235.67]
[null,null,null,null,436,"68196","San Marcos city",34878,59955,1131,2117,298,48180,15217,48907,45926,27516,7639,24822,22586,12270,86219,8614,94833,10419,"San Marcos city",8534.9699999999993]
[null,null,null,null,437,"68224","San Marino city",888,11625,21,66,9,3620,982,6406,6107,2973,719,2020,3878,2923,11666,847,12513,7611,"San Marino city",1126.1699999999998]
[null,null,null,null,438,"68252","San Mateo city",27198,78463,866,1815,1700,43826,13342,53455,52206,22901,5458,34880,25998,16424,96338,9323,105661,28047,"San Mateo city",9509.49]
[null,null,null,null,439,"68294","San Pablo city",19610,12517,722,4012,145,4173,4250,16141,15986,8949,2334,9677,7478,3689,28678,3449,32127,5018,"San Pablo city",2891.43]
[null,null,null,null,440,"68364","San Rafael city",21038,40233,2246,1065,156,33427,7583,30850,30421,14154,3381,16133,15527,12076,56142,5129,61271,4073,"San Rafael city",5514.3899999999994]
[null,null,null,null,441,"68378","San Ramon city",7102,77503,222,2227,210,28741,7739,43010,41595,25437,4094,20397,25160,9517,80120,4485,84605,43270,"San Ramon city",7614.45]
[null,null,null,null,442,"65112","Sand city",96,229,7,17,3,174,56,151,174,54,21,100,106,44,288,37,325,19,"Sand City city",29.25]
[null,null,null,null,443,"67056","Sanger city",21990,4627,436,272,35,8323,5460,13524,13093,8860,1917,7337,5475,3028,24156,2461,26617,870,"Sanger city",2395.5299999999997]
[null,null,null,null,444,"69000","Santa Ana city",238022,72205,11403,3343,828,57376,59353,153241,156986,86794,24949,93053,73801,31630,284107,26120,310227,38004,"Santa Ana city",27920.43]
[null,null,null,null,445,"69070","Santa Barbara city",34344,54321,1320,1238,80,51842,15378,45304,43361,16891,6512,26027,21388,17847,79531,9134,88665,3184,"Santa Barbara city",7979.8499999999995]
[null,null,null,null,446,"69084","Santa Clara city",22550,105097,993,2839,450,39504,12469,62206,65441,28348,8287,49124,27514,14374,118795,8852,127647,60002,"Santa Clara city",11488.23]
[null,null,null,null,447,"69088","Santa Clarita city",78735,149938,2509,9677,339,116239,35635,116864,111809,60194,14780,60003,63177,30519,208149,20524,228673,27431,"Santa Clarita city",20580.57]
[null,null,null,null,448,"69112","Santa Cruz city",15111,47845,684,1668,96,39778,8284,31181,31775,13354,10395,15784,13972,9451,56693,6263,62956,5335,"Santa Cruz city",5666.04]
[null,null,null,null,449,"69154","Santa Fe Springs city",14626,4593,513,678,51,4488,4958,10021,9198,4438,1251,5465,4957,3108,{"$f":"X450-W450","v":17484},1735,19219,1662,"Santa Fe Springs city",1729.71]
[null,null,null,null,450,"69196","Santa Maria city",83968,25739,4157,1288,166,31077,22819,54876,54831,36550,8491,31335,21303,12028,99477,10230,109707,5435,"Santa Maria city",{"$f":"X451*0.09","v":9873.6299999999992}]
[null,null,null,null,451,"70000","Santa Monica city",13544,79532,539,3776,123,63383,11306,48120,44956,13979,4446,32432,24053,18166,84917,8159,93076,8602,"Santa Monica city",8376.84]
[null,null,null,null,452,"70042","Santa Paula city",25051,5606,815,127,28,9854,6589,15371,15286,8986,2147,8162,7092,4270,26925,3732,30657,243,"Santa Paula city",2759.13]
[null,null,null,null,453,"70098","Santa Rosa city",61082,117045,4039,4062,1033,99224,24733,91360,86767,41792,10412,48760,43765,33398,157328,20799,178127,10938,"Santa Rosa city",16031.43]
[null,null,null,null,454,"70224","Santee city",12522,47515,452,1391,327,41274,8609,31336,28701,14699,3423,16967,15470,9478,53009,7028,60037,3569,"Santee city",5403.33]
[null,null,null,null,455,"70280","Saratoga city",1125,29926,38,104,48,11771,1899,15769,15282,6946,1604,4591,10554,7356,28475,2576,31051,16857,"Saratoga city",2794.5899999999997]
[null,null,null,null,456,"70364","Sausalito city",482,6787,18,51,8,6066,608,3834,3435,753,152,1879,2470,2015,6620,649,7269,418,"Sausalito city",654.20999999999992]
[null,null,null,null,457,"70588","Scotts Valley city",1559,10665,75,85,16,9204,1430,6323,5901,2980,585,2631,3685,2343,10713,1511,12224,836,"Scotts Valley city",1100.1599999999999]
[null,null,null,null,458,"70686","Seal Beach city",3153,22089,108,394,49,17699,2557,14016,11226,3373,811,3973,6178,10907,20703,4539,25242,3672,"Seal Beach city",2271.7799999999997]
[null,null,null,null,459,"70742","Seaside city",15494,16872,674,1882,489,11230,5591,16467,15899,9199,2303,9583,7368,3913,28720,3646,32366,3135,"Seaside city",2912.94]
[null,null,null,null,460,"70770","Sebastopol city",1080,6441,84,64,15,5865,881,4151,3370,1458,291,1556,2032,2184,6466,1055,7521,185,"Sebastopol city",676.89]
[null,null,null,null,461,"70882","Selma city",20041,4633,601,211,18,6854,4774,12493,12181,8048,1830,6635,5115,3046,21915,2759,24674,1134,"Selma city",2220.66]
[null,null,null,null,462,"71106","Shafter city",16017,3936,333,344,10,5815,3283,9807,10146,7181,1481,6008,3657,1626,18795,1158,19953,274,"Shafter city",1795.77]
[null,null,null,null,463,"71225","Shasta Lake city",942,9429,328,76,17,8230,1158,5235,5136,2520,513,2601,2746,1991,8128,2243,10371,260,"Shasta Lake city",933.39]
[null,null,null,null,464,"71806","Sierra Madre city",1923,9345,62,177,11,7491,1591,6009,5259,2343,410,2377,3423,2715,10232,1036,11268,1446,"Sierra Madre city",1014.12]
[null,null,null,null,465,"71876","Signal Hill city",4208,7640,194,1626,93,3448,1485,6045,5803,2681,682,3739,3205,1541,11166,682,11848,2638,"Signal Hill city",1066.32]
[null,null,null,null,466,"72016","Simi Valley city",35921,90435,1200,2039,210,75753,17943,64409,61947,29364,7909,31401,36610,21072,111670,14686,126356,13526,"Simi Valley city",11372.039999999999]
[null,null,null,null,467,"72506","Solana Beach city",1853,11088,55,82,10,10074,1350,6696,6245,2574,607,2911,3791,3058,12277,664,12941,571,"Solana Beach city",1164.69]
[null,null,null,null,468,"72520","Soledad city",19789,5136,872,2010,101,4730,3659,9547,15378,6814,1800,9320,5541,1450,24001,924,24925,604,"Soledad city",2243.25]
[null,null,null,null,469,"72576","Solvang city",1835,4291,81,50,0,4161,930,3246,2880,1154,269,1215,1631,1857,5668,458,6126,115,"Solvang city",551.34]
[null,null,null,null,470,"72646","Sonoma city",2072,8667,98,77,24,8023,1258,5886,4853,1891,422,1984,2947,3495,8891,1848,10739,328,"Sonoma city",966.51]
[null,null,null,null,471,"72674","Sonora city",657,4346,78,27,22,4001,556,2667,2336,1074,288,1347,1206,1088,4081,922,5003,149,"Sonora city",450.27]
[null,null,null,null,472,"72996","South El Monte city",15585,3982,522,95,3,2620,4027,9748,9819,5188,1475,5501,4882,2521,17349,2218,19567,3400,"South El Monte city",1761.03]
[null,null,null,null,473,"73080","South Gate city",88040,4686,3208,1052,60,14119,20483,47170,45556,25629,7518,26998,22095,10486,84027,8699,92726,722,"South Gate city",8345.34]
[null,null,null,null,474,"73108","South Lake Tahoe city",6558,14772,246,152,22,13186,3033,10267,11063,4372,1238,7013,5509,3198,17967,3363,21330,1235,"South Lake Tahoe city",1919.6999999999998]
[null,null,null,null,475,"73220","South Pasadena city",5584,21359,201,669,19,10666,4227,14149,12794,6833,1147,7192,7564,4207,25038,1905,26943,9257,"South Pasadena city",2424.87]
[null,null,null,null,476,"73262","South San Francisco city",21650,44455,732,1311,1058,14584,8836,33436,32669,13708,3830,19981,17286,11300,60060,6045,66105,27369,"South San Francisco city",5949.45]
[null,null,null,null,477,"64140","St. Helena city",1863,3567,61,14,6,3498,726,2892,2538,1170,231,1099,1474,1456,4731,699,5430,94,"St. Helena city",488.7]
[null,null,null,null,478,"73962","Stanton city",18807,19155,650,733,230,8529,4917,19218,18744,9718,2680,10202,10195,5167,33755,4207,37962,11359,"Stanton city",3416.58]
[null,null,null,null,479,"75000","Stockton city",141601,179203,5563,40487,2678,75439,44141,163447,157357,98324,22751,86380,71305,42044,278916,41888,320804,70548,"Stockton city",28872.36]
[null,null,null,null,480,"75630","Suisun city",8585,20933,501,5604,379,8410,4833,15150,14368,7646,1952,8473,7434,4013,25585,3933,29518,5837,"Suisun city",2656.62]
[null,null,null,null,481,"77000","Sunnyvale city",25372,130433,1081,2228,491,46551,13431,75285,80520,33747,8173,60869,34379,18637,145548,10257,155805,77842,"Sunnyvale city",14022.449999999999]
[null,null,null,null,482,"77364","Susanville city",5299,11429,536,1937,257,8253,1149,4772,11956,2567,1592,7854,3298,1417,15680,1048,16728,325,"Susanville city",1505.52]
[null,null,null,null,483,"77392","Sutter Creek city",312,2334,58,17,0,2166,273,1412,1234,548,124,530,677,767,2269,377,2646,54,"Sutter Creek city",238.14]
[null,null,null,null,484,"77574","Taft city",3724,4822,236,145,38,5325,855,3605,4941,2150,676,2748,2011,961,6537,2009,8546,145,"Taft city",769.14]
[null,null,null,null,485,"78092","Tehachapi city",4737,8202,163,1051,23,6893,1512,4714,8225,2717,744,4661,3255,1562,11611,1328,12939,294,"Tehachapi city",1164.51]
[null,null,null,null,486,"78106","Tehama city",104,331,23,6,1,291,60,225,210,96,25,95,114,105,336,99,435,2,"Tehama city",39.15]
[null,null,null,null,487,"78120","Temecula city",30366,79637,1643,5171,472,61192,17888,56456,53547,31845,6990,28019,29392,13757,100070,9933,110003,12458,"Temecula city",9900.27]
[null,null,null,null,488,"78148","Temple city",7107,29387,254,312,23,6255,3085,19037,17457,7833,2247,8927,10525,6962,33150,3344,36494,23316,"Temple City city",3284.46]
[null,null,null,null,489,"78582","Thousand Oaks city",25260,101706,945,1827,178,84912,16507,65273,61693,29119,7867,26477,37209,26294,114004,12962,126966,12667,"Thousand Oaks city",11426.939999999999]
[null,null,null,null,490,"78666","Tiburon town",582,8564,19,91,13,7261,882,4808,4338,2237,314,1431,2759,2405,8287,859,9146,687,"Tiburon town",823.14]
[null,null,null,null,491,"80000","Torrance city",28080,118987,803,5048,603,57337,19370,75380,71687,31606,7920,37915,42248,27378,135037,12030,147067,52509,"Torrance city",13236.029999999999]
[null,null,null,null,492,"80238","Tracy city",35997,57003,1231,5996,1004,31395,15557,46639,46361,27063,6457,24666,24759,10055,85082,7918,93000,19731,"Tracy city",8370]
[null,null,null,null,493,"80448","Trinidad city",10,297,4,1,0,261,34,156,151,38,5,67,88,109,247,60,307,1,"Trinidad city",27.63]
[null,null,null,null,494,"80588","Truckee town",3128,13601,92,31,9,12946,1930,8091,8638,4162,649,4877,4847,2194,15581,1148,16729,275,"Truckee town",1505.61]
[null,null,null,null,495,"80644","Tulare city",43617,25258,1301,2084,96,28211,13555,34978,33897,23359,4925,18849,14349,7393,61365,7510,68875,1715,"Tulare city",6198.75]
[null,null,null,null,496,"80686","Tulelake city",677,225,15,2,1,251,301,445,457,336,54,224,185,103,774,128,902,3,"Tulelake city",81.179999999999993]
[null,null,null,null,497,"80812","Turlock city",29965,42775,1490,1529,320,38371,10362,37528,35212,20326,5556,19519,16405,10934,62902,9838,72740,5465,"Turlock city",6546.5999999999995]
[null,null,null,null,498,"80854","Tustin city",32712,47564,1028,1800,217,27582,12160,41273,39003,20639,5452,24170,20581,9434,74458,5818,80276,19265,"Tustin city",7224.84]
[null,null,null,null,499,"80994","Twentynine Palms city",6851,21214,391,3323,365,16582,3482,11219,16846,6984,6167,9162,3675,2077,25094,2971,28065,1641,"Twentynine Palms city",2525.85]
[null,null,null,null,500,"81134","Ukiah city",5443,11164,692,182,35,9773,2407,8596,8011,4284,919,4557,3747,3100,14387,2220,16607,512,"Ukiah city",1494.6299999999999]
[null,null,null,null,501,"81204","Union city",15080,55063,715,3160,817,9634,7154,35235,34908,15037,4243,20730,18252,11881,63982,6161,70143,40613,"Union city",6312.87]
[null,null,null,null,502,"81344","Upland city",35190,43850,1094,5089,172,34980,13863,41036,38004,18888,5195,21685,20025,13247,69815,9225,79040,8059,"Upland city",7113.5999999999995]
[null,null,null,null,503,"81554","Vacaville city",27402,74984,1082,9796,789,52997,16346,49282,53104,24481,6338,29387,26506,15674,91851,10535,102386,9196,"Vacaville city",9214.74]
[null,null,null,null,504,"81666","Vallejo city",35835,90255,1426,25133,1343,30451,15907,64661,61429,28997,7994,34226,33167,21706,111704,14386,126090,29723,"Vallejo city",11348.1]
[null,null,null,null,505,"82422","Vernon city",168,54,3,20,0,53,34,118,104,80,11,65,43,23,202,20,222,15,"Vernon city",19.98]
[null,null,null,null,506,"82590","Victorville city",74745,60065,2780,24156,750,39804,21952,67942,66868,44597,9457,37734,28969,14053,119646,15164,134810,5640,"Victorville city",12132.9]
[null,null,null,null,507,"82744","Villa Park city",724,5119,3,52,6,3793,662,2963,2880,1193,309,922,1789,1630,5189,654,5843,1129,"Villa Park city",525.87]
[null,null,null,null,508,"82954","Visalia city",74575,66809,2761,2969,221,65272,23962,72231,69153,43457,8735,39834,30492,18866,125542,15842,141384,8157,"Visalia city",12724.56]
[null,null,null,null,509,"82996","Vista city",49744,48637,2324,2685,710,43156,18197,49122,49259,25435,7573,29802,23289,12282,91107,7274,98381,5256,"Vista city",8854.2899999999991]
[null,null,null,null,510,"83332","Walnut city",5324,23106,121,721,22,3447,2693,14602,13828,5650,1915,6152,8414,6299,25812,2618,28430,19191,"Walnut city",2558.6999999999998]
[null,null,null,null,511,"83346","Walnut Creek city",7304,62823,214,1564,111,46478,7613,37712,32415,12961,2491,17628,16661,20386,61174,8953,70127,11684,"Walnut Creek city",6311.4299999999994]
[null,null,null,null,512,"83542","Wasco city",22922,4125,556,1507,20,5465,4497,11464,15583,8522,2445,9128,5014,1938,25704,1343,27047,149,"Wasco city",2434.23]
[null,null,null,null,513,"83612","Waterford city",4391,4729,146,145,34,4795,1540,4635,4485,2972,611,2498,2099,940,{"$f":"X514-W514","v":7770},1350,9120,138,"Waterford city",820.8]
[null,null,null,null,514,"83668","Watsonville city",43303,9287,1416,316,46,11723,10289,26652,25938,16450,3743,14639,11581,6177,45855,6735,52590,1612,"Watsonville city",{"$f":"X515*0.09","v":4733.0999999999995}]
[null,null,null,null,515,"83850","Weed city",550,2312,68,173,3,1825,416,1411,1451,768,246,713,680,455,2245,617,2862,158,"Weed city",257.58]
[null,null,null,null,516,"84200","West Covina city",58102,51399,1747,4045,210,21993,20138,56368,53133,24527,8164,29585,29248,17977,98568,10933,109501,33632,"West Covina city",9855.09]
[null,null,null,null,517,"84410","West Hollywood city",4497,31260,123,1372,45,26384,3808,15740,20017,1635,1445,17468,9404,5805,31142,4615,35757,2325,"West Hollywood city",3218.1299999999997]
[null,null,null,null,518,"84816","West Sacramento city",17260,36655,948,2673,624,25478,8960,27563,26352,14471,3109,16463,13022,6850,48425,5490,53915,7352,"West Sacramento city",4852.3499999999995]
[null,null,null,null,519,"84438","Westlake Village city",651,7378,14,69,8,6413,775,4180,3849,1624,404,1224,2529,2248,7508,521,8029,619,"Westlake Village city",722.61]
[null,null,null,null,520,"84550","Westminster city",22345,68566,761,927,464,21010,7980,46535,44376,19868,6249,21666,26254,16874,79953,10958,90911,46773,"Westminster city",8181.99]
[null,null,null,null,521,"84606","Westmorland city",1786,228,30,23,0,640,627,1049,965,702,119,466,445,282,1727,287,2014,11,"Westmorland city",181.26]
[null,null,null,null,522,"85012","Wheatland city",835,2877,57,65,10,2532,566,1904,1808,1103,210,1032,883,484,3199,513,3712,170,"Wheatland city",334.08]
[null,null,null,null,523,"85292","Whittier city",61803,25503,1908,1231,190,30732,21535,44902,42404,21688,5699,24226,22768,12925,79132,8174,87306,4339,"Whittier city",7857.54]
[null,null,null,null,524,"85446","Wildomar city",15075,21800,605,1403,203,19026,6324,18647,18228,9968,2389,9625,9684,5209,32533,4342,36875,2061,"Wildomar city",3318.75]
[null,null,null,null,525,"85586","Williams city",4467,1071,93,52,17,1509,1276,2810,2728,1946,385,1474,1126,607,5052,486,5538,97,"Williams city",498.41999999999996]
[null,null,null,null,526,"85600","Willits city",1218,3770,243,44,6,3316,682,2628,2360,1250,262,1261,1233,982,3790,1198,4988,95,"Willits city",448.91999999999996]
[null,null,null,null,527,"85684","Willows city",2330,3963,290,46,7,3617,751,3175,3118,1795,340,1689,1418,1051,5316,977,6293,279,"Willows city",566.37]
[null,null,null,null,528,"85922","Windsor town",8898,17446,633,243,60,16281,3644,13467,12877,6622,1428,6036,7576,4682,23550,2794,26344,781,"Windsor town",2370.96]
[null,null,null,null,529,"86034","Winters city",3935,3180,203,40,15,3378,1366,3588,3527,1942,368,1895,1873,1037,6419,696,7115,93,"Winters city",640.35]
[null,null,null,null,530,"86300","Woodlake city",6535,884,159,52,3,2081,1599,3745,3674,2588,552,1853,1599,827,6786,633,7419,68,"Woodlake city",667.70999999999992]
[null,null,null,null,531,"86328","Woodland city",29614,31418,1223,1146,233,27209,11497,31311,29721,16409,3991,16590,14888,9154,53585,7447,61032,5334,"Woodland city",5492.88]
[null,null,null,null,532,"86440","Woodside town",404,4905,10,34,5,4138,570,2735,2574,1200,262,811,1746,1290,4939,370,5309,446,"Woodside town",477.81]
[null,null,null,null,533,"86832","Yorba Linda city",12269,56067,315,836,82,39031,8939,35222,33114,16461,3955,14009,20390,13521,63058,5278,68336,15746,"Yorba Linda city",6150.24]
[null,null,null,null,534,"86930","Yountville city",348,3088,32,64,3,2912,226,1614,1822,199,45,320,577,2295,2920,516,3436,73,"Yountville city",309.24]
[null,null,null,null,535,"86944","Yreka city",958,6849,700,73,10,5643,975,4112,3695,1959,391,1818,1869,1770,6374,1433,7807,149,"Yreka city",702.63]
[null,null,null,null,536,"86972","Yuba city",21701,48416,1368,1680,242,30286,8749,35372,34745,19716,4547,18545,16490,10819,62419,7698,70117,15629,"Yuba city",6310.53]
[null,null,null,null,537,"87042","Yucaipa city",18784,35758,829,828,93,34970,7876,27979,26563,14172,3064,13616,14329,9361,47725,6817,54542,1600,"Yucaipa city",4908.78]
[null,null,null,null,538,"87056","Yucca Valley town",5074,16664,316,803,73,15490,2718,11145,10593,5137,1067,5169,5624,4741,17458,4280,21738,586,"Yucca Valley town",1956.4199999999998]
[null,null,null,null,539,0,"Select a Jurisdiction"]
[]
[]
[]
[null,"Select County"]
[null,null,"Alameda County"]
[null,null,"Alpine County"]
[null,null,"Amador County"]
[null,null,"Butte County"]
[null,null,"Calaveras County"]
[null,null,"Colusa County "]
[null,null,"Contra Costa County"]
[null,null,"Del Norte County"]
[null,null,"El Dorado County "]
[null,null,"Fresno County"]
[null,null,"Glenn County "]
[null,null,"Humboldt County "]
[null,null,"Imperial County"]
[null,null,"Inyo County "]
[null,null,"Kern County "]
[null,null,"Kings County "]
[null,null,"Lake County "]
[null,null,"Lassen County"]
[null,null,"Los Angeles County "]
[null,null,"Madera County "]
[null,null,"Marin County "]
[null,null,"Mariposa County "]
[null,null,"Mendocino County "]
[null,null,"Merced County"]
[null,null,"Modoc County"]
[null,null,"Mono County "]
[null,null,"Monterey County "]
[null,null,"Napa County"]
[null,null,"Nevada County"]
[null,null,"Orange County "]
[null,null,"Placer County "]
[null,null,"Plumas County "]
[null,null,"Riverside County "]
[null,null,"Sacramento County "]
[null,null,"San Benito County "]
[null,null,"San Bernardino County "]
[null,null,"San Diego County "]
[null,null,"San Francisco County"]
[null,null,"San Joaquin County"]
[null,null,"San Luis Obispo County"]
[null,null,"San Mateo County "]
[null,null,"Santa Barbara County "]
[null,null,"Santa Clara County "]
[null,null,"Santa Cruz County "]
[null,null,"Shasta County"]
[null,null,"Sierra County "]
[null,null,"Siskiyou County "]
[null,null,"Solano County"]
[null,null,"Sonoma County"]
[null,null,"Stanislaus County"]
[null,null,"Sutter County"]
[null,null,"Tehama County"]
[null,null,"Trinity County"]
[null,null,"Tulare County "]
[null,null,"Tuolumne County"]
[null,null,"Ventura County"]
[null,null,"Yolo County"]
[null,null,"Yuba County "]
[null,null,"Select County"]

{"sheet":"Link E2","index":13,"n_rows":111,"n_cols":251,"rows_kept":111,"cut":false,"hidden":true,"merged":[[2,234,2,236],[2,237,2,239],[2,240,2,242],[2,243,2,245],[2,211,2,213],[2,214,2,216],[2,218,2,219],[2,220,2,221],[2,222,2,224],[2,225,2,227],[2,208,2,210],[2,175,2,177],[2,178,2,180],[2,181,2,183],[2,184,2,186],[2,187,2,189],[2,190,2,192],[2,228,2,230],[2,231,2,233],[2,108,2,110],[2,111,2,113],[2,114,2,116],[2,118,2,119],[2,120,2,121],[2,122,2,124],[2,157,2,159],[2,160,2,162],[2,163,2,165],[2,143,2,145],[2,147,2,148],[2,149,2,150],[2,151,2,152],[2,153,2,154],[2,155,2,156],[2,48,2,50],[2,51,2,53],[2,90,2,92],[2,93,2,95],[2,96,2,98],[2,99,2,101],[2,102,2,104],[2,105,2,107],[2,72,2,74],[2,75,2,77],[2,78,2,80],[2,81,2,83],[2,84,2,86],[2,87,2,89],[2,26,2,28],[2,29,2,31],[2,33,2,34],[2,35,2,36],[2,37,2,38],[1,228,1,233],[1,234,1,239],[1,240,1,245],[1,187,1,201],[1,202,1,216],[1,218,1,221],[1,222,1,227],[0,217,3,217],[0,218,0,245],[2,54,2,56],[2,57,2,59],[2,60,2,62],[2,63,2,65],[2,66,2,68],[2,69,2,71],[2,39,2,40],[2,41,2,42],[2,43,2,44],[2,45,2,47],[1,157,1,171],[1,172,1,186],[1,118,1,121],[1,122,1,127],[1,128,1,133],[1,134,1,139],[1,140,1,145],[1,147,1,156],[0,146,3,146],[0,147,0,216],[2,125,2,127],[2,128,2,130],[2,131,2,133],[2,134,2,136],[2,137,2,139],[2,140,2,142],[2,166,2,168],[2,169,2,171],[2,172,2,174],[2,193,2,195],[2,196,2,198],[2,199,2,201],[2,202,2,204],[2,205,2,207],[0,3,3,3],[0,4,0,31],[0,32,3,32],[0,33,0,116],[0,117,3,117],[0,118,0,145],[1,45,1,62],[1,63,1,80],[1,81,1,98],[1,99,1,116],[2,4,2,5],[2,6,2,7],[2,8,2,10],[2,11,2,13],[2,14,2,16],[2,17,2,19],[2,20,2,22],[1,4,1,7],[1,8,1,13],[1,14,1,19],[1,20,1,25],[1,26,1,31],[1,33,1,44],[2,23,2,25]]}
[null,null,null,"ETHNICITY","ETHNICITY",null,null,null,null,null,null,null,null,null,null,null,null,null,null,null,null,null,null,null,null,null,null,null,null,null,null,null,"RACE","RACE",null,null,null,null,null,null,null,null,null,null,null,null,null,null,null,null,null,null,null,null,null,null,null,null,null,null,null,null,null,null,null,null,null,null,null,null,null,null,null,null,null,null,null,null,null,null,null,null,null,null,null,null,null,null,null,null,null,null,null,null,null,null,null,null,null,null,null,null,null,null,null,null,null,null,null,null,null,null,null,null,null,null,null,"GENDER","GENDER",null,null,null,null,null,null,null,null,null,null,null,null,null,null,null,null,null,null,null,null,null,null,null,null,null,null,null,"AGE","AGE",null,null,null,null,null,null,null,null,null,null,null,null,null,null,null,null,null,null,null,null,null,null,null,null,null,null,null,null,null,null,null,null,null,null,null,null,null,null,null,null,null,null,null,null,null,null,null,null,null,null,null,null,null,null,null,null,null,null,null,null,null,null,null,null,null,null,null,null,null,"DISABILITY","DISABILITY"]
[null,null,null,null,"Census",null,null,null,"Applicants",null,null,null,null,null,"Beneficiaries",null,null,null,null,null,"Rejected Applicants",null,null,null,null,null,"Waiting List",null,null,null,null,null,null,"Census",null,null,null,null,null,null,null,null,null,null,null,"Applicants",null,null,null,null,null,null,null,null,null,null,null,null,null,null,null,null,null,"Benificiaries",null,null,null,null,null,null,null,null,null,null,null,null,null,null,null,null,null,"Rejected Applicants",null,null,null,null,null,null,null,null,null,null,null,null,null,null,null,null,null,"Waiting List",null,null,null,null,null,null,null,null,null,null,null,null,null,null,null,null,null,null,"Census",null,null,null,"Applicants",null,null,null,null,null,"Beneficiaries",null,null,null,null,null,"Rejected Applicants",null,null,null,null,null,"Waiting List",null,null,null,null,null,null,"Census",null,null,null,null,null,null,null,null,null,"Applicants",null,null,null,null,null,null,null,null,null,null,null,null,null,null,"Benificiaries",null,null,null,null,null,null,null,null,null,null,null,null,null,null,"Rejected Applicants",null,null,null,null,null,null,null,null,null,null,null,null,null,null,"Waiting List",null,null,null,null,null,null,null,null,null,null,null,null,null,null,null,"Census",null,null,null,"Applicants",null,null,null,null,null,"Beneficiaries",null,null,null,null,null,"Rejected Applicants",null,null,null,null,null,"Waiting List"]
["Jurisdiction","Contract #","Activity Name",null,"Hispanic",null,"Not Hispanic",null,"Hispanic",null,null,"Not Hispanic",null,null,"Hispanic",null,null,"Not Hispanic",null,null,"Hispanic",null,null,"Not Hispanic",null,null,"Hispanic",null,null,"Not Hispanic",null,null,null,"American Indian or Alaskan Native",null,"Asian",null,"Black or African American",null,"Native Hawaiian or Other Pacific Islander",null,"White Alone",null,"Other",null,"American Indian or Alaskan Native",null,null,"Asian",null,null,"Black or African American",null,null,"Native Hawaiian or Other Pacific Islander",null,null,"White Alone",null,null,"Other",null,null,"American Indian or Alaskan Native",null,null,"Asian",null,null,"Black or African American",null,null,"Native Hawaiian or Other Pacific Islander",null,null,"White Alone",null,null,"Other",null,null,"American Indian or Alaskan Native",null,null,"Asian",null,null,"Black or African American",null,null,"Native Hawaiian or Other Pacific Islander",null,null,"White Alone",null,null,"Other",null,null,"American Indian or Alaskan Native",null,null,"Asian",null,null,"Black or African American",null,null,"Native Hawaiian or Other Pacific Islander",null,null,"White Alone",null,null,"Other",null,null,null,"Female",null,"Male",null,"Female",null,null,"Male",null,null,"Female",null,null,"Male",null,null,"Female",null,null,"Male",null,null,"Female",null,null,"Male",null,null,null,"0 to 19 Years",null,"20 to 24 Years",null,"25 to 44 Years",null,"45 to 64 Years",null,"65 Years and Over",null,"0 to 19 Years",null,null,"20 to 24 Years",null,null,"25 to 44 Years",null,null,"45 to 64 Years",null,null,"65 Years and Over",null,null,"0 to 19 Years",null,null,"20 to 24 Years",null,null,"25 to 44 Years",null,null,"45 to 64 Years",null,null,"65 Years and Over",null,null,"0 to 19 Years",null,null,"20 to 24 Years",null,null,"25 to 44 Years",null,null,"45 to 64 Years",null,null,"65 Years and Over",null,null,"0 to 19 Years",null,null,"20 to 24 Years",null,null,"25 to 44 Years",null,null,"45 to 64 Years",null,null,"65 Years and Over",null,null,null,"Disabled",null,"Not Disabled",null,"Disabled",null,null,"Not Disabled",null,null,"Disabled",null,null,"Not Disabled",null,null,"Disabled",null,null,"Not Disabled",null,null,"Disabled",null,null,"Not Disabled",null,null,"Response 1","Response 2","Response 3","Response 4","Response 5"]
[null,null,null,null,"#","%","#","%","#","%","Diff","#","%","Diff","#","%","Diff","#","%","Diff","#","%","Diff","#","%","Diff","#","%","Diff","#","%","Diff",null,"#","%","#","%","#","%","#","%","#","%","#","%","#","%","Diff","#","%","Diff","#","%","Diff","#","%","Diff","#","%","Diff","#","%","Diff","#","%","Diff","#","%","Diff","#","%","Diff","#","%","Diff","#","%","Diff","#","%","Diff","#","%","Diff","#","%","Diff","#","%","Diff","#","%","Diff","#","%","Diff","#","%","Diff","#","%","Diff","#","%","Diff","#","%","Diff","#","%","Diff","#","%","Diff","#","%","Diff",null,"#","%","#","%","#","%","Diff","#","%","Diff","#","%","Diff","#","%","Diff","#","%","Diff","#","%","Diff","#","%","Diff","#","%","Diff",null,"#","%","#","%","#","%","#","%","#","%","#","%","Diff","#","%","Diff","#","%","Diff","#","%","Diff","#","%","Diff","#","%","Diff","#","%","Diff","#","%","Diff","#","%","Diff","#","%","Diff","#","%","Diff","#","%","Diff","#","%","Diff","#","%","Diff","#","%","Diff","#","%","Diff","#","%","Diff","#","%","Diff","#","%","Diff","#","%","Diff",null,"#","%","#","%","#","%","Diff","#","%","Diff","#","%","Diff","#","%","Diff","#","%","Diff","#","%","Diff","#","%","Diff","#","%","Diff"]
[{"$f":"'E Data 2'!D4","v":"Select a Jurisdiction"},{"$f":"'Att E Activity 2'!EC24","v":0},{"$f":"'Att E Activity 2'!EC30","v":0},null,{"$f":"'Att E Activity 2'!AM49","v":""},{"$f":"'Att E Activity 2'!AU49","v":""},{"$f":"'Att E Activity 2'!AM52","v":""},{"$f":"'Att E Activity 2'!AU52","v":""},{"$f":"'Att E Activity 2'!BE49","v":0},{"$f":"'Att E Activity 2'!BM49","v":""},{"$f":"'Att E Activity 1'!BU49","v":0},{"$f":"'Att E Activity 2'!BE52","v":0},{"$f":"'Att E Activity 2'!BM52","v":""},{"$f":"'Att E Activity 2'!BU52","v":0},{"$f":"'Att E Activity 2'!CF49","v":0},{"$f":"'Att E Activity 2'!CN49","v":""},{"$f":"'Att E Activity 2'!CV49","v":0},{"$f":"'Att E Activity 2'!CF52","v":0},{"$f":"'Att E Activity 2'!CN52","v":""},{"$f":"'Att E Activity 2'!CV52","v":0},{"$f":"'Att E Activity 2'!DG49","v":0},{"$f":"'Att E Activity 2'!DO49","v":""},{"$f":"'Att E Activity 2'!DW49","v":0},{"$f":"'Att E Activity 2'!DG52","v":0},{"$f":"'Att E Activity 2'!DO52","v":""},{"$f":"'Att E Activity 2'!DW52","v":0},{"$f":"'Att E Activity 2'!EH49","v":0},{"$f":"'Att E Activity 2'!EP49","v":""},{"$f":"'Att E Activity 2'!EX49","v":0},{"$f":"'Att E Activity 2'!EH52","v":0},{"$f":"'Att E Activity 2'!EP52","v":""},{"$f":"'Att E Activity 2'!EX52","v":0},null,{"$f":"'Att E Activity 2'!AM62","v":""},{"$f":"'Att E Activity 2'!AU62","v":""},{"$f":"'Att E Activity 2'!AM65","v":""},{"$f":"'Att E Activity 2'!AU62","v":""},{"$f":"'Att E Activity 2'!AM68","v":""},{"$f":"'Att E Activity 2'!AU68","v":""},{"$f":"'Att E Activity 2'!AM71","v":""},{"$f":"'Att E Activity 2'!AU71","v":""},{"$f":"'Att E Activity 2'!AM74","v":""},{"$f":"'Att E Activity 2'!AU74","v":""},{"$f":"'Att E Activity 2'!AM77","v":""},{"$f":"'Att E Activity 2'!AU77","v":""},{"$f":"'Att E Activity 2'!BE62","v":0},{"$f":"'Att E Activity 2'!BM62","v":""},{"$f":"'Att E Activity 2'!BU62","v":0},{"$f":"'Att E Activity 2'!BE65","v":0},{"$f":"'Att E Activity 2'!BM65","v":""},{"$f":"'Att E Activity 2'!BU65","v":0},{"$f":"'Att E Activity 2'!BE68","v":0},{"$f":"'Att E Activity 2'!BM68","v":""},{"$f":"'Att E Activity 2'!BU68","v":0},{"$f":"'Att E Activity 2'!BE71","v":0},{"$f":"'Att E Activity 2'!BM71","v":""},{"$f":"'Att E Activity 2'!BU71","v":0},{"$f":"'Att E Activity 2'!BE74","v":0},{"$f":"'Att E Activity 2'!BM74","v":""},{"$f":"'Att E Activity 2'!BU74","v":0},{"$f":"'Att E Activity 2'!BE77","v":0},{"$f":"'Att E Activity 2'!BM77","v":""},{"$f":"'Att E Activity 2'!BU77","v":0},{"$f":"'Att E Activity 2'!CF62","v":0},{"$f":"'Att E Activity 2'!CN62","v":""},{"$f":"'Att E Activity 2'!CV62","v":0},{"$f":"'Att E Activity 2'!CF65","v":0},{"$f":"'Att E Activity 2'!CN65","v":""},{"$f":"'Att E Activity 2'!CV65","v":0},{"$f":"'Att E Activity 2'!CF68","v":0},{"$f":"'Att E Activity 2'!CN68","v":""},{"$f":"'Att E Activity 2'!CV68","v":0},{"$f":"'Att E Activity 2'!CF71","v":0},{"$f":"'Att E Activity 2'!CN71","v":""},{"$f":"'Att E Activity 2'!CV71","v":0},{"$f":"'Att E Activity 2'!CF74","v":0},{"$f":"'Att E Activity 2'!CN74","v":""},{"$f":"'Att E Activity 2'!CV74","v":0},{"$f":"'Att E Activity 2'!CF77","v":0},{"$f":"'Att E Activity 2'!CN77","v":""},{"$f":"'Att E Activity 2'!CV77","v":0},{"$f":"'Att E Activity 2'!DG62","v":0},{"$f":"'Att E Activity 2'!DO62","v":""},{"$f":"'Att E Activity 2'!DW62","v":0},{"$f":"'Att E Activity 2'!DG65","v":0},{"$f":"'Att E Activity 2'!DO65","v":""},{"$f":"'Att E Activity 2'!DW65","v":0},{"$f":"'Att E Activity 2'!DG68","v":0},{"$f":"'Att E Activity 2'!DO68","v":""},{"$f":"'Att E Activity 2'!DW68","v":0},{"$f":"'Att E Activity 2'!DG71","v":0},{"$f":"'Att E Activity 2'!DO71","v":""},{"$f":"'Att E Activity 2'!DW71","v":0},{"$f":"'Att E Activity 2'!DG74","v":0},{"$f":"'Att E Activity 2'!DO74","v":""},{"$f":"'Att E Activity 2'!DW74","v":0},{"$f":"'Att E Activity 2'!DG77","v":0},{"$f":"'Att E Activity 2'!DO77","v":""},{"$f":"'Att E Activity 2'!DW77","v":0},{"$f":"'Att E Activity 2'!EH62","v":0},{"$f":"'Att E Activity 2'!EP62","v":""},{"$f":"'Att E Activity 2'!EX62","v":0},{"$f":"'Att E Activity 2'!EH65","v":0},{"$f":"'Att E Activity 2'!EP65","v":""},{"$f":"'Att E Activity 2'!EX65","v":0},{"$f":"'Att E Activity 2'!EH68","v":0},{"$f":"'Att E Activity 2'!EP68","v":""},{"$f":"'Att E Activity 2'!EX68","v":0},{"$f":"'Att E Activity 2'!EH71","v":0},{"$f":"'Att E Activity 2'!EP71","v":""},{"$f":"'Att E Activity 2'!EX71","v":0},{"$f":"'Att E Activity 2'!EH74","v":0},{"$f":"'Att E Activity 2'!EP74","v":""},{"$f":"'Att E Activity 2'!EX74","v":0},{"$f":"'Att E Activity 2'!EH77","v":0},{"$f":"'Att E Activity 2'!EP77","v":""},{"$f":"'Att E Activity 2'!EX77","v":0},null,{"$f":"'Att E Activity 2'!AM87","v":""},{"$f":"'Att E Activity 2'!AU87","v":""},{"$f":"'Att E Activity 2'!AM90","v":""},{"$f":"'Att E Activity 2'!AU90","v":""},{"$f":"'Att E Activity 2'!BE87","v":0},{"$f":"'Att E Activity 2'!BM87","v":""},{"$f":"'Att E Activity 2'!BU87","v":0},{"$f":"'Att E Activity 2'!BE90","v":0},{"$f":"'Att E Activity 2'!BM90","v":""},{"$f":"'Att E Activity 2'!BU90","v":0},{"$f":"'Att E Activity 2'!CF87","v":0},{"$f":"'Att E Activity 2'!CN87","v":""},{"$f":"'Att E Activity 2'!CV87","v":0},{"$f":"'Att E Activity 2'!CF90","v":0},{"$f":"'Att E Activity 2'!CN90","v":""},{"$f":"'Att E Activity 2'!CV90","v":0},{"$f":"'Att E Activity 2'!DG87","v":0},{"$f":"'Att E Activity 2'!DO87","v":""},{"$f":"'Att E Activity 2'!DW87","v":0},{"$f":"'Att E Activity 2'!DG90","v":0},{"$f":"'Att E Activity 2'!DO90","v":""},{"$f":"'Att E Activity 2'!DW90","v":0},{"$f":"'Att E Activity 2'!EH87","v":0},{"$f":"'Att E Activity 2'!EP87","v":""},{"$f":"'Att E Activity 2'!EX87","v":0},{"$f":"'Att E Activity 2'!EH90","v":0},{"$f":"'Att E Activity 2'!EP90","v":""},{"$f":"'Att E Activity 2'!EX90","v":0},null,{"$f":"'Att E Activity 2'!AM100","v":""},{"$f":"'Att E Activity 2'!AU100","v":""},{"$f":"'Att E Activity 2'!AM103","v":""},{"$f":"'Att E Activity 2'!AU103","v":""},{"$f":"'Att E Activity 2'!AM106","v":""},{"$f":"'Att E Activity 2'!AU106","v":""},{"$f":"'Att E Activity 2'!AM109","v":""},{"$f":"'Att E Activity 2'!AU109","v":""},{"$f":"'Att E Activity 2'!AM112","v":""},{"$f":"'Att E Activity 2'!AU112","v":""},{"$f":"'Att E Activity 2'!BE100","v":0},{"$f":"'Att E Activity 2'!BM100","v":""},{"$f":"'Att E Activity 2'!BU100","v":0},{"$f":"'Att E Activity 2'!BE103","v":0},{"$f":"'Att E Activity 2'!BM103","v":""},{"$f":"'Att E Activity 2'!BU103","v":0},{"$f":"'Att E Activity 2'!BE106","v":0},{"$f":"'Att E Activity 2'!BM106","v":""},{"$f":"'Att E Activity 2'!BU106","v":0},{"$f":"'Att E Activity 2'!BE109","v":0},{"$f":"'Att E Activity 2'!BM109","v":""},{"$f":"'Att E Activity 2'!BU109","v":0},{"$f":"'Att E Activity 2'!BE112","v":0},{"$f":"'Att E Activity 2'!BM112","v":""},{"$f":"'Att E Activity 2'!BU112","v":0},{"$f":"'Att E Activity 2'!CF100","v":0},{"$f":"'Att E Activity 2'!CN100","v":""},{"$f":"'Att E Activity 2'!CV100","v":0},{"$f":"'Att E Activity 2'!CF103","v":0},{"$f":"'Att E Activity 2'!CN103","v":""},{"$f":"'Att E Activity 2'!CV103","v":0},{"$f":"'Att E Activity 2'!CF106","v":0},{"$f":"'Att E Activity 2'!CN106","v":""},{"$f":"'Att E Activity 2'!CV106","v":0},{"$f":"'Att E Activity 2'!CF109","v":0},{"$f":"'Att E Activity 2'!CN109","v":""},{"$f":"'Att E Activity 2'!CV109","v":0},{"$f":"'Att E Activity 2'!CF112","v":0},{"$f":"'Att E Activity 2'!CN112","v":""},{"$f":"'Att E Activity 2'!CV112","v":0},{"$f":"'Att E Activity 2'!DG100","v":0},{"$f":"'Att E Activity 2'!DO100","v":""},{"$f":"'Att E Activity 2'!DW100","v":0},{"$f":"'Att E Activity 2'!DG103","v":0},{"$f":"'Att E Activity 2'!DO103","v":""},{"$f":"'Att E Activity 2'!DW103","v":0},{"$f":"'Att E Activity 2'!DG106","v":0},{"$f":"'Att E Activity 2'!DO106","v":""},{"$f":"'Att E Activity 2'!DW106","v":0},{"$f":"'Att E Activity 2'!DG109","v":0},{"$f":"'Att E Activity 2'!DO109","v":""},{"$f":"'Att E Activity 2'!DW109","v":0},{"$f":"'Att E Activity 2'!DG112","v":0},{"$f":"'Att E Activity 2'!DO112","v":""},{"$f":"'Att E Activity 2'!DW112","v":0},{"$f":"'Att E Activity 2'!EH100","v":0},{"$f":"'Att E Activity 2'!EP100","v":""},{"$f":"'Att E Activity 2'!EX100","v":0},{"$f":"'Att E Activity 2'!EH103","v":0},{"$f":"'Att E Activity 2'!EP103","v":""},{"$f":"'Att E Activity 2'!EX103","v":0},{"$f":"'Att E Activity 2'!EH106","v":0},{"$f":"'Att E Activity 2'!EP106","v":""},{"$f":"'Att E Activity 2'!EX106","v":0},{"$f":"'Att E Activity 2'!EH109","v":0},{"$f":"'Att E Activity 2'!EP109","v":""},{"$f":"'Att E Activity 2'!EX109","v":0},{"$f":"'Att E Activity 2'!EH112","v":0},{"$f":"'Att E Activity 2'!EP112","v":""},{"$f":"'Att E Activity 2'!EX112","v":0},null,{"$f":"'Att E Activity 2'!AM122","v":""},{"$f":"'Att E Activity 2'!AU122","v":{"$error":"#VALUE!"}},{"$f":"'Att E Activity 2'!AM125","v":""},{"$f":"'Att E Activity 2'!AU125","v":{"$error":"#VALUE!"}},{"$f":"'Att E Activity 2'!BE122","v":0},{"$f":"'Att E Activity 2'!BM122","v":""},{"$f":"'Att E Activity 2'!BU122","v":0},{"$f":"'Att E Activity 2'!BE125","v":0},{"$f":"'Att E Activity 2'!BM125","v":""},{"$f":"'Att E Activity 2'!BU125","v":0},{"$f":"'Att E Activity 2'!CF122","v":0},{"$f":"'Att E Activity 2'!CN122","v":""},{"$f":"'Att E Activity 2'!CV122","v":0},{"$f":"'Att E Activity 2'!CF125","v":0},{"$f":"'Att E Activity 2'!CN125","v":""},{"$f":"'Att E Activity 2'!CV125","v":0},{"$f":"'Att E Activity 2'!DG122","v":0},{"$f":"'Att E Activity 2'!DO122","v":""},{"$f":"'Att E Activity 2'!DW122","v":0},{"$f":"'Att E Activity 2'!DG125","v":0},{"$f":"'Att E Activity 2'!DO125","v":""},{"$f":"'Att E Activity 2'!DW125","v":0},{"$f":"'Att E Activity 2'!EH122","v":0},{"$f":"'Att E Activity 2'!EP122","v":""},{"$f":"'Att E Activity 2'!EX122","v":0},{"$f":"'Att E Activity 2'!EH125","v":0},{"$f":"'Att E Activity 2'!EP125","v":""},{"$f":"'Att E Activity 2'!EX125","v":0},{"$f":"'Att E Activity 2'!B176","v":0},{"$f":"'Att E Activity 2'!B194","v":0},{"$f":"'Att E Activity 2'!B212","v":0},{"$f":"'Att E Activity 2'!B230","v":0},{"$f":"'Att E Activity 2'!B248","v":0}]
[]
[]
[]
[]
[]
[]
[]
[]
[]
[]
[]
[]
[]
[]
[]
[]
[]
[]
[]
[]
[]
[]
[]
[]
[]
[]
[]
[]
[]
[]
[]
[]
[]
[]
[]
[]
[]
[]
[]
[]
[]
[]
[null,null,null,null,null,null,null,null,null,null,null,null,null,null,null,null,null,null,null,null,null,null,null,null,null,null,null,null,null,null,null,null,null,null,null,null,null,null,null,null,null,null,null,null,null,null,null,null,null,null,null,null,null,null,null,1,null,null,null,null,null,null,null,null,null,null,null,null,null,null,null,null,null,null,null,null,null,null,null,null,null,null,3,null,null,null,null,null,null,null,null,null,null,null,null,null,null,null,null,null,null,null,null,null,null,null,null,null,null,5,null,null,null,null,null,null,null,null,null,null,null,null,null,null,null,null,null,null,null,null,null,null,null,null,null,null,7]
[]
[]
[null,null,null,null,null,null,null,null,null,null,null,null,null,null,null,null,null,null,null,null,null,null,null,null,null,null,null,null,null,null,null,null,null,null,null,null,null,null,null,null,null,null,null,null,null,null,null,null,null,null,null,null,null,null,null,2,null,null,null,null,null,null,null,null,null,null,null,null,null,null,null,null,null,null,null,null,null,null,null,null,null,null,4,null,null,null,null,null,null,null,null,null,null,null,null,null,null,null,null,null,null,null,null,null,null,null,null,null,null,6,null,null,null,null,null,null,null,null,null,null,null,null,null,null,null,null,null,null,null,null,null,null,null,null,null,null,8]
[]
[]
[]
[]
[]
[]
[]
[]
[]
[null,null,null,null,null,null,null,null,null,null,null,null,null,null,null,null,null,null,null,null,null,null,null,null,null,null,null,null,null,null,null,null,null,null,null,null,null,null,null,null,null,null,null,null,null,null,null,null,null,null,null,null,null,null,null,9,null,null,null,null,null,null,null,null,null,null,null,null,null,null,null,null,null,null,null,null,null,null,null,null,null,null,15,null,null,null,null,null,null,null,null,null,null,null,null,null,null,null,null,null,null,null,null,null,null,null,null,null,null,21,null,null,null,null,null,null,null,null,null,null,null,null,null,null,null,null,null,null,null,null,null,null,null,null,null,null,27]
[]
[]
[null,null,null,null,null,null,null,null,null,null,null,null,null,null,null,null,null,null,null,null,null,null,null,null,null,null,null,null,null,null,null,null,null,null,null,null,null,null,null,null,null,null,null,null,null,null,null,null,null,null,null,null,null,null,null,10,null,null,null,null,null,null,null,null,null,null,null,null,null,null,null,null,null,null,null,null,null,null,null,null,null,null,16,null,null,null,null,null,null,null,null,null,null,null,null,null,null,null,null,null,null,null,null,null,null,null,null,null,null,22,null,null,null,null,null,null,null,null,null,null,null,null,null,null,null,null,null,null,null,null,null,null,null,null,null,null,28]
[]
[]
[null,null,null,null,null,null,null,null,null,null,null,null,null,null,null,null,null,null,null,null,null,null,null,null,null,null,null,null,null,null,null,null,null,null,null,null,null,null,null,null,null,null,null,null,null,null,null,null,null,null,null,null,null,null,null,11,null,null,null,null,null,null,null,null,null,null,null,null,null,null,null,null,null,null,null,null,null,null,null,null,null,null,17,null,null,null,null,null,null,null,null,null,null,null,null,null,null,null,null,null,null,null,null,null,null,null,null,null,null,23,null,null,null,null,null,null,null,null,null,null,null,null,null,null,null,null,null,null,null,null,null,null,null,null,null,null,29]
[]
[]
[null,null,null,null,null,null,null,null,null,null,null,null,null,null,null,null,null,null,null,null,null,null,null,null,null,null,null,null,null,null,null,null,null,null,null,null,null,null,null,null,null,null,null,null,null,null,null,null,null,null,null,null,null,null,null,12,null,null,null,null,null,null,null,null,null,null,null,null,null,null,null,null,null,null,null,null,null,null,null,null,null,null,18,null,null,null,null,null,null,null,null,null,null,null,null,null,null,null,null,null,null,null,null,null,null,null,null,null,null,24,null,null,null,null,null,null,null,null,null,null,null,null,null,null,null,null,null,null,null,null,null,null,null,null,null,null,30]
[]
[]
[null,null,null,null,null,null,null,null,null,null,null,null,null,null,null,null,null,null,null,null,null,null,null,null,null,null,null,null,null,null,null,null,null,null,null,null,null,null,null,null,null,null,null,null,null,null,null,null,null,null,null,null,null,null,null,13,null,null,null,null,null,null,null,null,null,null,null,null,null,null,null,null,null,null,null,null,null,null,null,null,null,null,19,null,null,null,null,null,null,null,null,null,null,null,null,null,null,null,null,null,null,null,null,null,null,null,null,null,null,25,null,null,null,null,null,null,null,null,null,null,null,null,null,null,null,null,null,null,null,null,null,null,null,null,null,null,31]
[]
[]
[null,null,null,null,null,null,null,null,null,null,null,null,null,null,null,null,null,null,null,null,null,null,null,null,null,null,null,null,null,null,null,null,null,null,null,null,null,null,null,null,null,null,null,null,null,null,null,null,null,null,null,null,null,null,null,14,null,null,null,null,null,null,null,null,null,null,null,null,null,null,null,null,null,null,null,null,null,null,null,null,null,null,20,null,null,null,null,null,null,null,null,null,null,null,null,null,null,null,null,null,null,null,null,null,null,null,null,null,null,26,null,null,null,null,null,null,null,null,null,null,null,null,null,null,null,null,null,null,null,null,null,null,null,null,null,null,32]
[]
[]
[]
[]
[]
[]
[]
[]
[]
[null,null,null,null,null,null,null,null,null,null,null,null,null,null,null,null,null,null,null,null,null,null,null,null,null,null,null,null,null,null,null,null,null,null,null,null,null,null,null,null,null,null,null,null,null,null,null,null,null,null,null,null,null,null,null,33,null,null,null,null,null,null,null,null,null,null,null,null,null,null,null,null,null,null,null,null,null,null,null,null,null,null,35,null,null,null,null,null,null,null,null,null,null,null,null,null,null,null,null,null,null,null,null,null,null,null,null,null,null,37,null,null,null,null,null,null,null,null,null,null,null,null,null,null,null,null,null,null,null,null,null,null,null,null,null,null,39]
[]
[]
[null,null,null,null,null,null,null,null,null,null,null,null,null,null,null,null,null,null,null,null,null,null,null,null,null,null,null,null,null,null,null,null,null,null,null,null,null,null,null,null,null,null,null,null,null,null,null,null,null,null,null,null,null,null,null,34,null,null,null,null,null,null,null,null,null,null,null,null,null,null,null,null,null,null,null,null,null,null,null,null,null,null,36,null,null,null,null,null,null,null,null,null,null,null,null,null,null,null,null,null,null,null,null,null,null,null,null,null,null,38,null,null,null,null,null,null,null,null,null,null,null,null,null,null,null,null,null,null,null,null,null,null,null,null,null,null,40]
[]
[]
[]
[]
[]
[]
[]
[]
[]
[null,null,null,null,null,null,null,null,null,null,null,null,null,null,null,null,null,null,null,null,null,null,null,null,null,null,null,null,null,null,null,null,null,null,null,null,null,null,null,null,null,null,null,null,null,null,null,null,null,null,null,null,null,null,null,41,null,null,null,null,null,null,null,null,null,null,null,null,null,null,null,null,null,null,null,null,null,null,null,null,null,null,43,null,null,null,null,null,null,null,null,null,null,null,null,null,null,null,null,null,null,null,null,null,null,null,null,null,null,51,null,null,null,null,null,null,null,null,null,null,null,null,null,null,null,null,null,null,null,null,null,null,null,null,null,null,56]
[]
[]
[null,null,null,null,null,null,null,null,null,null,null,null,null,null,null,null,null,null,null,null,null,null,null,null,null,null,null,null,null,null,null,null,null,null,null,null,null,null,null,null,null,null,null,null,null,null,null,null,null,null,null,null,null,null,null,42,null,null,null,null,null,null,null,null,null,null,null,null,null,null,null,null,null,null,null,null,null,null,null,null,null,null,47,null,null,null,null,null,null,null,null,null,null,null,null,null,null,null,null,null,null,null,null,null,null,null,null,null,null,52,null,null,null,null,null,null,null,null,null,null,null,null,null,null,null,null,null,null,null,null,null,null,null,null,null,null,57]
[]
[]
[null,null,null,null,null,null,null,null,null,null,null,null,null,null,null,null,null,null,null,null,null,null,null,null,null,null,null,null,null,null,null,null,null,null,null,null,null,null,null,null,null,null,null,null,null,null,null,null,null,null,null,null,null,null,null,43,null,null,null,null,null,null,null,null,null,null,null,null,null,null,null,null,null,null,null,null,null,null,null,null,null,null,48,null,null,null,null,null,null,null,null,null,null,null,null,null,null,null,null,null,null,null,null,null,null,null,null,null,null,53,null,null,null,null,null,null,null,null,null,null,null,null,null,null,null,null,null,null,null,null,null,null,null,null,null,null,58]
[]
[]
[null,null,null,null,null,null,null,null,null,null,null,null,null,null,null,null,null,null,null,null,null,null,null,null,null,null,null,null,null,null,null,null,null,null,null,null,null,null,null,null,null,null,null,null,null,null,null,null,null,null,null,null,null,null,null,44,null,null,null,null,null,null,null,null,null,null,null,null,null,null,null,null,null,null,null,null,null,null,null,null,null,null,49,null,null,null,null,null,null,null,null,null,null,null,null,null,null,null,null,null,null,null,null,null,null,null,null,null,null,54,null,null,null,null,null,null,null,null,null,null,null,null,null,null,null,null,null,null,null,null,null,null,null,null,null,null,59]
[]
[]
[null,null,null,null,null,null,null,null,null,null,null,null,null,null,null,null,null,null,null,null,null,null,null,null,null,null,null,null,null,null,null,null,null,null,null,null,null,null,null,null,null,null,null,null,null,null,null,null,null,null,null,null,null,null,null,45,null,null,null,null,null,null,null,null,null,null,null,null,null,null,null,null,null,null,null,null,null,null,null,null,null,null,50,null,null,null,null,null,null,null,null,null,null,null,null,null,null,null,null,null,null,null,null,null,null,null,null,null,null,55,null,null,null,null,null,null,null,null,null,null,null,null,null,null,null,null,null,null,null,null,null,null,null,null,null,null,60]

{"sheet":"Att E Activity 3","index":14,"n_rows":392,"n_cols":220,"rows_kept":392,"cut":false,"hidden":false,"merged":[[258,170,385,175],[317,3,319,5],[317,7,319,86],[391,1,396,161],[211,1,224,161],[226,1,227,3],[226,4,227,121],[229,1,242,161],[244,1,245,2],[244,3,245,121],[172,3,173,160],[175,1,188,161],[190,1,191,3],[190,4,191,121],[193,1,206,161],[208,1,209,3],[208,4,209,121],[140,170,257,175],[141,1,145,161],[147,1,148,161],[151,2,152,3],[151,4,152,161],[155,2,156,3],[155,4,159,161],[161,1,165,161],[168,1,170,161],[172,1,173,2],[247,1,257,161],[135,1,136,22],[135,38,136,43],[135,77,136,95],[135,99,136,115],[135,141,136,160],[137,1,139,35],[137,38,139,73],[137,77,139,96],[137,99,139,138],[137,141,139,161],[127,54,134,66],[127,81,134,95],[127,108,134,122],[127,135,134,148],[124,91,126,98],[124,99,126,107],[124,110,126,117],[124,118,126,125],[124,126,126,134],[124,137,126,144],[121,137,123,144],[121,145,123,152],[121,153,123,161],[124,1,126,37],[124,38,126,45],[124,46,126,53],[124,56,126,63],[124,64,126,71],[124,72,126,80],[124,83,126,90],[121,83,123,90],[121,91,123,98],[121,99,123,107],[121,110,123,117],[121,118,123,125],[121,126,123,134],[124,145,126,152],[124,153,126,161],[121,1,123,37],[121,38,123,45],[121,46,123,53],[121,56,123,63],[121,64,123,71],[121,72,123,80],[118,72,120,80],[118,83,120,90],[118,91,120,98],[115,1,120,37],[115,38,117,53],[115,56,117,80],[115,83,117,107],[118,38,120,45],[118,46,120,53],[118,56,120,63],[118,64,120,71],[111,118,113,125],[111,126,113,134],[111,137,113,144],[111,145,113,152],[111,153,113,161],[108,153,110,161],[108,99,110,107],[108,110,110,117],[108,118,110,125],[108,126,110,134],[108,137,110,144],[108,145,110,152],[118,126,120,134],[118,137,120,144],[118,145,120,152],[118,153,120,161],[118,99,120,107],[118,110,120,117],[118,118,120,125],[115,110,117,134],[115,137,117,161],[105,99,107,107],[105,110,107,117],[105,118,107,125],[105,126,107,134],[105,137,107,144],[111,1,113,37],[111,38,113,45],[111,46,113,53],[111,56,113,63],[111,64,113,71],[111,72,113,80],[111,83,113,90],[111,91,113,98],[111,99,113,107],[108,1,110,37],[108,38,110,45],[108,46,110,53],[108,56,110,63],[108,64,110,71],[108,72,110,80],[108,83,110,90],[108,91,110,98],[105,91,107,98],[111,110,113,117],[102,137,104,144],[102,145,104,152],[102,153,104,161],[105,1,107,37],[105,38,107,45],[105,46,107,53],[105,56,107,63],[105,64,107,71],[105,72,107,80],[105,83,107,90],[102,83,104,90],[102,91,104,98],[102,99,104,107],[102,110,104,117],[102,118,104,125],[102,126,104,134],[102,1,104,37],[102,38,104,45],[102,46,104,53],[102,56,104,63],[102,64,104,71],[102,72,104,80],[105,145,107,152],[105,153,107,161],[99,110,101,117],[99,118,101,125],[99,126,101,134],[99,137,101,144],[99,145,101,152],[99,153,101,161],[96,153,98,161],[99,1,101,37],[99,38,101,45],[99,46,101,53],[99,56,101,63],[99,64,101,71],[99,72,101,80],[99,83,101,90],[99,91,101,98],[99,99,101,107],[96,99,98,107],[96,110,98,117],[96,118,98,125],[96,126,98,134],[96,137,98,144],[96,145,98,152],[96,46,98,53],[96,56,98,63],[96,64,98,71],[96,72,98,80],[96,83,98,90],[96,91,98,98],[89,137,91,144],[89,145,91,152],[89,153,91,161],[93,1,98,37],[93,38,95,53],[93,56,95,80],[93,83,95,107],[93,110,95,134],[93,137,95,161],[96,38,98,45],[89,83,91,90],[89,91,91,98],[89,99,91,107],[89,110,91,117],[89,118,91,125],[89,126,91,134],[89,1,91,37],[89,38,91,45],[89,46,91,53],[89,56,91,63],[89,64,91,71],[89,72,91,80],[86,110,88,117],[86,118,88,125],[86,126,88,134],[86,137,88,144],[86,145,88,152],[86,153,88,161],[83,153,85,161],[83,99,85,107],[83,110,85,117],[83,118,85,125],[83,126,85,134],[83,137,85,144],[83,145,85,152],[83,91,85,98],[76,137,78,144],[76,145,78,152],[76,153,78,161],[86,1,88,37],[86,38,88,45],[86,46,88,53],[86,56,88,63],[86,64,88,71],[86,72,88,80],[86,83,88,90],[86,91,88,98],[86,99,88,107],[80,1,85,37],[80,38,82,53],[80,56,82,80],[80,83,82,107],[80,110,82,134],[80,137,82,161],[83,38,85,45],[76,83,78,90],[76,91,78,98],[76,99,78,107],[76,110,78,117],[76,118,78,125],[76,126,78,134],[76,1,78,37],[76,38,78,45],[76,46,78,53],[76,56,78,63],[76,64,78,71],[76,72,78,80],[83,46,85,53],[83,56,85,63],[83,64,85,71],[83,72,85,80],[83,83,85,90],[73,110,75,117],[73,118,75,125],[73,126,75,134],[73,137,75,144],[73,145,75,152],[73,153,75,161],[70,153,72,161],[73,1,75,37],[73,38,75,45],[73,46,75,53],[73,56,75,63],[73,64,75,71],[73,72,75,80],[73,83,75,90],[73,91,75,98],[73,99,75,107],[70,99,72,107],[70,110,72,117],[70,118,72,125],[70,126,72,134],[70,137,72,144],[70,145,72,152],[70,1,72,37],[70,38,72,45],[70,46,72,53],[70,56,72,63],[70,64,72,71],[70,72,72,80],[70,83,72,90],[70,91,72,98],[67,91,69,98],[64,137,66,144],[64,145,66,152],[64,56,66,63],[64,64,66,71],[64,72,66,80],[64,153,66,161],[67,1,69,37],[67,38,69,45],[67,46,69,53],[67,56,69,63],[67,64,69,71],[67,72,69,80],[67,83,69,90],[64,83,66,90],[64,91,66,98],[64,99,66,107],[64,110,66,117],[64,118,66,125],[64,126,66,134],[67,145,69,152],[67,153,69,161],[67,99,69,107],[67,110,69,117],[67,118,69,125],[67,126,69,134],[67,137,69,144],[64,1,66,37],[64,38,66,45],[64,46,66,53],[61,72,63,80],[61,83,63,90],[61,91,63,98],[61,1,63,37],[61,38,63,45],[61,46,63,53],[61,56,63,63],[61,64,63,71],[61,126,63,134],[61,137,63,144],[61,145,63,152],[61,153,63,161],[61,99,63,107],[61,110,63,117],[61,118,63,125],[55,1,60,37],[55,38,57,53],[55,56,57,80],[55,83,57,107],[55,110,57,134],[55,137,57,161],[58,38,60,45],[58,46,60,53],[58,56,60,63],[58,64,60,71],[58,72,60,80],[58,83,60,90],[58,91,60,98],[58,99,60,107],[58,110,60,117],[58,118,60,125],[58,126,60,134],[58,137,60,144],[58,145,60,152],[58,153,60,161],[51,153,53,161],[54,38,54,45],[54,46,54,53],[54,56,54,63],[54,64,54,71],[54,72,54,78],[54,83,54,90],[54,91,54,98],[54,99,54,107],[54,110,54,117],[51,99,53,107],[51,110,53,117],[51,118,53,125],[51,126,53,134],[51,137,53,144],[51,145,53,152],[54,118,54,125],[54,126,54,134],[54,137,54,144],[54,145,54,152],[54,153,54,161],[51,1,53,37],[51,38,53,45],[51,46,53,53],[51,56,53,63],[51,64,53,71],[51,72,53,80],[51,83,53,90],[51,91,53,98],[48,91,50,98],[48,1,50,37],[48,38,50,45],[48,46,50,53],[48,56,50,63],[48,64,50,71],[48,72,50,80],[48,83,50,90],[48,145,50,152],[48,153,50,161],[48,99,50,107],[48,110,50,117],[48,118,50,125],[48,126,50,134],[48,137,50,144],[42,137,44,161],[45,38,47,45],[45,46,47,53],[45,56,47,63],[45,64,47,71],[45,72,47,80],[45,83,47,90],[45,91,47,98],[45,99,47,107],[45,110,47,117],[45,137,47,144],[45,145,47,152],[45,153,47,161],[37,110,39,120],[42,1,47,37],[42,38,44,53],[42,56,44,80],[42,83,44,107],[42,110,44,134],[45,118,47,125],[45,126,47,134],[32,41,33,77],[37,1,39,16],[37,17,39,52],[37,54,39,82],[37,84,39,90],[37,92,39,108],[26,27,27,35],[26,41,27,114],[26,213,29,219],[29,4,30,22],[29,27,30,35],[29,41,30,77],[29,85,30,114],[29,117,32,130],[29,132,33,160],[31,85,32,114],[32,4,33,15],[32,17,33,35],[18,213,20,215],[18,219,20,221],[22,73,25,115],[22,182,24,193],[22,197,24,208],[22,213,24,215],[22,219,24,221],[1,19,4,136],[4,170,139,175],[5,19,8,136],[9,15,12,136],[12,182,15,193],[12,213,15,215],[13,15,16,136],[17,1,20,63],[18,182,20,193],[18,197,20,208],[23,2,24,19],[23,21,24,35],[23,37,24,57],[23,58,24,72],[23,117,26,130],[23,132,26,160],[26,4,27,22]]}
[]
[null,null,null,null,null,null,null,null,null,null,null,null,null,null,null,null,null,null,null,"Attachment E - HOME Fair Housing Demographic Analysis*"]
[]
[]
[null,null,null,null,null,null,null,null,null,null,null,null,null,null,null,null,null,null,null,null,null,null,null,null,null,null,null,null,null,null,null,null,null,null,null,null,null,null,null,null,null,null,null,null,null,null,null,null,null,null,null,null,null,null,null,null,null,null,null,null,null,null,null,null,null,null,null,null,null,null,null,null,null,null,null,null,null,null,null,null,null,null,null,null,null,null,null,null,null,null,null,null,null,null,null,null,null,null,null,null,null,null,null,null,null,null,null,null,null,null,null,null,null,null,null,null,null,null,null,null,null,null,null,null,null,null,null,null,null,null,null,null,null,null,null,null,null,null,null,null,null,null,null,null,null,null,null,null,null,null,null,null,null,null,null,null,null,null,null,null,null,null,null,null,null,null,null,null,null,null,"PAGE 1"]
[null,null,null,null,null,null,null,null,null,null,null,null,null,null,null,null,null,null,null,"HOME Annual Performance Report"]
[]
[]
[]
[null,null,null,null,null,null,null,null,null,null,null,null,null,null,null,"Reporting Period July 1, 2023 through June 30, 2024"]
[]
[]
[null,null,null,null,null,null,null,null,null,null,null,null,null,null,null,null,null,null,null,null,null,null,null,null,null,null,null,null,null,null,null,null,null,null,null,null,null,null,null,null,null,null,null,null,null,null,null,null,null,null,null,null,null,null,null,null,null,null,null,null,null,null,null,null,null,null,null,null,null,null,null,null,null,null,null,null,null,null,null,null,null,null,null,null,null,null,null,null,null,null,null,null,null,null,null,null,null,null,null,null,null,null,null,null,null,null,null,null,null,null,null,null,null,null,null,null,null,null,null,null,null,null,null,null,null,null,null,null,null,null,null,null,null,null,null,null,null,null,null,null,null,null,null,null,null,null,null,null,null,null,null,null,null,null,null,null,null,null,null,null,null,null,null,null,null,null,null,null,null,null,null,null,null,null,null,null,null,null,null,null,null,null,false,null,null,null,null,null,null,null,null,null,null,null,null,null,null,null,null,null,null,null,null,null,null,null,null,null,null,null,null,null,null,{"$f":"IF(GA13=TRUE,1,0)","v":0}]
[]
[]
[]
[]
[null,"Jurisdiction Name"]
[null,null,null,null,null,null,null,null,null,null,null,null,null,null,null,null,null,null,null,null,null,null,null,null,null,null,null,null,null,null,null,null,null,null,null,null,null,null,null,null,null,null,null,null,null,null,null,null,null,null,null,null,null,null,null,null,null,null,null,null,null,null,null,null,null,null,null,null,null,null,null,null,null,null,null,null,null,null,null,null,null,null,null,null,null,null,null,null,null,null,null,null,null,null,null,null,null,null,null,null,null,null,null,null,null,null,null,null,null,null,null,null,null,null,null,null,null,null,null,null,null,null,null,null,null,null,null,null,null,null,null,null,null,null,null,null,null,null,null,null,null,null,null,null,null,null,null,null,null,null,null,null,null,null,null,null,null,null,null,null,null,null,null,null,null,null,null,null,null,null,null,null,null,null,null,null,null,null,null,null,null,null,false,null,null,null,null,null,null,null,null,null,null,null,null,null,null,false,null,null,null,null,null,null,null,null,null,null,null,null,null,null,null,{"$f":"IF(GA19=TRUE,1,0)","v":0},null,null,null,null,null,{"$f":"IF(GP19=TRUE,1,0)","v":0}]
[]
[]
[]
[null,null,null,null,null,null,null,null,null,null,null,null,null,null,null,null,null,null,null,null,null,null,null,null,null,null,null,null,null,null,null,null,null,null,null,null,null,null,null,null,null,null,null,null,null,null,null,null,null,null,null,null,null,null,null,null,null,null,null,null,null,null,null,null,null,null,null,null,null,null,null,null,null,{"$f":"IF(HF27>1,\"Please use another form (Att E) to complete additional HOME activity\",\"\")","v":""},null,null,null,null,null,null,null,null,null,null,null,null,null,null,null,null,null,null,null,null,null,null,null,null,null,null,null,null,null,null,null,null,null,null,null,null,null,null,null,null,null,null,null,null,null,null,null,null,null,null,null,null,null,null,null,null,null,null,null,null,null,null,null,null,null,null,null,null,null,null,null,null,null,null,null,null,null,null,null,null,null,null,null,null,null,null,null,null,null,null,null,null,null,null,null,null,null,null,null,null,null,null,null,null,null,null,null,null,false,null,null,null,null,null,null,null,null,null,null,null,null,null,null,false,null,null,null,null,null,null,null,null,null,null,null,null,null,null,null,{"$f":"IF(GA23=TRUE,1,0)","v":0},null,null,null,null,null,{"$f":"IF(GP23=TRUE,1,0)","v":0}]
[null,null,"Funding Source(s)",null,null,null,null,null,null,null,null,null,null,null,null,null,null,null,null,null,null,"(Check all that apply)",null,null,null,null,null,null,null,null,null,null,null,null,null,null,null,"HOME Program Activities ",null,null,null,null,null,null,null,null,null,null,null,null,null,null,null,null,null,null,null,null,"(1 form per activity)",null,null,null,null,null,null,null,null,null,null,null,null,null,null,null,null,null,null,null,null,null,null,null,null,null,null,null,null,null,null,null,null,null,null,null,null,null,null,null,null,null,null,null,null,null,null,null,null,null,null,null,null,null,null,null,null,null,null,"Contract #"]
[]
[]
[null,null,null,null,"HOME Std. Agreement",null,null,null,null,null,null,null,null,null,null,null,null,null,null,null,null,null,null,null,null,null,null,"HOME PI",null,null,null,null,null,null,null,null,null,null,null,null,null,"First-Time Homebuyer (Acquisition Only or Acquisition with Rehab)",null,null,null,null,null,null,null,null,null,null,null,null,null,null,null,null,null,null,null,null,null,null,null,null,null,null,null,null,null,null,null,null,null,null,null,null,null,null,null,null,null,null,null,null,null,null,null,null,null,null,null,null,null,null,null,null,null,null,null,null,null,null,null,null,null,null,null,null,null,null,null,null,null,null,null,null,null,null,null,null,null,null,null,null,null,null,null,null,null,null,null,null,null,null,null,null,null,null,null,null,null,null,null,null,null,null,null,null,null,null,null,null,null,null,null,null,null,null,null,null,null,null,null,null,null,null,null,null,null,null,null,null,null,null,null,null,null,null,null,null,null,null,null,null,null,null,null,null,null,null,null,null,null,null,null,null,null,null,null,null,null,null,null,null,null,null,null,null,null,null,null,{"$f":"HF13+HF19+HF23+HL19+HL23","v":0}]
[]
[]
[null,null,null,null,"CDBG Std. Agreement",null,null,null,null,null,null,null,null,null,null,null,null,null,null,null,null,null,null,null,null,null,null,"CDBG PI",null,null,null,null,null,null,null,null,null,null,null,null,null,"First-Time Homebuyer Infill Construction",null,null,null,null,null,null,null,null,null,null,null,null,null,null,null,null,null,null,null,null,null,null,null,null,null,null,null,null,null,null,null,null,null,null,null,null,null,null,null,null,null,null,null,"Tenant-Based Rental Assistance ",null,null,null,null,null,null,null,null,null,null,null,null,null,null,null,null,null,null,null,null,null,null,null,null,null,null,null,null,null,null,null,"Activity Name"]
[]
[null,null,null,null,null,null,null,null,null,null,null,null,null,null,null,null,null,null,null,null,null,null,null,null,null,null,null,null,null,null,null,null,null,null,null,null,null,null,null,null,null,null,null,null,null,null,null,null,null,null,null,null,null,null,null,null,null,null,null,null,null,null,null,null,null,null,null,null,null,null,null,null,null,null,null,null,null,null,null,null,null,null,null,null,null,"Program"]
[null,null,null,null," Other (Specify)",null,null,null,null,null,null,null,null,null,null,null,null,null,null,null,null,null,null,null,null,null,null,null,null,null,null,null,null,null,null,null,null,null,null,null,null,"Owner-Occupied Rehab Program"]
[]
[]
[]
[]
[null,"Geographic Area",null,null,null,null,null,null,null,null,null,null,null,null,null,null,null,{"$f":"'E Data 3'!D4","v":"Select a Jurisdiction"},null,null,null,null,null,null,null,null,null,null,null,null,null,null,null,null,null,null,null,null,null,null,null,null,null,null,null,null,null,null,null,null,null,null,null,null,"Census Data Geographic Area",null,null,null,null,null,null,null,null,null,null,null,null,null,null,null,null,null,null,null,null,null,null,null,null,null,null,null,null,null,{"$f":"IF('E Data 3'!D3=0,\"\",'E Data 3'!D3)","v":""},null,null,null,null,null,null,null,"Total Population",null,null,null,null,null,null,null,null,null,null,null,null,null,null,null,null,null,{"$f":"IF('E Data 3'!B18=0,\"\",'E Data 3'!B18)","v":""}]
[]
[null,null,null,null,null,null,null,null,null,null,null,null,null,null,null,null,null,null,null,null,null,null,null,null,null,null,null,null,null,null,null,null,null,null,null,null,null,null,null,null,null,null,null,null,null,null,null,null,null,null,null,null,null,null,null,null,null,null,null,null,null,null,null,null,null,null,null,null,null,null,null,null,null,null,null,null,null,null,null,null,null,null,null,null,null,null,null,null,null,null,null,null,null,null,null,null,null,null,null,null,null,null,null,null,null,null,null,null,null,null,null,null,null,null,null,null,null,null,null,null,null,null,null,null,null,null,null,null,null,null,null,null,null,null,null,null,null,null,null,null,null,null,null,null,null,null,null,null,null,null,null,null,null,null,null,null,null,null,null,null,null,null,null,null,null,null,null,null,null,null,null,null,null,null,null,null,null,null,null,null,null,null,null,null,null,null,null,null,null,null,null,null,null,null,null,null,null,null,null,null,null,0.1]
[null,null,null,null,null,null,null,null,null,null,null,null,null,null,null,null,null,null,null,null,null,null,null,null,null,null,null,null,null,null,null,null,null,null,null,null,null,null,null,null,null,null,null,null,null,null,null,null,null,null,null,null,null,null,null,null,null,null,null,null,null,null,null,null,null,null,null,null,null,null,null,null,null,null,null,null,null,null,null,null,null,null,null,null,null,null,null,null,null,null,null,null,null,null,null,null,null,null,null,null,null,null,null,null,null,null,null,null,null,null,null,null,null,null,null,null,null,null,null,null,null,null,null,null,null,null,null,null,null,null,null,null,null,null,null,null,null,null,null,null,null,null,null,null,null,null,null,null,null,null,null,null,null,null,null,null,null,null,null,null,null,null,null,null,null,null,null,null,null,null,null,null,null,null,null,null,null,null,null,null,null,null,null,null,null,null,null,null,null,null,null,null,null,null,null,null,null,null,null,null,null,-0.1]
[]
[null,"Ethnic Categories",null,null,null,null,null,null,null,null,null,null,null,null,null,null,null,null,null,null,null,null,null,null,null,null,null,null,null,null,null,null,null,null,null,null,null,null,"Census",null,null,null,null,null,null,null,null,null,null,null,null,null,null,null,null,null,"Applicants",null,null,null,null,null,null,null,null,null,null,null,null,null,null,null,null,null,null,null,null,null,null,null,null,null,null,"Beneficiaries",null,null,null,null,null,null,null,null,null,null,null,null,null,null,null,null,null,null,null,null,null,null,null,null,null,null,"Rejected Applicants",null,null,null,null,null,null,null,null,null,null,null,null,null,null,null,null,null,null,null,null,null,null,null,null,null,null,"Waiting List"]
[]
[]
[null,null,null,null,null,null,null,null,null,null,null,null,null,null,null,null,null,null,null,null,null,null,null,null,null,null,null,null,null,null,null,null,null,null,null,null,null,null,"#",null,null,null,null,null,null,null,"%",null,null,null,null,null,null,null,null,null,"#",null,null,null,null,null,null,null,"%",null,null,null,null,null,null,null,"Difference",null,null,null,null,null,null,null,null,null,null,"#",null,null,null,null,null,null,null,"%",null,null,null,null,null,null,null,"Difference",null,null,null,null,null,null,null,null,null,null,"#",null,null,null,null,null,null,null,"%",null,null,null,null,null,null,null,"Difference",null,null,null,null,null,null,null,null,null,null,"#",null,null,null,null,null,null,null,"%",null,null,null,null,null,null,null,"Difference"]
[]
[]
[null,"Hispanic or Latino",null,null,null,null,null,null,null,null,null,null,null,null,null,null,null,null,null,null,null,null,null,null,null,null,null,null,null,null,null,null,null,null,null,null,null,null,{"$f":"IF('E Data 3'!D3=0,\"\",'E Data 3'!B2)","v":""},null,null,null,null,null,null,null,{"$f":"IF(AM49=\"\",\"\",AM49/DG38)","v":""},null,null,null,null,null,null,null,null,null,null,null,null,null,null,null,null,null,{"$f":"IF(BE49=\"\",\"\",IF(BE49+BE52<1,0,BE49/(BE52+BE49)))","v":""},null,null,null,null,null,null,null,{"$f":"IF(OR(SUM(BE49:BL54)=\"\",SUM(BE49:BL54)=0),0,BM49-AU49)","v":0},null,null,null,null,null,null,null,null,null,null,null,null,null,null,null,null,null,null,{"$f":"IF(CF49=\"\",\"\",IF(CF49+CF52<1,0,CF49/(CF49+CF52)))","v":""},null,null,null,null,null,null,null,{"$f":"IF(OR(SUM(CF49:CM54)=\"\",SUM(CF49:CM54)=0),0,CN49-AU49)","v":0},null,null,null,null,null,null,null,null,null,null,null,null,null,null,null,null,null,null,{"$f":"IF(DG49=\"\",\"\",IF(DG49+DG52<1,0,DG49/(DG52+DG49)))","v":""},null,null,null,null,null,null,null,{"$f":"IF(OR(SUM(DG49:DN54)=\"\",SUM(DG49:DN54)=0),0,DO49-AU49)","v":0},null,null,null,null,null,null,null,null,null,null,null,null,null,null,null,null,null,null,{"$f":"IF(EH49=\"\",\"\",IF(EH49+EH52<1,0,EH49/(EH52+EH49)))","v":""},null,null,null,null,null,null,null,{"$f":"IF(OR(SUM(EH49:EO54)=\"\",SUM(EH49:EO54)=0),0,EP49-AU49)","v":0}]
[]
[]
[null,"Not Hispanic or Latino",null,null,null,null,null,null,null,null,null,null,null,null,null,null,null,null,null,null,null,null,null,null,null,null,null,null,null,null,null,null,null,null,null,null,null,null,{"$f":"IF('E Data 3'!D3=0,\"\",'E Data 3'!B3)","v":""},null,null,null,null,null,null,null,{"$f":"IF(AM52=\"\",\"\",AM52/DG38)","v":""},null,null,null,null,null,null,null,null,null,null,null,null,null,null,null,null,null,{"$f":"IF(BE52=\"\",\"\",IF(BE49+BE52<1,0,BE52/(BE52+BE49)))","v":""},null,null,null,null,null,null,null,{"$f":"IF(OR(SUM(BE49:BL54)=\"\",SUM(BE49:BL54)=0),0,BM52-AU52)","v":0},null,null,null,null,null,null,null,null,null,null,null,null,null,null,null,null,null,null,{"$f":"IF(CF52=\"\",\"\",IF(CF49+CF52<1,0,CF52/(CF49+CF52)))","v":""},null,null,null,null,null,null,null,{"$f":"IF(OR(SUM(CF49:CM54)=\"\",SUM(CF49:CM54)=0),0,CN52-AU52)","v":0},null,null,null,null,null,null,null,null,null,null,null,null,null,null,null,null,null,null,{"$f":"IF(DG52=\"\",\"\",IF(DG49+DG52<1,0,DG52/(DG52+DG49)))","v":""},null,null,null,null,null,null,null,{"$f":"IF(OR(SUM(DG49:DN54)=\"\",SUM(DG49:DN54)=0),0,DO52-AU52)","v":0},null,null,null,null,null,null,null,null,null,null,null,null,null,null,null,null,null,null,{"$f":"IF(EH52=\"\",\"\",IF(EH49+EH52<1,0,EH52/(EH52+EH49)))","v":""},null,null,null,null,null,null,null,{"$f":"IF(OR(SUM(EH49:EO54)=\"\",SUM(EH49:EO54)=0),0,EP52-AU52)","v":0}]
[]
[]
[null,null,null,null,null,null,null,null,null,null,null,null,null,null,null,null,null,null,null,null,null,null,null,null,null,null,null,null,null,null,null,null,null,null,null,null,null,null,"AM",null,null,null,null,null,null,null,"AU",null,null,null,null,null,null,null,null,null,"BE",null,null,null,null,null,null,null,"BM",null,null,null,null,null,null,null,"BU",null,null,null,null,null,null,-0.1,0.1,null,null,"CF",null,null,null,null,null,null,null,"CN",null,null,null,null,null,null,null,"CV",null,null,null,null,null,null,null,null,null,null,"DG",null,null,null,null,null,null,null,"DO",null,null,null,null,null,null,null,"DW",null,null,null,null,null,null,null,null,null,null,"EH",null,null,null,null,null,null,null,"EP",null,null,null,null,null,null,null,"EX"]
[null,"Racial Categories",null,null,null,null,null,null,null,null,null,null,null,null,null,null,null,null,null,null,null,null,null,null,null,null,null,null,null,null,null,null,null,null,null,null,null,null,"Census",null,null,null,null,null,null,null,null,null,null,null,null,null,null,null,null,null,"Applicants",null,null,null,null,null,null,null,null,null,null,null,null,null,null,null,null,null,null,null,null,null,null,null,null,null,null,"Beneficiaries",null,null,null,null,null,null,null,null,null,null,null,null,null,null,null,null,null,null,null,null,null,null,null,null,null,null,"Rejected Applicants",null,null,null,null,null,null,null,null,null,null,null,null,null,null,null,null,null,null,null,null,null,null,null,null,null,null,"Waiting List"]
[]
[]
[null,null,null,null,null,null,null,null,null,null,null,null,null,null,null,null,null,null,null,null,null,null,null,null,null,null,null,null,null,null,null,null,null,null,null,null,null,null,"#",null,null,null,null,null,null,null,"%",null,null,null,null,null,null,null,null,null,"#",null,null,null,null,null,null,null,"%",null,null,null,null,null,null,null,"Difference",null,null,null,null,null,null,null,null,null,null,"#",null,null,null,null,null,null,null,"%",null,null,null,null,null,null,null,"Difference",null,null,null,null,null,null,null,null,null,null,"#",null,null,null,null,null,null,null,"%",null,null,null,null,null,null,null,"Difference",null,null,null,null,null,null,null,null,null,null,"#",null,null,null,null,null,null,null,"%",null,null,null,null,null,null,null,"Difference"]
[]
[]
[null,"American Indian or Alaskan Native",null,null,null,null,null,null,null,null,null,null,null,null,null,null,null,null,null,null,null,null,null,null,null,null,null,null,null,null,null,null,null,null,null,null,null,null,{"$f":"IF('E Data 3'!D3=0,\"\",'E Data 3'!B4)","v":""},null,null,null,null,null,null,null,{"$f":"IF(AM62=\"\",\"\",AM62/DG38)","v":""},null,null,null,null,null,null,null,null,null,null,null,null,null,null,null,null,null,{"$f":"IF(BE62=\"\",\"\",IF(BE62+BE65+BE68+BE71+BE74+BE77<1,0,BE62/(BE65+BE62+BE68+BE71+BE74+BE77)))","v":""},null,null,null,null,null,null,null,{"$f":"IF(OR(SUM(BE62:BL79)=\"\",SUM(BE62:BL79)=0),0,BM62-AU62)","v":0},null,null,null,null,null,null,null,null,null,null,null,null,null,null,null,null,null,null,{"$f":"IF(CF62=\"\",\"\",IF(CF62+CF65+CF68+CF71+CF74+CF77<1,0,CF62/(CF65+CF62+CF68+CF71+CF74+CF77)))","v":""},null,null,null,null,null,null,null,{"$f":"IF(OR(SUM(CF62:CM79)=\"\",SUM(CF62:CM79)=0),0,CN62-AU62)","v":0},null,null,null,null,null,null,null,null,null,null,null,null,null,null,null,null,null,null,{"$f":"IF(DG62=\"\",\"\",IF(DG62+DG65+DG68+DG71+DG74+DG77<1,0,DG62/(DG65+DG62+DG68+DG71+DG74+DG77)))","v":""},null,null,null,null,null,null,null,{"$f":"IF(OR(SUM(DG62:DN79)=\"\",SUM(DG62:DN79)=0),0,DO62-AU62)","v":0},null,null,null,null,null,null,null,null,null,null,null,null,null,null,null,null,null,null,{"$f":"IF(EH62=\"\",\"\",IF(EH62+EH65+EH68+EH71+EH74+EH77<1,0,EH62/(EH65+EH62+EH68+EH71+EH74+EH77)))","v":""},null,null,null,null,null,null,null,{"$f":"IF(OR(SUM(EH62:EO79)=\"\",SUM(EH62:EO79)=0),0,EP62-AU62)","v":0}]
[]
[]
[null,"Asian",null,null,null,null,null,null,null,null,null,null,null,null,null,null,null,null,null,null,null,null,null,null,null,null,null,null,null,null,null,null,null,null,null,null,null,null,{"$f":"IF('E Data 3'!D3=0,\"\",'E Data 3'!B19)","v":""},null,null,null,null,null,null,null,{"$f":"IF(AM65=\"\",\"\",AM65/DG38)","v":""},null,null,null,null,null,null,null,null,null,null,null,null,null,null,null,null,null,{"$f":"IF(BE65=\"\",\"\",IF(BE62+BE65+BE68+BE71+BE74+BE77<1,0,BE65/(BE68+BE65+BE62+BE71+BE74+BE77)))","v":""},null,null,null,null,null,null,null,{"$f":"IF(OR(SUM(BE62:BL79)=\"\",SUM(BE62:BL79)=0),0,BM65-$AU$65)","v":0},null,null,null,null,null,null,null,null,null,null,null,null,null,null,null,null,null,null,{"$f":"IF(CF65=\"\",\"\",IF(CF62+CF65+CF68+CF71+CF74+CF77<1,0,CF65/(CF68+CF65+CF62+CF71+CF74+CF77)))","v":""},null,null,null,null,null,null,null,{"$f":"IF(OR(SUM(CF62:CM79)=\"\",SUM(CF62:CM79)=0),0,CN65-AU65)","v":0},null,null,null,null,null,null,null,null,null,null,null,null,null,null,null,null,null,null,{"$f":"IF(DG65=\"\",\"\",IF(DG62+DG65+DG68+DG71+DG74+DG77<1,0,DG65/(DG68+DG65+DG62+DG71+DG74+DG77)))","v":""},null,null,null,null,null,null,null,{"$f":"IF(OR(SUM(DG62:DN79)=\"\",SUM(DG62:DN79)=0),0,DO65-AU65)","v":0},null,null,null,null,null,null,null,null,null,null,null,null,null,null,null,null,null,null,{"$f":"IF(EH65=\"\",\"\",IF(EH62+EH65+EH68+EH71+EH74+EH77<1,0,EH65/(EH68+EH65+EH62+EH71+EH74+EH77)))","v":""},null,null,null,null,null,null,null,{"$f":"IF(OR(SUM(EH62:EO79)=\"\",SUM(EH62:EO79)=0),0,EP65-AU65)","v":0}]
[]
[]
[null,"Black or African American",null,null,null,null,null,null,null,null,null,null,null,null,null,null,null,null,null,null,null,null,null,null,null,null,null,null,null,null,null,null,null,null,null,null,null,null,{"$f":"IF('E Data 3'!D3=0,\"\",'E Data 3'!B5)","v":""},null,null,null,null,null,null,null,{"$f":"IF(AM68=\"\",\"\",AM68/DG38)","v":""},null,null,null,null,null,null,null,null,null,null,null,null,null,null,null,null,null,{"$f":"IF(BE68=\"\",\"\",IF(BE62+BE65+BE68+BE71+BE74+BE77<1,0,BE68/(BE71+BE68+BE62+BE65+BE74+BE77)))","v":""},null,null,null,null,null,null,null,{"$f":"IF(OR(SUM(BE62:BL79)=\"\",SUM(BE62:BL79)=0),0,BM68-AU68)","v":0},null,null,null,null,null,null,null,null,null,null,null,null,null,null,null,null,null,null,{"$f":"IF(CF68=\"\",\"\",IF(CF62+CF65+CF68+CF71+CF74<1,0,CF68/(CF71+CF68+CF62+CF65+CF74+CF77)))","v":""},null,null,null,null,null,null,null,{"$f":"IF(OR(SUM(CF62:CM79)=\"\",SUM(CF62:CM79)=0),0,CN68-AU68)","v":0},null,null,null,null,null,null,null,null,null,null,null,null,null,null,null,null,null,null,{"$f":"IF(DG68=\"\",\"\",IF(DG62+DG65+DG68+DG71+DG74+DG77<1,0,DG68/(DG71+DG68+DG62+DG65+DG74+DG77)))","v":""},null,null,null,null,null,null,null,{"$f":"IF(OR(SUM(DG62:DN79)=\"\",SUM(DG62:DN79)=0),0,DO68-AU68)","v":0},null,null,null,null,null,null,null,null,null,null,null,null,null,null,null,null,null,null,{"$f":"IF(EH68=\"\",\"\",IF(EH62+EH65+EH68+EH71+EH74+EH77<1,0,EH68/(EH71+EH68+EH62+EH65+EH74+EH77)))","v":""},null,null,null,null,null,null,null,{"$f":"IF(OR(SUM(EH62:EO79)=\"\",SUM(EH62:EO79)=0),0,EP68-AU68)","v":0}]
[]
[]
[null,"Native Hawaiian or Other Pacific Islander",null,null,null,null,null,null,null,null,null,null,null,null,null,null,null,null,null,null,null,null,null,null,null,null,null,null,null,null,null,null,null,null,null,null,null,null,{"$f":"IF('E Data 3'!D3=0,\"\",'E Data 3'!B6)","v":""},null,null,null,null,null,null,null,{"$f":"IF(AM71=\"\",\"\",AM71/DG38)","v":""},null,null,null,null,null,null,null,null,null,null,null,null,null,null,null,null,null,{"$f":"IF(BE71=\"\",\"\",IF(BE62+BE65+BE68+BE71+BE74+BE77<1,0,BE71/(BE74+BE71+BE68+BE65+BE62+BE77)))","v":""},null,null,null,null,null,null,null,{"$f":"IF(OR(SUM(BE62:BL79)=\"\",SUM(BE62:BL79)=0),0,BM71-AU71)","v":0},null,null,null,null,null,null,null,null,null,null,null,null,null,null,null,null,null,null,{"$f":"IF(CF71=\"\",\"\",IF(CF62+CF65+CF68+CF71+CF74+CF77<1,0,CF71/(CF74+CF71+CF68+CF65+CF62+CF77)))","v":""},null,null,null,null,null,null,null,{"$f":"IF(OR(SUM(CF62:CM79)=\"\",SUM(CF62:CM79)=0),0,CN71-AU71)","v":0},null,null,null,null,null,null,null,null,null,null,null,null,null,null,null,null,null,null,{"$f":"IF(DG71=\"\",\"\",IF(DG62+DG65+DG68+DG71+DG74+DG77<1,0,DG71/(DG74+DG71+DG68+DG65+DG62+DG77)))","v":""},null,null,null,null,null,null,null,{"$f":"IF(OR(SUM(DG62:DN79)=\"\",SUM(DG62:DN79)=0),0,DO71-AU71)","v":0},null,null,null,null,null,null,null,null,null,null,null,null,null,null,null,null,null,null,{"$f":"IF(EH71=\"\",\"\",IF(EH62+EH65+EH68+EH71+EH74+EH77<1,0,EH71/(EH74+EH71+EH68+EH65+EH62+EH77)))","v":""},null,null,null,null,null,null,null,{"$f":"IF(OR(SUM(EH62:EO79)=\"\",SUM(EH62:EO79)=0),0,EP71-AU71)","v":0}]
[]
[]
[null,"White Alone",null,null,null,null,null,null,null,null,null,null,null,null,null,null,null,null,null,null,null,null,null,null,null,null,null,null,null,null,null,null,null,null,null,null,null,null,{"$f":"IF('E Data 3'!D3=0,\"\",'E Data 3'!B7)","v":""},null,null,null,null,null,null,null,{"$f":"IF(AM74=\"\",\"\",AM74/DG38)","v":""},null,null,null,null,null,null,null,null,null,null,null,null,null,null,null,null,null,{"$f":"IF(BE74=\"\",\"\",IF(BE62+BE65+BE68+BE71+BE74+BE77<1,0,BE74/(BE77+BE74+BE62+BE65+BE68+BE71)))","v":""},null,null,null,null,null,null,null,{"$f":"IF(OR(SUM(BE62:BL79)=\"\",SUM(BE62:BL79)=0),0,BM74-AU74)","v":0},null,null,null,null,null,null,null,null,null,null,null,null,null,null,null,null,null,null,{"$f":"IF(CF74=\"\",\"\",IF(CF62+CF65+CF68+CF71+CF74+CF77<1,0,CF74/(CF77+CF74+CF62+CF65+CF68+CF71)))","v":""},null,null,null,null,null,null,null,{"$f":"IF(OR(SUM(CF62:CM79)=\"\",SUM(CF62:CM79)=0),0,CN74-AU74)","v":0},null,null,null,null,null,null,null,null,null,null,null,null,null,null,null,null,null,null,{"$f":"IF(DG74=\"\",\"\",IF(DG62+DG65+DG68+DG71+DG74+DG77<1,0,DG74/(DG77+DG74+DG62+DG65+DG68+DG71)))","v":""},null,null,null,null,null,null,null,{"$f":"IF(OR(SUM(DG62:DN79)=\"\",SUM(DG62:DN79)=0),0,DO74-$AU$74)","v":0},null,null,null,null,null,null,null,null,null,null,null,null,null,null,null,null,null,null,{"$f":"IF(EH74=\"\",\"\",IF(EH62+EH65+EH68+EH71+EH74+EH77<1,0,EH74/(EH77+EH74+EH62+EH65+EH68+EH71)))","v":""},null,null,null,null,null,null,null,{"$f":"IF(OR(SUM(EH62:EO79)=\"\",SUM(EH62:EO79)=0),0,EP74-AU74)","v":0}]
[]
[]
[null,"Other",null,null,null,null,null,null,null,null,null,null,null,null,null,null,null,null,null,null,null,null,null,null,null,null,null,null,null,null,null,null,null,null,null,null,null,null,{"$f":"IF('E Data 3'!D3=0,\"\",'E Data 3'!B8)","v":""},null,null,null,null,null,null,null,{"$f":"IF(AM77=\"\",\"\",AM77/DG38)","v":""},null,null,null,null,null,null,null,null,null,null,null,null,null,null,null,null,null,{"$f":"IF(BE77=\"\",\"\",IF(BE62+BE65+BE68+BE71+BE74+BE77<1,0,BE77/(BE77+BE74+BE71+BE68+BE65+BE62)))","v":""},null,null,null,null,null,null,null,{"$f":"IF(OR(SUM(BE62:BL79)=\"\",SUM(BE62:BL79)=0),0,BM77-AU77)","v":0},null,null,null,null,null,null,null,null,null,null,null,null,null,null,null,null,null,null,{"$f":"IF(CF77=\"\",\"\",IF(CF62+CF65+CF68+CF71+CF74+CF77<1,0,CF77/(CF77+CF74+CF71+CF68+CF65+CF62)))","v":""},null,null,null,null,null,null,null,{"$f":"IF(OR(SUM(CF62:CM79)=\"\",SUM(CF62:CM79)=0),0,CN77-AU77)","v":0},null,null,null,null,null,null,null,null,null,null,null,null,null,null,null,null,null,null,{"$f":"IF(DG77=\"\",\"\",IF(DG62+DG65+DG68+DG71+DG74+DG77<1,0,DG77/(DG77+DG74+DG71+DG68+DG65+DG62)))","v":""},null,null,null,null,null,null,null,{"$f":"IF(OR(SUM(DG62:DN79)=\"\",SUM(DG62:DN79)=0),0,DO77-AU77)","v":0},null,null,null,null,null,null,null,null,null,null,null,null,null,null,null,null,null,null,{"$f":"IF(EH77=\"\",\"\",IF(EH62+EH65+EH68+EH71+EH74+EH77<1,0,EH77/(EH77+EH74+EH71+EH68+EH65+EH62)))","v":""},null,null,null,null,null,null,null,{"$f":"IF(OR(SUM(EH62:EO79)=\"\",SUM(EH62:EO79)=0),0,EP77-AU77)","v":0}]
[]
[]
[]
[null,"Gender",null,null,null,null,null,null,null,null,null,null,null,null,null,null,null,null,null,null,null,null,null,null,null,null,null,null,null,null,null,null,null,null,null,null,null,null,"Census",null,null,null,null,null,null,null,null,null,null,null,null,null,null,null,null,null,"Applicants",null,null,null,null,null,null,null,null,null,null,null,null,null,null,null,null,null,null,null,null,null,null,null,null,null,null,"Beneficiaries",null,null,null,null,null,null,null,null,null,null,null,null,null,null,null,null,null,null,null,null,null,null,null,null,null,null,"Rejected Applicants",null,null,null,null,null,null,null,null,null,null,null,null,null,null,null,null,null,null,null,null,null,null,null,null,null,null,"Waiting List"]
[]
[]
[null,null,null,null,null,null,null,null,null,null,null,null,null,null,null,null,null,null,null,null,null,null,null,null,null,null,null,null,null,null,null,null,null,null,null,null,null,null,"#",null,null,null,null,null,null,null,"%",null,null,null,null,null,null,null,null,null,"#",null,null,null,null,null,null,null,"%",null,null,null,null,null,null,null,"Difference",null,null,null,null,null,null,null,null,null,null,"#",null,null,null,null,null,null,null,"%",null,null,null,null,null,null,null,"Difference",null,null,null,null,null,null,null,null,null,null,"#",null,null,null,null,null,null,null,"%",null,null,null,null,null,null,null,"Difference",null,null,null,null,null,null,null,null,null,null,"#",null,null,null,null,null,null,null,"%",null,null,null,null,null,null,null,"Difference"]
[]
[]
[null,"Female",null,null,null,null,null,null,null,null,null,null,null,null,null,null,null,null,null,null,null,null,null,null,null,null,null,null,null,null,null,null,null,null,null,null,null,null,{"$f":"IF('E Data 3'!D3=0,\"\",'E Data 3'!B9)","v":""},null,null,null,null,null,null,null,{"$f":"IF(AM87=\"\",\"\",AM87/DG38)","v":""},null,null,null,null,null,null,null,null,null,null,null,null,null,null,null,null,null,{"$f":"IF(BE87=\"\",\"\",IF(BE87+BE90<1,0,BE87/(BE90+BE87)))","v":""},null,null,null,null,null,null,null,{"$f":"IF(OR(SUM(BE87:BL92)=\"\",SUM(BE87:BL92)=0),0,BM87-AU87)","v":0},null,null,null,null,null,null,null,null,null,null,null,null,null,null,null,null,null,null,{"$f":"IF(CF87=\"\",\"\",IF(CF87+CF90<1,0,CF87/(CF87+CF90)))","v":""},null,null,null,null,null,null,null,{"$f":"IF(OR(SUM(CF87:CM92)=\"\",SUM(CF87:CM92)=0),0,CN87-AU87)","v":0},null,null,null,null,null,null,null,null,null,null,null,null,null,null,null,null,null,null,{"$f":"IF(DG87=\"\",\"\",IF(DG87+DG90<1,0,DG87/(DG90+DG87)))","v":""},null,null,null,null,null,null,null,{"$f":"IF(OR(SUM(DG87:DN92)=\"\",SUM(DG87:DN92)=0),0,DO87-AU87)","v":0},null,null,null,null,null,null,null,null,null,null,null,null,null,null,null,null,null,null,{"$f":"IF(EH87=\"\",\"\",IF(EH87+EH90<1,0,EH87/(EH90+EH87)))","v":""},null,null,null,null,null,null,null,{"$f":"IF(OR(SUM(EH87:EO92)=\"\",SUM(EH87:EO92)=0),0,EP87-AU87)","v":0}]
[]
[]
[null,"Male",null,null,null,null,null,null,null,null,null,null,null,null,null,null,null,null,null,null,null,null,null,null,null,null,null,null,null,null,null,null,null,null,null,null,null,null,{"$f":"IF('E Data 3'!D3=0,\"\",'E Data 3'!B10)","v":""},null,null,null,null,null,null,null,{"$f":"IF(AM90=\"\",\"\",AM90/DG38)","v":""},null,null,null,null,null,null,null,null,null,null,null,null,null,null,null,null,null,{"$f":"IF(BE90=\"\",\"\",IF(BE87+BE90<1,0,BE90/(BE90+BE87)))","v":""},null,null,null,null,null,null,null,{"$f":"IF(OR(SUM(BE87:BL92)=\"\",SUM(BE87:BL92)=0),0,BM90-AU90)","v":0},null,null,null,null,null,null,null,null,null,null,null,null,null,null,null,null,null,null,{"$f":"IF(CF90=\"\",\"\",IF(CF87+CF90<1,0,CF90/(CF87+CF90)))","v":""},null,null,null,null,null,null,null,{"$f":"IF(OR(SUM(CF87:CM92)=\"\",SUM(CF87:CM92)=0),0,CN90-AU90)","v":0},null,null,null,null,null,null,null,null,null,null,null,null,null,null,null,null,null,null,{"$f":"IF(DG90=\"\",\"\",IF(DG87+DG90<1,0,DG90/(DG90+DG87)))","v":""},null,null,null,null,null,null,null,{"$f":"IF(OR(SUM(DG87:DN92)=\"\",SUM(DG87:DN92)=0),0,DO90-AU90)","v":0},null,null,null,null,null,null,null,null,null,null,null,null,null,null,null,null,null,null,{"$f":"IF(EH90=\"\",\"\",IF(EH87+EH90<1,0,EH90/(EH90+EH87)))","v":""},null,null,null,null,null,null,null,{"$f":"IF(OR(SUM(EH87:EO92)=\"\",SUM(EH87:EO92)=0),0,EP90-AU90)","v":0}]
[]
[]
[]
[null,"Age",null,null,null,null,null,null,null,null,null,null,null,null,null,null,null,null,null,null,null,null,null,null,null,null,null,null,null,null,null,null,null,null,null,null,null,null,"Census",null,null,null,null,null,null,null,null,null,null,null,null,null,null,null,null,null,"Applicants",null,null,null,null,null,null,null,null,null,null,null,null,null,null,null,null,null,null,null,null,null,null,null,null,null,null,"Beneficiaries",null,null,null,null,null,null,null,null,null,null,null,null,null,null,null,null,null,null,null,null,null,null,null,null,null,null,"Rejected Applicants",null,null,null,null,null,null,null,null,null,null,null,null,null,null,null,null,null,null,null,null,null,null,null,null,null,null,"Waiting List"]
[]
[]
[null,null,null,null,null,null,null,null,null,null,null,null,null,null,null,null,null,null,null,null,null,null,null,null,null,null,null,null,null,null,null,null,null,null,null,null,null,null,"#",null,null,null,null,null,null,null,"%",null,null,null,null,null,null,null,null,null,"#",null,null,null,null,null,null,null,"%",null,null,null,null,null,null,null,"Difference",null,null,null,null,null,null,null,null,null,null,"#",null,null,null,null,null,null,null,"%",null,null,null,null,null,null,null,"Difference",null,null,null,null,null,null,null,null,null,null,"#",null,null,null,null,null,null,null,"%",null,null,null,null,null,null,null,"Difference",null,null,null,null,null,null,null,null,null,null,"#",null,null,null,null,null,null,null,"%",null,null,null,null,null,null,null,"Difference"]
[]
[]
[null,"0 to 19 Years",null,null,null,null,null,null,null,null,null,null,null,null,null,null,null,null,null,null,null,null,null,null,null,null,null,null,null,null,null,null,null,null,null,null,null,null,{"$f":"IF('E Data 3'!D3=0,\"\",'E Data 3'!B11)","v":""},null,null,null,null,null,null,null,{"$f":"IF(AM100=\"\",\"\",AM100/DG38)","v":""},null,null,null,null,null,null,null,null,null,null,null,null,null,null,null,null,null,{"$f":"IF(BE100=\"\",\"\",IF(BE100+BE103+BE106+BE109+BE112<1,0,BE100/(BE103+BE100+BE106+BE109+BE112)))","v":""},null,null,null,null,null,null,null,{"$f":"IF(OR(SUM(BE100:BL114)=\"\",SUM(BE100:BL114)=0),0,BM100-AU100)","v":0},null,null,null,null,null,null,null,null,null,null,null,null,null,null,null,null,null,null,{"$f":"IF(CF100=\"\",\"\",IF(CF100+CF103+CF106+CF109+CF112<1,0,CF100/(CF100+CF103+CF106+CF109+CF112)))","v":""},null,null,null,null,null,null,null,{"$f":"IF(OR(SUM(CF100:CM114)=\"\",SUM(CF100:CM114)=0),0,CN100-AU100)","v":0},null,null,null,null,null,null,null,null,null,null,null,null,null,null,null,null,null,null,{"$f":"IF(DG100=\"\",\"\",IF(DG100+DG103+DG106+DG109+DG112<1,0,DG100/(DG103+DG100+DG106+DG109+DG112)))","v":""},null,null,null,null,null,null,null,{"$f":"IF(OR(SUM(DG100:DN114)=\"\",SUM(DG100:DN114)=0),0,DO100-AU100)","v":0},null,null,null,null,null,null,null,null,null,null,null,null,null,null,null,null,null,null,{"$f":"IF(EH100=\"\",\"\",IF(EH100+EH103+EH106+EH109+EH112<1,0,EH100/(EH103+EH100+EH106+EH109+EH112)))","v":""},null,null,null,null,null,null,null,{"$f":"IF(OR(SUM(EH100:EO114)=\"\",SUM(EH100:EO114)=0),0,EP100-AU100)","v":0}]
[]
[]
[null,"20 to 24 Years",null,null,null,null,null,null,null,null,null,null,null,null,null,null,null,null,null,null,null,null,null,null,null,null,null,null,null,null,null,null,null,null,null,null,null,null,{"$f":"IF('E Data 3'!D3=0,\"\",'E Data 3'!B12)","v":""},null,null,null,null,null,null,null,{"$f":"IF(AM103=\"\",\"\",AM103/DG38)","v":""},null,null,null,null,null,null,null,null,null,null,null,null,null,null,null,null,null,{"$f":"IF(BE103=\"\",\"\",IF(BE100+BE103+BE106+BE109+BE112<1,0,BE103/(BE103+BE100+BE106+BE109+BE112)))","v":""},null,null,null,null,null,null,null,{"$f":"IF(OR(SUM(BE100:BL114)=\"\",SUM(BE100:BL114)=0),0,BM103-AU103)","v":0},null,null,null,null,null,null,null,null,null,null,null,null,null,null,null,null,null,null,{"$f":"IF(CF103=\"\",\"\",IF(CF100+CF103+CF106+CF109+CF112<1,0,CF103/(CF103+CF106+CF100+CF109+CF112)))","v":""},null,null,null,null,null,null,null,{"$f":"IF(OR(SUM(CF100:CM114)=\"\",SUM(CF100:CM114)=0),0,CN103-AU103)","v":0},null,null,null,null,null,null,null,null,null,null,null,null,null,null,null,null,null,null,{"$f":"IF(DG103=\"\",\"\",IF(DG100+DG103+DG106+DG109+DG112<1,0,DG103/(DG106+DG103+DG100+DG109+DG112)))","v":""},null,null,null,null,null,null,null,{"$f":"IF(OR(SUM(DG100:DN114)=\"\",SUM(DG100:DN114)=0),0,DO103-AU103)","v":0},null,null,null,null,null,null,null,null,null,null,null,null,null,null,null,null,null,null,{"$f":"IF(EH103=\"\",\"\",IF(EH100+EH103+EH106+EH109+EH112<1,0,EH103/(EH106+EH103+EH100+EH109+EH112)))","v":""},null,null,null,null,null,null,null,{"$f":"IF(OR(SUM(EH100:EO114)=\"\",SUM(EH100:EO114)=0),0,EP103-AU103)","v":0}]
[]
[]
[null,"25 to 44 Years",null,null,null,null,null,null,null,null,null,null,null,null,null,null,null,null,null,null,null,null,null,null,null,null,null,null,null,null,null,null,null,null,null,null,null,null,{"$f":"IF('E Data 3'!D3=0,\"\",'E Data 3'!B13)","v":""},null,null,null,null,null,null,null,{"$f":"IF(AM106=\"\",\"\",AM106/DG38)","v":""},null,null,null,null,null,null,null,null,null,null,null,null,null,null,null,null,null,{"$f":"IF(BE106=\"\",\"\",IF(BE100+BE103+BE106+BE109+BE112<1,0,BE106/(BE109+BE106+BE100+BE103+BE112)))","v":""},null,null,null,null,null,null,null,{"$f":"IF(OR(SUM(BE100:BL114)=\"\",SUM(BE100:BL114)=0),0,BM106-AU106)","v":0},null,null,null,null,null,null,null,null,null,null,null,null,null,null,null,null,null,null,{"$f":"IF(CF106=\"\",\"\",IF(CF100+CF103+CF106+CF109+CF112<1,0,CF106/(CF106+CF109+CF100+CF103+CF112)))","v":""},null,null,null,null,null,null,null,{"$f":"IF(OR(SUM(CF100:CM114)=\"\",SUM(CF100:CM114)=0),0,CN106-AU106)","v":0},null,null,null,null,null,null,null,null,null,null,null,null,null,null,null,null,null,null,{"$f":"IF(DG106=\"\",\"\",IF(DG100+DG103+DG106+DG109+DG112<1,0,DG106/(DG109+DG106+DG100+DG103+DG112)))","v":""},null,null,null,null,null,null,null,{"$f":"IF(OR(SUM(DG100:DN114)=\"\",SUM(DG100:DN114)=0),0,DO106-AU106)","v":0},null,null,null,null,null,null,null,null,null,null,null,null,null,null,null,null,null,null,{"$f":"IF(EH106=\"\",\"\",IF(EH100+EH103+EH106+EH109+EH112<1,0,EH106/(EH109+EH106+EH100+EH103+EH112)))","v":""},null,null,null,null,null,null,null,{"$f":"IF(OR(SUM(EH100:EO114)=\"\",SUM(EH100:EO114)=0),0,EP106-AU106)","v":0}]
[]
[]
[null,"45 to 64 Years",null,null,null,null,null,null,null,null,null,null,null,null,null,null,null,null,null,null,null,null,null,null,null,null,null,null,null,null,null,null,null,null,null,null,null,null,{"$f":"IF('E Data 3'!D3=0,\"\",'E Data 3'!B14)","v":""},null,null,null,null,null,null,null,{"$f":"IF(AM109=\"\",\"\",AM109/DG38)","v":""},null,null,null,null,null,null,null,null,null,null,null,null,null,null,null,null,null,{"$f":"IF(BE109=\"\",\"\",IF(BE100+BE103+BE106+BE109+BE112<1,0,BE109/(BE109+BE106+BE100+BE103+BE112)))","v":""},null,null,null,null,null,null,null,{"$f":"IF(OR(SUM(BE100:BL114)=\"\",SUM(BE100:BL114)=0),0,BM109-$AU$109)","v":0},null,null,null,null,null,null,null,null,null,null,null,null,null,null,null,null,null,null,{"$f":"IF(CF109=\"\",\"\",IF(CF100+CF103+CF106+CF109+CF112<1,0,CF109/(CF109+CF106+CF100+CF103+CF112)))","v":""},null,null,null,null,null,null,null,{"$f":"IF(OR(SUM(CF100:CM114)=\"\",SUM(CF100:CM114)=0),0,CN109-AU109)","v":0},null,null,null,null,null,null,null,null,null,null,null,null,null,null,null,null,null,null,{"$f":"IF(DG109=\"\",\"\",IF(DG100+DG103+DG106+DG109+DG112<1,0,DG109/(DG109+DG106+DG100+DG103+DG112)))","v":""},null,null,null,null,null,null,null,{"$f":"IF(OR(SUM(DG100:DN114)=\"\",SUM(DG100:DN114)=0),0,DO109-AU109)","v":0},null,null,null,null,null,null,null,null,null,null,null,null,null,null,null,null,null,null,{"$f":"IF(EH109=\"\",\"\",IF(EH100+EH103+EH106+EH109+EH112<1,0,EH109/(EH109+EH106+EH100+EH103+EH112)))","v":""},null,null,null,null,null,null,null,{"$f":"IF(OR(SUM(EH100:EO114)=\"\",SUM(EH100:EO114)=0),0,EP109-AU109)","v":0}]
[]
[]
[null,"65 Years and Over",null,null,null,null,null,null,null,null,null,null,null,null,null,null,null,null,null,null,null,null,null,null,null,null,null,null,null,null,null,null,null,null,null,null,null,null,{"$f":"IF('E Data 3'!D3=0,\"\",'E Data 3'!B15)","v":""},null,null,null,null,null,null,null,{"$f":"IF(AM112=\"\",\"\",AM112/DG38)","v":""},null,null,null,null,null,null,null,null,null,null,null,null,null,null,null,null,null,{"$f":"IF(BE112=\"\",\"\",IF(BE100+BE103+BE106+BE109+BE112<1,0,BE112/(BE112+BE109+BE100+BE103+BE106)))","v":""},null,null,null,null,null,null,null,{"$f":"IF(OR(SUM(BE100:BL114)=\"\",SUM(BE100:BL114)=0),0,BM112-AU112)","v":0},null,null,null,null,null,null,null,null,null,null,null,null,null,null,null,null,null,null,{"$f":"IF(CF112=\"\",\"\",IF(CF100+CF103+CF106+CF109+CF112<1,0,CF112/(CF112+CF109+CF100+CF103+CF106)))","v":""},null,null,null,null,null,null,null,{"$f":"IF(OR(SUM(CF100:CM114)=\"\",SUM(CF100:CM114)=0),0,CN112-AU112)","v":0},null,null,null,null,null,null,null,null,null,null,null,null,null,null,null,null,null,null,{"$f":"IF(DG112=\"\",\"\",IF(DG100+DG103+DG106+DG109+DG112<1,0,DG112/(DG112+DG109+DG100+DG103+DG106)))","v":""},null,null,null,null,null,null,null,{"$f":"IF(OR(SUM(DG100:DN114)=\"\",SUM(DG100:DN114)=0),0,DO112-AU112)","v":0},null,null,null,null,null,null,null,null,null,null,null,null,null,null,null,null,null,null,{"$f":"IF(EH112=\"\",\"\",IF(EH100+EH103+EH106+EH109+EH112<1,0,EH112/(EH112+EH109+EH100+EH103+EH106)))","v":""},null,null,null,null,null,null,null,{"$f":"IF(OR(SUM(EH100:EO114)=\"\",SUM(EH100:EO114)=0),0,EP112-AU112)","v":0}]
[]
[]
[null,{"$f":"IF(#REF!=0,\"\",#REF!)","v":{"$error":"#REF!"}}]
[null,"Disability",null,null,null,null,null,null,null,null,null,null,null,null,null,null,null,null,null,null,null,null,null,null,null,null,null,null,null,null,null,null,null,null,null,null,null,null,"Census",null,null,null,null,null,null,null,null,null,null,null,null,null,null,null,null,null,"Applicants",null,null,null,null,null,null,null,null,null,null,null,null,null,null,null,null,null,null,null,null,null,null,null,null,null,null,"Beneficiaries",null,null,null,null,null,null,null,null,null,null,null,null,null,null,null,null,null,null,null,null,null,null,null,null,null,null,"Rejected Applicants",null,null,null,null,null,null,null,null,null,null,null,null,null,null,null,null,null,null,null,null,null,null,null,null,null,null,"Waiting List"]
[]
[]
[null,null,null,null,null,null,null,null,null,null,null,null,null,null,null,null,null,null,null,null,null,null,null,null,null,null,null,null,null,null,null,null,null,null,null,null,null,null,"#",null,null,null,null,null,null,null,"%",null,null,null,null,null,null,null,null,null,"#",null,null,null,null,null,null,null,"%",null,null,null,null,null,null,null,"Difference",null,null,null,null,null,null,null,null,null,null,"#",null,null,null,null,null,null,null,"%",null,null,null,null,null,null,null,"Difference",null,null,null,null,null,null,null,null,null,null,"#",null,null,null,null,null,null,null,"%",null,null,null,null,null,null,null,"Difference",null,null,null,null,null,null,null,null,null,null,"#",null,null,null,null,null,null,null,"%",null,null,null,null,null,null,null,"Difference"]
[]
[]
[null,"Disabled",null,null,null,null,null,null,null,null,null,null,null,null,null,null,null,null,null,null,null,null,null,null,null,null,null,null,null,null,null,null,null,null,null,null,null,null,{"$f":"IF('E Data 3'!D3=0,\"\",'E Data 3'!B16)","v":""},null,null,null,null,null,null,null,{"$f":"AM122/(AM122+AM125)","v":{"$error":"#VALUE!"}},null,null,null,null,null,null,null,null,null,null,null,null,null,null,null,null,null,{"$f":"IF(BE122=\"\",\"\",IF(BE122<1,0,BE122/(BE125+BE122)))","v":""},null,null,null,null,null,null,null,{"$f":"IF(OR(SUM(BE122:BL127)=\"\",SUM(BE122:BL127)=0),0,BM122-AU122)","v":0},null,null,null,null,null,null,null,null,null,null,null,null,null,null,null,null,null,null,{"$f":"IF(CF122=\"\",\"\",IF(CF122<1,0,CF122/(CF122+CF125)))","v":""},null,null,null,null,null,null,null,{"$f":"IF(OR(SUM(CF122:CM127)=\"\",SUM(CF122:CM127)=0),0,CN122-AU122)","v":0},null,null,null,null,null,null,null,null,null,null,null,null,null,null,null,null,null,null,{"$f":"IF(DG122=\"\",\"\",IF(DG122<1,0,DG122/(DG122+DG125)))","v":""},null,null,null,null,null,null,null,{"$f":"IF(OR(SUM(DG122:DN127)=\"\",SUM(DG122:DN127)=0),0,DO122-AU122)","v":0},null,null,null,null,null,null,null,null,null,null,null,null,null,null,null,null,null,null,{"$f":"IF(EH122=\"\",\"\",IF(EH122<1,0,EH122/(EH122+EH125)))","v":""},null,null,null,null,null,null,null,{"$f":"IF(OR(SUM(EH122:EO127)=\"\",SUM(EH122:EO127)=0),0,EP122-AU122)","v":0}]
[]
[]
[null,"Not Disabled",null,null,null,null,null,null,null,null,null,null,null,null,null,null,null,null,null,null,null,null,null,null,null,null,null,null,null,null,null,null,null,null,null,null,null,null,{"$f":"IF('E Data 3'!D3=0,\"\",'E Data 3'!B17)","v":""},null,null,null,null,null,null,null,{"$f":"1-AU122","v":{"$error":"#VALUE!"}},null,null,null,null,null,null,null,null,null,null,null,null,null,null,null,null,null,{"$f":"IF(BE125=\"\",\"\",IF(BE125<1,0,BE125/(BE125+BE122)))","v":""},null,null,null,null,null,null,null,{"$f":"IF(OR(SUM(BE122:BL127)=\"\",SUM(BE122:BL127)=0),0,BM125-AU125)","v":0},null,null,null,null,null,null,null,null,null,null,null,null,null,null,null,null,null,null,{"$f":"IF(CF125=\"\",\"\",IF(CF125<1,0,CF125/(CF122+CF125)))","v":""},null,null,null,null,null,null,null,{"$f":"IF(OR(SUM(CF122:CM127)=\"\",SUM(CF122:CM127)=0),0,CN125-AU125)","v":0},null,null,null,null,null,null,null,null,null,null,null,null,null,null,null,null,null,null,{"$f":"IF(DG125=\"\",\"\",IF(DG125<1,0,DG125/(DG122+DG125)))","v":""},null,null,null,null,null,null,null,{"$f":"IF(OR(SUM(DG122:DN127)=\"\",SUM(DG122:DN127)=0),0,DO125-AU125)","v":0},null,null,null,null,null,null,null,null,null,null,null,null,null,null,null,null,null,null,{"$f":"IF(EH125=\"\",\"\",IF(EH125<1,0,EH125/(EH125+EH122)))","v":""},null,null,null,null,null,null,null,{"$f":"IF(OR(SUM(EH122:EO127)=\"\",SUM(EH122:EO127)=0),0,EP125-$AU$125)","v":0}]
[]
[]
[null,null,null,null,null,null,null,null,null,null,null,null,null,null,null,null,null,null,null,null,null,null,null,null,null,null,null,null,null,null,null,null,null,null,null,null,null,null,null,null,null,null,null,null,null,null,null,null,null,null,null,null,null,null,{"$f":"IF(AND(SUM(BE49+BE52)=SUM(BE62:BL79),SUM(BE49+BE52)=SUM(BE87:BL92), SUM(BE49+BE52)=SUM(BE100:BL114), SUM(BE49+BE52)=SUM(BE122:BL127)),\"\",\"COLUMN SECTION TOTALS MUST MATCH!\")","v":""},null,null,null,null,null,null,null,null,null,null,null,null,null,null,null,null,null,null,null,null,null,null,null,null,null,null,{"$f":"IF(AND(SUM(CF49+CF52)=SUM(CF62:CF79),SUM(CF49+CF52)=SUM(CF87:CF92), SUM(CF49+CF52)=SUM(CF100:CF114), SUM(CF49+CF52)=SUM(CF122:CF127)),\"\",\"COLUMN SECTION TOTALS MUST MATCH!\")","v":""},null,null,null,null,null,null,null,null,null,null,null,null,null,null,null,null,null,null,null,null,null,null,null,null,null,null,{"$f":"IF(AND(SUM(DG49+DG52)=SUM(DG62:DG79),SUM(DG49+DG52)=SUM(DG87:DG92), SUM(DG49+DG52)=SUM(DG100:DG114), SUM(DG49+DG52)=SUM(DG122:DG127)),\"\",\"COLUMN SECTION TOTALS MUST MATCH!\")","v":""},null,null,null,null,null,null,null,null,null,null,null,null,null,null,null,null,null,null,null,null,null,null,null,null,null,null,{"$f":"IF(AND(SUM(EH49+EH52)=SUM(EH62:EH79),SUM(EH49+EH52)=SUM(EH87:EH92), SUM(EH49+EH52)=SUM(EH100:EH114), SUM(EH49+EH52)=SUM(EH122:EH127)),\"\",\"COLUMN SECTION TOTALS MUST MATCH!\")","v":""}]
[]
[]
[]
[]
[]
[]
[]
[null,"Prepared By: Name",null,null,null,null,null,null,null,null,null,null,null,null,null,null,null,null,null,null,null,null,null,null,null,null,null,null,null,null,null,null,null,null,null,null,null,null,"Title",null,null,null,null,null,null,null,null,null,null,null,null,null,null,null,null,null,null,null,null,null,null,null,null,null,null,null,null,null,null,null,null,null,null,null,null,null,null,"Telephone Number",null,null,null,null,null,null,null,null,null,null,null,null,null,null,null,null,null,null,null,null,null,"e-mail Address",null,null,null,null,null,null,null,null,null,null,null,null,null,null,null,null,null,null,null,null,null,null,null,null,null,null,null,null,null,null,null,null,null,null,null,null,null,null,null,null,null,"Date"]
[]
[]
[]
[]
[null,null,null,null,null,null,null,null,null,null,null,null,null,null,null,null,null,null,null,null,null,null,null,null,null,null,null,null,null,null,null,null,null,null,null,null,null,null,null,null,null,null,null,null,null,null,null,null,null,null,null,null,null,null,null,null,null,null,null,null,null,null,null,null,null,null,null,null,null,null,null,null,null,null,null,null,null,null,null,null,null,null,null,null,null,null,null,null,null,null,null,null,null,null,null,null,null,null,null,null,null,null,null,null,null,null,null,null,null,null,null,null,null,null,null,null,null,null,null,null,null,null,null,null,null,null,null,null,null,null,null,null,null,null,null,null,null,null,null,null,null,null,null,null,null,null,null,null,null,null,null,null,null,null,null,null,null,null,null,null,null,null,null,null,null,null,null,null,null,null,"PAGE 2"]
[null,"Questionnaire"]
[]
[]
[]
[]
[]
[null,"HUD has defined \"impediments to fair housing choice\" to include specific actions as well as the lack of actions as follows:"]
[]
[]
[]
[null,null,"l",null,"Any actions, omissions or decisions taken because of race, color, religion, sex, disability, familial status, or national origin which restrict housing choices; and"]
[]
[]
[]
[null,null,"l",null,"Any actions, omissions, or decisions which have the effect of restricting housing choices or the availability of housing choices on the basis of race, color, religion, sex, disability, familial status, or national origin."]
[]
[]
[]
[]
[]
[null,"In its simplest form, a study of Fair Housing barriers addresses the question:  Do all residents and potential residents of this Jurisdiction have equal access to housing regardless of their race, color, religion (creed), sex, disability, familial status, age, or national origin?  If not, why?  "]
[]
[]
[]
[]
[]
[]
[null,"If \"Difference\" field is greater than 10%, field will turn red; please respond to questions below, in reference to these numbers. "]
[]
[]
[]
[null,"1.",null,"Does any of the demographic data show low representation of any protected groups in either your applicants, beneficiaries, rejected applicants or waiting list?"]
[]
[]
[]
[]
[]
[]
[]
[]
[]
[]
[]
[]
[]
[]
[]
[]
[null,null,null,null,null,null,null,null,null,null,null,null,null,null,null,null,null,null,null,null,null,null,null,null,null,null," "]
[null,"2.",null,null,"What reasons have you identified for these low numbers?"]
[]
[]
[]
[]
[]
[]
[]
[]
[]
[]
[]
[]
[]
[]
[]
[]
[]
[null,"3.",null,null,"What actions have you taken to date to correct the reasons for low numbers?"]
[]
[]
[]
[]
[]
[]
[]
[]
[]
[]
[]
[]
[]
[]
[]
[]
[]
[null,"4.",null,null,"What actions do you plan to take in the future to correct these low numbers?"]
[]
[]
[]
[]
[]
[]
[]
[]
[]
[]
[]
[]
[]
[]
[]
[]
[]
[null,"5.",null,"Has your organization set up and maintained records reflecting the study and actions taken? If not, why?"]
[]
[]
[]
[]
[]
[]
[]
[]
[]
[]
[]
[]
[]
[null,null,null,null,null,null,null,null,null,null,null,null,null,null,null,null,null,null,null,null,null,null,null,null,null,null,null,null,null,null,null,null,null,null,null,null,null,null,null,null,null,null,null,null,null,null,null,null,null,null,null,null,null,null,null,null,null,null,null,null,null,null,null,null,null,null,null,null,null,null,null,null,null,null,null,null,null,null,null,null,null,null,null,null,null,null,null,null,null,null,null,null,null,null,null,null,null,null,null,null,null,null,null,null,null,null,null,null,null,null,null,null,null,null,null,null,null,null,null,null,null,null,null,null,null,null,null,null,null,null,null,null,null,null,null,null,null,null,null,null,null,null,null,null,null,null,null,null,null,null,null,null,null,null,null,null,null,null,null,null,null,null,null,null,null,null,null,null,null,null,"PAGE 3"]
[]
[]
[]
[]
[]
[]
[]
[]
[]
[]
[]
[]
[]
[]
[]
[]
[]
[]
[]
[]
[]
[]
[]
[]
[]
[]
[]
[]
[]
[]
[]
[]
[]
[]
[]
[]
[]
[]
[]
[]
[]
[]
[]
[]
[]
[]
[]
[]
[]
[]
[]
[]
[]
[]
[]
[]
[]
[]
[]
[]
[]
[]
[]
[]
[]
[]
[]
[]
[]
[]
[]
[]
[]
[]
[]
[]
[]
[]
[]
[]
[]
[]
[]
[]
[]
[]
[]
[]
[]
[]
[]
[]
[]
[]
[]
[]
[]
[]
[]
[]
[]
[]
[]
[]
[]
[]
[]
[]
[]
[]
[]
[]
[]
[]
[]
[]
[]
[]
[]
[]
[]
[]
[]
[]
[]
[]
[]
[]
[]
[]
[]
[]
[null,"END OF DOCUMENT"]

{"sheet":"E Data 3","index":15,"n_rows":603,"n_cols":27,"rows_kept":603,"cut":false,"hidden":true,"merged":[[543,1,543,3]]}
[null,null,null,null,null,null,null,"Hispanic or Latino 1","Not Hispanic or Latino 2","American Indian or Alaskan Native 3","Black or African American 4","Native Hawaiian or other Pacific Islander 5","White Alone 6","Other 7","Female 8","Male 9","0-19 10","20-24 11","25-44 12","45-64 13","65+ 14","No Disability 15","Disability 16","Total Population 17","Asian 18","Disability %","Disability Estimate"]
[1,{"$f":"VLOOKUP(D3,F2:H540,3,FALSE)","v":0},null,539,1,"001","Alameda County (Unincorporated)",48200,99716,346,12263,1316,39096,7448,60373,57962,28783,6944,33446,31347,17815,{"$f":"X2-W2","v":102988},15347,118335,38358,9.1,{"$f":"X2*0.09","v":10650.15}]
[2,{"$f":"VLOOKUP(D3,F2:I540,4,FALSE)","v":0},null,{"$f":"VLOOKUP(D2,E2:F540,2,FALSE)","v":0},2,"003","Alpine County (Unincorporated)",60,890,30,9,0,779,53,428,522,136,37,203,316,258,859,91,950,12,17.899999999999999,{"$f":"X3*0.09","v":85.5}]
[3,{"$f":"VLOOKUP(D3,F2:J540,5,FALSE)","v":0},null,{"$f":"VLOOKUP(D2,E2:G540,3,FALSE)","v":"Select a Jurisdiction"},3,"005","Amador County (Unincorporated)",1496,34460,169,96,41,10923,2067,6738,7048,2506,493,2495,4078,4214,10809,2977,13786,15,17.600000000000001,1240.74]
[4,{"$f":"VLOOKUP(D3,F2:K540,6,FALSE)","v":0},null,null,4,"007","Butte County (Unincorporated)",6673,42968,1166,451,80,34957,2243,24408,25233,11126,2287,10920,13547,11761,40108,9533,49641,2823,17.399999999999999,4467.6899999999996]
[5,{"$f":"VLOOKUP(D3,F2:L540,7,FALSE)","v":0},null,null,5,"009","Calaveras County (Unincorporated)",3546,23720,284,168,35,20899,1165,13161,13155,5264,1012,5298,7366,7376,21999,4317,26316,447,17.600000000000001,2368.44]
[6,{"$f":"VLOOKUP(D3,F2:M540,8,FALSE)","v":0},null,59,6,"011","Colusa County (Unincorporated)",3746,2019,33,56,11,1730,124,2824,2941,1800,347,1495,1336,787,5131,634,5765,39,12.5,518.85]
[7,{"$f":"VLOOKUP(D3,F2:N540,9,FALSE)","v":0},null,{"$f":"VLOOKUP(D7,E2:F59,2,FALSE)","v":{"$error":"#N/A"}},7,"013","Contra Costa County (Unincorporated)",45688,118857,390,9441,622,72856,1874,85229,82776,40909,9154,41388,47498,29056,149595,18410,168005,25383,10.199999999999999,15120.449999999999]
[8,{"$f":"VLOOKUP(D3,F2:O540,10,FALSE)","v":0},null,{"$f":"VLOOKUP(D7,E2:G545,3,FALSE)","v":"Adelanto city"},8,"015","Del Norte County (Unincorporated)",900,5497,2136,25,7,3874,504,3276,3121,1546,276,1426,1744,1405,4892,1505,6397,70,21.5,575.73]
[9,{"$f":"VLOOKUP(D3,F2:P540,11,FALSE)","v":0},null,null,9,"017","El Dorado County (Unincorporated)",12913,92513,561,1010,156,76631,5126,53878,51548,25911,4729,20662,31212,22912,93343,12083,105426,6861,11.5,9488.34]
[10,{"$f":"VLOOKUP(D3,F2:Q540,12,FALSE)","v":0},null,null,10,"019","Fresno County (Unincorporated)",299670,290533,4010,38326,794,146321,18082,23882,24214,13842,2916,11829,11409,8100,42175,5921,48096,79892,11.6,4328.6399999999994]
[11,{"$f":"VLOOKUP(D3,F2:R540,13,FALSE)","v":0},null,null,11,"021","Glenn County (Unincorporated)",2096,600,17,17,2,477,39,1292,1404,832,164,632,660,408,2273,423,2696,44,15.8,242.64]
[12,{"$f":"VLOOKUP(D3,F2:S540,14,FALSE)","v":0},null,null,12,"023","Humboldt County (Unincorporated)",5587,45094,4551,485,117,34390,4048,25725,24956,11922,2609,13913,12302,9935,41654,9027,50681,1139,15.7,4561.29]
[13,{"$f":"VLOOKUP(D3,F2:T540,15,FALSE)","v":0},null,null,13,"025","Imperial County (Unincorporated)",14813,2627,95,223,9,1937,233,8751,8689,5611,1230,4298,3954,2347,15268,2172,17440,95,13.1,1569.6]
[14,{"$f":"VLOOKUP(D3,F2:U540,16,FALSE)","v":0},null,null,14,"027","Inyo County (Unincorporated)",2663,9335,876,62,4,7578,613,5972,6026,2530,429,2601,3174,3264,10437,1561,11998,155,12.5,1079.82]
[15,{"$f":"VLOOKUP(D3,F2:W541,18,FALSE)","v":0},null,null,15,"029","Kern County (Unincorporated)",138079,126362,2012,8980,246,100923,9596,132514,131927,83214,17051,68955,60931,34290,229050,35391,264441,3401,11.8,23799.69]
[16,{"$f":"VLOOKUP(D3,F2:V541,17,FALSE)","v":0},null,null,16,"031","Kings County (Unincorporated)",8400,7117,69,1162,84,4449,720,7509,8008,5576,1894,4909,2143,995,14401,1116,15517,552,10.4,1396.53]
[17,{"$f":"VLOOKUP(D3,F2:X540,19,FALSE)","v":0},null,null,17,"033","Lake County (Unincorporated)",7058,25169,588,423,50,21300,2138,16008,16219,7168,1430,7327,8932,7370,26783,5444,32227,480,20.9,2900.43]
[18,{"$f":"VLOOKUP(D3,F2:Y540,20,FALSE)","v":0},null,null,18,"035","Lassen County (Unincorporated)",776,6768,153,74,9,5931,503,3571,3973,1632,340,1662,2221,1689,6152,1392,7544,58,17.3,678.95999999999992]
[null,null,null,null,19,"037","Los Angeles County (Unincorporated)",535420,361481,1724,68320,1426,140148,19676,464662,445556,229894,65218,246308,236982,131816,817443,92775,910218,125819,9.5,81919.62]
[null,null,null,null,20,"039","Madera County (Unincorporated)",19319,28835,907,536,34,24280,336,24272,23882,12590,2597,10588,11850,10529,40893,7261,48154,751,12.1,4333.8599999999997]
[null,"Enter a F/Y",null,null,21,"041","Marin County (Unincorporated)",5049,45763,80,1173,81,37693,3122,26432,24380,11527,1813,9443,15517,12512,46131,4681,50812,3260,8.9,4573.08]
[null,"2010-2011",null,null,22,"043","Mariposa County (Unincorporated)",1100,6416,157,38,6,5467,564,3720,3796,1392,315,1642,2185,1982,5900,1616,7516,129,18.5,676.43999999999994]
[null,"2011-2012",null,null,23,"045","Mendocino County (Unincorporated)",3969,11677,774,69,13,9539,878,7695,7951,3597,699,4015,3926,3409,13389,2257,15646,315,16.100000000000001,1408.1399999999999]
[null,"2012-2013",null,null,24,"047","Merced County (Unincorporated)",34299,16951,177,628,57,12128,1232,25471,25779,16937,3671,13368,11610,5664,44048,7202,51250,2572,15.5,4612.5]
[null,"2013-2014",null,null,25,"049","Modoc County (Unincorporated)",398,1839,131,13,5,1550,121,1117,1120,478,75,414,634,636,1828,409,2237,5,21.1,201.32999999999998]
[null,"2014-2015",null,null,26,"051","Mono County (Unincorporated)",1004,4451,163,22,12,3956,213,2619,2836,1119,204,1281,1596,1255,4909,546,5455,50,7.8,490.95]
[null,"2015-2016",null,null,27,"053","Monterey County (Unincorporated)",29814,22686,158,288,113,18488,1708,26084,26416,14239,3225,12539,12998,9499,47153,5347,52500,1594,8.4,4725]
[null,"2016-2017",null,null,28,"055","Napa County (Unincorporated)",1220,4056,10,115,15,3131,257,2789,2487,1019,575,1051,1299,1332,4723,553,5276,268,10.8,474.84]
[null,"2017-2018",null,null,29,"057","Nevada County (Unincorporated)",1686,18124,136,79,32,16371,1151,10232,9578,3683,670,3607,5306,6544,16647,3163,19810,269,13.4,1782.8999999999999]
[null,"2018-2019",null,null,30,"059","Orange County (Unincorporated)",17033,88065,148,951,135,64361,5996,53707,51391,29788,5678,22659,30726,16247,97020,8078,105098,16039,7.8,9458.82]
[null,"2019-2020",null,null,31,"061","Placer County (Unincorporated)",7928,46628,316,351,75,40207,1346,27541,27015,12325,2441,11522,15893,12375,48766,5790,54556,2412,10.7,4910.04]
[null,"2020-2021",null,null,32,"063","Plumas County (Unincorporated)",1277,13515,276,86,20,12149,777,7348,7444,2710,518,2888,4152,4524,12371,2421,14792,118,19.399999999999999,1331.28]
[null,"2021-2022",null,null,33,"065","Riverside County (Unincorporated)",160159,153373,1519,12535,590,109935,10892,157221,156311,88095,19690,77017,77409,51321,274332,39200,313532,16442,10.7,28217.879999999997]
[null,"2022-2023",null,null,34,"067","Sacramento County (Unincorporated)",129341,467104,3032,47830,5700,284041,40002,306040,290405,155685,37142,160814,145971,96833,524161,72284,596445,82803,12.7,53680.049999999996]
[null,"2023-2024",null,null,35,"069","San Benito County (Unincorporated)",2256,4107,13,42,8,3536,237,3213,3150,1298,300,1422,1809,1534,5681,682,6363,206,8.6999999999999993,572.66999999999996]
[null,"2024-2025",null,null,36,"071","San Bernardino County (Unincorporated)",73447,106204,1029,5334,484,86104,7150,88526,91125,46087,11517,44641,47237,30169,155161,24490,179651,5049,10.9,16168.59]
[null,"2025-2026",null,null,37,"073","San Diego County (Unincorporated)",112233,240992,2569,15097,1304,187229,17755,176252,176973,88264,28685,86390,87702,62184,314117,39108,353225,15109,9.4,31790.25]
[null,"2026-2027",null,null,38,"075","San Francisco County (Unincorporated)",0,0,0,0,0,0,0,0,0,0,0,0,0,0,0,0,null,null,10.6,0]
[null,null,null,null,39,"077","San Joaquin County (Unincorporated)",37701,50428,384,3698,343,25620,3612,44217,45548,27781,5232,25045,20609,11098,79091,9038,88129,16337,11.7,7931.61]
[null,null,null,null,40,"079","San Luis Obispo County (Unincorporated)",23293,60033,312,627,80,51892,3546,42471,40855,18588,8985,17266,19806,18681,73280,10046,83326,3075,10.8,7499.34]
[null,null,null,null,41,"081","San Mateo County (Unincorporated)",14538,31081,59,403,225,21665,2314,22850,22769,10787,2375,11295,13280,7882,42123,3496,45619,6169,7.8,4105.71]
[null,null,null,null,42,"083","Santa Barbara County (Unincorporated)",32064,91812,460,1758,245,71548,6288,63850,60026,30897,18517,24591,26267,23604,111419,12457,123876,10808,10,11148.84]
[null,null,null,null,43,"085","Santa Clara County (Unincorporated)",19613,43021,115,1606,331,24913,3174,30599,32035,11448,9665,21012,13184,7325,58360,4274,62634,12404,7.7,5637.0599999999995]
[null,null,null,null,44,"087","Santa Cruz County (Unincorporated)",28008,81974,366,745,126,70865,5821,55746,54236,22382,5770,26629,31470,23731,96820,13162,109982,3336,8.8000000000000007,9898.3799999999992]
[null,null,null,null,45,"089","Shasta County (Unincorporated)",3120,30458,918,107,46,26436,2188,16682,16896,7652,1300,6682,9618,8326,28243,5335,33578,598,17.899999999999999,3022.02]
[null,null,null,null,46,"091","Sierra County (Unincorporated)",203,1732,8,3,0,1577,123,927,1008,342,41,386,573,593,1622,313,1935,7,20.3,174.15]
[null,null,null,null,47,"093","Siskiyou County (Unincorporated)",638,4963,339,61,5,4021,385,2823,2778,1103,211,1041,1577,1669,4445,1156,5601,88,19.100000000000001,504.09]
[null,null,null,null,48,"095","Solano County (Unincorporated)",1093,4835,24,145,16,4030,357,3020,2908,1084,253,1154,1893,1544,5008,920,5928,229,10.9,533.52]
[null,null,null,null,49,"097","Sonoma County (Unincorporated)",13718,36257,289,461,129,30176,2390,25566,24409,10257,2566,12061,13353,11738,43459,6516,49975,2450,10.7,4497.75]
[null,null,null,null,50,"099","Stanislaus County (Unincorporated)",35755,24478,274,872,220,18652,2015,29624,30609,18391,4004,15648,14751,7439,52945,7288,60233,2216,13.1,5420.9699999999993]
[null,null,null,null,51,"101","Sutter County (Unincorporated)",960,3688,58,18,2,3208,3993,2297,2351,1204,241,1149,1300,754,3935,713,4648,53,13.6,418.32]
[null,null,null,null,52,"103","Tehama County (Unincorporated)",2436,7947,193,60,15,6818,655,5099,5284,2658,467,2335,2706,2217,8776,1607,10383,166,18.2,934.46999999999991]
[null,null,null,null,53,"105","Trinity County (Unincorporated)",814,13080,369,40,21,9646,854,6099,7795,2622,603,3467,3910,3292,11964,1930,13894,387,22.7,1250.46]
[null,null,null,null,54,"107","Tulare County (Unincorporated)",61456,12514,249,277,111,8402,822,36763,37207,26650,5432,18613,15429,7846,64994,8976,73970,2426,10.7,6657.3]
[null,null,null,null,55,"109","Tuolumne County (Unincorporated)",3186,26074,363,108,53,23228,1819,14879,14381,5623,1170,5735,7617,9115,23679,5581,29260,324,18.399999999999999,2633.4]
[null,null,null,null,56,"111","Ventura County (Unincorporated)",17813,39329,155,419,51,31959,2453,28914,28228,13771,3021,12830,16615,10905,50953,6189,57142,3985,9.9,5142.78]
[null,null,null,null,57,"113","Yolo County (Unincorporated)",6621,12615,164,543,168,8462,730,10224,9012,7642,3171,3394,2913,2116,17283,1953,19236,2485,10.3,1731.24]
[null,null,null,null,58,"115","Yuba County (Unincorporated)",17004,35138,619,1981,269,23541,3888,26019,26123,16919,3188,15071,11162,5802,45048,7094,52142,4541,16.5,4692.78]
[null,null,null,null,59,"00296","Adelanto city",24158,13888,854,7396,284,8455,5323,18155,19891,13478,2987,11369,7507,2705,33733,4313,38046,1049,"Adelanto city",3424.14]
[null,null,null,null,60,"00394","Agoura Hills city",2319,17980,66,262,17,15279,2167,10462,9837,4897,1102,4067,6208,4025,18327,1972,20299,1776,"Agoura Hills city",1826.9099999999999]
[null,null,null,null,61,"00562","Alameda city",9435,68845,441,4608,399,34102,10074,40952,37328,17107,3773,22215,21474,13711,70906,7374,78280,25412,"Alameda city",7045.2]
[null,null,null,null,62,"00674","Albany city",2665,17606,90,716,17,9446,2687,10614,9657,5580,1181,5805,4669,3036,19164,1107,20271,6184,"Albany city",1824.3899999999999]
[null,null,null,null,63,"00884","Alhambra city",29910,52958,1061,1537,91,11898,10749,43741,39127,15323,4997,25231,22016,15301,74181,8687,82868,42977,"Alhambra city",7458.12]
[null,null,null,null,64,"00947","Aliso Viejo city",9836,42340,232,1009,182,31290,7365,27324,24852,13026,3324,14679,15660,5487,48978,3198,52176,8642,"Aliso Viejo city",4695.84]
[null,null,null,null,65,"01444","Alturas city",415,2300,110,31,7,2117,252,1425,1290,717,129,665,667,537,{"$f":"X66-W66","v":2241},474,2715,36,"Alturas city",244.35]
[null,null,null,null,66,"01514","Amador city",21,179,4,1,0,162,26,104,96,33,10,56,43,58,188,12,200,1,"Amador City city",{"$f":"X67*0.09","v":18}]
[null,null,null,null,67,"01640","American Canyon city",6705,15132,227,1480,157,5313,3152,11196,10641,5986,1542,5361,6033,2915,19572,2265,21837,7774,"American Canyon city",1965.33]
[null,null,null,null,68,"02000","Anaheim city",186651,160173,6207,9253,1533,107740,58787,175747,171077,88131,26685,102097,85889,44022,315310,31514,346824,61539,"Anaheim city",31214.16]
[null,null,null,null,69,"02042","Anderson city",1587,9736,430,119,30,8588,1292,5969,5354,3155,585,2974,2565,2044,8837,2486,11323,339,"Anderson city",1019.0699999999999]
[null,null,null,null,70,"02112","Angels city",459,3208,77,27,7,2975,395,1935,1732,739,130,720,956,1122,2835,832,3667,46,"Angels city",330.03]
[null,null,null,null,71,"02252","Antioch city",41965,73326,1696,24057,1543,32703,16249,59181,56110,31398,8139,30797,29959,14998,98590,16701,115291,15015,"Antioch city",10376.19]
[null,null,null,null,72,"02364","Apple Valley town",28989,46802,1333,6311,275,41481,11369,39035,36756,21143,4439,18044,17898,14267,63476,12315,75791,2609,"Apple Valley town",6821.19]
[null,null,null,null,73,"02462","Arcadia city",7401,49280,233,959,46,11378,4135,29607,27074,12703,3263,13005,16532,11178,51419,5262,56681,36772,"Arcadia city",5101.29]
[null,null,null,null,74,"02476","Arcata city",3739,15118,558,523,46,13226,2366,9626,9231,3857,3850,5847,3092,2211,17067,1790,18857,501,"Arcata city",1697.1299999999999]
[null,null,null,null,75,"02868","Arroyo Grande city",3646,14795,160,181,15,13595,2567,9696,8745,3985,876,4107,4795,4678,15767,2674,18441,708,"Arroyo Grande city",1659.6899999999998]
[null,null,null,null,76,"02896","Artesia city",5825,10570,161,652,67,3509,1838,8236,8159,3504,1098,4440,4392,2961,14595,1800,16395,6921,"Artesia city",1475.55]
[null,null,null,null,77,"02924","Arvin city",18317,1178,397,178,6,5069,3569,9800,9695,7750,1580,5214,3579,1372,18428,1067,19495,123,"Arvin city",1754.55]
[null,null,null,null,78,"03064","Atascadero city",5850,23923,361,462,38,21947,4161,15212,14561,6814,1386,7949,7556,6068,26458,3315,29773,910,"Atascadero city",2679.5699999999997]
[null,null,null,null,79,"03092","Atherton town",484,6704,14,100,45,4844,624,3690,3498,1801,620,919,2001,1847,6623,565,7188,1411,"Atherton town",646.91999999999996]
[null,null,null,null,80,"03162","Atwater city",19042,12928,972,1094,81,12984,6132,16323,15647,10356,2068,8547,6902,4097,27854,4116,31970,1779,"Atwater city",2877.2999999999997]
[null,null,null,null,81,"03204","Auburn city",1693,12083,154,123,17,11065,1501,7293,6483,2657,676,2982,3803,3658,12144,1632,13776,317,"Auburn city",1239.8399999999999]
[null,null,null,null,82,"03274","Avalon city",1903,1557,46,30,11,1699,508,1797,1663,834,200,859,984,583,3365,95,3460,33,"Avalon city",311.39999999999998]
[null,null,null,null,83,"03302","Avenal city",11545,2151,254,125,15,3216,1678,4565,9131,3578,879,4937,3589,713,12824,872,13696,92,"Avenal city",1232.6399999999999]
[null,null,null,null,84,"03386","Azusa city",32020,17980,1314,1752,74,13800,10053,25742,24258,12795,5216,14172,12030,5787,45578,4422,50000,7384,"Azusa city",4500]
[null,null,null,null,85,"03526","Bakersfield city",212822,190633,2153,26402,505,178069,66956,206326,197129,128211,28309,113784,86939,46212,363431,40024,403455,null,"Bakersfield city",36310.949999999997]
[null,null,null,null,86,"03666","Baldwin Park city",53683,18493,92,609,44,17992,13524,36616,35560,18522,5630,19952,18429,9643,64913,7263,72176,null,"Baldwin Park city",6495.84]
[null,null,null,null,87,"03820","Banning city",13427,16078,316,2112,26,15232,4017,15528,13977,6824,1482,6444,6477,8278,23067,6438,29505,null,"Banning city",2655.45]
[null,null,null,null,88,"04030","Barstow city",11295,14120,305,4684,312,12786,4247,13080,12335,8605,1763,6693,5303,3051,21442,3973,25415,null,"Barstow city",2287.35]
[null,null,null,null,89,"04758","Beaumont city",22546,30490,309,4167,95,28387,8586,27286,25750,15802,3001,14260,11709,8264,47947,5089,53036,null,"Beaumont city",4773.24]
[null,null,null,null,90,"04870","Bell city",31392,2167,35,124,15,1996,7515,16978,16581,9994,2696,9649,7844,3376,30539,3020,33559,null,"Bell city",3020.31]
[null,null,null,null,91,"04996","Bell Gardens city",37994,1507,98,220,19,1383,7682,19851,38419,11961,3355,11443,9078,3664,32218,7283,39501,null,"Bell Gardens city",3555.0899999999997]
[null,null,null,null,92,"04982","Bellflower city",45250,33940,183,10131,531,31891,13184,40771,19650,20832,5850,23147,19829,9532,76554,2636,79190,null,"Bellflower city",7127.0999999999995]
[null,null,null,null,93,"05108","Belmont city",3523,24812,22,348,132,22704,3542,14427,13908,6753,1307,8214,7490,4571,26170,2165,28335,null,"Belmont city",2550.15]
[null,null,null,null,94,"05164","Belvedere city",109,2017,5,17,0,1943,148,1147,979,499,62,238,613,714,2013,113,2126,null,"Belvedere city",191.34]
[null,null,null,null,95,"05290","Benicia city",4008,23123,62,1327,101,20896,4042,14250,12881,5988,1289,6021,7961,5872,24171,2960,27131,null,"Benicia city",2441.79]
[null,null,null,null,96,"06000","Berkeley city",17018,107303,226,9495,253,98234,14580,63408,60913,25452,21960,34722,23261,18926,112672,11649,124321,null,"Berkeley city",11188.89]
[null,null,null,null,97,"06308","Beverly Hills city",2218,30483,13,662,11,28706,2857,17674,15027,6262,1870,8016,8867,7686,29500,3201,32701,null,"Beverly Hills city",2943.0899999999997]
[null,null,null,null,98,"06434","Big Bear Lake city",1205,3841,21,46,6,3617,616,2451,2595,913,183,1065,1525,1360,4497,549,5046,null,"Big Bear Lake city",454.14]
[null,null,null,null,99,"06560","Biggs city",778,1186,31,19,0,1114,201,998,966,601,119,464,509,271,1513,451,1964,null,"Biggs city",176.76]
[null,null,null,null,100,"06798","Bishop city",1146,2673,83,8,0,2483,521,1932,1887,832,176,1057,1009,745,2976,843,3819,null,"Bishop city",343.71]
[null,null,null,null,101,"07162","Blue Lake city",96,1112,53,5,2,1023,122,649,559,241,50,333,338,246,1026,182,1208,null,"Blue Lake city",108.72]
[null,null,null,null,102,"07218","Blythe city",10873,7444,158,2007,21,6932,2017,6134,12183,3765,1345,6648,4870,1689,16233,2084,18317,null,"Blythe city",1648.53]
[null,null,null,null,103,"07946","Bradbury city",184,737,1,17,0,707,109,465,456,168,55,184,306,208,853,68,921,null,"Bradbury city",82.89]
[null,null,null,null,104,"08058","Brawley city",22750,3666,28,303,11,3426,7050,13686,12730,8646,1656,6861,5794,3459,22440,3976,26416,null,"Brawley city",2377.44]
[null,null,null,null,105,"08100","Brea city",12972,34353,101,784,54,32507,6609,24482,22843,11084,2828,13007,12582,7824,43682,3643,47325,null,"Brea city",4259.25]
[null,null,null,null,106,"08142","Brentwood city",17121,47171,161,4230,289,42957,10229,33228,31064,18723,3685,14860,16598,10426,56443,7849,64292,null,"Brentwood city",5786.28]
[null,null,null,null,107,"08310","Brisbane city",868,3983,10,88,24,3653,690,2435,2416,979,194,1422,1465,791,4438,413,4851,null,"Brisbane city",436.59]
[null,null,null,null,108,"08758","Buellton city",1676,3485,28,30,5,3252,893,2608,2553,1340,206,1261,1442,912,4604,557,5161,null,"Buellton city",464.49]
[null,null,null,null,109,"08786","Buena Park city",34330,49704,174,2504,373,47226,11340,42889,41145,20315,5938,23695,22256,11830,75585,8449,84034,null,"Buena Park city",7563.0599999999995]
[null,null,null,null,110,"08954","Burbank city",25961,81376,222,2891,98,76461,14624,55671,51666,21024,6126,33839,28823,17525,95812,11525,107337,null,"Burbank city",9660.33]
[null,null,null,null,111,"09066","Burlingame city",4263,27123,20,284,105,25147,3658,16239,15147,7641,1135,9219,8312,5079,29383,2003,31386,null,"Burlingame city",2824.74]
[null,null,null,null,112,"09598","Calabasas city",1954,21287,31,515,12,20087,1200,12020,11221,5541,1561,4551,7077,4511,21425,1816,23241,null,"Calabasas city",2091.69]
[null,null,null,null,113,"09710","Calexico city",37548,1085,6,43,4,1002,83,20599,18034,11203,2738,9014,9526,6152,33217,5416,38633,null,"Calexico city",3476.97]
[null,null,null,null,114,"09780","California city",5494,9479,85,3385,46,8590,889,6466,8507,3959,1090,4655,3463,1806,12672,2301,14973,null,"California city",1347.57]
[null,null,null,null,115,"09864","Calimesa city",2894,7132,52,167,12,6701,431,5139,4887,2189,432,2263,2641,2501,8648,1378,10026,null,"Calimesa city",902.33999999999992]
[null,null,null,null,116,"09878","Calipatria city",4960,1555,36,969,13,1492,63,1861,4654,1340,544,3052,1172,407,6193,322,6515,null,"Calipatria city",586.35]
[null,null,null,null,117,"09892","Calistoga city",2698,2530,9,23,3,2415,115,2727,2501,1186,268,1175,1344,1255,4403,825,5228,null,"Calistoga city",470.52]
[null,null,null,null,118,"10046","Camarillo city",19356,51385,131,1524,160,47607,3778,36755,33986,16053,4065,17016,18307,15300,63143,7598,70741,null,"Camarillo city",6366.69]
[null,null,null,null,119,"10345","Campbell city",8424,35535,90,1022,132,32856,2679,22398,21561,9531,2099,14082,11840,6407,40188,3771,43959,null,"Campbell city",3956.31]
[null,null,null,null,120,"10928","Canyon Lake city",1668,9414,45,199,15,8852,562,5626,5456,2506,529,2462,3274,2311,9893,1189,11082,null,"Canyon Lake city",997.38]
[null,null,null,null,121,"11040","Capitola city",2227,7711,31,103,5,7138,573,5306,4632,1644,491,2641,2786,2376,8516,1422,9938,null,"Capitola city",894.42]
[null,null,null,null,122,"11194","Carlsbad city",17302,97444,259,1231,196,90515,6929,59009,55737,27633,5689,26379,33305,21740,104909,9837,114746,null,"Carlsbad city",10327.14]
[null,null,null,null,123,"11250","Carmel-by-the-Sea city",192,3028,11,13,2,2939,89,1776,1444,370,77,374,911,1488,2633,587,3220,null,"Carmel-by-the-Sea city",289.8]
[null,null,null,null,124,"11446","Carpinteria city",6473,6791,36,73,8,6359,432,6886,6378,2979,704,3202,3548,2831,12016,1248,13264,null,"Carpinteria city",1193.76]
[null,null,null,null,125,"11530","Carson city",37643,57915,185,21264,1585,55098,2817,50038,45520,20577,6644,23775,26424,18138,84341,11217,95558,null,"Carson city",8600.2199999999993]
[null,null,null,null,126,"12048","Cathedral city",30893,20600,268,1108,53,19386,1214,24615,26878,12475,3265,11989,13986,9778,44773,6720,51493,null,"Cathedral city",4634.37]
[null,null,null,null,127,"12524","Ceres city",31624,17678,204,897,334,16291,1387,24634,24668,15896,3597,13691,10879,5239,43383,5919,49302,null,"Ceres city",4437.1799999999994]
[null,null,null,null,128,"12552","Cerritos city",7092,42486,61,3155,191,40797,1689,25830,23748,9973,2854,10923,13543,12285,45231,4347,49578,null,"Cerritos city",4462.0199999999995]
[null,null,null,null,129,"13014","Chico city",20638,80837,938,1822,320,74414,6423,52293,49182,24369,13433,27588,20086,15999,{"$f":"X130-W130","v":88603},12872,101475,null,"Chico city",9132.75]
[null,null,null,null,130,"13210","Chino city",46841,44562,256,5212,102,42124,2438,45731,45672,22757,6073,27176,23687,11710,85358,6045,91403,null,"Chino city",{"$f":"X131*0.09","v":8226.27}]
[null,null,null,null,131,"13214","Chino Hills city",22084,56327,126,3116,125,53626,2701,39936,38475,19166,5496,20150,23503,10096,72238,6173,78411,null,"Chino Hills city",7056.99]
[null,null,null,null,132,"13294","Chowchilla city",9054,9985,182,1817,33,9383,602,9507,9532,4437,1352,6210,5065,1975,17988,1051,19039,null,"Chowchilla city",1713.51]
[null,null,null,null,133,"13392","Chula Vista city",164698,110789,488,12703,1140,100067,10722,141917,133570,75527,19306,75712,69131,35811,249872,25615,275487,null,"Chula Vista city",24793.829999999998]
[null,null,null,null,134,"13588","Citrus Heights city",17176,70407,516,3191,403,64601,5806,45237,42346,19867,5563,25201,21129,15823,73627,13956,87583,null,"Citrus Heights city",7882.4699999999993]
[null,null,null,null,135,"13756","Claremont city",9416,27850,90,1783,49,25631,2219,20023,17243,9095,5040,7123,8676,7332,33204,4062,37266,null,"Claremont city",3353.94]
[null,null,null,null,136,"13882","Clayton city",1242,9828,17,172,14,9044,784,5786,5284,2566,547,1928,3573,2456,10164,906,11070,null,"Clayton city",996.3]
[null,null,null,null,137,"13945","Clearlake city",5406,11279,292,551,23,10257,1022,8220,8465,4587,903,4200,4139,2856,12990,3695,16685,null,"Clearlake city",1501.6499999999999]
[null,null,null,null,138,"14190","Cloverdale city",3470,5526,86,58,16,5136,390,4545,4451,2103,489,2290,2233,1881,7745,1251,8996,null,"Cloverdale city",809.64]
[null,null,null,null,139,"14218","Clovis city",36594,83530,738,2993,270,77730,5800,62239,57885,34742,7568,32423,27677,17714,107441,12683,120124,null,"Clovis city",10811.16]
[null,null,null,null,140,"14260","Coachella city",40421,1520,83,136,10,1371,149,21095,20846,15154,3457,12046,8206,3078,38095,3846,41941,null,"Coachella city",3774.69]
[null,null,null,null,141,"14274","Coalinga city",11243,6347,112,665,26,5996,351,6608,10982,4352,1320,6246,4132,1540,15521,2069,17590,null,"Coalinga city",1583.1]
[null,null,null,null,142,"14498","Colfax city",210,1785,33,10,5,1637,148,1014,981,468,130,539,500,358,1669,326,1995,null,"Colfax city",179.54999999999998]
[null,null,null,null,143,"14736","Colma town",621,886,4,50,3,819,67,740,767,328,90,378,430,281,1374,133,1507,null,"Colma town",135.63]
[null,null,null,null,144,"14890","Colton city",39779,14130,163,4439,116,13095,1035,27437,26472,15939,4257,15980,12180,5553,46858,7051,53909,null,"Colton city",4851.8099999999995]
[null,null,null,null,145,"14946","Colusa city",3757,2654,65,58,34,2441,213,3222,3189,1947,341,1638,1493,992,5528,883,6411,null,"Colusa city",576.99]
[null,null,null,null,146,"14974","Commerce city",11690,688,38,88,3,629,59,6317,6061,3216,946,3454,2968,1794,10677,1701,12378,null,"Commerce city",1114.02]
[null,null,null,null,147,"15044","Compton city",67791,27949,132,24342,544,26679,1270,49213,46527,29570,7688,27101,21903,9478,86117,9623,95740,null,"Compton city",8616.6]
[null,null,null,null,148,"16000","Concord city",38953,86457,295,4532,644,78894,7563,63465,61945,28656,6911,36705,32736,20402,109586,15824,125410,null,"Concord city",11286.9]
[null,null,null,null,149,"16224","Corcoran city",15538,6801,194,2853,32,6514,287,6890,15449,4853,1464,8686,5599,1737,20568,1771,22339,null,"Corcoran city",2010.51]
[null,null,null,null,150,"16322","Corning city",4487,3757,105,18,11,3479,278,4222,4022,2740,526,2206,1748,1024,7331,913,8244,null,"Corning city",741.95999999999992]
[null,null,null,null,151,"16350","Corona city",73102,84034,461,8136,509,78270,5764,79625,77511,42832,11480,42539,42243,18042,144122,13014,157136,null,"Corona city",14142.24]
[null,null,null,null,152,"16378","Coronado city",3406,16786,53,607,41,15702,1084,9696,10496,4726,2457,4177,4586,4246,18293,1899,20192,null,"Coronado city",1817.28]
[null,null,null,null,153,"16462","Corte Madera town",1092,9130,8,72,14,8426,704,5336,4886,2829,360,2027,3148,1858,9442,780,10222,null,"Corte Madera town",919.98]
[null,null,null,null,154,"16532","Costa Mesa city",40795,71123,232,1306,412,66192,4931,55633,56285,23948,7841,39164,26910,14055,102506,9412,111918,null,"Costa Mesa city",10072.619999999999]
[null,null,null,null,155,"16560","Cotati city",1720,5864,43,103,20,5384,480,3973,3611,1655,502,2190,2037,1200,6717,867,7584,null,"Cotati city",682.56]
[null,null,null,null,156,"16742","Covina city",30108,21160,156,1748,87,19881,1279,26648,24620,12168,3574,14235,13893,7398,45667,5601,51268,null,"Covina city",4614.12]
[null,null,null,null,157,"17022","Crescent city",2181,4492,298,723,4,4162,330,2059,4614,1065,482,2992,1462,672,5828,845,6673,null,"Crescent city",600.56999999999994]
[null,null,null,null,158,"17498","Cudahy city",21872,939,37,167,26,852,87,11582,11229,7263,1991,6650,5112,1795,20966,1845,22811,null,"Cudahy city",2052.9899999999998]
[null,null,null,null,159,"17568","Culver city",8732,32047,47,3143,92,29037,3010,21458,19321,8242,1830,12885,10459,7363,37355,3424,40779,null,"Culver city",3670.1099999999997]
[null,null,null,null,160,"17610","Cupertino city",2330,58051,53,360,21,56098,1953,30333,30048,16032,3065,14728,17342,9214,57036,3345,60381,null,"Cupertino city",5434.29]
[null,null,null,null,161,"17750","Cypress city",10689,39462,85,1522,251,37160,2302,26113,24038,12083,3183,12285,14203,8397,45390,4761,50151,null,"Cypress city",4513.59]
[null,null,null,null,162,"17918","Daly city",25237,79664,980,2531,764,15009,9411,53024,51877,20260,7261,32096,27188,18096,95187,9714,104901,60281,"Daly city",9441.09]
[null,null,null,null,163,"17946","Dana Point city",6294,26813,196,284,35,24719,4428,17057,16050,5756,1712,7134,10390,8115,29997,3110,33107,1341,"Dana Point city",2979.63]
[null,null,null,null,164,"17988","Danville town",3952,39630,104,401,49,30864,4788,22522,21060,11755,1988,7405,13870,8564,40277,3305,43582,6615,"Danville town",3922.3799999999997]
[null,null,null,null,165,"18100","Davis city",11343,55507,473,1651,111,36581,8401,35370,31480,13926,15399,16067,12186,9272,61454,5396,66850,14770,"Davis city",6016.5]
[null,null,null,null,166,"18506","Del Mar city",274,3680,9,22,4,3352,356,2000,1954,569,156,794,1236,1199,3612,342,3954,152,"Del Mar city",355.86]
[null,null,null,null,167,"18688","Del Rey Oaks city",244,1348,14,29,6,1141,212,824,768,244,62,390,479,417,1390,202,1592,128,"Del Rey Oaks city",143.28]
[null,null,null,null,168,"18394","Delano city",38453,12975,1040,2774,54,7184,7206,21813,29615,14979,4201,16797,10860,4591,48749,2679,51428,7476,"Delano city",4628.5199999999995]
[null,null,null,null,169,"18996","Desert Hot Springs city",19887,12625,783,2636,59,11115,5520,16281,16231,10132,2207,8910,7363,3900,28707,3805,32512,785,"Desert Hot Springs city",2926.08]
[null,null,null,null,170,"19192","Diamond Bar city",10803,44269,314,1799,89,10161,5641,28319,26753,11512,3567,13278,16309,10406,50337,4735,55072,32855,"Diamond Bar city",4956.4799999999996]
[null,null,null,null,171,"19318","Dinuba city",21599,2964,446,131,32,5868,6799,12389,12174,8854,1757,6733,4783,2436,22577,1986,24563,537,"Dinuba city",2210.67]
[null,null,null,null,172,"19402","Dixon city",8302,10686,307,590,94,9776,3152,9635,9353,5176,1191,5138,4829,2654,16804,2184,18988,685,"Dixon city",1708.9199999999998]
[null,null,null,null,173,"19584","Dorris city",339,521,15,3,0,495,147,428,432,249,44,208,206,153,755,105,860,18,"Dorris city",77.399999999999991]
[null,null,null,null,174,"19612","Dos Palos city",4184,1614,2,0,1,104,35,2950,2848,1904,404,1526,1266,698,5238,560,5798,4,"Dos Palos city",521.81999999999994]
[null,null,null,null,175,"19766","Downey city",85866,28489,2357,4265,310,26731,27282,58677,55678,28653,8422,33086,29015,15179,104743,9612,114355,7652,"Downey city",10291.949999999999]
[null,null,null,null,176,"19990","Duarte city",10436,11291,382,1202,33,6689,3632,11554,10173,4342,1280,5459,5894,4752,18991,2736,21727,4591,"Duarte city",1955.4299999999998]
[null,null,null,null,177,"20018","Dublin city",8351,64238,517,2876,221,21105,6151,37852,34737,20464,3143,25870,17140,5972,69060,3529,72589,39077,"Dublin city",6533.0099999999993]
[null,null,null,null,178,"20242","Dunsmuir city",202,1505,30,18,1,1404,178,845,862,323,92,380,471,441,1445,262,1707,23,"Dunsmuir city",153.63]
[null,null,null,null,179,"20956","East Palo Alto city",19964,10070,682,3287,2084,3574,4396,14852,15182,8588,2522,9913,6472,2539,27587,2447,30034,1596,"East Palo Alto city",2703.06]
[null,null,null,null,180,"21712","El Cajon city",31271,74944,1156,7164,506,61728,14992,53912,52303,28683,7069,29907,25562,14994,92861,13354,106215,5254,"El Cajon city",9559.35]
[null,null,null,null,181,"21782","El Centro city",38566,5756,854,890,36,11677,13076,23239,21083,13130,3036,11224,10413,6519,37295,7027,44322,802,"El Centro city",3988.98]
[null,null,null,null,182,"21796","El Cerrito city",3075,22887,118,1426,56,11982,3226,13350,12612,5028,1117,7698,6826,5293,23498,2464,25962,7738,"El Cerrito city",2336.58]
[null,null,null,null,183,"22230","El Monte city",70819,38631,2398,903,63,13958,16762,55113,54337,28281,8245,30084,27574,15266,97573,11877,109450,33198,"El Monte city",9850.5]
[null,null,null,null,184,"22300","El Paso de Robles (Paso Robles) city",11958,19532,507,538,82,19204,4975,16231,15259,8395,1643,8031,7680,5741,27633,3857,31490,745,"El Paso de Robles (Paso Robles) city",2834.1]
[null,null,null,null,185,"22412","El Segundo city",2976,14296,111,415,62,11377,2615,8655,8617,3910,955,5300,4874,2233,15703,1569,17272,1839,"El Segundo city",1554.48]
[null,null,null,null,186,"22020","Elk Grove city",33392,142732,1404,17854,2560,57371,24374,90913,85211,49978,10863,43727,47171,24385,159433,16691,176124,58982,"Elk Grove city",15851.16]
[null,null,null,null,187,"22594","Emeryville city",1435,11470,76,2015,54,4796,1382,6627,6278,1508,924,6441,2524,1508,11927,978,12905,3965,"Emeryville city",1161.45]
[null,null,null,null,188,"22678","Encinitas city",9357,52650,384,328,88,47906,7229,31629,30378,13569,2725,15760,17414,12539,56842,5165,62007,2708,"Encinitas city",5580.63]
[null,null,null,null,189,"22790","Escalon city",2330,5142,76,37,6,4960,1090,3827,3645,2014,425,1914,1859,1260,6814,658,7472,133,"Escalon city",672.48]
[null,null,null,null,190,"22804","Escondido city",78226,72812,2708,3602,394,63249,25294,76672,74366,40626,10890,42238,36361,20923,134850,16188,151038,11974,"Escondido city",13593.42]
[null,null,null,null,191,"22972","Etna city",39,639,24,3,3,560,77,352,326,156,28,150,166,178,524,154,678,8,"Etna city",61.019999999999996]
[null,null,null,null,192,"23042","Eureka city",4014,22498,1136,542,235,18056,3279,13275,13237,5699,1644,8302,6147,4720,21398,5114,26512,1489,"Eureka city",2386.08]
[null,null,null,null,193,"23126","Exeter city",5287,5034,295,65,17,5604,1486,5322,4999,3104,688,2695,2279,1555,{"$f":"X194-W194","v":8859},1462,10321,148,"Exeter city",928.89]
[null,null,null,null,194,"23168","Fairfax town",878,6727,56,94,20,5998,855,3931,3674,1558,255,1493,2539,1760,6871,734,7605,233,"Fairfax town",{"$f":"X195*0.09","v":684.44999999999993}]
[null,null,null,null,195,"23182","Fairfield city",36723,83158,1568,17866,1301,38910,18240,60872,59009,32330,8260,33367,29480,16444,106199,13682,119881,22447,"Fairfield city",10789.289999999999]
[null,null,null,null,196,"23616","Farmersville city",9142,1255,419,44,0,2659,1772,5249,5148,3773,767,2761,2130,966,8992,1405,10397,58,"Farmersville city",935.73]
[null,null,null,null,197,"23910","Ferndale city",115,1283,19,5,0,1195,130,735,663,288,79,281,344,406,1112,286,1398,17,"Ferndale city",125.82]
[null,null,null,null,198,"24092","Fillmore city",12593,3826,392,117,14,5537,3639,8321,8098,4946,1109,4520,3818,2026,13882,2537,16419,258,"Fillmore city",1477.71]
[null,null,null,null,199,"24134","Firebaugh city",7486,610,98,45,7,2115,2577,4003,4093,2829,635,2091,1779,762,7564,532,8096,32,"Firebaugh city",728.64]
[null,null,null,null,200,"24638","Folsom city",10503,69951,408,3415,206,47247,8950,38922,41532,19778,4036,21859,23178,11603,74824,5630,80454,15881,"Folsom city",7240.86]
[null,null,null,null,201,"24680","Fontana city",141269,67124,4541,18756,563,49777,37754,105612,102781,63502,16415,58430,50563,19483,189478,18915,208393,17631,"Fontana city",18755.37]
[null,null,null,null,202,"25058","Fort Bragg city",2235,4748,205,49,11,4359,1113,3620,3363,1611,327,1699,1762,1584,5370,1613,6983,112,"Fort Bragg city",628.47]
[null,null,null,null,203,"25128","Fort Jones city",92,603,36,4,0,491,126,370,325,171,29,180,181,134,563,132,695,14,"Fort Jones city",62.55]
[null,null,null,null,204,"25296","Fortuna city",2590,9926,464,86,15,9009,1552,6429,6087,3214,703,3108,2937,2554,10112,2404,12516,156,"Fortuna city",1126.44]
[null,null,null,null,205,"25338","Foster city",2421,31384,76,514,196,11166,2806,17195,16610,7825,1237,10806,8073,5864,31637,2168,33805,18074,"Foster City city",3042.45]
[null,null,null,null,206,"25380","Fountain Valley city",8837,48210,288,573,135,23895,5789,29378,27669,12008,3523,12860,16288,12368,51288,5759,57047,22703,"Fountain Valley city",5134.2299999999996]
[null,null,null,null,207,"25436","Fowler city",4446,2254,140,103,4,2038,1075,3403,3297,2064,429,1800,1573,834,5538,1162,6700,911,"Fowler city",603]
[null,null,null,null,208,"26000","Fremont city",29016,201488,1353,5362,1045,42480,17569,115219,115285,58688,11419,71726,58605,30066,214653,15851,230504,147465,"Fremont city",20745.36]
[null,null,null,null,209,"27000","Fresno city",273771,268336,13015,40972,994,179727,82442,275163,266944,166201,41289,155076,112194,67347,467536,74571,542107,79670,"Fresno city",48789.63]
[null,null,null,null,210,"28000","Fullerton city",54225,89392,1799,3284,349,52164,21438,73410,70207,34642,12477,39945,35990,20563,131198,12419,143617,38382,"Fullerton city",12925.529999999999]
[null,null,null,null,211,"28112","Galt city",11588,13795,439,494,94,12871,4662,13006,12377,7305,1636,6548,6353,3541,22364,3019,25383,1042,"Galt city",2284.4699999999998]
[null,null,null,null,212,"29000","Garden Grove city",64102,107847,1993,1778,846,37604,20782,87126,84823,40704,12513,45013,48445,25274,153370,18579,171949,72962,"Garden Grove city",15475.41]
[null,null,null,null,213,"28168","Gardena city",24503,36524,752,13290,413,7284,7285,31805,29222,12906,3821,17081,16509,10710,53939,7088,61027,16167,"Gardena city",5492.4299999999994]
[null,null,null,null,214,"29504","Gilroy city",33650,25870,1557,1352,210,20836,11608,30028,29492,17697,4011,15536,14974,7302,54702,4818,59520,6313,"Gilroy city",5356.8]
[null,null,null,null,215,"30000","Glendale city",33575,162968,1101,3573,145,128248,17735,102908,93635,36461,11251,58679,52435,37717,169437,27106,196543,29870,"Glendale city",17688.87]
[null,null,null,null,216,"30014","Glendora city",19017,33541,587,1146,50,27823,9175,27034,25524,11951,3246,12879,14975,9507,47033,5525,52558,6844,"Glendora city",4730.22]
[null,null,null,null,217,"30378","Goleta city",11552,21138,489,512,25,16987,5568,16169,16521,7181,2705,9177,8189,5438,29957,2733,32690,3958,"Goleta city",2942.1]
[null,null,null,null,218,"30392","Gonzales city",7945,702,488,49,12,1392,1892,4270,4377,2962,731,2410,1801,743,8319,328,8647,171,"Gonzales city",778.23]
[null,null,null,null,219,"30658","Grand Terrace city",6297,6853,229,908,50,5847,2224,6817,6333,3175,907,3679,3164,2225,11787,1363,13150,850,"Grand Terrace city",1183.5]
[null,null,null,null,220,"30798","Grass Valley city",1728,12288,195,89,17,11308,1525,7737,6279,2718,691,3301,3031,4275,11469,2547,14016,233,"Grass Valley city",1261.44]
[null,null,null,null,221,"30994","Greenfield city",17804,1133,1692,98,25,2651,5051,9381,9556,7299,1392,5620,3356,1270,18235,702,18937,216,"Greenfield city",1704.33]
[null,null,null,null,222,"31260","Gridley city",3633,3788,135,62,9,3705,1109,3783,3638,2160,454,1946,1692,1169,5844,1577,7421,286,"Gridley city",667.89]
[null,null,null,null,223,"31393","Grover Beach city",3979,8722,196,168,23,8099,2167,6511,6190,2665,692,3503,3541,2300,10807,1894,12701,536,"Grover Beach city",1143.0899999999999]
[null,null,null,null,224,"31414","Guadalupe city",7098,959,366,49,15,2205,1659,4032,4025,2793,592,2268,1609,795,7447,610,8057,251,"Guadalupe city",725.13]
[null,null,null,null,225,"31568","Gustine city",3811,2299,111,39,11,2721,948,3093,3017,1847,376,1486,1421,980,4750,1360,6110,93,"Gustine city",549.9]
[null,null,null,null,226,"31708","Half Moon Bay city",3504,8291,92,81,16,7371,1847,6182,5613,2445,556,2510,3460,2824,10502,1293,11795,726,"Half Moon Bay city",1061.55]
[null,null,null,null,227,"31960","Hanford city",30763,27227,1140,2746,125,26410,10502,29561,28429,17795,3845,16381,12429,7540,50685,7305,57990,2475,"Hanford city",5219.0999999999995]
[null,null,null,null,228,"32506","Hawaiian Gardens city",10858,3291,377,590,49,2114,2205,7124,7025,4042,1123,4024,3335,1625,13108,1041,14149,1758,"Hawaiian Gardens city",1273.4099999999999]
[null,null,null,null,229,"32548","Hawthorne city",47310,40773,1726,21323,733,14176,13643,45552,42531,23088,6106,28266,21504,9119,80169,7914,88083,6746,"Hawthorne city",7927.4699999999993]
[null,null,null,null,230,"33000","Hayward city",67079,95875,2562,14693,5104,27955,20987,82628,80326,39122,11711,51121,39760,21240,148137,14817,162954,48315,"Hayward city",14665.859999999999]
[null,null,null,null,231,"33056","Healdsburg city",3925,7415,227,65,12,7194,1599,5823,5517,2404,562,2647,3073,2654,10069,1271,11340,169,"Healdsburg city",1020.5999999999999]
[null,null,null,null,232,"33182","Hemet city",40796,49037,1759,8767,406,41311,13689,46998,42835,23499,5182,20371,20285,20496,73376,16457,89833,3116,"Hemet city",8084.9699999999993]
[null,null,null,null,233,"33308","Hercules city",4320,21696,155,4181,142,4221,2887,13523,12493,5492,1403,7012,7337,4772,23925,2091,26016,12191,"Hercules city",2341.44]
[null,null,null,null,234,"33364","Hermosa Beach city",2064,17664,59,205,22,15116,2433,9628,10100,3789,835,6719,5749,2636,18684,1044,19728,1401,"Hermosa Beach city",1775.52]
[null,null,null,null,235,"33434","Hesperia city",58648,41170,1934,5638,247,40190,15582,50413,49405,31665,6964,26374,22654,12161,88930,10888,99818,2399,"Hesperia city",8983.619999999999]
[null,null,null,null,236,"33518","Hidden Hills city",117,1608,3,33,0,1421,137,904,821,439,128,236,549,373,1506,219,1725,75,"Hidden Hills city",155.25]
[null,null,null,null,237,"33588","Highland city",31624,25375,1030,5320,157,19412,9121,29170,27829,17368,4248,15118,13860,6405,51326,5673,56999,4733,"Highland city",5129.91]
[null,null,null,null,238,"33798","Hillsborough town",531,10856,4,43,29,6304,918,5783,5604,3083,552,1624,3500,2628,10780,607,11387,3946,"Hillsborough town",1024.83]
[null,null,null,null,239,"34120","Hollister city",28727,12951,1173,428,122,15055,7567,21082,20596,12834,2886,11735,9835,4388,37837,3841,41678,1691,"Hollister city",3751.02]
[null,null,null,null,240,"34246","Holtville city",4763,842,72,32,2,1719,1489,2909,2696,1671,333,1351,1311,939,4674,931,5605,38,"Holtville city",504.45]
[null,null,null,null,241,"34904","Hughson city",3367,4114,138,55,8,4274,1370,3819,3662,2303,460,1932,1673,1113,6711,770,7481,122,"Hughson city",673.29]
[null,null,null,null,242,"36000","Huntington Beach city",39457,159254,1293,2291,603,126591,25898,101302,97409,40006,11766,50973,57692,38274,178665,20046,198711,26346,"Huntington Beach city",17883.989999999998]
[null,null,null,null,243,"36056","Huntington Park city",52986,1897,1556,458,37,7959,10988,27730,27153,15779,4395,15855,12992,5862,50284,4599,54883,377,"Huntington Park city",4939.47]
[null,null,null,null,244,"36084","Huron city",5937,269,123,39,0,891,1095,3046,3160,2405,432,1655,1246,468,5537,669,6206,48,"Huron city",558.54]
[null,null,null,null,245,"36294","Imperial Beach city",13369,12768,322,975,148,11342,5482,13014,13123,6547,1918,8284,6142,3246,23344,2793,26137,1627,"Imperial Beach city",2352.33]
[null,null,null,null,246,"36280","Imperial city",16757,3506,334,354,19,5774,6290,10426,9837,6818,1190,6041,4394,1820,18531,1732,20263,579,"Imperial city",1823.6699999999998]
[null,null,null,null,247,"36434","Indian Wells city",310,4447,19,38,5,4195,254,2554,2203,344,75,307,1116,2915,4018,739,4757,131,"Indian Wells city",428.13]
[null,null,null,null,248,"36448","Indio city",61606,27531,16,4,2,279,229,45620,43517,25140,5659,22537,19908,15893,78415,10722,89137,6,"Indio city",8022.33]
[null,null,null,null,249,"36490","Industry city",130,134,0,9,0,119,44,145,119,52,9,55,54,94,248,16,264,37,"Industry city",23.759999999999998]
[null,null,null,null,250,"36546","Inglewood city",55677,52085,2197,41708,356,10271,14491,57073,50689,25815,7511,31538,27716,15182,94171,13591,107762,2248,"Inglewood city",9698.58]
[null,null,null,null,251,"36672","Ione city",874,4267,99,117,0,3908,576,2500,2641,1190,251,1208,1353,1139,3988,1153,5141,85,"Ione city",462.69]
[null,null,null,null,252,"36770","Irvine city",35855,271815,829,6972,397,115957,29762,157048,150622,78022,30494,94601,70667,33886,292866,14804,307670,140443,"Irvine city",27690.3]
[null,null,null,null,253,"36826","Irwindale city",1336,136,80,31,5,370,363,751,721,393,113,389,380,197,1339,133,1472,52,"Irwindale city",132.47999999999999]
[null,null,null,null,254,"36882","Isleton city",347,447,17,13,1,375,127,406,388,191,50,178,243,132,697,97,794,39,"Isleton city",71.459999999999994]
[null,null,null,null,255,"36980","Jackson city",818,4201,121,44,8,3906,576,2707,2312,1056,216,1051,1169,1527,3862,1157,5019,106,"Jackson city",451.71]
[null,null,null,null,256,"38226","Kerman city",12522,3494,380,99,12,4039,3162,8144,7872,5659,1132,4441,3125,1659,14375,1641,16016,1223,"Kerman city",1441.44]
[null,null,null,null,257,"38520","King city",11936,1396,708,57,22,3019,2457,6482,6850,4927,973,4037,2437,958,{"$f":"X258-W258","v":12483},849,13332,269,"King City city",1199.8799999999999]
[null,null,null,null,258,"38562","Kingsburg city",5974,6406,179,65,14,6875,2154,6424,5956,3554,769,3132,2886,2039,11151,1229,12380,422,"Kingsburg city",{"$f":"X259*0.09","v":1114.2}]
[null,null,null,null,259,"39003","La Cañada Flintridge city",1717,18856,45,135,2,11487,2053,10431,10142,5431,1115,3398,6405,4224,19523,1050,20573,6446,"La Cañada Flintridge city",1851.57]
[null,null,null,null,260,"39290","La Habra city",37439,25658,1086,1187,96,22098,13017,32373,30724,15824,4367,17756,16246,8904,61277,1820,63097,7995,"La Habra city",5678.73]
[null,null,null,null,261,"39304","La Habra Heights city",1813,3869,46,47,5,2812,971,2897,2785,1093,322,1164,1744,1359,3666,2016,5682,1161,"La Habra Heights city",511.38]
[null,null,null,null,262,"40004","La Mesa city",15686,45435,615,4217,344,36355,9678,31890,29231,12804,3857,19481,14695,10284,58112,3009,61121,4106,"La Mesa city",5500.8899999999994]
[null,null,null,null,263,"40032","La Mirada city",20652,27356,642,1106,110,17667,9263,24962,23046,10195,4200,11242,12961,9410,42506,5502,48008,10992,"La Mirada city",4320.72]
[null,null,null,null,264,"40256","La Palma city",2939,12642,90,800,89,3920,1608,8072,7509,3260,978,3748,4424,3171,11060,4521,15581,7912,"La Palma city",1402.29]
[null,null,null,null,265,"40340","La Puente city",31080,6982,791,466,59,6360,7384,19316,18746,9859,2871,10657,9738,4937,31619,6443,38062,4956,"La Puente city",3425.58]
[null,null,null,null,266,"40354","La Quinta city",12852,24706,341,716,62,23537,5086,19660,17898,7178,1810,6977,10257,11336,37248,310,37558,1548,"La Quinta city",3380.22]
[null,null,null,null,267,"40830","La Verne city",11185,20149,333,976,62,17330,5412,16492,14842,6702,1819,6834,8621,7358,25852,5482,31334,3498,"La Verne city",2820.06]
[null,null,null,null,268,"39122","Lafayette city",2075,23316,58,180,28,18489,2973,12968,12423,6693,1003,4911,7390,5394,19401,5990,25391,3201,"Lafayette city",2285.19]
[null,null,null,null,269,"39178","Laguna Beach city",2155,20877,62,184,25,18898,2293,11585,11447,3833,1089,4298,7760,6052,22252,780,23032,988,"Laguna Beach city",2072.88]
[null,null,null,null,270,"39220","Laguna Hills city",7489,23885,205,454,55,18181,4329,16190,15184,6803,1854,7624,8985,6108,24075,7299,31374,4779,"Laguna Hills city",2823.66]
[null,null,null,null,271,"39248","Laguna Niguel city",10510,53845,300,814,83,44835,8092,33175,31180,13168,3696,13868,20034,13589,57464,6891,64355,6395,"Laguna Niguel city",5791.95]
[null,null,null,null,272,"39259","Laguna Woods city",939,16705,36,158,12,12498,903,10993,6651,109,28,266,2733,14508,13335,4309,17644,3817,"Laguna Woods city",1587.96]
[null,null,null,null,273,"39486","Lake Elsinore city",35854,34411,1081,4804,321,27767,13258,35530,34735,22131,4794,20231,16561,6548,55559,14706,70265,5224,"Lake Elsinore city",6323.8499999999995]
[null,null,null,null,274,"39496","Lake Forest city",21945,63913,890,1434,179,44637,12463,43570,42288,20293,5175,23843,24094,12453,84282,1576,85858,16861,"Lake Forest city",7727.2199999999993]
[null,null,null,null,275,"39710","Lakeport city",934,4092,131,59,9,3752,557,2646,2380,1047,198,1120,1321,1340,1305,3721,5026,130,"Lakeport city",452.34]
[null,null,null,null,276,"39892","Lakewood city",29482,53014,887,6846,726,30991,14297,42459,40037,19335,5364,22757,22654,12386,77658,4838,82496,15567,"Lakewood city",7424.6399999999994]
[null,null,null,null,277,"40130","Lancaster city",78338,95178,2874,37032,326,56614,27225,87986,85530,52415,12527,48326,40729,19519,172455,1061,173516,8129,"Lancaster city",15616.439999999999]
[null,null,null,null,278,"40438","Larkspur city",1450,11614,78,193,15,9848,1424,7027,6037,2621,478,2631,3966,3368,10239,2825,13064,820,"Larkspur city",1175.76]
[null,null,null,null,279,"40704","Lathrop city",11389,17312,352,2178,382,6958,4036,14507,14194,9147,1840,8164,6753,2797,24545,4156,28701,8691,"Lathrop city",2583.0899999999997]
[null,null,null,null,280,"40886","Lawndale city",20018,11789,811,2695,198,6757,5552,16050,15757,7950,2345,9963,8265,3284,28965,2842,31807,3306,"Lawndale city",2862.63]
[null,null,null,null,281,"41124","Lemon Grove city",12850,14777,377,3337,278,9760,5083,14236,13391,6755,1929,7863,6765,4315,24126,3501,27627,2476,"Lemon Grove city",2486.4299999999998]
[null,null,null,null,282,"41152","Lemoore city",12971,14067,566,1664,115,11221,4649,13651,13387,8386,2205,8211,5546,2690,24228,2810,27038,2340,"Lemoore city",2433.42]
[null,null,null,null,283,"41474","Lincoln city",10037,39720,420,882,149,34973,6416,26165,23592,12533,2005,10603,10462,14154,43553,6204,49757,3158,"Lincoln city",4478.13]
[null,null,null,null,284,"41712","Lindsay city",11267,1392,230,59,17,3246,2090,6454,6205,4782,991,3255,2440,1191,11072,1587,12659,204,"Lindsay city",1139.31]
[null,null,null,null,285,"41936","Live Oak city",4508,4598,176,138,42,3368,1373,4631,4475,2882,571,2388,2040,1225,7921,1185,9106,1250,"Live Oak city",819.54]
[null,null,null,null,286,"41992","Livermore city",18978,68977,731,1739,242,52469,12392,44383,43572,21575,4583,23823,25177,12797,80317,7638,87955,12819,"Livermore city",7915.95]
[null,null,null,null,287,"42006","Livingston city",9936,4236,551,125,21,2232,2393,7118,7054,4483,1003,3961,3181,1544,12360,1812,14172,3013,"Livingston city",1275.48]
[null,null,null,null,288,"42202","Lodi city",25949,40399,827,872,146,34387,9072,34095,32253,18322,3958,17767,14971,11330,58232,8116,66348,6354,"Lodi city",5971.32]
[null,null,null,null,289,"42370","Loma Linda city",6908,17883,222,2456,81,8626,3320,13144,11647,5383,1805,8126,5246,4231,21681,3110,24791,6962,"Loma Linda city",2231.19]
[null,null,null,null,290,"42468","Lomita city",7691,13230,251,1209,156,8637,3321,10946,9975,4416,1113,5839,5874,3679,18876,2045,20921,3524,"Lomita city",1882.8899999999999]
[null,null,null,null,291,"42524","Lompoc city",25472,18972,1147,2007,112,18848,9306,21178,23266,12129,2935,12657,10861,5862,39365,5079,44444,1756,"Lompoc city",3999.96]
[null,null,null,null,292,"43000","Long Beach city",201997,264745,7002,58334,4330,149347,67237,238224,228518,108010,34229,146741,116752,61010,420230,46512,466742,60874,"Long Beach city",42006.78]
[null,null,null,null,293,"43140","Loomis town",808,6028,87,33,3,5521,720,3467,3369,1821,364,1435,1969,1247,6396,440,6836,236,"Loomis town",615.24]
[null,null,null,null,294,"43224","Los Alamitos city",3026,8754,110,386,74,6275,1834,6167,5613,3088,731,2990,3074,1897,10924,856,11780,2097,"Los Alamitos city",1060.2]
[null,null,null,null,295,"43280","Los Altos city",1538,30087,43,188,44,16958,2758,16216,15409,8299,1316,5385,9852,6773,29857,1768,31625,11176,"Los Altos city",2846.25]
[null,null,null,null,296,"43294","Los Altos Hills town",334,8155,10,22,23,4817,651,4331,4158,1822,481,1165,2675,2346,8054,435,8489,2863,"Los Altos Hills town",764.01]
[null,null,null,null,297,"44000","Los Angeles city",1829991,2068756,66491,336096,5960,1359068,518313,1973072,1925675,853008,294799,1275226,946475,529239,3492361,406386,3898747,462643,"Los Angeles city",350887.23]
[null,null,null,null,298,"44028","Los Banos city",33611,11921,1275,1134,334,14199,8822,22984,22548,15680,3227,11728,9983,4914,40817,4715,45532,1510,"Los Banos city",4097.88]
[null,null,null,null,299,"44112","Los Gatos town",3017,30512,102,315,27,22569,3476,17352,16177,8393,1406,6633,10457,6640,30611,2918,33529,6153,"Los Gatos town",3017.6099999999997]
[null,null,null,null,300,"44364","Loyalton city",127,613,9,4,1,601,80,367,373,162,24,160,183,211,614,126,740,0,"Loyalton city",66.599999999999994]
[null,null,null,null,301,"44574","Lynwood city",59427,7838,2050,5533,222,8971,12083,34728,32537,19731,5544,20171,15528,6291,61970,5295,67265,450,"Lynwood city",6053.8499999999995]
[null,null,null,null,302,"45022","Madera city",53471,12753,4554,1750,66,17063,12292,33196,33028,23936,4779,18660,12450,6399,58566,7658,66224,1834,"Madera city",5960.16]
[null,null,null,null,303,"45246","Malibu city",833,9821,21,150,9,8974,918,5412,5242,1848,691,1821,3446,2848,9368,1286,10654,345,"Malibu city",958.86]
[null,null,null,null,304,"45358","Mammoth Lakes town",2395,4796,95,35,13,4775,897,3295,3896,1665,390,2471,1872,793,6890,301,7191,104,"Mammoth Lakes town",647.18999999999994]
[null,null,null,null,305,"45400","Manhattan Beach city",3072,32434,56,332,34,26141,4200,18045,17461,9103,1690,7591,10808,6314,33522,1984,35506,4045,"Manhattan Beach city",3195.54]
[null,null,null,null,306,"45484","Manteca city",33892,49606,1476,3778,689,35386,13001,42506,40992,23344,5237,21854,20455,12608,73491,10007,83498,12016,"Manteca city",7514.82]
[null,null,null,null,307,"45736","Maricopa city",303,723,28,15,3,686,112,498,528,274,68,233,275,176,668,358,1026,7,"Maricopa city",92.34]
[null,null,null,null,308,"45778","Marina city",7204,15155,304,1356,507,8441,3737,11746,10613,6178,1540,6051,5317,3273,19656,2703,22359,4221,"Marina city",2012.31]
[null,null,null,null,309,"46114","Martinez city",6670,30617,264,1390,117,24191,5447,19113,18174,7918,1808,9950,10784,6827,32564,4723,37287,3828,"Martinez city",3355.83]
[null,null,null,null,310,"46170","Marysville city",3771,9073,330,628,58,7547,1765,6433,6411,3390,971,3851,2817,1815,10847,1997,12844,539,"Marysville city",1155.96]
[null,null,null,null,311,"46492","Maywood city",24400,738,704,148,12,3296,5472,12555,12583,7529,2042,7356,5766,2445,23357,1781,25138,104,"Maywood city",2262.42]
[null,null,null,null,312,"44826","McFarland city",13451,710,650,95,7,2637,3474,7097,7064,5404,1111,4039,2642,965,13715,446,14161,130,"McFarland city",1274.49]
[null,null,null,null,313,"46828","Mendota city",12169,426,262,29,2,2528,3309,5963,6632,4960,1003,3547,2258,827,11945,650,12595,29,"Mendota city",1133.55]
[null,null,null,null,314,"46842","Menifee city",38749,63778,1310,6941,502,53478,16778,52915,49612,26751,5623,25575,24683,19895,88852,13675,102527,6629,"Menifee city",9227.43]
[null,null,null,null,315,"46870","Menlo Park city",5989,27791,232,1063,367,19344,3793,17282,16498,8458,1751,9899,8446,5226,31110,2670,33780,5822,"Menlo Park city",3040.2]
[null,null,null,null,316,"46898","Merced city",48617,37716,2193,4662,218,30915,15346,44003,42330,27860,7724,23786,16991,9972,74888,11445,86333,9624,"Merced city",7769.9699999999993]
[null,null,null,null,317,"47710","Mill Valley city",859,13372,31,137,13,11621,1311,7581,6650,3512,460,2338,4565,3356,13166,1065,14231,860,"Mill Valley city",1280.79]
[null,null,null,null,318,"47486","Millbrae city",2621,20595,87,172,230,7340,2079,11886,11330,5023,1128,5981,6444,4640,21042,2174,23216,12238,"Millbrae city",2089.44]
[null,null,null,null,319,"47766","Milpitas city",10586,69687,503,1691,336,9085,5068,39114,41159,18490,4319,28623,19034,9807,75363,4910,80273,57537,"Milpitas city",7224.57]
[null,null,null,null,320,"48256","Mission Viejo city",17986,75667,468,1224,165,61570,12968,48241,45412,19779,5345,20642,27800,20087,84282,9371,93653,11033,"Mission Viejo city",8428.77]
[null,null,null,null,321,"48354","Modesto city",93733,124731,4130,8975,2481,101805,32879,112198,106266,60354,13692,59337,51496,33585,{"$f":"X322-W322","v":187800},30664,218464,17728,"Modesto city",19661.759999999998]
[null,null,null,null,322,"48648","Monrovia city",14987,22944,461,2126,53,15677,6259,19831,18100,8180,2152,11023,10598,5978,34553,3378,37931,6333,"Monrovia city",{"$f":"X323*0.09","v":3413.79}]
[null,null,null,null,323,"48690","Montague city",135,1091,50,8,0,1002,139,643,583,283,72,290,324,257,923,303,1226,4,"Montague city",110.33999999999999]
[null,null,null,null,324,"48788","Montclair city",27222,10643,953,1652,65,7741,6956,19121,18744,10477,2910,11152,8932,4394,32966,4899,37865,4366,"Montclair city",3407.85]
[null,null,null,null,325,"48956","Monte Sereno city",230,3249,9,26,3,2354,361,1757,1722,788,197,438,1209,847,3145,334,3479,682,"Monte Sereno city",313.11]
[null,null,null,null,326,"48816","Montebello city",49014,13626,1400,614,82,13346,12934,32485,30155,14947,4403,17676,15333,10281,54635,8005,62640,8005,"Montebello city",5637.5999999999995]
[null,null,null,null,327,"48872","Monterey city",5618,24600,312,957,222,20352,3757,14873,15345,5151,3546,9176,6322,6023,27903,2315,30218,2399,"Monterey city",2719.62]
[null,null,null,null,328,"48914","Monterey Park city",16768,44328,525,411,56,5134,5986,31772,29324,11719,3551,16006,16791,13029,54984,6112,61096,40734,"Monterey Park city",5498.6399999999994]
[null,null,null,null,329,"49138","Moorpark city",12061,24223,366,621,40,20980,5804,18495,17789,9480,2214,9236,10174,5180,32864,3420,36284,3241,"Moorpark city",3265.56]
[null,null,null,null,330,"49187","Moraga town",1652,15218,42,211,42,10877,2089,8762,8108,4735,1614,2491,4647,3383,15438,1432,16870,3182,"Moraga town",1518.3]
[null,null,null,null,331,"49270","Moreno Valley city",128168,80466,3992,33158,1155,46908,36198,106583,102051,63889,16967,59092,47623,21063,188623,20011,208634,12566,"Moreno Valley city",18777.059999999998]
[null,null,null,null,332,"49278","Morgan Hill city",15044,30439,653,994,188,22588,7040,23276,22207,12190,2494,11166,12789,6844,41579,3904,45483,6728,"Morgan Hill city",4093.47]
[null,null,null,null,333,"49362","Morro Bay city",1788,8969,73,84,22,8428,1151,5609,5148,1604,422,2192,3007,3532,9123,1634,10757,322,"Morro Bay city",968.13]
[null,null,null,null,334,"49852","Mount Shasta city",284,2939,28,48,4,2669,345,1687,1536,608,122,668,883,942,2819,404,3223,52,"Mount Shasta city",290.07]
[null,null,null,null,335,"49670","Mountain View city",14206,68170,667,1227,229,34895,9381,39656,42720,17056,4333,33251,17997,9739,76946,5430,82376,28891,"Mountain View city",7413.84]
[null,null,null,null,336,"50076","Murrieta city",33925,77024,1185,6711,521,59134,19187,56957,53992,32085,7422,28434,27722,15286,99268,11681,110949,11566,"Murrieta city",9985.41]
[null,null,null,null,337,"50258","Napa city",31572,47674,1260,634,143,46173,12764,40487,38759,18146,4211,21339,20884,14666,70081,9165,79246,2082,"Napa city",7132.1399999999994]
[null,null,null,null,338,"50398","National city",37086,19087,957,2239,335,11149,12337,29122,27051,14645,4371,15399,13705,8053,49136,7037,56173,11094,"National city",5055.57]
[null,null,null,null,339,"50734","Needles city",1255,3676,445,121,12,3322,556,2494,2437,1222,228,1056,1395,1030,3402,1529,4931,60,"Needles city",443.78999999999996]
[null,null,null,null,340,"50874","Nevada City city",268,2884,55,26,4,2684,265,1544,1608,470,132,754,869,927,2846,306,3152,53,"Nevada City city",283.68]
[null,null,null,null,341,"50916","Newark city",14360,33169,560,1584,693,10762,5812,23605,23924,10848,2668,15801,11884,6328,43094,4435,47529,19801,"Newark city",4277.6099999999997]
[null,null,null,null,342,"51140","Newman city",8407,3944,260,370,57,4405,2473,6253,6098,4147,796,3338,2674,1396,10987,1364,12351,263,"Newman city",1111.5899999999999]
[null,null,null,null,343,"51182","Newport Beach city",8190,77049,259,671,94,66616,7741,43597,41642,15512,4652,20056,24464,20555,77981,7258,85239,7531,"Newport Beach city",7671.5099999999993]
[null,null,null,null,344,"51560","Norco city",9494,16822,311,1603,45,14702,3453,11250,15066,5382,1750,7487,7769,3928,23797,2519,26316,904,"Norco city",2368.44]
[null,null,null,null,345,"52526","Norwalk city",73548,29225,2426,4178,451,20680,21673,52499,50274,25563,7761,29443,25893,14113,92196,10577,102773,14038,"Norwalk city",9249.57]
[null,null,null,null,346,"52582","Novato city",13615,39610,961,1435,108,32509,7147,27643,25582,12132,2504,11793,15029,11767,47665,5560,53225,3966,"Novato city",4790.25]
[null,null,null,null,347,"52694","Oakdale city",7055,16126,302,206,94,15555,3101,11961,11220,6633,1324,6001,5423,3800,20919,2262,23181,553,"Oakdale city",2086.29]
[null,null,null,null,348,"53000","Oakland city",126843,313803,8530,93820,2884,132297,51805,226138,214508,93006,24267,157549,104290,61534,394541,46105,440646,70806,"Oakland city",39658.14]
[null,null,null,null,349,"53070","Oakley city",15928,27429,448,3627,303,19917,7635,22106,21251,12824,2660,12147,10948,4778,38736,4621,43357,4107,"Oakley city",3902.1299999999997]
[null,null,null,null,350,"53322","Oceanside city",63316,110752,2466,7076,2110,89605,28218,88881,85187,38850,12130,48073,44378,30637,152469,21599,174068,13261,"Oceanside city",15666.119999999999]
[null,null,null,null,351,"53476","Ojai city",1465,6172,78,34,8,5872,880,4129,3508,1488,316,1592,2167,2074,6612,1025,7637,231,"Ojai city",687.32999999999993]
[null,null,null,null,352,"53896","Ontario city",119928,55337,4184,11045,549,42332,34249,89030,86235,48172,13152,53649,41718,18574,158952,16313,175265,16243,"Ontario city",15773.849999999999]
[null,null,null,null,353,"53980","Orange city",57575,82336,1765,2442,388,65071,22871,70549,69362,33392,11505,39614,34981,20419,128394,11517,139911,18392,"Orange city",12591.99]
[null,null,null,null,354,"54008","Orange Cove city",9159,490,143,51,9,2201,1852,4882,4767,3765,779,2483,1806,816,8890,759,9649,73,"Orange Cove city",868.41]
[null,null,null,null,355,"54232","Orinda city",1285,18229,31,196,20,13423,2161,9928,9586,5281,703,3301,5672,4557,17918,1596,19514,3401,"Orinda city",1756.26]
[null,null,null,null,356,"54274","Orland city",4443,3855,262,49,11,3863,1251,4281,4017,2529,562,2122,1838,1247,7321,977,8298,176,"Orland city",746.81999999999994]
[null,null,null,null,357,"54386","Oroville city",3267,16775,698,749,58,12608,2639,10102,9940,5628,1336,5582,4407,3089,15989,4053,20042,1956,"Oroville city",1803.78]
[null,null,null,null,358,"54652","Oxnard city",150984,51079,6678,4819,585,50086,44412,101248,100815,58747,15243,57625,46151,24297,182366,19697,202063,15497,"Oxnard city",18185.669999999998]
[null,null,null,null,359,"54848","Pacific Grove city",2146,12944,105,170,37,11168,1900,8061,7029,2902,619,3286,3956,4327,13259,1831,15090,1017,"Pacific Grove city",1358.1]
[null,null,null,null,360,"54806","Pacifica city",7363,31277,307,738,286,20488,6011,19616,19024,8100,1823,10639,11000,7078,35077,3563,38640,8385,"Pacifica city",3477.6]
[null,null,null,null,361,"55184","Palm Desert city",13315,37848,424,1022,71,35139,5906,27354,23809,7865,2081,9644,12769,18804,43150,8013,51163,2440,"Palm Desert city",4604.67]
[null,null,null,null,362,"55254","Palm Springs city",11054,33521,520,1940,68,29711,4522,17526,27049,4830,1447,7527,15558,15213,36524,8051,44575,2086,"Palm Springs city",4011.75]
[null,null,null,null,363,"55156","Palmdale city",104742,64708,3584,23080,361,45040,29324,86803,82647,52612,13090,44231,41721,17796,150966,18484,169450,7419,"Palmdale city",15250.5]
[null,null,null,null,364,"55282","Palo Alto city",5091,63481,141,1225,157,34191,6481,34855,33717,16368,3433,17001,18300,13470,63387,5185,68572,24317,"Palo Alto city",6171.48]
[null,null,null,null,365,"55380","Palos Verdes Estates city",1003,12344,31,170,7,8820,1389,6917,6430,3023,662,1643,4254,3765,12110,1237,13347,2723,"Palos Verdes Estates city",1201.23]
[null,null,null,null,366,"55520","Paradise town",419,4345,46,17,7,4075,451,2369,2395,764,150,885,1468,1497,808,3956,4764,68,"Paradise town",428.76]
[null,null,null,null,367,"55618","Paramount city",43620,10113,1421,5148,253,7971,11025,27577,26156,15680,4464,15735,12701,5153,49561,4172,53733,1831,"Paramount city",4835.97]
[null,null,null,null,368,"55856","Parlier city",14227,349,240,41,4,2914,3417,7201,7375,5416,1122,3932,2865,1241,13376,1200,14576,66,"Parlier city",1311.84]
[null,null,null,null,369,"56000","Pasadena city",45742,92957,1883,11272,156,57835,20979,71674,67025,25298,8235,45309,35595,24262,125294,13405,138699,24550,"Pasadena city",12482.91]
[null,null,null,null,370,"56112","Patterson city",14961,8820,544,1685,331,6970,3831,11951,11830,7677,1682,6443,5441,2538,22279,1502,23781,1550,"Patterson city",2140.29]
[null,null,null,null,371,"56700","Perris city",59571,19129,1729,8242,273,14816,14666,39732,38968,27390,6397,22517,16600,5796,72003,6697,78700,2912,"Perris city",7083]
[null,null,null,null,372,"56784","Petaluma city",13606,46170,747,836,165,40717,7945,30980,28796,13566,2878,14730,16651,11951,54147,5629,59776,2857,"Petaluma city",5379.84]
[null,null,null,null,373,"56924","Pico Rivera city",56249,5839,1650,509,67,13234,16671,31833,30255,14883,4566,17023,15772,9844,56236,5852,62088,2251,"Pico Rivera city",5587.92]
[null,null,null,null,374,"56938","Piedmont city",729,10541,10,126,13,7218,1459,5739,5531,3277,474,1760,3377,2382,10406,864,11270,2267,"Piedmont city",1014.3]
[null,null,null,null,375,"57288","Pinole city",5093,13929,216,2099,83,6267,2613,9961,9061,3774,1052,4943,5185,4068,16633,2389,19022,4887,"Pinole city",1711.98]
[null,null,null,null,376,"57414","Pismo Beach city",978,7094,79,68,10,6542,756,4197,3875,1127,265,1661,2370,2649,7073,999,8072,324,"Pismo Beach city",726.48]
[null,null,null,null,377,"57456","Pittsburg city",32300,44116,1098,12865,880,15893,10957,39207,37209,20611,5272,22126,18821,9586,67138,9278,76416,15069,"Pittsburg city",6877.44]
[null,null,null,null,378,"57526","Placentia city",19691,32133,569,1026,82,22486,8494,26597,25227,12990,3629,13277,13537,8391,47712,4112,51824,10121,"Placentia city",4664.16]
[null,null,null,null,379,"57540","Placerville city",2015,8732,158,77,13,8202,1231,5698,5049,2364,527,2699,2573,2584,9399,1348,10747,119,"Placerville city",967.23]
[null,null,null,null,380,"57764","Pleasant Hill city",4957,29656,201,921,110,21825,4643,17920,16693,7484,1776,9450,9281,6622,30986,3627,34613,5329,"Pleasant Hill city",3115.17]
[null,null,null,null,381,"57792","Pleasanton city",7882,71989,300,1396,120,36046,7545,40828,39043,21155,3847,19297,23164,12408,73897,5974,79871,31636,"Pleasanton city",7188.3899999999994]
[null,null,null,null,382,"57834","Plymouth city",263,815,28,7,6,755,154,548,530,243,46,240,298,251,993,85,1078,13,"Plymouth city",97.02]
[null,null,null,null,383,"57876","Point Arena city",141,319,34,2,1,281,66,226,234,113,22,92,129,104,384,76,460,0,"Point Arena city",41.4]
[null,null,null,null,384,"58072","Pomona city",108044,43669,3499,8741,315,31901,28404,76523,75190,41018,12962,43383,36640,17710,135342,16371,151713,16255,"Pomona city",13654.17]
[null,null,null,null,385,"58296","Port Hueneme city",12645,9309,625,864,144,8317,4516,11082,10872,5691,1764,6395,4845,3259,{"$f":"X386-W386","v":19722},2232,21954,1286,"Port Hueneme city",1975.86]
[null,null,null,null,386,"58240","Porterville city",43542,19081,1536,566,142,23427,11158,31759,30864,22120,4528,16256,12586,7133,56081,6542,62623,2771,"Porterville city",{"$f":"X387*0.09","v":5636.07}]
[null,null,null,null,387,"58352","Portola city",402,1698,38,9,14,1627,265,1073,1027,523,95,531,526,425,1777,323,2100,21,"Portola city",189]
[null,null,null,null,388,"58380","Portola Valley town",230,4226,4,11,0,3585,452,2294,2162,948,192,533,1337,1446,3853,603,4456,347,"Portola Valley town",401.03999999999996]
[null,null,null,null,389,"58520","Poway city",9017,39824,305,725,119,30591,6831,24791,24050,12423,2587,11242,13744,8845,44211,4630,48841,6738,"Poway city",4395.6899999999996]
[null,null,null,null,390,"59444","Rancho Cordova city",17119,62213,920,7388,900,38685,10671,40487,38845,21505,4811,24202,18599,10215,68674,10658,79332,12403,"Rancho Cordova city",7139.88]
[null,null,null,null,391,"59451","Rancho Cucamonga city",65261,109192,1954,16089,486,74323,29466,89440,85013,44179,11219,47905,47075,24075,158246,16207,174453,25809,"Rancho Cucamonga city",15700.769999999999]
[null,null,null,null,392,"59500","Rancho Mirage city",2260,14739,81,321,28,13445,1318,8422,8577,1479,346,1603,4640,8931,13201,3798,16999,754,"Rancho Mirage city",1529.9099999999999]
[null,null,null,null,393,"59514","Rancho Palos Verdes city",4535,37752,124,1125,43,21488,4799,21881,20406,9367,2005,6871,13065,10979,38527,3760,42287,13513,"Rancho Palos Verdes city",3805.83]
[null,null,null,null,394,"59587","Rancho Santa Margarita city",10297,37652,278,829,106,30163,7341,24632,23317,12245,2909,12099,15230,5466,44124,3825,47949,5836,"Rancho Santa Margarita city",4315.41]
[null,null,null,null,395,"59892","Red Bluff city",3597,11113,555,159,37,10239,1788,7651,7059,4243,956,3857,3164,2490,11799,2911,14710,230,"Red Bluff city",1323.8999999999999]
[null,null,null,null,396,"59920","Redding city",10490,83121,2214,1395,216,72057,10298,48401,45210,22410,5718,24035,21662,19786,78097,15514,93611,4161,"Redding city",8424.99]
[null,null,null,null,397,"59962","Redlands city",25746,47422,866,3705,207,38969,11835,38405,34763,18460,5040,19424,17260,12984,65055,8113,73168,7063,"Redlands city",6585.12]
[null,null,null,null,398,"60018","Redondo Beach city",12497,59079,421,2230,202,44398,10388,35556,36020,15766,2980,21687,20631,10512,67618,3958,71576,10257,"Redondo Beach city",6441.84]
[null,null,null,null,399,"60102","Redwood city",30104,54188,1330,1531,669,37487,11840,42046,42246,18885,4888,28390,21162,10967,78447,5845,84292,13693,"Redwood City city",7586.28]
[null,null,null,null,400,"60242","Reedley city",19966,5261,400,121,6,7422,5516,12802,12425,8201,1920,6367,5383,3356,22428,2799,25227,747,"Reedley city",2270.4299999999998]
[null,null,null,null,401,"60466","Rialto city",77345,26681,2699,12358,385,21864,19190,53329,50697,31896,8290,28917,23796,11127,94716,9310,104026,2698,"Rialto city",9362.34]
[null,null,null,null,402,"60620","Richmond city",51912,64536,2395,22254,652,23452,15235,59316,57132,28763,7396,35880,28550,15859,103858,12590,116448,16740,"Richmond city",10480.32]
[null,null,null,null,403,"60704","Ridgecrest city",6124,21835,342,1333,168,18425,3776,13920,14039,7779,1670,8309,6238,3963,23557,4402,27959,1528,"Ridgecrest city",2516.31]
[null,null,null,null,404,"60900","Rio Dell city",487,2892,119,30,1,2618,370,1695,1684,841,196,970,755,617,2766,613,3379,24,"Rio Dell city",304.11]
[null,null,null,null,405,"60984","Rio Vista city",1602,8403,93,824,41,6766,1075,5249,4756,1322,321,1482,2363,4517,7995,2010,10005,622,"Rio Vista city",900.44999999999993]
[null,null,null,null,406,"61026","Ripon city",3999,12014,147,201,28,10858,2310,8222,7791,4693,857,3899,3984,2580,13962,2051,16013,964,"Ripon city",1441.1699999999998]
[null,null,null,null,407,"61068","Riverbank city",13958,10907,491,530,156,10917,4372,12640,12225,7729,1589,6859,5827,2861,22512,2353,24865,1256,"Riverbank city",2237.85]
[null,null,null,null,408,"62000","Riverside city",172386,142612,6164,20100,1121,114991,54131,160295,154703,86207,29522,88868,72582,37819,278618,36380,314998,23159,"Riverside city",28349.82]
[null,null,null,null,409,"62364","Rocklin city",9944,61657,479,1278,212,49202,9194,36827,34774,20669,4209,17654,18509,10560,66076,5525,71601,8486,"Rocklin city",6444.09]
[null,null,null,null,410,"62546","Rohnert Park city",13131,31259,712,977,175,26296,6494,22859,21531,9843,4302,13081,10639,6525,39431,4959,44390,2833,"Rohnert Park city",3995.1]
[null,null,null,null,411,"62602","Rolling Hills city",122,1617,3,23,1,1147,180,930,809,305,113,242,519,560,1571,168,1739,356,"Rolling Hills city",156.51]
[null,null,null,null,412,"62644","Rolling Hills Estates city",640,7640,21,92,11,4630,854,4297,3983,1929,385,1167,2572,2227,7245,1035,8280,2508,"Rolling Hills Estates city",745.19999999999993]
[null,null,null,null,413,"62896","Rosemead city",15906,35279,557,282,21,3930,4552,26153,25032,10526,3545,12981,14910,9223,46369,4816,51185,32970,"Rosemead city",4606.6499999999996]
[null,null,null,null,414,"62938","Roseville city",24057,123716,1227,3756,546,96882,18816,76649,71124,38558,7622,38374,37071,26148,132862,14911,147773,18714,"Roseville city",13299.57]
[null,null,null,null,415,"62980","Ross town",130,2208,1,2,0,2082,182,1205,1133,717,101,319,681,520,2193,145,2338,41,"Ross town",210.42]
[null,null,null,null,416,"64000","Sacramento city",151253,373690,7215,69167,8637,182637,72413,268956,255987,129833,37773,165521,119432,72384,465978,58965,524943,104358,"Sacramento city",47244.869999999995]
[null,null,null,null,417,"64224","Salinas city",130178,33364,5469,2289,442,37673,33360,81871,81671,52844,12187,48186,34238,16087,151227,12315,163542,9693,"Salinas city",14718.779999999999]
[null,null,null,null,418,"64434","San Anselmo town",1180,11650,45,100,12,10392,1444,6759,6071,3189,430,2354,4200,2657,11898,932,12830,450,"San Anselmo town",1154.7]
[null,null,null,null,419,"65000","San Bernardino city",151125,70976,5029,27875,920,53786,37251,112968,109133,69799,17836,63849,48208,22409,195315,26786,222101,9279,"San Bernardino city",19989.09]
[null,null,null,null,420,"65028","San Bruno city",12282,31626,458,771,1156,14822,6074,22129,21779,8925,2415,14014,11524,7030,40533,3375,43908,14148,"San Bruno city",3951.72]
[null,null,null,null,421,"65042","San Buenaventura (Ventura) city",38902,71861,1633,2018,215,68117,18600,56972,53791,24651,6118,29411,29838,20745,96493,14270,110763,4444,"San Buenaventura (Ventura) city",9968.67]
[null,null,null,null,422,"65070","San Carlos city",3416,27306,99,268,82,19476,3831,15813,14909,7752,1156,7793,8917,5104,28708,2014,30722,5876,"San Carlos city",2764.98]
[null,null,null,null,423,"65084","San Clemente city",11679,52614,422,428,97,48587,8368,32369,31924,15246,3683,14034,19123,12207,58601,5692,64293,2584,"San Clemente city",5786.37]
[null,null,null,null,424,"66000","San Diego city",411286,975646,12722,82265,5683,643304,199364,692825,694107,302699,124030,442618,322779,194806,1259015,127917,1386932,247860,"San Diego city",124823.87999999999]
[null,null,null,null,425,"66070","San Dimas city",12945,21979,386,1316,42,17300,6511,18332,16592,7558,2182,8253,9673,7258,29979,4945,34924,5017,"San Dimas city",3143.16]
[null,null,null,null,426,"66140","San Fernando city",21770,2176,761,330,12,4565,5268,11979,11967,6359,1891,6848,6038,2810,21216,2730,23946,421,"San Fernando city",2155.14]
[null,null,null,null,427,"67000","San Francisco city",136761,737204,6475,46725,3476,361382,86233,427821,446144,126316,54485,340906,210159,142099,786001,87964,873965,296505,"San Francisco city",78656.849999999991]
[null,null,null,null,428,"67042","San Gabriel city",9878,29690,355,413,36,5004,3660,20689,18879,7564,2425,10817,11772,6990,36453,3115,39568,25211,"San Gabriel city",3561.12]
[null,null,null,null,429,"67112","San Jacinto city",33013,20885,1575,4725,279,18033,9620,27656,26242,17667,3720,14445,11755,6311,46314,7584,53898,1838,"San Jacinto city",4850.82]
[null,null,null,null,430,"67126","San Joaquin city",3540,161,60,35,3,810,575,1890,1811,1482,294,886,748,291,3569,132,3701,8,"San Joaquin city",333.09]
[null,null,null,null,431,"68000","San Jose city",316266,696974,14665,29308,4082,276523,113767,503980,509260,240596,65454,308127,264446,134617,923479,89761,1013240,390532,"San Jose city",91191.599999999991]
[null,null,null,null,432,"68014","San Juan Bautista city",1151,938,95,22,4,930,367,1035,1054,461,120,618,514,376,1873,216,2089,89,"San Juan Bautista city",188.01]
[null,null,null,null,433,"68028","San Juan Capistrano city",13704,21492,571,159,25,20633,5328,17943,17253,8441,2069,7416,9653,7617,31424,3772,35196,1244,"San Juan Capistrano city",3167.64]
[null,null,null,null,434,"68084","San Leandro city",25981,65027,1132,10098,776,21047,10427,47154,43854,19392,5397,25626,25247,15346,81572,9436,91008,32708,"San Leandro city",8190.7199999999993]
[null,null,null,null,435,"68154","San Luis Obispo city",8729,38334,348,533,60,34155,5901,23922,23141,8524,10456,11846,8632,7605,42740,4323,47063,2910,"San Luis Obispo city",4235.67]
[null,null,null,null,436,"68196","San Marcos city",34878,59955,1131,2117,298,48180,15217,48907,45926,27516,7639,24822,22586,12270,86219,8614,94833,10419,"San Marcos city",8534.9699999999993]
[null,null,null,null,437,"68224","San Marino city",888,11625,21,66,9,3620,982,6406,6107,2973,719,2020,3878,2923,11666,847,12513,7611,"San Marino city",1126.1699999999998]
[null,null,null,null,438,"68252","San Mateo city",27198,78463,866,1815,1700,43826,13342,53455,52206,22901,5458,34880,25998,16424,96338,9323,105661,28047,"San Mateo city",9509.49]
[null,null,null,null,439,"68294","San Pablo city",19610,12517,722,4012,145,4173,4250,16141,15986,8949,2334,9677,7478,3689,28678,3449,32127,5018,"San Pablo city",2891.43]
[null,null,null,null,440,"68364","San Rafael city",21038,40233,2246,1065,156,33427,7583,30850,30421,14154,3381,16133,15527,12076,56142,5129,61271,4073,"San Rafael city",5514.3899999999994]
[null,null,null,null,441,"68378","San Ramon city",7102,77503,222,2227,210,28741,7739,43010,41595,25437,4094,20397,25160,9517,80120,4485,84605,43270,"San Ramon city",7614.45]
[null,null,null,null,442,"65112","Sand city",96,229,7,17,3,174,56,151,174,54,21,100,106,44,288,37,325,19,"Sand City city",29.25]
[null,null,null,null,443,"67056","Sanger city",21990,4627,436,272,35,8323,5460,13524,13093,8860,1917,7337,5475,3028,24156,2461,26617,870,"Sanger city",2395.5299999999997]
[null,null,null,null,444,"69000","Santa Ana city",238022,72205,11403,3343,828,57376,59353,153241,156986,86794,24949,93053,73801,31630,284107,26120,310227,38004,"Santa Ana city",27920.43]
[null,null,null,null,445,"69070","Santa Barbara city",34344,54321,1320,1238,80,51842,15378,45304,43361,16891,6512,26027,21388,17847,79531,9134,88665,3184,"Santa Barbara city",7979.8499999999995]
[null,null,null,null,446,"69084","Santa Clara city",22550,105097,993,2839,450,39504,12469,62206,65441,28348,8287,49124,27514,14374,118795,8852,127647,60002,"Santa Clara city",11488.23]
[null,null,null,null,447,"69088","Santa Clarita city",78735,149938,2509,9677,339,116239,35635,116864,111809,60194,14780,60003,63177,30519,208149,20524,228673,27431,"Santa Clarita city",20580.57]
[null,null,null,null,448,"69112","Santa Cruz city",15111,47845,684,1668,96,39778,8284,31181,31775,13354,10395,15784,13972,9451,56693,6263,62956,5335,"Santa Cruz city",5666.04]
[null,null,null,null,449,"69154","Santa Fe Springs city",14626,4593,513,678,51,4488,4958,10021,9198,4438,1251,5465,4957,3108,{"$f":"X450-W450","v":17484},1735,19219,1662,"Santa Fe Springs city",1729.71]
[null,null,null,null,450,"69196","Santa Maria city",83968,25739,4157,1288,166,31077,22819,54876,54831,36550,8491,31335,21303,12028,99477,10230,109707,5435,"Santa Maria city",{"$f":"X451*0.09","v":9873.6299999999992}]
[null,null,null,null,451,"70000","Santa Monica city",13544,79532,539,3776,123,63383,11306,48120,44956,13979,4446,32432,24053,18166,84917,8159,93076,8602,"Santa Monica city",8376.84]
[null,null,null,null,452,"70042","Santa Paula city",25051,5606,815,127,28,9854,6589,15371,15286,8986,2147,8162,7092,4270,26925,3732,30657,243,"Santa Paula city",2759.13]
[null,null,null,null,453,"70098","Santa Rosa city",61082,117045,4039,4062,1033,99224,24733,91360,86767,41792,10412,48760,43765,33398,157328,20799,178127,10938,"Santa Rosa city",16031.43]
[null,null,null,null,454,"70224","Santee city",12522,47515,452,1391,327,41274,8609,31336,28701,14699,3423,16967,15470,9478,53009,7028,60037,3569,"Santee city",5403.33]
[null,null,null,null,455,"70280","Saratoga city",1125,29926,38,104,48,11771,1899,15769,15282,6946,1604,4591,10554,7356,28475,2576,31051,16857,"Saratoga city",2794.5899999999997]
[null,null,null,null,456,"70364","Sausalito city",482,6787,18,51,8,6066,608,3834,3435,753,152,1879,2470,2015,6620,649,7269,418,"Sausalito city",654.20999999999992]
[null,null,null,null,457,"70588","Scotts Valley city",1559,10665,75,85,16,9204,1430,6323,5901,2980,585,2631,3685,2343,10713,1511,12224,836,"Scotts Valley city",1100.1599999999999]
[null,null,null,null,458,"70686","Seal Beach city",3153,22089,108,394,49,17699,2557,14016,11226,3373,811,3973,6178,10907,20703,4539,25242,3672,"Seal Beach city",2271.7799999999997]
[null,null,null,null,459,"70742","Seaside city",15494,16872,674,1882,489,11230,5591,16467,15899,9199,2303,9583,7368,3913,28720,3646,32366,3135,"Seaside city",2912.94]
[null,null,null,null,460,"70770","Sebastopol city",1080,6441,84,64,15,5865,881,4151,3370,1458,291,1556,2032,2184,6466,1055,7521,185,"Sebastopol city",676.89]
[null,null,null,null,461,"70882","Selma city",20041,4633,601,211,18,6854,4774,12493,12181,8048,1830,6635,5115,3046,21915,2759,24674,1134,"Selma city",2220.66]
[null,null,null,null,462,"71106","Shafter city",16017,3936,333,344,10,5815,3283,9807,10146,7181,1481,6008,3657,1626,18795,1158,19953,274,"Shafter city",1795.77]
[null,null,null,null,463,"71225","Shasta Lake city",942,9429,328,76,17,8230,1158,5235,5136,2520,513,2601,2746,1991,8128,2243,10371,260,"Shasta Lake city",933.39]
[null,null,null,null,464,"71806","Sierra Madre city",1923,9345,62,177,11,7491,1591,6009,5259,2343,410,2377,3423,2715,10232,1036,11268,1446,"Sierra Madre city",1014.12]
[null,null,null,null,465,"71876","Signal Hill city",4208,7640,194,1626,93,3448,1485,6045,5803,2681,682,3739,3205,1541,11166,682,11848,2638,"Signal Hill city",1066.32]
[null,null,null,null,466,"72016","Simi Valley city",35921,90435,1200,2039,210,75753,17943,64409,61947,29364,7909,31401,36610,21072,111670,14686,126356,13526,"Simi Valley city",11372.039999999999]
[null,null,null,null,467,"72506","Solana Beach city",1853,11088,55,82,10,10074,1350,6696,6245,2574,607,2911,3791,3058,12277,664,12941,571,"Solana Beach city",1164.69]
[null,null,null,null,468,"72520","Soledad city",19789,5136,872,2010,101,4730,3659,9547,15378,6814,1800,9320,5541,1450,24001,924,24925,604,"Soledad city",2243.25]
[null,null,null,null,469,"72576","Solvang city",1835,4291,81,50,0,4161,930,3246,2880,1154,269,1215,1631,1857,5668,458,6126,115,"Solvang city",551.34]
[null,null,null,null,470,"72646","Sonoma city",2072,8667,98,77,24,8023,1258,5886,4853,1891,422,1984,2947,3495,8891,1848,10739,328,"Sonoma city",966.51]
[null,null,null,null,471,"72674","Sonora city",657,4346,78,27,22,4001,556,2667,2336,1074,288,1347,1206,1088,4081,922,5003,149,"Sonora city",450.27]
[null,null,null,null,472,"72996","South El Monte city",15585,3982,522,95,3,2620,4027,9748,9819,5188,1475,5501,4882,2521,17349,2218,19567,3400,"South El Monte city",1761.03]
[null,null,null,null,473,"73080","South Gate city",88040,4686,3208,1052,60,14119,20483,47170,45556,25629,7518,26998,22095,10486,84027,8699,92726,722,"South Gate city",8345.34]
[null,null,null,null,474,"73108","South Lake Tahoe city",6558,14772,246,152,22,13186,3033,10267,11063,4372,1238,7013,5509,3198,17967,3363,21330,1235,"South Lake Tahoe city",1919.6999999999998]
[null,null,null,null,475,"73220","South Pasadena city",5584,21359,201,669,19,10666,4227,14149,12794,6833,1147,7192,7564,4207,25038,1905,26943,9257,"South Pasadena city",2424.87]
[null,null,null,null,476,"73262","South San Francisco city",21650,44455,732,1311,1058,14584,8836,33436,32669,13708,3830,19981,17286,11300,60060,6045,66105,27369,"South San Francisco city",5949.45]
[null,null,null,null,477,"64140","St. Helena city",1863,3567,61,14,6,3498,726,2892,2538,1170,231,1099,1474,1456,4731,699,5430,94,"St. Helena city",488.7]
[null,null,null,null,478,"73962","Stanton city",18807,19155,650,733,230,8529,4917,19218,18744,9718,2680,10202,10195,5167,33755,4207,37962,11359,"Stanton city",3416.58]
[null,null,null,null,479,"75000","Stockton city",141601,179203,5563,40487,2678,75439,44141,163447,157357,98324,22751,86380,71305,42044,278916,41888,320804,70548,"Stockton city",28872.36]
[null,null,null,null,480,"75630","Suisun city",8585,20933,501,5604,379,8410,4833,15150,14368,7646,1952,8473,7434,4013,25585,3933,29518,5837,"Suisun city",2656.62]
[null,null,null,null,481,"77000","Sunnyvale city",25372,130433,1081,2228,491,46551,13431,75285,80520,33747,8173,60869,34379,18637,145548,10257,155805,77842,"Sunnyvale city",14022.449999999999]
[null,null,null,null,482,"77364","Susanville city",5299,11429,536,1937,257,8253,1149,4772,11956,2567,1592,7854,3298,1417,15680,1048,16728,325,"Susanville city",1505.52]
[null,null,null,null,483,"77392","Sutter Creek city",312,2334,58,17,0,2166,273,1412,1234,548,124,530,677,767,2269,377,2646,54,"Sutter Creek city",238.14]
[null,null,null,null,484,"77574","Taft city",3724,4822,236,145,38,5325,855,3605,4941,2150,676,2748,2011,961,6537,2009,8546,145,"Taft city",769.14]
[null,null,null,null,485,"78092","Tehachapi city",4737,8202,163,1051,23,6893,1512,4714,8225,2717,744,4661,3255,1562,11611,1328,12939,294,"Tehachapi city",1164.51]
[null,null,null,null,486,"78106","Tehama city",104,331,23,6,1,291,60,225,210,96,25,95,114,105,336,99,435,2,"Tehama city",39.15]
[null,null,null,null,487,"78120","Temecula city",30366,79637,1643,5171,472,61192,17888,56456,53547,31845,6990,28019,29392,13757,100070,9933,110003,12458,"Temecula city",9900.27]
[null,null,null,null,488,"78148","Temple city",7107,29387,254,312,23,6255,3085,19037,17457,7833,2247,8927,10525,6962,33150,3344,36494,23316,"Temple City city",3284.46]
[null,null,null,null,489,"78582","Thousand Oaks city",25260,101706,945,1827,178,84912,16507,65273,61693,29119,7867,26477,37209,26294,114004,12962,126966,12667,"Thousand Oaks city",11426.939999999999]
[null,null,null,null,490,"78666","Tiburon town",582,8564,19,91,13,7261,882,4808,4338,2237,314,1431,2759,2405,8287,859,9146,687,"Tiburon town",823.14]
[null,null,null,null,491,"80000","Torrance city",28080,118987,803,5048,603,57337,19370,75380,71687,31606,7920,37915,42248,27378,135037,12030,147067,52509,"Torrance city",13236.029999999999]
[null,null,null,null,492,"80238","Tracy city",35997,57003,1231,5996,1004,31395,15557,46639,46361,27063,6457,24666,24759,10055,85082,7918,93000,19731,"Tracy city",8370]
[null,null,null,null,493,"80448","Trinidad city",10,297,4,1,0,261,34,156,151,38,5,67,88,109,247,60,307,1,"Trinidad city",27.63]
[null,null,null,null,494,"80588","Truckee town",3128,13601,92,31,9,12946,1930,8091,8638,4162,649,4877,4847,2194,15581,1148,16729,275,"Truckee town",1505.61]
[null,null,null,null,495,"80644","Tulare city",43617,25258,1301,2084,96,28211,13555,34978,33897,23359,4925,18849,14349,7393,61365,7510,68875,1715,"Tulare city",6198.75]
[null,null,null,null,496,"80686","Tulelake city",677,225,15,2,1,251,301,445,457,336,54,224,185,103,774,128,902,3,"Tulelake city",81.179999999999993]
[null,null,null,null,497,"80812","Turlock city",29965,42775,1490,1529,320,38371,10362,37528,35212,20326,5556,19519,16405,10934,62902,9838,72740,5465,"Turlock city",6546.5999999999995]
[null,null,null,null,498,"80854","Tustin city",32712,47564,1028,1800,217,27582,12160,41273,39003,20639,5452,24170,20581,9434,74458,5818,80276,19265,"Tustin city",7224.84]
[null,null,null,null,499,"80994","Twentynine Palms city",6851,21214,391,3323,365,16582,3482,11219,16846,6984,6167,9162,3675,2077,25094,2971,28065,1641,"Twentynine Palms city",2525.85]
[null,null,null,null,500,"81134","Ukiah city",5443,11164,692,182,35,9773,2407,8596,8011,4284,919,4557,3747,3100,14387,2220,16607,512,"Ukiah city",1494.6299999999999]
[null,null,null,null,501,"81204","Union city",15080,55063,715,3160,817,9634,7154,35235,34908,15037,4243,20730,18252,11881,63982,6161,70143,40613,"Union city",6312.87]
[null,null,null,null,502,"81344","Upland city",35190,43850,1094,5089,172,34980,13863,41036,38004,18888,5195,21685,20025,13247,69815,9225,79040,8059,"Upland city",7113.5999999999995]
[null,null,null,null,503,"81554","Vacaville city",27402,74984,1082,9796,789,52997,16346,49282,53104,24481,6338,29387,26506,15674,91851,10535,102386,9196,"Vacaville city",9214.74]
[null,null,null,null,504,"81666","Vallejo city",35835,90255,1426,25133,1343,30451,15907,64661,61429,28997,7994,34226,33167,21706,111704,14386,126090,29723,"Vallejo city",11348.1]
[null,null,null,null,505,"82422","Vernon city",168,54,3,20,0,53,34,118,104,80,11,65,43,23,202,20,222,15,"Vernon city",19.98]
[null,null,null,null,506,"82590","Victorville city",74745,60065,2780,24156,750,39804,21952,67942,66868,44597,9457,37734,28969,14053,119646,15164,134810,5640,"Victorville city",12132.9]
[null,null,null,null,507,"82744","Villa Park city",724,5119,3,52,6,3793,662,2963,2880,1193,309,922,1789,1630,5189,654,5843,1129,"Villa Park city",525.87]
[null,null,null,null,508,"82954","Visalia city",74575,66809,2761,2969,221,65272,23962,72231,69153,43457,8735,39834,30492,18866,125542,15842,141384,8157,"Visalia city",12724.56]
[null,null,null,null,509,"82996","Vista city",49744,48637,2324,2685,710,43156,18197,49122,49259,25435,7573,29802,23289,12282,91107,7274,98381,5256,"Vista city",8854.2899999999991]
[null,null,null,null,510,"83332","Walnut city",5324,23106,121,721,22,3447,2693,14602,13828,5650,1915,6152,8414,6299,25812,2618,28430,19191,"Walnut city",2558.6999999999998]
[null,null,null,null,511,"83346","Walnut Creek city",7304,62823,214,1564,111,46478,7613,37712,32415,12961,2491,17628,16661,20386,61174,8953,70127,11684,"Walnut Creek city",6311.4299999999994]
[null,null,null,null,512,"83542","Wasco city",22922,4125,556,1507,20,5465,4497,11464,15583,8522,2445,9128,5014,1938,25704,1343,27047,149,"Wasco city",2434.23]
[null,null,null,null,513,"83612","Waterford city",4391,4729,146,145,34,4795,1540,4635,4485,2972,611,2498,2099,940,{"$f":"X514-W514","v":7770},1350,9120,138,"Waterford city",820.8]
[null,null,null,null,514,"83668","Watsonville city",43303,9287,1416,316,46,11723,10289,26652,25938,16450,3743,14639,11581,6177,45855,6735,52590,1612,"Watsonville city",{"$f":"X515*0.09","v":4733.0999999999995}]
[null,null,null,null,515,"83850","Weed city",550,2312,68,173,3,1825,416,1411,1451,768,246,713,680,455,2245,617,2862,158,"Weed city",257.58]
[null,null,null,null,516,"84200","West Covina city",58102,51399,1747,4045,210,21993,20138,56368,53133,24527,8164,29585,29248,17977,98568,10933,109501,33632,"West Covina city",9855.09]
[null,null,null,null,517,"84410","West Hollywood city",4497,31260,123,1372,45,26384,3808,15740,20017,1635,1445,17468,9404,5805,31142,4615,35757,2325,"West Hollywood city",3218.1299999999997]
[null,null,null,null,518,"84816","West Sacramento city",17260,36655,948,2673,624,25478,8960,27563,26352,14471,3109,16463,13022,6850,48425,5490,53915,7352,"West Sacramento city",4852.3499999999995]
[null,null,null,null,519,"84438","Westlake Village city",651,7378,14,69,8,6413,775,4180,3849,1624,404,1224,2529,2248,7508,521,8029,619,"Westlake Village city",722.61]
[null,null,null,null,520,"84550","Westminster city",22345,68566,761,927,464,21010,7980,46535,44376,19868,6249,21666,26254,16874,79953,10958,90911,46773,"Westminster city",8181.99]
[null,null,null,null,521,"84606","Westmorland city",1786,228,30,23,0,640,627,1049,965,702,119,466,445,282,1727,287,2014,11,"Westmorland city",181.26]
[null,null,null,null,522,"85012","Wheatland city",835,2877,57,65,10,2532,566,1904,1808,1103,210,1032,883,484,3199,513,3712,170,"Wheatland city",334.08]
[null,null,null,null,523,"85292","Whittier city",61803,25503,1908,1231,190,30732,21535,44902,42404,21688,5699,24226,22768,12925,79132,8174,87306,4339,"Whittier city",7857.54]
[null,null,null,null,524,"85446","Wildomar city",15075,21800,605,1403,203,19026,6324,18647,18228,9968,2389,9625,9684,5209,32533,4342,36875,2061,"Wildomar city",3318.75]
[null,null,null,null,525,"85586","Williams city",4467,1071,93,52,17,1509,1276,2810,2728,1946,385,1474,1126,607,5052,486,5538,97,"Williams city",498.41999999999996]
[null,null,null,null,526,"85600","Willits city",1218,3770,243,44,6,3316,682,2628,2360,1250,262,1261,1233,982,3790,1198,4988,95,"Willits city",448.91999999999996]
[null,null,null,null,527,"85684","Willows city",2330,3963,290,46,7,3617,751,3175,3118,1795,340,1689,1418,1051,5316,977,6293,279,"Willows city",566.37]
[null,null,null,null,528,"85922","Windsor town",8898,17446,633,243,60,16281,3644,13467,12877,6622,1428,6036,7576,4682,23550,2794,26344,781,"Windsor town",2370.96]
[null,null,null,null,529,"86034","Winters city",3935,3180,203,40,15,3378,1366,3588,3527,1942,368,1895,1873,1037,6419,696,7115,93,"Winters city",640.35]
[null,null,null,null,530,"86300","Woodlake city",6535,884,159,52,3,2081,1599,3745,3674,2588,552,1853,1599,827,6786,633,7419,68,"Woodlake city",667.70999999999992]
[null,null,null,null,531,"86328","Woodland city",29614,31418,1223,1146,233,27209,11497,31311,29721,16409,3991,16590,14888,9154,53585,7447,61032,5334,"Woodland city",5492.88]
[null,null,null,null,532,"86440","Woodside town",404,4905,10,34,5,4138,570,2735,2574,1200,262,811,1746,1290,4939,370,5309,446,"Woodside town",477.81]
[null,null,null,null,533,"86832","Yorba Linda city",12269,56067,315,836,82,39031,8939,35222,33114,16461,3955,14009,20390,13521,63058,5278,68336,15746,"Yorba Linda city",6150.24]
[null,null,null,null,534,"86930","Yountville city",348,3088,32,64,3,2912,226,1614,1822,199,45,320,577,2295,2920,516,3436,73,"Yountville city",309.24]
[null,null,null,null,535,"86944","Yreka city",958,6849,700,73,10,5643,975,4112,3695,1959,391,1818,1869,1770,6374,1433,7807,149,"Yreka city",702.63]
[null,null,null,null,536,"86972","Yuba city",21701,48416,1368,1680,242,30286,8749,35372,34745,19716,4547,18545,16490,10819,62419,7698,70117,15629,"Yuba city",6310.53]
[null,null,null,null,537,"87042","Yucaipa city",18784,35758,829,828,93,34970,7876,27979,26563,14172,3064,13616,14329,9361,47725,6817,54542,1600,"Yucaipa city",4908.78]
[null,null,null,null,538,"87056","Yucca Valley town",5074,16664,316,803,73,15490,2718,11145,10593,5137,1067,5169,5624,4741,17458,4280,21738,586,"Yucca Valley town",1956.4199999999998]
[null,null,null,null,539,0,"Select a Jurisdiction"]
[]
[]
[]
[null,"Select County"]
[null,null,"Alameda County"]
[null,null,"Alpine County"]
[null,null,"Amador County"]
[null,null,"Butte County"]
[null,null,"Calaveras County"]
[null,null,"Colusa County "]
[null,null,"Contra Costa County"]
[null,null,"Del Norte County"]
[null,null,"El Dorado County "]
[null,null,"Fresno County"]
[null,null,"Glenn County "]
[null,null,"Humboldt County "]
[null,null,"Imperial County"]
[null,null,"Inyo County "]
[null,null,"Kern County "]
[null,null,"Kings County "]
[null,null,"Lake County "]
[null,null,"Lassen County"]
[null,null,"Los Angeles County "]
[null,null,"Madera County "]
[null,null,"Marin County "]
[null,null,"Mariposa County "]
[null,null,"Mendocino County "]
[null,null,"Merced County"]
[null,null,"Modoc County"]
[null,null,"Mono County "]
[null,null,"Monterey County "]
[null,null,"Napa County"]
[null,null,"Nevada County"]
[null,null,"Orange County "]
[null,null,"Placer County "]
[null,null,"Plumas County "]
[null,null,"Riverside County "]
[null,null,"Sacramento County "]
[null,null,"San Benito County "]
[null,null,"San Bernardino County "]
[null,null,"San Diego County "]
[null,null,"San Francisco County"]
[null,null,"San Joaquin County"]
[null,null,"San Luis Obispo County"]
[null,null,"San Mateo County "]
[null,null,"Santa Barbara County "]
[null,null,"Santa Clara County "]
[null,null,"Santa Cruz County "]
[null,null,"Shasta County"]
[null,null,"Sierra County "]
[null,null,"Siskiyou County "]
[null,null,"Solano County"]
[null,null,"Sonoma County"]
[null,null,"Stanislaus County"]
[null,null,"Sutter County"]
[null,null,"Tehama County"]
[null,null,"Trinity County"]
[null,null,"Tulare County "]
[null,null,"Tuolumne County"]
[null,null,"Ventura County"]
[null,null,"Yolo County"]
[null,null,"Yuba County "]
[null,null,"Select County"]

{"sheet":"Link E3","index":16,"n_rows":111,"n_cols":251,"rows_kept":111,"cut":false,"hidden":true,"merged":[[2,234,2,236],[2,237,2,239],[2,240,2,242],[2,243,2,245],[2,211,2,213],[2,214,2,216],[2,218,2,219],[2,220,2,221],[2,222,2,224],[2,225,2,227],[2,208,2,210],[2,175,2,177],[2,178,2,180],[2,181,2,183],[2,184,2,186],[2,187,2,189],[2,190,2,192],[2,228,2,230],[2,231,2,233],[2,108,2,110],[2,111,2,113],[2,114,2,116],[2,118,2,119],[2,120,2,121],[2,122,2,124],[2,157,2,159],[2,160,2,162],[2,163,2,165],[2,143,2,145],[2,147,2,148],[2,149,2,150],[2,151,2,152],[2,153,2,154],[2,155,2,156],[2,48,2,50],[2,51,2,53],[2,90,2,92],[2,93,2,95],[2,96,2,98],[2,99,2,101],[2,102,2,104],[2,105,2,107],[2,72,2,74],[2,75,2,77],[2,78,2,80],[2,81,2,83],[2,84,2,86],[2,87,2,89],[2,26,2,28],[2,29,2,31],[2,33,2,34],[2,35,2,36],[2,37,2,38],[1,228,1,233],[1,234,1,239],[1,240,1,245],[1,187,1,201],[1,202,1,216],[1,218,1,221],[1,222,1,227],[0,217,3,217],[0,218,0,245],[2,54,2,56],[2,57,2,59],[2,60,2,62],[2,63,2,65],[2,66,2,68],[2,69,2,71],[2,39,2,40],[2,41,2,42],[2,43,2,44],[2,45,2,47],[1,157,1,171],[1,172,1,186],[1,118,1,121],[1,122,1,127],[1,128,1,133],[1,134,1,139],[1,140,1,145],[1,147,1,156],[0,146,3,146],[0,147,0,216],[2,125,2,127],[2,128,2,130],[2,131,2,133],[2,134,2,136],[2,137,2,139],[2,140,2,142],[2,166,2,168],[2,169,2,171],[2,172,2,174],[2,193,2,195],[2,196,2,198],[2,199,2,201],[2,202,2,204],[2,205,2,207],[0,3,3,3],[0,4,0,31],[0,32,3,32],[0,33,0,116],[0,117,3,117],[0,118,0,145],[1,45,1,62],[1,63,1,80],[1,81,1,98],[1,99,1,116],[2,4,2,5],[2,6,2,7],[2,8,2,10],[2,11,2,13],[2,14,2,16],[2,17,2,19],[2,20,2,22],[1,4,1,7],[1,8,1,13],[1,14,1,19],[1,20,1,25],[1,26,1,31],[1,33,1,44],[2,23,2,25]]}
[null,null,null,"ETHNICITY","ETHNICITY",null,null,null,null,null,null,null,null,null,null,null,null,null,null,null,null,null,null,null,null,null,null,null,null,null,null,null,"RACE","RACE",null,null,null,null,null,null,null,null,null,null,null,null,null,null,null,null,null,null,null,null,null,null,null,null,null,null,null,null,null,null,null,null,null,null,null,null,null,null,null,null,null,null,null,null,null,null,null,null,null,null,null,null,null,null,null,null,null,null,null,null,null,null,null,null,null,null,null,null,null,null,null,null,null,null,null,null,null,null,null,null,null,null,null,"GENDER","GENDER",null,null,null,null,null,null,null,null,null,null,null,null,null,null,null,null,null,null,null,null,null,null,null,null,null,null,null,"AGE","AGE",null,null,null,null,null,null,null,null,null,null,null,null,null,null,null,null,null,null,null,null,null,null,null,null,null,null,null,null,null,null,null,null,null,null,null,null,null,null,null,null,null,null,null,null,null,null,null,null,null,null,null,null,null,null,null,null,null,null,null,null,null,null,null,null,null,null,null,null,null,"DISABILITY","DISABILITY"]
[null,null,null,null,"Census",null,null,null,"Applicants",null,null,null,null,null,"Beneficiaries",null,null,null,null,null,"Rejected Applicants",null,null,null,null,null,"Waiting List",null,null,null,null,null,null,"Census",null,null,null,null,null,null,null,null,null,null,null,"Applicants",null,null,null,null,null,null,null,null,null,null,null,null,null,null,null,null,null,"Benificiaries",null,null,null,null,null,null,null,null,null,null,null,null,null,null,null,null,null,"Rejected Applicants",null,null,null,null,null,null,null,null,null,null,null,null,null,null,null,null,null,"Waiting List",null,null,null,null,null,null,null,null,null,null,null,null,null,null,null,null,null,null,"Census",null,null,null,"Applicants",null,null,null,null,null,"Beneficiaries",null,null,null,null,null,"Rejected Applicants",null,null,null,null,null,"Waiting List",null,null,null,null,null,null,"Census",null,null,null,null,null,null,null,null,null,"Applicants",null,null,null,null,null,null,null,null,null,null,null,null,null,null,"Benificiaries",null,null,null,null,null,null,null,null,null,null,null,null,null,null,"Rejected Applicants",null,null,null,null,null,null,null,null,null,null,null,null,null,null,"Waiting List",null,null,null,null,null,null,null,null,null,null,null,null,null,null,null,"Census",null,null,null,"Applicants",null,null,null,null,null,"Beneficiaries",null,null,null,null,null,"Rejected Applicants",null,null,null,null,null,"Waiting List"]
["Jurisdiction","Contract #","Activity Name",null,"Hispanic",null,"Not Hispanic",null,"Hispanic",null,null,"Not Hispanic",null,null,"Hispanic",null,null,"Not Hispanic",null,null,"Hispanic",null,null,"Not Hispanic",null,null,"Hispanic",null,null,"Not Hispanic",null,null,null,"American Indian or Alaskan Native",null,"Asian",null,"Black or African American",null,"Native Hawaiian or Other Pacific Islander",null,"White Alone",null,"Other",null,"American Indian or Alaskan Native",null,null,"Asian",null,null,"Black or African American",null,null,"Native Hawaiian or Other Pacific Islander",null,null,"White Alone",null,null,"Other",null,null,"American Indian or Alaskan Native",null,null,"Asian",null,null,"Black or African American",null,null,"Native Hawaiian or Other Pacific Islander",null,null,"White Alone",null,null,"Other",null,null,"American Indian or Alaskan Native",null,null,"Asian",null,null,"Black or African American",null,null,"Native Hawaiian or Other Pacific Islander",null,null,"White Alone",null,null,"Other",null,null,"American Indian or Alaskan Native",null,null,"Asian",null,null,"Black or African American",null,null,"Native Hawaiian or Other Pacific Islander",null,null,"White Alone",null,null,"Other",null,null,null,"Female",null,"Male",null,"Female",null,null,"Male",null,null,"Female",null,null,"Male",null,null,"Female",null,null,"Male",null,null,"Female",null,null,"Male",null,null,null,"0 to 19 Years",null,"20 to 24 Years",null,"25 to 44 Years",null,"45 to 64 Years",null,"65 Years and Over",null,"0 to 19 Years",null,null,"20 to 24 Years",null,null,"25 to 44 Years",null,null,"45 to 64 Years",null,null,"65 Years and Over",null,null,"0 to 19 Years",null,null,"20 to 24 Years",null,null,"25 to 44 Years",null,null,"45 to 64 Years",null,null,"65 Years and Over",null,null,"0 to 19 Years",null,null,"20 to 24 Years",null,null,"25 to 44 Years",null,null,"45 to 64 Years",null,null,"65 Years and Over",null,null,"0 to 19 Years",null,null,"20 to 24 Years",null,null,"25 to 44 Years",null,null,"45 to 64 Years",null,null,"65 Years and Over",null,null,null,"Disabled",null,"Not Disabled",null,"Disabled",null,null,"Not Disabled",null,null,"Disabled",null,null,"Not Disabled",null,null,"Disabled",null,null,"Not Disabled",null,null,"Disabled",null,null,"Not Disabled",null,null,"Response 1","Response 2","Response 3","Response 4","Response 5"]
[null,null,null,null,"#","%","#","%","#","%","Diff","#","%","Diff","#","%","Diff","#","%","Diff","#","%","Diff","#","%","Diff","#","%","Diff","#","%","Diff",null,"#","%","#","%","#","%","#","%","#","%","#","%","#","%","Diff","#","%","Diff","#","%","Diff","#","%","Diff","#","%","Diff","#","%","Diff","#","%","Diff","#","%","Diff","#","%","Diff","#","%","Diff","#","%","Diff","#","%","Diff","#","%","Diff","#","%","Diff","#","%","Diff","#","%","Diff","#","%","Diff","#","%","Diff","#","%","Diff","#","%","Diff","#","%","Diff","#","%","Diff","#","%","Diff","#","%","Diff",null,"#","%","#","%","#","%","Diff","#","%","Diff","#","%","Diff","#","%","Diff","#","%","Diff","#","%","Diff","#","%","Diff","#","%","Diff",null,"#","%","#","%","#","%","#","%","#","%","#","%","Diff","#","%","Diff","#","%","Diff","#","%","Diff","#","%","Diff","#","%","Diff","#","%","Diff","#","%","Diff","#","%","Diff","#","%","Diff","#","%","Diff","#","%","Diff","#","%","Diff","#","%","Diff","#","%","Diff","#","%","Diff","#","%","Diff","#","%","Diff","#","%","Diff","#","%","Diff",null,"#","%","#","%","#","%","Diff","#","%","Diff","#","%","Diff","#","%","Diff","#","%","Diff","#","%","Diff","#","%","Diff","#","%","Diff"]
[{"$f":"'E Data 3'!D4","v":"Select a Jurisdiction"},{"$f":"'Att E Activity 3'!EC24","v":0},{"$f":"'Att E Activity 3'!EC30","v":0},null,{"$f":"'Att E Activity 3'!AM49","v":""},{"$f":"'Att E Activity 3'!AU49","v":""},{"$f":"'Att E Activity 3'!AM52","v":""},{"$f":"'Att E Activity 3'!AU52","v":""},{"$f":"'Att E Activity 3'!BE49","v":0},{"$f":"'Att E Activity 3'!BM49","v":""},{"$f":"'Att E Activity 3'!BU49","v":0},{"$f":"'Att E Activity 3'!BE52","v":0},{"$f":"'Att E Activity 3'!BM52","v":""},{"$f":"'Att E Activity 3'!BU52","v":0},{"$f":"'Att E Activity 3'!CF49","v":0},{"$f":"'Att E Activity 3'!CN49","v":""},{"$f":"'Att E Activity 3'!CV49","v":0},{"$f":"'Att E Activity 3'!CF52","v":0},{"$f":"'Att E Activity 3'!CN52","v":""},{"$f":"'Att E Activity 3'!CV52","v":0},{"$f":"'Att E Activity 3'!DG49","v":0},{"$f":"'Att E Activity 3'!DO49","v":""},{"$f":"'Att E Activity 3'!DW49","v":0},{"$f":"'Att E Activity 3'!DG52","v":0},{"$f":"'Att E Activity 3'!DO52","v":""},{"$f":"'Att E Activity 3'!DW52","v":0},{"$f":"'Att E Activity 3'!EH49","v":0},{"$f":"'Att E Activity 3'!EP49","v":""},{"$f":"'Att E Activity 3'!EX49","v":0},{"$f":"'Att E Activity 3'!EH52","v":0},{"$f":"'Att E Activity 3'!EP52","v":""},{"$f":"'Att E Activity 3'!EX52","v":0},null,{"$f":"'Att E Activity 3'!AM62","v":""},{"$f":"'Att E Activity 3'!AU62","v":""},{"$f":"'Att E Activity 3'!AM65","v":""},{"$f":"'Att E Activity 3'!AU62","v":""},{"$f":"'Att E Activity 3'!AM68","v":""},{"$f":"'Att E Activity 3'!AU68","v":""},{"$f":"'Att E Activity 3'!AM71","v":""},{"$f":"'Att E Activity 3'!AU71","v":""},{"$f":"'Att E Activity 3'!AM74","v":""},{"$f":"'Att E Activity 3'!AU74","v":""},{"$f":"'Att E Activity 3'!AM77","v":""},{"$f":"'Att E Activity 3'!AU77","v":""},{"$f":"'Att E Activity 3'!BE62","v":0},{"$f":"'Att E Activity 3'!BM62","v":""},{"$f":"'Att E Activity 3'!BU62","v":0},{"$f":"'Att E Activity 3'!BE65","v":0},{"$f":"'Att E Activity 3'!BM65","v":""},{"$f":"'Att E Activity 3'!BU65","v":0},{"$f":"'Att E Activity 3'!BE68","v":0},{"$f":"'Att E Activity 3'!BM68","v":""},{"$f":"'Att E Activity 3'!BU68","v":0},{"$f":"'Att E Activity 3'!BE71","v":0},{"$f":"'Att E Activity 3'!BM71","v":""},{"$f":"'Att E Activity 3'!BU71","v":0},{"$f":"'Att E Activity 3'!BE74","v":0},{"$f":"'Att E Activity 3'!BM74","v":""},{"$f":"'Att E Activity 3'!BU74","v":0},{"$f":"'Att E Activity 3'!BE77","v":0},{"$f":"'Att E Activity 3'!BM77","v":""},{"$f":"'Att E Activity 3'!BU77","v":0},{"$f":"'Att E Activity 3'!CF62","v":0},{"$f":"'Att E Activity 3'!CN62","v":""},{"$f":"'Att E Activity 3'!CV62","v":0},{"$f":"'Att E Activity 3'!CF65","v":0},{"$f":"'Att E Activity 3'!CN65","v":""},{"$f":"'Att E Activity 3'!CV65","v":0},{"$f":"'Att E Activity 3'!CF68","v":0},{"$f":"'Att E Activity 3'!CN68","v":""},{"$f":"'Att E Activity 3'!CV68","v":0},{"$f":"'Att E Activity 3'!CF71","v":0},{"$f":"'Att E Activity 3'!CN71","v":""},{"$f":"'Att E Activity 3'!CV71","v":0},{"$f":"'Att E Activity 3'!CF74","v":0},{"$f":"'Att E Activity 3'!CN74","v":""},{"$f":"'Att E Activity 3'!CV74","v":0},{"$f":"'Att E Activity 3'!CF77","v":0},{"$f":"'Att E Activity 3'!CN77","v":""},{"$f":"'Att E Activity 3'!CV77","v":0},{"$f":"'Att E Activity 3'!DG62","v":0},{"$f":"'Att E Activity 3'!DO62","v":""},{"$f":"'Att E Activity 3'!DW62","v":0},{"$f":"'Att E Activity 3'!DG65","v":0},{"$f":"'Att E Activity 3'!DO65","v":""},{"$f":"'Att E Activity 3'!DW65","v":0},{"$f":"'Att E Activity 3'!DG68","v":0},{"$f":"'Att E Activity 3'!DO68","v":""},{"$f":"'Att E Activity 3'!DW68","v":0},{"$f":"'Att E Activity 3'!DG71","v":0},{"$f":"'Att E Activity 3'!DO71","v":""},{"$f":"'Att E Activity 3'!DW71","v":0},{"$f":"'Att E Activity 3'!DG74","v":0},{"$f":"'Att E Activity 3'!DO74","v":""},{"$f":"'Att E Activity 3'!DW74","v":0},{"$f":"'Att E Activity 3'!DG77","v":0},{"$f":"'Att E Activity 3'!DO77","v":""},{"$f":"'Att E Activity 3'!DW77","v":0},{"$f":"'Att E Activity 3'!EH62","v":0},{"$f":"'Att E Activity 3'!EP62","v":""},{"$f":"'Att E Activity 3'!EX62","v":0},{"$f":"'Att E Activity 3'!EH65","v":0},{"$f":"'Att E Activity 3'!EP65","v":""},{"$f":"'Att E Activity 3'!EX65","v":0},{"$f":"'Att E Activity 3'!EH68","v":0},{"$f":"'Att E Activity 3'!EP68","v":""},{"$f":"'Att E Activity 3'!EX68","v":0},{"$f":"'Att E Activity 3'!EH71","v":0},{"$f":"'Att E Activity 3'!EP71","v":""},{"$f":"'Att E Activity 3'!EX71","v":0},{"$f":"'Att E Activity 3'!EH74","v":0},{"$f":"'Att E Activity 3'!EP74","v":""},{"$f":"'Att E Activity 3'!EX74","v":0},{"$f":"'Att E Activity 3'!EH77","v":0},{"$f":"'Att E Activity 3'!EP77","v":""},{"$f":"'Att E Activity 3'!EX77","v":0},null,{"$f":"'Att E Activity 3'!AM87","v":""},{"$f":"'Att E Activity 3'!AU87","v":""},{"$f":"'Att E Activity 3'!AM90","v":""},{"$f":"'Att E Activity 3'!AU90","v":""},{"$f":"'Att E Activity 3'!BE87","v":0},{"$f":"'Att E Activity 3'!BM87","v":""},{"$f":"'Att E Activity 3'!BU87","v":0},{"$f":"'Att E Activity 3'!BE90","v":0},{"$f":"'Att E Activity 3'!BM90","v":""},{"$f":"'Att E Activity 3'!BU90","v":0},{"$f":"'Att E Activity 3'!CF87","v":0},{"$f":"'Att E Activity 3'!CN87","v":""},{"$f":"'Att E Activity 3'!CV87","v":0},{"$f":"'Att E Activity 3'!CF90","v":0},{"$f":"'Att E Activity 3'!CN90","v":""},{"$f":"'Att E Activity 3'!CV90","v":0},{"$f":"'Att E Activity 3'!DG87","v":0},{"$f":"'Att E Activity 3'!DO87","v":""},{"$f":"'Att E Activity 3'!DW87","v":0},{"$f":"'Att E Activity 3'!DG90","v":0},{"$f":"'Att E Activity 3'!DO90","v":""},{"$f":"'Att E Activity 3'!DW90","v":0},{"$f":"'Att E Activity 3'!EH87","v":0},{"$f":"'Att E Activity 3'!EP87","v":""},{"$f":"'Att E Activity 3'!EX87","v":0},{"$f":"'Att E Activity 3'!EH90","v":0},{"$f":"'Att E Activity 3'!EP90","v":""},{"$f":"'Att E Activity 3'!EX90","v":0},null,{"$f":"'Att E Activity 3'!AM100","v":""},{"$f":"'Att E Activity 3'!AU100","v":""},{"$f":"'Att E Activity 3'!AM103","v":""},{"$f":"'Att E Activity 3'!AU103","v":""},{"$f":"'Att E Activity 3'!AM106","v":""},{"$f":"'Att E Activity 3'!AU106","v":""},{"$f":"'Att E Activity 3'!AM109","v":""},{"$f":"'Att E Activity 3'!AU109","v":""},{"$f":"'Att E Activity 3'!AM112","v":""},{"$f":"'Att E Activity 3'!AU112","v":""},{"$f":"'Att E Activity 3'!BE100","v":0},{"$f":"'Att E Activity 3'!BM100","v":""},{"$f":"'Att E Activity 3'!BU100","v":0},{"$f":"'Att E Activity 3'!BE103","v":0},{"$f":"'Att E Activity 3'!BM103","v":""},{"$f":"'Att E Activity 3'!BU103","v":0},{"$f":"'Att E Activity 3'!BE106","v":0},{"$f":"'Att E Activity 3'!BM106","v":""},{"$f":"'Att E Activity 3'!BU106","v":0},{"$f":"'Att E Activity 3'!BE109","v":0},{"$f":"'Att E Activity 3'!BM109","v":""},{"$f":"'Att E Activity 3'!BU109","v":0},{"$f":"'Att E Activity 3'!BE112","v":0},{"$f":"'Att E Activity 3'!BM112","v":""},{"$f":"'Att E Activity 3'!BU112","v":0},{"$f":"'Att E Activity 3'!CF100","v":0},{"$f":"'Att E Activity 3'!CN100","v":""},{"$f":"'Att E Activity 3'!CV100","v":0},{"$f":"'Att E Activity 3'!CF103","v":0},{"$f":"'Att E Activity 3'!CN103","v":""},{"$f":"'Att E Activity 3'!CV103","v":0},{"$f":"'Att E Activity 3'!CF106","v":0},{"$f":"'Att E Activity 3'!CN106","v":""},{"$f":"'Att E Activity 3'!CV106","v":0},{"$f":"'Att E Activity 3'!CF109","v":0},{"$f":"'Att E Activity 3'!CN109","v":""},{"$f":"'Att E Activity 3'!CV109","v":0},{"$f":"'Att E Activity 3'!CF112","v":0},{"$f":"'Att E Activity 3'!CN112","v":""},{"$f":"'Att E Activity 3'!CV112","v":0},{"$f":"'Att E Activity 3'!DG100","v":0},{"$f":"'Att E Activity 3'!DO100","v":""},{"$f":"'Att E Activity 3'!DW100","v":0},{"$f":"'Att E Activity 3'!DG103","v":0},{"$f":"'Att E Activity 3'!DO103","v":""},{"$f":"'Att E Activity 3'!DW103","v":0},{"$f":"'Att E Activity 3'!DG106","v":0},{"$f":"'Att E Activity 3'!DO106","v":""},{"$f":"'Att E Activity 3'!DW106","v":0},{"$f":"'Att E Activity 3'!DG109","v":0},{"$f":"'Att E Activity 3'!DO109","v":""},{"$f":"'Att E Activity 3'!DW109","v":0},{"$f":"'Att E Activity 3'!DG112","v":0},{"$f":"'Att E Activity 3'!DO112","v":""},{"$f":"'Att E Activity 3'!DW112","v":0},{"$f":"'Att E Activity 3'!EH100","v":0},{"$f":"'Att E Activity 3'!EP100","v":""},{"$f":"'Att E Activity 3'!EX100","v":0},{"$f":"'Att E Activity 3'!EH103","v":0},{"$f":"'Att E Activity 3'!EP103","v":""},{"$f":"'Att E Activity 3'!EX103","v":0},{"$f":"'Att E Activity 3'!EH106","v":0},{"$f":"'Att E Activity 3'!EP106","v":""},{"$f":"'Att E Activity 3'!EX106","v":0},{"$f":"'Att E Activity 3'!EH109","v":0},{"$f":"'Att E Activity 3'!EP109","v":""},{"$f":"'Att E Activity 3'!EX109","v":0},{"$f":"'Att E Activity 3'!EH112","v":0},{"$f":"'Att E Activity 3'!EP112","v":""},{"$f":"'Att E Activity 3'!EX112","v":0},null,{"$f":"'Att E Activity 3'!AM122","v":""},{"$f":"'Att E Activity 3'!AU122","v":{"$error":"#VALUE!"}},{"$f":"'Att E Activity 3'!AM125","v":""},{"$f":"'Att E Activity 3'!AU125","v":{"$error":"#VALUE!"}},{"$f":"'Att E Activity 3'!BE122","v":0},{"$f":"'Att E Activity 3'!BM122","v":""},{"$f":"'Att E Activity 3'!BU122","v":0},{"$f":"'Att E Activity 3'!BE125","v":0},{"$f":"'Att E Activity 3'!BM125","v":""},{"$f":"'Att E Activity 3'!BU125","v":0},{"$f":"'Att E Activity 3'!CF122","v":0},{"$f":"'Att E Activity 3'!CN122","v":""},{"$f":"'Att E Activity 3'!CV122","v":0},{"$f":"'Att E Activity 3'!CF125","v":0},{"$f":"'Att E Activity 3'!CN125","v":""},{"$f":"'Att E Activity 3'!CV125","v":0},{"$f":"'Att E Activity 3'!DG122","v":0},{"$f":"'Att E Activity 3'!DO122","v":""},{"$f":"'Att E Activity 3'!DW122","v":0},{"$f":"'Att E Activity 3'!DG125","v":0},{"$f":"'Att E Activity 3'!DO125","v":""},{"$f":"'Att E Activity 3'!DW125","v":0},{"$f":"'Att E Activity 3'!EH122","v":0},{"$f":"'Att E Activity 3'!EP122","v":""},{"$f":"'Att E Activity 3'!EX122","v":0},{"$f":"'Att E Activity 3'!EH125","v":0},{"$f":"'Att E Activity 3'!EP125","v":""},{"$f":"'Att E Activity 3'!EX125","v":0},{"$f":"'Att E Activity 3'!B176","v":0},{"$f":"'Att E Activity 3'!B194","v":0},{"$f":"'Att E Activity 3'!B212","v":0},{"$f":"'Att E Activity 3'!B230","v":0},{"$f":"'Att E Activity 3'!B248","v":0}]
[]
[]
[]
[]
[]
[]
[]
[]
[]
[]
[]
[]
[]
[]
[]
[]
[]
[]
[]
[]
[]
[]
[]
[]
[]
[]
[]
[]
[]
[]
[]
[]
[]
[]
[]
[]
[]
[]
[]
[]
[]
[]
[null,null,null,null,null,null,null,null,null,null,null,null,null,null,null,null,null,null,null,null,null,null,null,null,null,null,null,null,null,null,null,null,null,null,null,null,null,null,null,null,null,null,null,null,null,null,null,null,null,null,null,null,null,null,null,1,null,null,null,null,null,null,null,null,null,null,null,null,null,null,null,null,null,null,null,null,null,null,null,null,null,null,3,null,null,null,null,null,null,null,null,null,null,null,null,null,null,null,null,null,null,null,null,null,null,null,null,null,null,5,null,null,null,null,null,null,null,null,null,null,null,null,null,null,null,null,null,null,null,null,null,null,null,null,null,null,7]
[]
[]
[null,null,null,null,null,null,null,null,null,null,null,null,null,null,null,null,null,null,null,null,null,null,null,null,null,null,null,null,null,null,null,null,null,null,null,null,null,null,null,null,null,null,null,null,null,null,null,null,null,null,null,null,null,null,null,2,null,null,null,null,null,null,null,null,null,null,null,null,null,null,null,null,null,null,null,null,null,null,null,null,null,null,4,null,null,null,null,null,null,null,null,null,null,null,null,null,null,null,null,null,null,null,null,null,null,null,null,null,null,6,null,null,null,null,null,null,null,null,null,null,null,null,null,null,null,null,null,null,null,null,null,null,null,null,null,null,8]
[]
[]
[]
[]
[]
[]
[]
[]
[]
[null,null,null,null,null,null,null,null,null,null,null,null,null,null,null,null,null,null,null,null,null,null,null,null,null,null,null,null,null,null,null,null,null,null,null,null,null,null,null,null,null,null,null,null,null,null,null,null,null,null,null,null,null,null,null,9,null,null,null,null,null,null,null,null,null,null,null,null,null,null,null,null,null,null,null,null,null,null,null,null,null,null,15,null,null,null,null,null,null,null,null,null,null,null,null,null,null,null,null,null,null,null,null,null,null,null,null,null,null,21,null,null,null,null,null,null,null,null,null,null,null,null,null,null,null,null,null,null,null,null,null,null,null,null,null,null,27]
[]
[]
[null,null,null,null,null,null,null,null,null,null,null,null,null,null,null,null,null,null,null,null,null,null,null,null,null,null,null,null,null,null,null,null,null,null,null,null,null,null,null,null,null,null,null,null,null,null,null,null,null,null,null,null,null,null,null,10,null,null,null,null,null,null,null,null,null,null,null,null,null,null,null,null,null,null,null,null,null,null,null,null,null,null,16,null,null,null,null,null,null,null,null,null,null,null,null,null,null,null,null,null,null,null,null,null,null,null,null,null,null,22,null,null,null,null,null,null,null,null,null,null,null,null,null,null,null,null,null,null,null,null,null,null,null,null,null,null,28]
[]
[]
[null,null,null,null,null,null,null,null,null,null,null,null,null,null,null,null,null,null,null,null,null,null,null,null,null,null,null,null,null,null,null,null,null,null,null,null,null,null,null,null,null,null,null,null,null,null,null,null,null,null,null,null,null,null,null,11,null,null,null,null,null,null,null,null,null,null,null,null,null,null,null,null,null,null,null,null,null,null,null,null,null,null,17,null,null,null,null,null,null,null,null,null,null,null,null,null,null,null,null,null,null,null,null,null,null,null,null,null,null,23,null,null,null,null,null,null,null,null,null,null,null,null,null,null,null,null,null,null,null,null,null,null,null,null,null,null,29]
[]
[]
[null,null,null,null,null,null,null,null,null,null,null,null,null,null,null,null,null,null,null,null,null,null,null,null,null,null,null,null,null,null,null,null,null,null,null,null,null,null,null,null,null,null,null,null,null,null,null,null,null,null,null,null,null,null,null,12,null,null,null,null,null,null,null,null,null,null,null,null,null,null,null,null,null,null,null,null,null,null,null,null,null,null,18,null,null,null,null,null,null,null,null,null,null,null,null,null,null,null,null,null,null,null,null,null,null,null,null,null,null,24,null,null,null,null,null,null,null,null,null,null,null,null,null,null,null,null,null,null,null,null,null,null,null,null,null,null,30]
[]
[]
[null,null,null,null,null,null,null,null,null,null,null,null,null,null,null,null,null,null,null,null,null,null,null,null,null,null,null,null,null,null,null,null,null,null,null,null,null,null,null,null,null,null,null,null,null,null,null,null,null,null,null,null,null,null,null,13,null,null,null,null,null,null,null,null,null,null,null,null,null,null,null,null,null,null,null,null,null,null,null,null,null,null,19,null,null,null,null,null,null,null,null,null,null,null,null,null,null,null,null,null,null,null,null,null,null,null,null,null,null,25,null,null,null,null,null,null,null,null,null,null,null,null,null,null,null,null,null,null,null,null,null,null,null,null,null,null,31]
[]
[]
[null,null,null,null,null,null,null,null,null,null,null,null,null,null,null,null,null,null,null,null,null,null,null,null,null,null,null,null,null,null,null,null,null,null,null,null,null,null,null,null,null,null,null,null,null,null,null,null,null,null,null,null,null,null,null,14,null,null,null,null,null,null,null,null,null,null,null,null,null,null,null,null,null,null,null,null,null,null,null,null,null,null,20,null,null,null,null,null,null,null,null,null,null,null,null,null,null,null,null,null,null,null,null,null,null,null,null,null,null,26,null,null,null,null,null,null,null,null,null,null,null,null,null,null,null,null,null,null,null,null,null,null,null,null,null,null,32]
[]
[]
[]
[]
[]
[]
[]
[]
[]
[null,null,null,null,null,null,null,null,null,null,null,null,null,null,null,null,null,null,null,null,null,null,null,null,null,null,null,null,null,null,null,null,null,null,null,null,null,null,null,null,null,null,null,null,null,null,null,null,null,null,null,null,null,null,null,33,null,null,null,null,null,null,null,null,null,null,null,null,null,null,null,null,null,null,null,null,null,null,null,null,null,null,35,null,null,null,null,null,null,null,null,null,null,null,null,null,null,null,null,null,null,null,null,null,null,null,null,null,null,37,null,null,null,null,null,null,null,null,null,null,null,null,null,null,null,null,null,null,null,null,null,null,null,null,null,null,39]
[]
[]
[null,null,null,null,null,null,null,null,null,null,null,null,null,null,null,null,null,null,null,null,null,null,null,null,null,null,null,null,null,null,null,null,null,null,null,null,null,null,null,null,null,null,null,null,null,null,null,null,null,null,null,null,null,null,null,34,null,null,null,null,null,null,null,null,null,null,null,null,null,null,null,null,null,null,null,null,null,null,null,null,null,null,36,null,null,null,null,null,null,null,null,null,null,null,null,null,null,null,null,null,null,null,null,null,null,null,null,null,null,38,null,null,null,null,null,null,null,null,null,null,null,null,null,null,null,null,null,null,null,null,null,null,null,null,null,null,40]
[]
[]
[]
[]
[]
[]
[]
[]
[]
[null,null,null,null,null,null,null,null,null,null,null,null,null,null,null,null,null,null,null,null,null,null,null,null,null,null,null,null,null,null,null,null,null,null,null,null,null,null,null,null,null,null,null,null,null,null,null,null,null,null,null,null,null,null,null,41,null,null,null,null,null,null,null,null,null,null,null,null,null,null,null,null,null,null,null,null,null,null,null,null,null,null,43,null,null,null,null,null,null,null,null,null,null,null,null,null,null,null,null,null,null,null,null,null,null,null,null,null,null,51,null,null,null,null,null,null,null,null,null,null,null,null,null,null,null,null,null,null,null,null,null,null,null,null,null,null,56]
[]
[]
[null,null,null,null,null,null,null,null,null,null,null,null,null,null,null,null,null,null,null,null,null,null,null,null,null,null,null,null,null,null,null,null,null,null,null,null,null,null,null,null,null,null,null,null,null,null,null,null,null,null,null,null,null,null,null,42,null,null,null,null,null,null,null,null,null,null,null,null,null,null,null,null,null,null,null,null,null,null,null,null,null,null,47,null,null,null,null,null,null,null,null,null,null,null,null,null,null,null,null,null,null,null,null,null,null,null,null,null,null,52,null,null,null,null,null,null,null,null,null,null,null,null,null,null,null,null,null,null,null,null,null,null,null,null,null,null,57]
[]
[]
[null,null,null,null,null,null,null,null,null,null,null,null,null,null,null,null,null,null,null,null,null,null,null,null,null,null,null,null,null,null,null,null,null,null,null,null,null,null,null,null,null,null,null,null,null,null,null,null,null,null,null,null,null,null,null,43,null,null,null,null,null,null,null,null,null,null,null,null,null,null,null,null,null,null,null,null,null,null,null,null,null,null,48,null,null,null,null,null,null,null,null,null,null,null,null,null,null,null,null,null,null,null,null,null,null,null,null,null,null,53,null,null,null,null,null,null,null,null,null,null,null,null,null,null,null,null,null,null,null,null,null,null,null,null,null,null,58]
[]
[]
[null,null,null,null,null,null,null,null,null,null,null,null,null,null,null,null,null,null,null,null,null,null,null,null,null,null,null,null,null,null,null,null,null,null,null,null,null,null,null,null,null,null,null,null,null,null,null,null,null,null,null,null,null,null,null,44,null,null,null,null,null,null,null,null,null,null,null,null,null,null,null,null,null,null,null,null,null,null,null,null,null,null,49,null,null,null,null,null,null,null,null,null,null,null,null,null,null,null,null,null,null,null,null,null,null,null,null,null,null,54,null,null,null,null,null,null,null,null,null,null,null,null,null,null,null,null,null,null,null,null,null,null,null,null,null,null,59]
[]
[]
[null,null,null,null,null,null,null,null,null,null,null,null,null,null,null,null,null,null,null,null,null,null,null,null,null,null,null,null,null,null,null,null,null,null,null,null,null,null,null,null,null,null,null,null,null,null,null,null,null,null,null,null,null,null,null,45,null,null,null,null,null,null,null,null,null,null,null,null,null,null,null,null,null,null,null,null,null,null,null,null,null,null,50,null,null,null,null,null,null,null,null,null,null,null,null,null,null,null,null,null,null,null,null,null,null,null,null,null,null,55,null,null,null,null,null,null,null,null,null,null,null,null,null,null,null,null,null,null,null,null,null,null,null,null,null,null,60]